{"text_format":"1","workbook":"xlsx","n_sheets":2,"sheets":["Stock","Paramètres"],"not_rendered":{"charts":0,"images":0,"macros":1,"external_links":2,"defined_names":0,"comments":0,"pivot_tables":0},"unopened":[],"bounds":{"document_bytes":16777216,"sheet_cells":100000,"rows_first":2000,"rows_last":500,"rows_between":2000,"halvings":0,"cell_chars":16384,"cell_head_chars":4096},"cells_cut":0,"cells_raw":0,"read":"whole","date_system":"1900"}

{"sheet":"Stock","index":0,"n_rows":32,"n_cols":14,"rows_kept":32,"cut":false,"hidden":false,"merged":[[2,12,2,13],[3,12,3,13],[0,0,0,13],[2,0,2,2],[3,0,3,2],[2,4,2,7],[3,4,3,7],[2,9,2,10],[3,9,3,10]]}
["STOCK"]
[]
["GRAINS",null,null,null,"HOUBLONS",null,null,null,null,"LEVURES",null,null,"AUTRE"]
["Stock Grains",null,null,null,"Stock Houblons",null,null,null,null,"Stock Levures",null,null,"Stock Autre"]
["Type","EBC","Quantité",null,"Type","Acide Alpha","Année","Quantité",null,"Type","Quantité mds/paquets",null,"Type","Quantité"]
["Cara Gold - Vieux Silo",{"$f":"IF(A6=\"\",\"\",VLOOKUP(A6,Paramètres!A5:E302,3,FALSE))","v":120},1800,null,"Hallertau cascade",0.06,2021,100,null,"WLP4046 - Simonaitis Lithuanian Farmhouse",1000,null,null,0]
["Château Biscuit Malt",{"$f":"IF(A7=\"\",\"\",VLOOKUP(A7,Paramètres!A6:E303,3,FALSE))","v":50},850,null,"Hallertau Mittelfrüh",4.5999999999999999E-2,2019,70,null,"Whitelabs - WLP013 London Ale Yeast",1000,null,null,0]
["Château Chocolat",{"$f":"IF(A8=\"\",\"\",VLOOKUP(A8,Paramètres!A7:E304,3,FALSE))","v":900},430,null,"Hersbrucker",2.8000000000000001E-2,2018,50,null,"Whitelabs - WLP380 - Hefeweizen Ale IV",1000,null,null,0]
["Château Roasted Barley",{"$f":"IF(A9=\"\",\"\",VLOOKUP(A9,Paramètres!A8:E305,3,FALSE))","v":1150},790,null,"Magnum",0.13900000000000001,2019,50,null,"Wyeast 2352 - Munich Lager II",0,null,null,0]
["Froment - Vieux Silo",{"$f":"IF(A10=\"\",\"\",VLOOKUP(A10,Paramètres!A10:E307,3,FALSE))","v":4.5},13700,null,"Northern Brewer",8.3000000000000004E-2,2019,20,null,null,0,null,null,0]
["Munich light",{"$f":"IF(A11=\"\",\"\",VLOOKUP(A11,Paramètres!A15:E312,3,FALSE))","v":15},4200,null,"Styrian Golding Celeia",0.05,2021,100,null,null,0,null,null,0]
["Pale ale Swaen",{"$f":"IF(A12=\"\",\"\",VLOOKUP(A12,Paramètres!A11:E308,3,FALSE))","v":7.1},16000,null,"Tettnanger",4.1000000000000002E-2,2019,50,null,null,0,null,null,0]
["Special B",{"$f":"IF(A13=\"\",\"\",VLOOKUP(A13,Paramètres!A13:E310,3,FALSE))","v":300},360,null,"Magnum",0.13900000000000001,2021,100,null,null,0,null,null,0]
["Viking Vienna",{"$f":"IF(A14=\"\",\"\",VLOOKUP(A14,Paramètres!A14:E311,3,FALSE))","v":8},5000,null,null,null,null,0,null,null,0,null,null,0]
[null,null,null,null,null,null,null,0,null,null,0,null,null,0]
[null,null,0,null,null,null,null,0,null,null,0,null,null,0]
[null,null,0,null,null,null,null,0,null,null,0,null,null,0]
[null,null,0,null,null,null,null,0,null,null,0,null,null,0]
[null,{"$f":"IF(A19=\"\",\"\",VLOOKUP(A19,Paramètres!A16:E313,3,FALSE))","v":""},0,null,null,null,null,0,null,null,0,null,null,0]
[null,{"$f":"IF(A20=\"\",\"\",VLOOKUP(A20,Paramètres!A17:E314,3,FALSE))","v":""},0,null,null,null,null,0,null,null,0,null,null,0]
[null,{"$f":"IF(A21=\"\",\"\",VLOOKUP(A21,Paramètres!A18:E315,3,FALSE))","v":""},0,null,null,null,null,0,null,null,0,null,null,0]
[null,{"$f":"IF(A22=\"\",\"\",VLOOKUP(A22,Paramètres!A19:E316,3,FALSE))","v":""},0,null,null,null,null,0,null,null,0,null,null,0]
[null,{"$f":"IF(A23=\"\",\"\",VLOOKUP(A23,Paramètres!A20:E317,3,FALSE))","v":""},0,null,null,null,null,0,null,null,0,null,null,0]
[null,{"$f":"IF(A24=\"\",\"\",VLOOKUP(A24,Paramètres!A21:E318,3,FALSE))","v":""},0,null,null,null,null,0,null,null,0,null,null,0]
[null,{"$f":"IF(A25=\"\",\"\",VLOOKUP(A25,Paramètres!A22:E319,3,FALSE))","v":""},0,null,null,null,null,0,null,null,0,null,null,0]
[null,{"$f":"IF(A26=\"\",\"\",VLOOKUP(A26,Paramètres!A23:E320,3,FALSE))","v":""},0,null,null,null,null,0,null,null,0,null,null,0]
[null,{"$f":"IF(A27=\"\",\"\",VLOOKUP(A27,Paramètres!A24:E321,3,FALSE))","v":""},0,null,null,null,null,0,null,null,0,null,null,0]
[null,{"$f":"IF(A28=\"\",\"\",VLOOKUP(A28,Paramètres!A25:E322,3,FALSE))","v":""},0,null,null,null,null,0,null,null,0,null,null,0]
[null,{"$f":"IF(A29=\"\",\"\",VLOOKUP(A29,Paramètres!A26:E323,3,FALSE))","v":""},0,null,null,null,null,0,null,null,0,null,null,0]
[null,{"$f":"IF(A30=\"\",\"\",VLOOKUP(A30,Paramètres!A27:E324,3,FALSE))","v":""},0,null,null,null,null,0,null,null,0,null,null,0]
[null,{"$f":"IF(A31=\"\",\"\",VLOOKUP(A31,Paramètres!A28:E325,3,FALSE))","v":""},0,null,null,null,null,0,null,null,0,null,null,0]
[null,{"$f":"IF(A32=\"\",\"\",VLOOKUP(A32,Paramètres!A29:E326,3,FALSE))","v":""},0,null,null,null,null,0,null,null,0,null,null,0]

{"sheet":"Paramètres","index":1,"n_rows":1000,"n_cols":26,"rows_kept":1000,"cut":false,"hidden":true,"merged":[[58,6,58,7],[58,23,58,24],[55,6,55,7],[55,23,55,24],[56,6,56,7],[56,23,56,24],[57,6,57,7],[57,23,57,24],[52,6,52,7],[52,23,52,24],[53,6,53,7],[53,23,53,24],[54,6,54,7],[54,23,54,24],[48,5,48,7],[48,22,48,24],[50,6,50,7],[50,23,50,24],[51,6,51,7],[51,23,51,24],[15,5,15,8],[15,22,15,25],[32,5,32,8],[32,22,32,25],[42,5,42,8],[42,22,42,25],[8,6,8,8],[8,23,8,25],[0,0,0,4],[0,6,0,7],[0,9,0,16],[0,17,0,21],[0,23,0,24]]}
[{"$f":"IF([2]Paramètres!A1=\"\",\"\",[2]Paramètres!A1)","v":"Caractéristiques des malts"},{"$f":"IF([1]Paramètres!B1=\"\",\"\",[1]Paramètres!B1)","v":""},{"$f":"IF([1]Paramètres!C1=\"\",\"\",[1]Paramètres!C1)","v":""},{"$f":"IF([1]Paramètres!D1=\"\",\"\",[1]Paramètres!D1)","v":""},{"$f":"IF([1]Paramètres!E1=\"\",\"\",[1]Paramètres!E1)","v":""},{"$f":"IF([2]Paramètres!F1=\"\",\"\",[2]Paramètres!F1)","v":""},{"$f":"IF([2]Paramètres!G1=\"\",\"\",[2]Paramètres!G1)","v":"Taux d'utilisation houblon"},{"$f":"IF([1]Paramètres!H1=\"\",\"\",[1]Paramètres!H1)","v":""},{"$f":"IF([2]Paramètres!I1=\"\",\"\",[2]Paramètres!I1)","v":""},{"$f":"IF([2]Paramètres!J1=\"\",\"\",[2]Paramètres!J1)","v":"Caractéristiques des levures"},{"$f":"IF([1]Paramètres!K1=\"\",\"\",[1]Paramètres!K1)","v":""},{"$f":"IF([1]Paramètres!L1=\"\",\"\",[1]Paramètres!L1)","v":""},{"$f":"IF([1]Paramètres!M1=\"\",\"\",[1]Paramètres!M1)","v":""},{"$f":"IF([1]Paramètres!N1=\"\",\"\",[1]Paramètres!N1)","v":""},{"$f":"IF([1]Paramètres!O1=\"\",\"\",[1]Paramètres!O1)","v":""},{"$f":"IF([1]Paramètres!P1=\"\",\"\",[1]Paramètres!P1)","v":""},{"$f":"IF([1]Paramètres!Q1=\"\",\"\",[1]Paramètres!Q1)","v":""},{"$f":"IF([2]Paramètres!R1=\"\",\"\",[2]Paramètres!R1)","v":""},{"$f":"IF([1]Paramètres!S1=\"\",\"\",[1]Paramètres!S1)","v":""},{"$f":"IF([1]Paramètres!T1=\"\",\"\",[1]Paramètres!T1)","v":""},{"$f":"IF([1]Paramètres!U1=\"\",\"\",[1]Paramètres!U1)","v":""},{"$f":"IF([1]Paramètres!V1=\"\",\"\",[1]Paramètres!V1)","v":""},{"$f":"IF([2]Paramètres!W1=\"\",\"\",[2]Paramètres!W1)","v":""},{"$f":"IF([2]Paramètres!X1=\"\",\"\",[2]Paramètres!X1)","v":""},{"$f":"IF([1]Paramètres!Y1=\"\",\"\",[1]Paramètres!Y1)","v":""},{"$f":"IF([2]Paramètres!Z1=\"\",\"\",[2]Paramètres!Z1)","v":""}]
[{"$f":"IF([2]Paramètres!A2=\"\",\"\",[2]Paramètres!A2)","v":"Type"},{"$f":"IF([2]Paramètres!B2=\"\",\"\",[2]Paramètres!B2)","v":"Rendement max"},{"$f":"IF([2]Paramètres!C2=\"\",\"\",[2]Paramètres!C2)","v":"EBC"},{"$f":"IF([2]Paramètres!D2=\"\",\"\",[2]Paramètres!D2)","v":"%max"},{"$f":"IF([2]Paramètres!E2=\"\",\"\",[2]Paramètres!E2)","v":"pH"},{"$f":"IF([2]Paramètres!F2=\"\",\"\",[2]Paramètres!F2)","v":""},{"$f":"IF([2]Paramètres!G2=\"\",\"\",[2]Paramètres!G2)","v":"Ebullition"},{"$f":"IF([2]Paramètres!H2=\"\",\"\",[2]Paramètres!H2)","v":1},{"$f":"IF([2]Paramètres!I2=\"\",\"\",[2]Paramètres!I2)","v":""},{"$f":"IF([2]Paramètres!J2=\"\",\"\",[2]Paramètres!J2)","v":"Nom"},{"$f":"IF([2]Paramètres!K2=\"\",\"\",[2]Paramètres!K2)","v":"Type"},{"$f":"IF([2]Paramètres!L2=\"\",\"\",[2]Paramètres!L2)","v":"Atténuation min"},{"$f":"IF([2]Paramètres!M2=\"\",\"\",[2]Paramètres!M2)","v":"Atténuation max"},{"$f":"IF([2]Paramètres!N2=\"\",\"\",[2]Paramètres!N2)","v":"Atténuation moyenne calculée"},{"$f":"IF([2]Paramètres!O2=\"\",\"\",[2]Paramètres!O2)","v":"T°C min"},{"$f":"IF([2]Paramètres!P2=\"\",\"\",[2]Paramètres!P2)","v":"T°C max"},{"$f":"IF([2]Paramètres!Q2=\"\",\"\",[2]Paramètres!Q2)","v":"Floculation"},{"$f":"IF([2]Paramètres!R2=\"\",\"\",[2]Paramètres!R2)","v":""},{"$f":"IF([2]Paramètres!S2=\"\",\"\",[2]Paramètres!S2)","v":""},{"$f":"IF([2]Paramètres!T2=\"\",\"\",[2]Paramètres!T2)","v":""},{"$f":"IF([2]Paramètres!U2=\"\",\"\",[2]Paramètres!U2)","v":""},{"$f":"IF([2]Paramètres!V2=\"\",\"\",[2]Paramètres!V2)","v":""},{"$f":"IF([2]Paramètres!W2=\"\",\"\",[2]Paramètres!W2)","v":""},{"$f":"IF([2]Paramètres!X2=\"\",\"\",[2]Paramètres!X2)","v":""},{"$f":"IF([2]Paramètres!Y2=\"\",\"\",[2]Paramètres!Y2)","v":""},{"$f":"IF([2]Paramètres!Z2=\"\",\"\",[2]Paramètres!Z2)","v":""}]
[{"$f":"IF([2]Paramètres!A3=\"\",\"\",[2]Paramètres!A3)","v":"Abbaye"},{"$f":"IF([2]Paramètres!B3=\"\",\"\",[2]Paramètres!B3)","v":0.7},{"$f":"IF([2]Paramètres!C3=\"\",\"\",[2]Paramètres!C3)","v":45},{"$f":"IF([2]Paramètres!D3=\"\",\"\",[2]Paramètres!D3)","v":0.3},{"$f":"IF([2]Paramètres!E3=\"\",\"\",[2]Paramètres!E3)","v":5.13},{"$f":"IF([2]Paramètres!F3=\"\",\"\",[2]Paramètres!F3)","v":""},{"$f":"IF([2]Paramètres!G3=\"\",\"\",[2]Paramètres!G3)","v":"DH"},{"$f":"IF([2]Paramètres!H3=\"\",\"\",[2]Paramètres!H3)","v":0},{"$f":"IF([2]Paramètres!I3=\"\",\"\",[2]Paramètres!I3)","v":""},{"$f":"IF([2]Paramètres!J3=\"\",\"\",[2]Paramètres!J3)","v":"1084 - Irish Ale"},{"$f":"IF([2]Paramètres!K3=\"\",\"\",[2]Paramètres!K3)","v":"Liquide"},{"$f":"IF([2]Paramètres!L3=\"\",\"\",[2]Paramètres!L3)","v":0.71},{"$f":"IF([2]Paramètres!M3=\"\",\"\",[2]Paramètres!M3)","v":0.75},{"$f":"IF([2]Paramètres!N3=\"\",\"\",[2]Paramètres!N3)","v":0.73},{"$f":"IF([2]Paramètres!O3=\"\",\"\",[2]Paramètres!O3)","v":16.7},{"$f":"IF([2]Paramètres!P3=\"\",\"\",[2]Paramètres!P3)","v":22.2},{"$f":"IF([2]Paramètres!Q3=\"\",\"\",[2]Paramètres!Q3)","v":"Moyenne"},{"$f":"IF([2]Paramètres!R3=\"\",\"\",[2]Paramètres!R3)","v":""},{"$f":"IF([2]Paramètres!S3=\"\",\"\",[2]Paramètres!S3)","v":""},{"$f":"IF([2]Paramètres!T3=\"\",\"\",[2]Paramètres!T3)","v":""},{"$f":"IF([2]Paramètres!U3=\"\",\"\",[2]Paramètres!U3)","v":""},{"$f":"IF([2]Paramètres!V3=\"\",\"\",[2]Paramètres!V3)","v":""},{"$f":"IF([2]Paramètres!W3=\"\",\"\",[2]Paramètres!W3)","v":""},{"$f":"IF([2]Paramètres!X3=\"\",\"\",[2]Paramètres!X3)","v":""},{"$f":"IF([2]Paramètres!Y3=\"\",\"\",[2]Paramètres!Y3)","v":""},{"$f":"IF([2]Paramètres!Z3=\"\",\"\",[2]Paramètres!Z3)","v":""}]
[{"$f":"IF([2]Paramètres!A4=\"\",\"\",[2]Paramètres!A4)","v":"Arôme"},{"$f":"IF([2]Paramètres!B4=\"\",\"\",[2]Paramètres!B4)","v":0.74},{"$f":"IF([2]Paramètres!C4=\"\",\"\",[2]Paramètres!C4)","v":100},{"$f":"IF([2]Paramètres!D4=\"\",\"\",[2]Paramètres!D4)","v":0.2},{"$f":"IF([2]Paramètres!E4=\"\",\"\",[2]Paramètres!E4)","v":5.03},{"$f":"IF([2]Paramètres!F4=\"\",\"\",[2]Paramètres!F4)","v":""},{"$f":"IF([2]Paramètres!G4=\"\",\"\",[2]Paramètres!G4)","v":"Hop-Stand"},{"$f":"IF([2]Paramètres!H4=\"\",\"\",[2]Paramètres!H4)","v":0},{"$f":"IF([2]Paramètres!I4=\"\",\"\",[2]Paramètres!I4)","v":""},{"$f":"IF([2]Paramètres!J4=\"\",\"\",[2]Paramètres!J4)","v":"1214 - Belgian Ale"},{"$f":"IF([2]Paramètres!K4=\"\",\"\",[2]Paramètres!K4)","v":"Liquide"},{"$f":"IF([2]Paramètres!L4=\"\",\"\",[2]Paramètres!L4)","v":0.74},{"$f":"IF([2]Paramètres!M4=\"\",\"\",[2]Paramètres!M4)","v":0.78},{"$f":"IF([2]Paramètres!N4=\"\",\"\",[2]Paramètres!N4)","v":0.76},{"$f":"IF([2]Paramètres!O4=\"\",\"\",[2]Paramètres!O4)","v":20},{"$f":"IF([2]Paramètres!P4=\"\",\"\",[2]Paramètres!P4)","v":24},{"$f":"IF([2]Paramètres!Q4=\"\",\"\",[2]Paramètres!Q4)","v":"Faible"},{"$f":"IF([2]Paramètres!R4=\"\",\"\",[2]Paramètres!R4)","v":""},{"$f":"IF([2]Paramètres!S4=\"\",\"\",[2]Paramètres!S4)","v":""},{"$f":"IF([2]Paramètres!T4=\"\",\"\",[2]Paramètres!T4)","v":""},{"$f":"IF([2]Paramètres!U4=\"\",\"\",[2]Paramètres!U4)","v":""},{"$f":"IF([2]Paramètres!V4=\"\",\"\",[2]Paramètres!V4)","v":""},{"$f":"IF([2]Paramètres!W4=\"\",\"\",[2]Paramètres!W4)","v":""},{"$f":"IF([2]Paramètres!X4=\"\",\"\",[2]Paramètres!X4)","v":""},{"$f":"IF([2]Paramètres!Y4=\"\",\"\",[2]Paramètres!Y4)","v":""},{"$f":"IF([2]Paramètres!Z4=\"\",\"\",[2]Paramètres!Z4)","v":""}]
[{"$f":"IF([2]Paramètres!A5=\"\",\"\",[2]Paramètres!A5)","v":"Avoine (flocons)"},{"$f":"IF([2]Paramètres!B5=\"\",\"\",[2]Paramètres!B5)","v":0.7},{"$f":"IF([2]Paramètres!C5=\"\",\"\",[2]Paramètres!C5)","v":5},{"$f":"IF([2]Paramètres!D5=\"\",\"\",[2]Paramètres!D5)","v":0.25},{"$f":"IF([2]Paramètres!E5=\"\",\"\",[2]Paramètres!E5)","v":5.2},{"$f":"IF([2]Paramètres!F5=\"\",\"\",[2]Paramètres!F5)","v":""},{"$f":"IF([2]Paramètres!G5=\"\",\"\",[2]Paramètres!G5)","v":"FWH"},{"$f":"IF([2]Paramètres!H5=\"\",\"\",[2]Paramètres!H5)","v":1.1000000000000001},{"$f":"IF([2]Paramètres!I5=\"\",\"\",[2]Paramètres!I5)","v":""},{"$f":"IF([2]Paramètres!J5=\"\",\"\",[2]Paramètres!J5)","v":"3068 - Weihenstephan Weizen"},{"$f":"IF([2]Paramètres!K5=\"\",\"\",[2]Paramètres!K5)","v":"Liquide"},{"$f":"IF([2]Paramètres!L5=\"\",\"\",[2]Paramètres!L5)","v":0.73},{"$f":"IF([2]Paramètres!M5=\"\",\"\",[2]Paramètres!M5)","v":0.77},{"$f":"IF([2]Paramètres!N5=\"\",\"\",[2]Paramètres!N5)","v":0.75},{"$f":"IF([2]Paramètres!O5=\"\",\"\",[2]Paramètres!O5)","v":17.8},{"$f":"IF([2]Paramètres!P5=\"\",\"\",[2]Paramètres!P5)","v":23.9},{"$f":"IF([2]Paramètres!Q5=\"\",\"\",[2]Paramètres!Q5)","v":"Faible"},{"$f":"IF([2]Paramètres!R5=\"\",\"\",[2]Paramètres!R5)","v":""},{"$f":"IF([2]Paramètres!S5=\"\",\"\",[2]Paramètres!S5)","v":""},{"$f":"IF([2]Paramètres!T5=\"\",\"\",[2]Paramètres!T5)","v":""},{"$f":"IF([2]Paramètres!U5=\"\",\"\",[2]Paramètres!U5)","v":""},{"$f":"IF([2]Paramètres!V5=\"\",\"\",[2]Paramètres!V5)","v":""},{"$f":"IF([2]Paramètres!W5=\"\",\"\",[2]Paramètres!W5)","v":""},{"$f":"IF([2]Paramètres!X5=\"\",\"\",[2]Paramètres!X5)","v":""},{"$f":"IF([2]Paramètres!Y5=\"\",\"\",[2]Paramètres!Y5)","v":""},{"$f":"IF([2]Paramètres!Z5=\"\",\"\",[2]Paramètres!Z5)","v":""}]
[{"$f":"IF([2]Paramètres!A6=\"\",\"\",[2]Paramètres!A6)","v":"Biscuit Malt"},{"$f":"IF([2]Paramètres!B6=\"\",\"\",[2]Paramètres!B6)","v":0.75},{"$f":"IF([2]Paramètres!C6=\"\",\"\",[2]Paramètres!C6)","v":50},{"$f":"IF([2]Paramètres!D6=\"\",\"\",[2]Paramètres!D6)","v":0.3},{"$f":"IF([2]Paramètres!E6=\"\",\"\",[2]Paramètres!E6)","v":5.12},{"$f":"IF([2]Paramètres!F6=\"\",\"\",[2]Paramètres!F6)","v":""},{"$f":"IF([2]Paramètres!G6=\"\",\"\",[2]Paramètres!G6)","v":"Mash-Hop"},{"$f":"IF([2]Paramètres!H6=\"\",\"\",[2]Paramètres!H6)","v":0.2},{"$f":"IF([2]Paramètres!I6=\"\",\"\",[2]Paramètres!I6)","v":""},{"$f":"IF([2]Paramètres!J6=\"\",\"\",[2]Paramètres!J6)","v":"3711 - French Saison"},{"$f":"IF([2]Paramètres!K6=\"\",\"\",[2]Paramètres!K6)","v":"Liquide"},{"$f":"IF([2]Paramètres!L6=\"\",\"\",[2]Paramètres!L6)","v":0.8},{"$f":"IF([2]Paramètres!M6=\"\",\"\",[2]Paramètres!M6)","v":0.95},{"$f":"IF([2]Paramètres!N6=\"\",\"\",[2]Paramètres!N6)","v":0.875},{"$f":"IF([2]Paramètres!O6=\"\",\"\",[2]Paramètres!O6)","v":23},{"$f":"IF([2]Paramètres!P6=\"\",\"\",[2]Paramètres!P6)","v":30},{"$f":"IF([2]Paramètres!Q6=\"\",\"\",[2]Paramètres!Q6)","v":"Faible"},{"$f":"IF([2]Paramètres!R6=\"\",\"\",[2]Paramètres!R6)","v":""},{"$f":"IF([2]Paramètres!S6=\"\",\"\",[2]Paramètres!S6)","v":""},{"$f":"IF([2]Paramètres!T6=\"\",\"\",[2]Paramètres!T6)","v":""},{"$f":"IF([2]Paramètres!U6=\"\",\"\",[2]Paramètres!U6)","v":""},{"$f":"IF([2]Paramètres!V6=\"\",\"\",[2]Paramètres!V6)","v":""},{"$f":"IF([2]Paramètres!W6=\"\",\"\",[2]Paramètres!W6)","v":""},{"$f":"IF([2]Paramètres!X6=\"\",\"\",[2]Paramètres!X6)","v":""},{"$f":"IF([2]Paramètres!Y6=\"\",\"\",[2]Paramètres!Y6)","v":""},{"$f":"IF([2]Paramètres!Z6=\"\",\"\",[2]Paramètres!Z6)","v":""}]
[{"$f":"IF([2]Paramètres!A7=\"\",\"\",[2]Paramètres!A7)","v":"Black"},{"$f":"IF([2]Paramètres!B7=\"\",\"\",[2]Paramètres!B7)","v":0.55000000000000004},{"$f":"IF([2]Paramètres!C7=\"\",\"\",[2]Paramètres!C7)","v":1300},{"$f":"IF([2]Paramètres!D7=\"\",\"\",[2]Paramètres!D7)","v":0.05},{"$f":"IF([2]Paramètres!E7=\"\",\"\",[2]Paramètres!E7)","v":4.71},{"$f":"IF([2]Paramètres!F7=\"\",\"\",[2]Paramètres!F7)","v":""},{"$f":"IF([2]Paramètres!G7=\"\",\"\",[2]Paramètres!G7)","v":"Flame-out"},{"$f":"IF([2]Paramètres!H7=\"\",\"\",[2]Paramètres!H7)","v":0.75},{"$f":"IF([2]Paramètres!I7=\"\",\"\",[2]Paramètres!I7)","v":""},{"$f":"IF([2]Paramètres!J7=\"\",\"\",[2]Paramètres!J7)","v":"Fermentis - BE-134"},{"$f":"IF([2]Paramètres!K7=\"\",\"\",[2]Paramètres!K7)","v":"Sèche"},{"$f":"IF([2]Paramètres!L7=\"\",\"\",[2]Paramètres!L7)","v":0.9},{"$f":"IF([2]Paramètres!M7=\"\",\"\",[2]Paramètres!M7)","v":0.9},{"$f":"IF([2]Paramètres!N7=\"\",\"\",[2]Paramètres!N7)","v":0.9},{"$f":"IF([2]Paramètres!O7=\"\",\"\",[2]Paramètres!O7)","v":18},{"$f":"IF([2]Paramètres!P7=\"\",\"\",[2]Paramètres!P7)","v":28},{"$f":"IF([2]Paramètres!Q7=\"\",\"\",[2]Paramètres!Q7)","v":"Basse"},{"$f":"IF([2]Paramètres!R7=\"\",\"\",[2]Paramètres!R7)","v":""},{"$f":"IF([2]Paramètres!S7=\"\",\"\",[2]Paramètres!S7)","v":""},{"$f":"IF([2]Paramètres!T7=\"\",\"\",[2]Paramètres!T7)","v":""},{"$f":"IF([2]Paramètres!U7=\"\",\"\",[2]Paramètres!U7)","v":""},{"$f":"IF([2]Paramètres!V7=\"\",\"\",[2]Paramètres!V7)","v":""},{"$f":"IF([2]Paramètres!W7=\"\",\"\",[2]Paramètres!W7)","v":""},{"$f":"IF([2]Paramètres!X7=\"\",\"\",[2]Paramètres!X7)","v":""},{"$f":"IF([2]Paramètres!Y7=\"\",\"\",[2]Paramètres!Y7)","v":""},{"$f":"IF([2]Paramètres!Z7=\"\",\"\",[2]Paramètres!Z7)","v":""}]
[{"$f":"IF([2]Paramètres!A8=\"\",\"\",[2]Paramètres!A8)","v":"Black of black"},{"$f":"IF([2]Paramètres!B8=\"\",\"\",[2]Paramètres!B8)","v":0.55000000000000004},{"$f":"IF([2]Paramètres!C8=\"\",\"\",[2]Paramètres!C8)","v":800},{"$f":"IF([2]Paramètres!D8=\"\",\"\",[2]Paramètres!D8)","v":0.05},{"$f":"IF([2]Paramètres!E8=\"\",\"\",[2]Paramètres!E8)","v":4.71},{"$f":"IF([2]Paramètres!F8=\"\",\"\",[2]Paramètres!F8)","v":""},{"$f":"IF([2]Paramètres!G8=\"\",\"\",[2]Paramètres!G8)","v":""},{"$f":"IF([2]Paramètres!H8=\"\",\"\",[2]Paramètres!H8)","v":""},{"$f":"IF([2]Paramètres!I8=\"\",\"\",[2]Paramètres!I8)","v":""},{"$f":"IF([2]Paramètres!J8=\"\",\"\",[2]Paramètres!J8)","v":"Fermentis - BE-256"},{"$f":"IF([2]Paramètres!K8=\"\",\"\",[2]Paramètres!K8)","v":"Sèche"},{"$f":"IF([2]Paramètres!L8=\"\",\"\",[2]Paramètres!L8)","v":0.85},{"$f":"IF([2]Paramètres!M8=\"\",\"\",[2]Paramètres!M8)","v":0.85},{"$f":"IF([2]Paramètres!N8=\"\",\"\",[2]Paramètres!N8)","v":0.85},{"$f":"IF([2]Paramètres!O8=\"\",\"\",[2]Paramètres!O8)","v":15},{"$f":"IF([2]Paramètres!P8=\"\",\"\",[2]Paramètres!P8)","v":20},{"$f":"IF([2]Paramètres!Q8=\"\",\"\",[2]Paramètres!Q8)","v":"Haute"},{"$f":"IF([2]Paramètres!R8=\"\",\"\",[2]Paramètres!R8)","v":""},{"$f":"IF([2]Paramètres!S8=\"\",\"\",[2]Paramètres!S8)","v":""},{"$f":"IF([2]Paramètres!T8=\"\",\"\",[2]Paramètres!T8)","v":""},{"$f":"IF([2]Paramètres!U8=\"\",\"\",[2]Paramètres!U8)","v":""},{"$f":"IF([2]Paramètres!V8=\"\",\"\",[2]Paramètres!V8)","v":""},{"$f":"IF([2]Paramètres!W8=\"\",\"\",[2]Paramètres!W8)","v":""},{"$f":"IF([2]Paramètres!X8=\"\",\"\",[2]Paramètres!X8)","v":""},{"$f":"IF([2]Paramètres!Y8=\"\",\"\",[2]Paramètres!Y8)","v":""},{"$f":"IF([2]Paramètres!Z8=\"\",\"\",[2]Paramètres!Z8)","v":""}]
[{"$f":"IF([2]Paramètres!A9=\"\",\"\",[2]Paramètres!A9)","v":"Blé (flocons)"},{"$f":"IF([2]Paramètres!B9=\"\",\"\",[2]Paramètres!B9)","v":0.77},{"$f":"IF([2]Paramètres!C9=\"\",\"\",[2]Paramètres!C9)","v":5},{"$f":"IF([2]Paramètres!D9=\"\",\"\",[2]Paramètres!D9)","v":0.25},{"$f":"IF([2]Paramètres!E9=\"\",\"\",[2]Paramètres!E9)","v":5.2},{"$f":"IF([2]Paramètres!F9=\"\",\"\",[2]Paramètres!F9)","v":""},{"$f":"IF([2]Paramètres!G9=\"\",\"\",[2]Paramètres!G9)","v":"Taux d'ensemencement"},{"$f":"IF([1]Paramètres!H9=\"\",\"\",[1]Paramètres!H9)","v":""},{"$f":"IF([1]Paramètres!I9=\"\",\"\",[1]Paramètres!I9)","v":""},{"$f":"IF([2]Paramètres!J9=\"\",\"\",[2]Paramètres!J9)","v":"Fermentis - HA-18"},{"$f":"IF([2]Paramètres!K9=\"\",\"\",[2]Paramètres!K9)","v":"Sèche"},{"$f":"IF([2]Paramètres!L9=\"\",\"\",[2]Paramètres!L9)","v":0.97},{"$f":"IF([2]Paramètres!M9=\"\",\"\",[2]Paramètres!M9)","v":0.97},{"$f":"IF([2]Paramètres!N9=\"\",\"\",[2]Paramètres!N9)","v":0.97},{"$f":"IF([2]Paramètres!O9=\"\",\"\",[2]Paramètres!O9)","v":25},{"$f":"IF([2]Paramètres!P9=\"\",\"\",[2]Paramètres!P9)","v":35},{"$f":"IF([2]Paramètres!Q9=\"\",\"\",[2]Paramètres!Q9)","v":"Moyenne"},{"$f":"IF([2]Paramètres!R9=\"\",\"\",[2]Paramètres!R9)","v":""},{"$f":"IF([2]Paramètres!S9=\"\",\"\",[2]Paramètres!S9)","v":""},{"$f":"IF([2]Paramètres!T9=\"\",\"\",[2]Paramètres!T9)","v":""},{"$f":"IF([2]Paramètres!U9=\"\",\"\",[2]Paramètres!U9)","v":""},{"$f":"IF([2]Paramètres!V9=\"\",\"\",[2]Paramètres!V9)","v":""},{"$f":"IF([2]Paramètres!W9=\"\",\"\",[2]Paramètres!W9)","v":""},{"$f":"IF([2]Paramètres!X9=\"\",\"\",[2]Paramètres!X9)","v":""},{"$f":"IF([1]Paramètres!Y9=\"\",\"\",[1]Paramètres!Y9)","v":""},{"$f":"IF([1]Paramètres!Z9=\"\",\"\",[1]Paramètres!Z9)","v":""}]
[{"$f":"IF([2]Paramètres!A10=\"\",\"\",[2]Paramètres!A10)","v":"Café"},{"$f":"IF([2]Paramètres!B10=\"\",\"\",[2]Paramètres!B10)","v":0.6},{"$f":"IF([2]Paramètres!C10=\"\",\"\",[2]Paramètres!C10)","v":500},{"$f":"IF([2]Paramètres!D10=\"\",\"\",[2]Paramètres!D10)","v":0.1},{"$f":"IF([2]Paramètres!E10=\"\",\"\",[2]Paramètres!E10)","v":4.71},{"$f":"IF([2]Paramètres!F10=\"\",\"\",[2]Paramètres!F10)","v":""},{"$f":"IF([2]Paramètres!G10=\"\",\"\",[2]Paramètres!G10)","v":""},{"$f":"IF([2]Paramètres!H10=\"\",\"\",[2]Paramètres!H10)","v":1.0649999999999999},{"$f":"IF([2]Paramètres!I10=\"\",\"\",[2]Paramètres!I10)","v":">1065"},{"$f":"IF([2]Paramètres!J10=\"\",\"\",[2]Paramètres!J10)","v":"Fermentis - K-97"},{"$f":"IF([2]Paramètres!K10=\"\",\"\",[2]Paramètres!K10)","v":"Sèche"},{"$f":"IF([2]Paramètres!L10=\"\",\"\",[2]Paramètres!L10)","v":0.81},{"$f":"IF([2]Paramètres!M10=\"\",\"\",[2]Paramètres!M10)","v":0.81},{"$f":"IF([2]Paramètres!N10=\"\",\"\",[2]Paramètres!N10)","v":0.81},{"$f":"IF([2]Paramètres!O10=\"\",\"\",[2]Paramètres!O10)","v":15},{"$f":"IF([2]Paramètres!P10=\"\",\"\",[2]Paramètres!P10)","v":20},{"$f":"IF([2]Paramètres!Q10=\"\",\"\",[2]Paramètres!Q10)","v":"Basse"},{"$f":"IF([2]Paramètres!R10=\"\",\"\",[2]Paramètres!R10)","v":""},{"$f":"IF([2]Paramètres!S10=\"\",\"\",[2]Paramètres!S10)","v":""},{"$f":"IF([2]Paramètres!T10=\"\",\"\",[2]Paramètres!T10)","v":""},{"$f":"IF([2]Paramètres!U10=\"\",\"\",[2]Paramètres!U10)","v":""},{"$f":"IF([2]Paramètres!V10=\"\",\"\",[2]Paramètres!V10)","v":""},{"$f":"IF([2]Paramètres!W10=\"\",\"\",[2]Paramètres!W10)","v":""},{"$f":"IF([2]Paramètres!X10=\"\",\"\",[2]Paramètres!X10)","v":""},{"$f":"IF([2]Paramètres!Y10=\"\",\"\",[2]Paramètres!Y10)","v":""},{"$f":"IF([2]Paramètres!Z10=\"\",\"\",[2]Paramètres!Z10)","v":""}]
[{"$f":"IF([2]Paramètres!A11=\"\",\"\",[2]Paramètres!A11)","v":"Café light"},{"$f":"IF([2]Paramètres!B11=\"\",\"\",[2]Paramètres!B11)","v":0.6},{"$f":"IF([2]Paramètres!C11=\"\",\"\",[2]Paramètres!C11)","v":250},{"$f":"IF([2]Paramètres!D11=\"\",\"\",[2]Paramètres!D11)","v":0.1},{"$f":"IF([2]Paramètres!E11=\"\",\"\",[2]Paramètres!E11)","v":4.71},{"$f":"IF([2]Paramètres!F11=\"\",\"\",[2]Paramètres!F11)","v":""},{"$f":"IF([2]Paramètres!G11=\"\",\"\",[2]Paramètres!G11)","v":"Ale"},{"$f":"IF([2]Paramètres!H11=\"\",\"\",[2]Paramètres!H11)","v":0.75},{"$f":"IF([2]Paramètres!I11=\"\",\"\",[2]Paramètres!I11)","v":1},{"$f":"IF([2]Paramètres!J11=\"\",\"\",[2]Paramètres!J11)","v":"Fermentis - S-04"},{"$f":"IF([2]Paramètres!K11=\"\",\"\",[2]Paramètres!K11)","v":"Sèche"},{"$f":"IF([2]Paramètres!L11=\"\",\"\",[2]Paramètres!L11)","v":0.75},{"$f":"IF([2]Paramètres!M11=\"\",\"\",[2]Paramètres!M11)","v":0.75},{"$f":"IF([2]Paramètres!N11=\"\",\"\",[2]Paramètres!N11)","v":0.75},{"$f":"IF([2]Paramètres!O11=\"\",\"\",[2]Paramètres!O11)","v":15},{"$f":"IF([2]Paramètres!P11=\"\",\"\",[2]Paramètres!P11)","v":20},{"$f":"IF([2]Paramètres!Q11=\"\",\"\",[2]Paramètres!Q11)","v":"Haute"},{"$f":"IF([2]Paramètres!R11=\"\",\"\",[2]Paramètres!R11)","v":""},{"$f":"IF([2]Paramètres!S11=\"\",\"\",[2]Paramètres!S11)","v":""},{"$f":"IF([2]Paramètres!T11=\"\",\"\",[2]Paramètres!T11)","v":""},{"$f":"IF([2]Paramètres!U11=\"\",\"\",[2]Paramètres!U11)","v":""},{"$f":"IF([2]Paramètres!V11=\"\",\"\",[2]Paramètres!V11)","v":""},{"$f":"IF([2]Paramètres!W11=\"\",\"\",[2]Paramètres!W11)","v":""},{"$f":"IF([2]Paramètres!X11=\"\",\"\",[2]Paramètres!X11)","v":""},{"$f":"IF([2]Paramètres!Y11=\"\",\"\",[2]Paramètres!Y11)","v":""},{"$f":"IF([2]Paramètres!Z11=\"\",\"\",[2]Paramètres!Z11)","v":""}]
[{"$f":"IF([2]Paramètres!A12=\"\",\"\",[2]Paramètres!A12)","v":"Cara Belge"},{"$f":"IF([2]Paramètres!B12=\"\",\"\",[2]Paramètres!B12)","v":0.74},{"$f":"IF([2]Paramètres!C12=\"\",\"\",[2]Paramètres!C12)","v":35},{"$f":"IF([2]Paramètres!D12=\"\",\"\",[2]Paramètres!D12)","v":0.3},{"$f":"IF([2]Paramètres!E12=\"\",\"\",[2]Paramètres!E12)","v":5.16},{"$f":"IF([2]Paramètres!F12=\"\",\"\",[2]Paramètres!F12)","v":""},{"$f":"IF([2]Paramètres!G12=\"\",\"\",[2]Paramètres!G12)","v":"Lager"},{"$f":"IF([2]Paramètres!H12=\"\",\"\",[2]Paramètres!H12)","v":1.5},{"$f":"IF([2]Paramètres!I12=\"\",\"\",[2]Paramètres!I12)","v":2},{"$f":"IF([2]Paramètres!J12=\"\",\"\",[2]Paramètres!J12)","v":"Fermentis - S-189"},{"$f":"IF([2]Paramètres!K12=\"\",\"\",[2]Paramètres!K12)","v":"Sèche"},{"$f":"IF([2]Paramètres!L12=\"\",\"\",[2]Paramètres!L12)","v":0.82},{"$f":"IF([2]Paramètres!M12=\"\",\"\",[2]Paramètres!M12)","v":0.82},{"$f":"IF([2]Paramètres!N12=\"\",\"\",[2]Paramètres!N12)","v":0.82},{"$f":"IF([2]Paramètres!O12=\"\",\"\",[2]Paramètres!O12)","v":12},{"$f":"IF([2]Paramètres!P12=\"\",\"\",[2]Paramètres!P12)","v":15},{"$f":"IF([2]Paramètres!Q12=\"\",\"\",[2]Paramètres!Q12)","v":"Haute"},{"$f":"IF([2]Paramètres!R12=\"\",\"\",[2]Paramètres!R12)","v":""},{"$f":"IF([2]Paramètres!S12=\"\",\"\",[2]Paramètres!S12)","v":""},{"$f":"IF([2]Paramètres!T12=\"\",\"\",[2]Paramètres!T12)","v":""},{"$f":"IF([2]Paramètres!U12=\"\",\"\",[2]Paramètres!U12)","v":""},{"$f":"IF([2]Paramètres!V12=\"\",\"\",[2]Paramètres!V12)","v":""},{"$f":"IF([2]Paramètres!W12=\"\",\"\",[2]Paramètres!W12)","v":""},{"$f":"IF([2]Paramètres!X12=\"\",\"\",[2]Paramètres!X12)","v":""},{"$f":"IF([2]Paramètres!Y12=\"\",\"\",[2]Paramètres!Y12)","v":""},{"$f":"IF([2]Paramètres!Z12=\"\",\"\",[2]Paramètres!Z12)","v":""}]
[{"$f":"IF([2]Paramètres!A13=\"\",\"\",[2]Paramètres!A13)","v":"Cara Bohemian"},{"$f":"IF([2]Paramètres!B13=\"\",\"\",[2]Paramètres!B13)","v":0.74},{"$f":"IF([2]Paramètres!C13=\"\",\"\",[2]Paramètres!C13)","v":195},{"$f":"IF([2]Paramètres!D13=\"\",\"\",[2]Paramètres!D13)","v":0.2},{"$f":"IF([2]Paramètres!E13=\"\",\"\",[2]Paramètres!E13)","v":4.9000000000000004},{"$f":"IF([2]Paramètres!F13=\"\",\"\",[2]Paramètres!F13)","v":""},{"$f":"IF([2]Paramètres!G13=\"\",\"\",[2]Paramètres!G13)","v":""},{"$f":"IF([2]Paramètres!H13=\"\",\"\",[2]Paramètres!H13)","v":""},{"$f":"IF([2]Paramètres!I13=\"\",\"\",[2]Paramètres!I13)","v":""},{"$f":"IF([2]Paramètres!J13=\"\",\"\",[2]Paramètres!J13)","v":"Fermentis - S-23"},{"$f":"IF([2]Paramètres!K13=\"\",\"\",[2]Paramètres!K13)","v":"Sèche"},{"$f":"IF([2]Paramètres!L13=\"\",\"\",[2]Paramètres!L13)","v":0.82},{"$f":"IF([2]Paramètres!M13=\"\",\"\",[2]Paramètres!M13)","v":0.82},{"$f":"IF([2]Paramètres!N13=\"\",\"\",[2]Paramètres!N13)","v":0.82},{"$f":"IF([2]Paramètres!O13=\"\",\"\",[2]Paramètres!O13)","v":12},{"$f":"IF([2]Paramètres!P13=\"\",\"\",[2]Paramètres!P13)","v":15},{"$f":"IF([2]Paramètres!Q13=\"\",\"\",[2]Paramètres!Q13)","v":"Haute"},{"$f":"IF([2]Paramètres!R13=\"\",\"\",[2]Paramètres!R13)","v":""},{"$f":"IF([2]Paramètres!S13=\"\",\"\",[2]Paramètres!S13)","v":""},{"$f":"IF([2]Paramètres!T13=\"\",\"\",[2]Paramètres!T13)","v":""},{"$f":"IF([2]Paramètres!U13=\"\",\"\",[2]Paramètres!U13)","v":""},{"$f":"IF([2]Paramètres!V13=\"\",\"\",[2]Paramètres!V13)","v":""},{"$f":"IF([2]Paramètres!W13=\"\",\"\",[2]Paramètres!W13)","v":""},{"$f":"IF([2]Paramètres!X13=\"\",\"\",[2]Paramètres!X13)","v":""},{"$f":"IF([2]Paramètres!Y13=\"\",\"\",[2]Paramètres!Y13)","v":""},{"$f":"IF([2]Paramètres!Z13=\"\",\"\",[2]Paramètres!Z13)","v":""}]
[{"$f":"IF([2]Paramètres!A14=\"\",\"\",[2]Paramètres!A14)","v":"Cara Gold"},{"$f":"IF([2]Paramètres!B14=\"\",\"\",[2]Paramètres!B14)","v":0.74},{"$f":"IF([2]Paramètres!C14=\"\",\"\",[2]Paramètres!C14)","v":120},{"$f":"IF([2]Paramètres!D14=\"\",\"\",[2]Paramètres!D14)","v":0.2},{"$f":"IF([2]Paramètres!E14=\"\",\"\",[2]Paramètres!E14)","v":4.99},{"$f":"IF([2]Paramètres!F14=\"\",\"\",[2]Paramètres!F14)","v":""},{"$f":"IF([2]Paramètres!G14=\"\",\"\",[2]Paramètres!G14)","v":""},{"$f":"IF([2]Paramètres!H14=\"\",\"\",[2]Paramètres!H14)","v":""},{"$f":"IF([2]Paramètres!I14=\"\",\"\",[2]Paramètres!I14)","v":""},{"$f":"IF([2]Paramètres!J14=\"\",\"\",[2]Paramètres!J14)","v":"Fermentis - S-33"},{"$f":"IF([2]Paramètres!K14=\"\",\"\",[2]Paramètres!K14)","v":"Sèche"},{"$f":"IF([2]Paramètres!L14=\"\",\"\",[2]Paramètres!L14)","v":0.7},{"$f":"IF([2]Paramètres!M14=\"\",\"\",[2]Paramètres!M14)","v":0.7},{"$f":"IF([2]Paramètres!N14=\"\",\"\",[2]Paramètres!N14)","v":0.7},{"$f":"IF([2]Paramètres!O14=\"\",\"\",[2]Paramètres!O14)","v":15},{"$f":"IF([2]Paramètres!P14=\"\",\"\",[2]Paramètres!P14)","v":20},{"$f":"IF([2]Paramètres!Q14=\"\",\"\",[2]Paramètres!Q14)","v":"Moyenne"},{"$f":"IF([2]Paramètres!R14=\"\",\"\",[2]Paramètres!R14)","v":""},{"$f":"IF([2]Paramètres!S14=\"\",\"\",[2]Paramètres!S14)","v":""},{"$f":"IF([2]Paramètres!T14=\"\",\"\",[2]Paramètres!T14)","v":""},{"$f":"IF([2]Paramètres!U14=\"\",\"\",[2]Paramètres!U14)","v":""},{"$f":"IF([2]Paramètres!V14=\"\",\"\",[2]Paramètres!V14)","v":""},{"$f":"IF([2]Paramètres!W14=\"\",\"\",[2]Paramètres!W14)","v":""},{"$f":"IF([2]Paramètres!X14=\"\",\"\",[2]Paramètres!X14)","v":""},{"$f":"IF([2]Paramètres!Y14=\"\",\"\",[2]Paramètres!Y14)","v":""},{"$f":"IF([2]Paramètres!Z14=\"\",\"\",[2]Paramètres!Z14)","v":""}]
[{"$f":"IF([2]Paramètres!A15=\"\",\"\",[2]Paramètres!A15)","v":"Cara Gold - Vieux Silo"},{"$f":"IF([2]Paramètres!B15=\"\",\"\",[2]Paramètres!B15)","v":0.7},{"$f":"IF([2]Paramètres!C15=\"\",\"\",[2]Paramètres!C15)","v":120},{"$f":"IF([2]Paramètres!D15=\"\",\"\",[2]Paramètres!D15)","v":0.2},{"$f":"IF([2]Paramètres!E15=\"\",\"\",[2]Paramètres!E15)","v":4.99},{"$f":"IF([2]Paramètres!F15=\"\",\"\",[2]Paramètres!F15)","v":""},{"$f":"IF([2]Paramètres!G15=\"\",\"\",[2]Paramètres!G15)","v":""},{"$f":"IF([2]Paramètres!H15=\"\",\"\",[2]Paramètres!H15)","v":""},{"$f":"IF([2]Paramètres!I15=\"\",\"\",[2]Paramètres!I15)","v":""},{"$f":"IF([2]Paramètres!J15=\"\",\"\",[2]Paramètres!J15)","v":"Fermentis - T-58"},{"$f":"IF([2]Paramètres!K15=\"\",\"\",[2]Paramètres!K15)","v":"Sèche"},{"$f":"IF([2]Paramètres!L15=\"\",\"\",[2]Paramètres!L15)","v":0.7},{"$f":"IF([2]Paramètres!M15=\"\",\"\",[2]Paramètres!M15)","v":0.7},{"$f":"IF([2]Paramètres!N15=\"\",\"\",[2]Paramètres!N15)","v":0.7},{"$f":"IF([2]Paramètres!O15=\"\",\"\",[2]Paramètres!O15)","v":15},{"$f":"IF([2]Paramètres!P15=\"\",\"\",[2]Paramètres!P15)","v":20},{"$f":"IF([2]Paramètres!Q15=\"\",\"\",[2]Paramètres!Q15)","v":"Basse- Moyenne"},{"$f":"IF([2]Paramètres!R15=\"\",\"\",[2]Paramètres!R15)","v":""},{"$f":"IF([2]Paramètres!S15=\"\",\"\",[2]Paramètres!S15)","v":""},{"$f":"IF([2]Paramètres!T15=\"\",\"\",[2]Paramètres!T15)","v":""},{"$f":"IF([2]Paramètres!U15=\"\",\"\",[2]Paramètres!U15)","v":""},{"$f":"IF([2]Paramètres!V15=\"\",\"\",[2]Paramètres!V15)","v":""},{"$f":"IF([2]Paramètres!W15=\"\",\"\",[2]Paramètres!W15)","v":""},{"$f":"IF([2]Paramètres!X15=\"\",\"\",[2]Paramètres!X15)","v":""},{"$f":"IF([2]Paramètres!Y15=\"\",\"\",[2]Paramètres!Y15)","v":""},{"$f":"IF([2]Paramètres!Z15=\"\",\"\",[2]Paramètres!Z15)","v":""}]
[{"$f":"IF([2]Paramètres!A16=\"\",\"\",[2]Paramètres!A16)","v":"Cara Ruby"},{"$f":"IF([2]Paramètres!B16=\"\",\"\",[2]Paramètres!B16)","v":0.74},{"$f":"IF([2]Paramètres!C16=\"\",\"\",[2]Paramètres!C16)","v":50},{"$f":"IF([2]Paramètres!D16=\"\",\"\",[2]Paramètres!D16)","v":0.25},{"$f":"IF([2]Paramètres!E16=\"\",\"\",[2]Paramètres!E16)","v":5.12},{"$f":"IF([2]Paramètres!F16=\"\",\"\",[2]Paramètres!F16)","v":"Sucres"},{"$f":"IF([1]Paramètres!G16=\"\",\"\",[1]Paramètres!G16)","v":""},{"$f":"IF([1]Paramètres!H16=\"\",\"\",[1]Paramètres!H16)","v":""},{"$f":"IF([1]Paramètres!I16=\"\",\"\",[1]Paramètres!I16)","v":""},{"$f":"IF([2]Paramètres!J16=\"\",\"\",[2]Paramètres!J16)","v":"Fermentis - US-05"},{"$f":"IF([2]Paramètres!K16=\"\",\"\",[2]Paramètres!K16)","v":"Sèche"},{"$f":"IF([2]Paramètres!L16=\"\",\"\",[2]Paramètres!L16)","v":0.81},{"$f":"IF([2]Paramètres!M16=\"\",\"\",[2]Paramètres!M16)","v":0.81},{"$f":"IF([2]Paramètres!N16=\"\",\"\",[2]Paramètres!N16)","v":0.81},{"$f":"IF([2]Paramètres!O16=\"\",\"\",[2]Paramètres!O16)","v":12},{"$f":"IF([2]Paramètres!P16=\"\",\"\",[2]Paramètres!P16)","v":25},{"$f":"IF([2]Paramètres!Q16=\"\",\"\",[2]Paramètres!Q16)","v":"Moyenne - Haute"},{"$f":"IF([2]Paramètres!R16=\"\",\"\",[2]Paramètres!R16)","v":""},{"$f":"IF([2]Paramètres!S16=\"\",\"\",[2]Paramètres!S16)","v":""},{"$f":"IF([2]Paramètres!T16=\"\",\"\",[2]Paramètres!T16)","v":""},{"$f":"IF([2]Paramètres!U16=\"\",\"\",[2]Paramètres!U16)","v":""},{"$f":"IF([2]Paramètres!V16=\"\",\"\",[2]Paramètres!V16)","v":""},{"$f":"IF([2]Paramètres!W16=\"\",\"\",[2]Paramètres!W16)","v":""},{"$f":"IF([1]Paramètres!X16=\"\",\"\",[1]Paramètres!X16)","v":""},{"$f":"IF([1]Paramètres!Y16=\"\",\"\",[1]Paramètres!Y16)","v":""},{"$f":"IF([1]Paramètres!Z16=\"\",\"\",[1]Paramètres!Z16)","v":""}]
[{"$f":"IF([2]Paramètres!A17=\"\",\"\",[2]Paramètres!A17)","v":"Cara-Blond"},{"$f":"IF([2]Paramètres!B17=\"\",\"\",[2]Paramètres!B17)","v":0.7},{"$f":"IF([2]Paramètres!C17=\"\",\"\",[2]Paramètres!C17)","v":20},{"$f":"IF([2]Paramètres!D17=\"\",\"\",[2]Paramètres!D17)","v":0.3},{"$f":"IF([2]Paramètres!E17=\"\",\"\",[2]Paramètres!E17)","v":5.18},{"$f":"IF([2]Paramètres!F17=\"\",\"\",[2]Paramètres!F17)","v":"Type"},{"$f":"IF([2]Paramètres!G17=\"\",\"\",[2]Paramètres!G17)","v":"Rendement max"},{"$f":"IF([2]Paramètres!H17=\"\",\"\",[2]Paramètres!H17)","v":"EBC"},{"$f":"IF([2]Paramètres!I17=\"\",\"\",[2]Paramètres!I17)","v":"pH"},{"$f":"IF([2]Paramètres!J17=\"\",\"\",[2]Paramètres!J17)","v":"Fermentis - W-34/70"},{"$f":"IF([2]Paramètres!K17=\"\",\"\",[2]Paramètres!K17)","v":"Sèche"},{"$f":"IF([2]Paramètres!L17=\"\",\"\",[2]Paramètres!L17)","v":0.82},{"$f":"IF([2]Paramètres!M17=\"\",\"\",[2]Paramètres!M17)","v":0.82},{"$f":"IF([2]Paramètres!N17=\"\",\"\",[2]Paramètres!N17)","v":0.82},{"$f":"IF([2]Paramètres!O17=\"\",\"\",[2]Paramètres!O17)","v":12},{"$f":"IF([2]Paramètres!P17=\"\",\"\",[2]Paramètres!P17)","v":15},{"$f":"IF([2]Paramètres!Q17=\"\",\"\",[2]Paramètres!Q17)","v":"Haute"},{"$f":"IF([2]Paramètres!R17=\"\",\"\",[2]Paramètres!R17)","v":""},{"$f":"IF([2]Paramètres!S17=\"\",\"\",[2]Paramètres!S17)","v":""},{"$f":"IF([2]Paramètres!T17=\"\",\"\",[2]Paramètres!T17)","v":""},{"$f":"IF([2]Paramètres!U17=\"\",\"\",[2]Paramètres!U17)","v":""},{"$f":"IF([2]Paramètres!V17=\"\",\"\",[2]Paramètres!V17)","v":""},{"$f":"IF([2]Paramètres!W17=\"\",\"\",[2]Paramètres!W17)","v":""},{"$f":"IF([2]Paramètres!X17=\"\",\"\",[2]Paramètres!X17)","v":""},{"$f":"IF([2]Paramètres!Y17=\"\",\"\",[2]Paramètres!Y17)","v":""},{"$f":"IF([2]Paramètres!Z17=\"\",\"\",[2]Paramètres!Z17)","v":""}]
[{"$f":"IF([2]Paramètres!A18=\"\",\"\",[2]Paramètres!A18)","v":"Cara-clair"},{"$f":"IF([2]Paramètres!B18=\"\",\"\",[2]Paramètres!B18)","v":0.75},{"$f":"IF([2]Paramètres!C18=\"\",\"\",[2]Paramètres!C18)","v":5.5},{"$f":"IF([2]Paramètres!D18=\"\",\"\",[2]Paramètres!D18)","v":0.3},{"$f":"IF([2]Paramètres!E18=\"\",\"\",[2]Paramètres!E18)","v":5.2},{"$f":"IF([2]Paramètres!F18=\"\",\"\",[2]Paramètres!F18)","v":"Sucre ambré"},{"$f":"IF([2]Paramètres!G18=\"\",\"\",[2]Paramètres!G18)","v":1},{"$f":"IF([2]Paramètres!H18=\"\",\"\",[2]Paramètres!H18)","v":150},{"$f":"IF([2]Paramètres!I18=\"\",\"\",[2]Paramètres!I18)","v":""},{"$f":"IF([2]Paramètres!J18=\"\",\"\",[2]Paramètres!J18)","v":"Fermentis - WB-06"},{"$f":"IF([2]Paramètres!K18=\"\",\"\",[2]Paramètres!K18)","v":"Sèche"},{"$f":"IF([2]Paramètres!L18=\"\",\"\",[2]Paramètres!L18)","v":0.86},{"$f":"IF([2]Paramètres!M18=\"\",\"\",[2]Paramètres!M18)","v":0.86},{"$f":"IF([2]Paramètres!N18=\"\",\"\",[2]Paramètres!N18)","v":0.86},{"$f":"IF([2]Paramètres!O18=\"\",\"\",[2]Paramètres!O18)","v":17.8},{"$f":"IF([2]Paramètres!P18=\"\",\"\",[2]Paramètres!P18)","v":23.9},{"$f":"IF([2]Paramètres!Q18=\"\",\"\",[2]Paramètres!Q18)","v":"Basse"},{"$f":"IF([2]Paramètres!R18=\"\",\"\",[2]Paramètres!R18)","v":""},{"$f":"IF([2]Paramètres!S18=\"\",\"\",[2]Paramètres!S18)","v":""},{"$f":"IF([2]Paramètres!T18=\"\",\"\",[2]Paramètres!T18)","v":""},{"$f":"IF([2]Paramètres!U18=\"\",\"\",[2]Paramètres!U18)","v":""},{"$f":"IF([2]Paramètres!V18=\"\",\"\",[2]Paramètres!V18)","v":""},{"$f":"IF([2]Paramètres!W18=\"\",\"\",[2]Paramètres!W18)","v":""},{"$f":"IF([2]Paramètres!X18=\"\",\"\",[2]Paramètres!X18)","v":""},{"$f":"IF([2]Paramètres!Y18=\"\",\"\",[2]Paramètres!Y18)","v":""},{"$f":"IF([2]Paramètres!Z18=\"\",\"\",[2]Paramètres!Z18)","v":""}]
[{"$f":"IF([2]Paramètres!A19=\"\",\"\",[2]Paramètres!A19)","v":"Château Abbaye"},{"$f":"IF([2]Paramètres!B19=\"\",\"\",[2]Paramètres!B19)","v":0.78},{"$f":"IF([2]Paramètres!C19=\"\",\"\",[2]Paramètres!C19)","v":45},{"$f":"IF([2]Paramètres!D19=\"\",\"\",[2]Paramètres!D19)","v":0.25},{"$f":"IF([2]Paramètres!E19=\"\",\"\",[2]Paramètres!E19)","v":5.13},{"$f":"IF([2]Paramètres!F19=\"\",\"\",[2]Paramètres!F19)","v":"Sucre blanc"},{"$f":"IF([2]Paramètres!G19=\"\",\"\",[2]Paramètres!G19)","v":1},{"$f":"IF([2]Paramètres!H19=\"\",\"\",[2]Paramètres!H19)","v":2},{"$f":"IF([2]Paramètres!I19=\"\",\"\",[2]Paramètres!I19)","v":""},{"$f":"IF([2]Paramètres!J19=\"\",\"\",[2]Paramètres!J19)","v":"Fermentis BE-134 Belgian Saison"},{"$f":"IF([2]Paramètres!K19=\"\",\"\",[2]Paramètres!K19)","v":"Sèche"},{"$f":"IF([2]Paramètres!L19=\"\",\"\",[2]Paramètres!L19)","v":0.86},{"$f":"IF([2]Paramètres!M19=\"\",\"\",[2]Paramètres!M19)","v":0.9},{"$f":"IF([2]Paramètres!N19=\"\",\"\",[2]Paramètres!N19)","v":0.88},{"$f":"IF([2]Paramètres!O19=\"\",\"\",[2]Paramètres!O19)","v":18},{"$f":"IF([2]Paramètres!P19=\"\",\"\",[2]Paramètres!P19)","v":28},{"$f":"IF([2]Paramètres!Q19=\"\",\"\",[2]Paramètres!Q19)","v":"Moyenne"},{"$f":"IF([2]Paramètres!R19=\"\",\"\",[2]Paramètres!R19)","v":""},{"$f":"IF([2]Paramètres!S19=\"\",\"\",[2]Paramètres!S19)","v":""},{"$f":"IF([2]Paramètres!T19=\"\",\"\",[2]Paramètres!T19)","v":""},{"$f":"IF([2]Paramètres!U19=\"\",\"\",[2]Paramètres!U19)","v":""},{"$f":"IF([2]Paramètres!V19=\"\",\"\",[2]Paramètres!V19)","v":""},{"$f":"IF([2]Paramètres!W19=\"\",\"\",[2]Paramètres!W19)","v":""},{"$f":"IF([2]Paramètres!X19=\"\",\"\",[2]Paramètres!X19)","v":""},{"$f":"IF([2]Paramètres!Y19=\"\",\"\",[2]Paramètres!Y19)","v":""},{"$f":"IF([2]Paramètres!Z19=\"\",\"\",[2]Paramètres!Z19)","v":""}]
[{"$f":"IF([2]Paramètres!A20=\"\",\"\",[2]Paramètres!A20)","v":"Château Acide Malt"},{"$f":"IF([2]Paramètres!B20=\"\",\"\",[2]Paramètres!B20)","v":0.74},{"$f":"IF([2]Paramètres!C20=\"\",\"\",[2]Paramètres!C20)","v":8},{"$f":"IF([2]Paramètres!D20=\"\",\"\",[2]Paramètres!D20)","v":0.1},{"$f":"IF([2]Paramètres!E20=\"\",\"\",[2]Paramètres!E20)","v":4.5},{"$f":"IF([2]Paramètres!F20=\"\",\"\",[2]Paramètres!F20)","v":"Sucre foncé"},{"$f":"IF([2]Paramètres!G20=\"\",\"\",[2]Paramètres!G20)","v":1},{"$f":"IF([2]Paramètres!H20=\"\",\"\",[2]Paramètres!H20)","v":542},{"$f":"IF([2]Paramètres!I20=\"\",\"\",[2]Paramètres!I20)","v":""},{"$f":"IF([2]Paramètres!J20=\"\",\"\",[2]Paramètres!J20)","v":"Fermentis BE-256 Abbay Ale"},{"$f":"IF([2]Paramètres!K20=\"\",\"\",[2]Paramètres!K20)","v":"Sèche"},{"$f":"IF([2]Paramètres!L20=\"\",\"\",[2]Paramètres!L20)","v":0.8},{"$f":"IF([2]Paramètres!M20=\"\",\"\",[2]Paramètres!M20)","v":0.84},{"$f":"IF([2]Paramètres!N20=\"\",\"\",[2]Paramètres!N20)","v":0.82000000000000006},{"$f":"IF([2]Paramètres!O20=\"\",\"\",[2]Paramètres!O20)","v":15},{"$f":"IF([2]Paramètres!P20=\"\",\"\",[2]Paramètres!P20)","v":25},{"$f":"IF([2]Paramètres!Q20=\"\",\"\",[2]Paramètres!Q20)","v":"Forte"},{"$f":"IF([2]Paramètres!R20=\"\",\"\",[2]Paramètres!R20)","v":""},{"$f":"IF([2]Paramètres!S20=\"\",\"\",[2]Paramètres!S20)","v":""},{"$f":"IF([2]Paramètres!T20=\"\",\"\",[2]Paramètres!T20)","v":""},{"$f":"IF([2]Paramètres!U20=\"\",\"\",[2]Paramètres!U20)","v":""},{"$f":"IF([2]Paramètres!V20=\"\",\"\",[2]Paramètres!V20)","v":""},{"$f":"IF([2]Paramètres!W20=\"\",\"\",[2]Paramètres!W20)","v":""},{"$f":"IF([2]Paramètres!X20=\"\",\"\",[2]Paramètres!X20)","v":""},{"$f":"IF([2]Paramètres!Y20=\"\",\"\",[2]Paramètres!Y20)","v":""},{"$f":"IF([2]Paramètres!Z20=\"\",\"\",[2]Paramètres!Z20)","v":""}]
[{"$f":"IF([2]Paramètres!A21=\"\",\"\",[2]Paramètres!A21)","v":"Château Arôme"},{"$f":"IF([2]Paramètres!B21=\"\",\"\",[2]Paramètres!B21)","v":0.78},{"$f":"IF([2]Paramètres!C21=\"\",\"\",[2]Paramètres!C21)","v":100},{"$f":"IF([2]Paramètres!D21=\"\",\"\",[2]Paramètres!D21)","v":0.2},{"$f":"IF([2]Paramètres!E21=\"\",\"\",[2]Paramètres!E21)","v":5.03},{"$f":"IF([2]Paramètres!F21=\"\",\"\",[2]Paramètres!F21)","v":"DME blond"},{"$f":"IF([2]Paramètres!G21=\"\",\"\",[2]Paramètres!G21)","v":0.96599999999999997},{"$f":"IF([2]Paramètres!H21=\"\",\"\",[2]Paramètres!H21)","v":8},{"$f":"IF([2]Paramètres!I21=\"\",\"\",[2]Paramètres!I21)","v":""},{"$f":"IF([2]Paramètres!J21=\"\",\"\",[2]Paramètres!J21)","v":"Fermentis K-97 German Ale"},{"$f":"IF([2]Paramètres!K21=\"\",\"\",[2]Paramètres!K21)","v":"Sèche"},{"$f":"IF([2]Paramètres!L21=\"\",\"\",[2]Paramètres!L21)","v":0.71},{"$f":"IF([2]Paramètres!M21=\"\",\"\",[2]Paramètres!M21)","v":0.75},{"$f":"IF([2]Paramètres!N21=\"\",\"\",[2]Paramètres!N21)","v":0.73},{"$f":"IF([2]Paramètres!O21=\"\",\"\",[2]Paramètres!O21)","v":12},{"$f":"IF([2]Paramètres!P21=\"\",\"\",[2]Paramètres!P21)","v":22},{"$f":"IF([2]Paramètres!Q21=\"\",\"\",[2]Paramètres!Q21)","v":"Moyenne"},{"$f":"IF([2]Paramètres!R21=\"\",\"\",[2]Paramètres!R21)","v":""},{"$f":"IF([2]Paramètres!S21=\"\",\"\",[2]Paramètres!S21)","v":""},{"$f":"IF([2]Paramètres!T21=\"\",\"\",[2]Paramètres!T21)","v":""},{"$f":"IF([2]Paramètres!U21=\"\",\"\",[2]Paramètres!U21)","v":""},{"$f":"IF([2]Paramètres!V21=\"\",\"\",[2]Paramètres!V21)","v":""},{"$f":"IF([2]Paramètres!W21=\"\",\"\",[2]Paramètres!W21)","v":""},{"$f":"IF([2]Paramètres!X21=\"\",\"\",[2]Paramètres!X21)","v":""},{"$f":"IF([2]Paramètres!Y21=\"\",\"\",[2]Paramètres!Y21)","v":""},{"$f":"IF([2]Paramètres!Z21=\"\",\"\",[2]Paramètres!Z21)","v":""}]
[{"$f":"IF([2]Paramètres!A22=\"\",\"\",[2]Paramètres!A22)","v":"Château Avoine Malt"},{"$f":"IF([2]Paramètres!B22=\"\",\"\",[2]Paramètres!B22)","v":0.59},{"$f":"IF([2]Paramètres!C22=\"\",\"\",[2]Paramètres!C22)","v":2},{"$f":"IF([2]Paramètres!D22=\"\",\"\",[2]Paramètres!D22)","v":0.15},{"$f":"IF([2]Paramètres!E22=\"\",\"\",[2]Paramètres!E22)","v":5.2},{"$f":"IF([2]Paramètres!F22=\"\",\"\",[2]Paramètres!F22)","v":"DME ambré"},{"$f":"IF([2]Paramètres!G22=\"\",\"\",[2]Paramètres!G22)","v":0.96599999999999997},{"$f":"IF([2]Paramètres!H22=\"\",\"\",[2]Paramètres!H22)","v":18},{"$f":"IF([2]Paramètres!I22=\"\",\"\",[2]Paramètres!I22)","v":""},{"$f":"IF([2]Paramètres!J22=\"\",\"\",[2]Paramètres!J22)","v":"Fermentis S-04 English Ale"},{"$f":"IF([2]Paramètres!K22=\"\",\"\",[2]Paramètres!K22)","v":"Sèche"},{"$f":"IF([2]Paramètres!L22=\"\",\"\",[2]Paramètres!L22)","v":0.72},{"$f":"IF([2]Paramètres!M22=\"\",\"\",[2]Paramètres!M22)","v":0.76},{"$f":"IF([2]Paramètres!N22=\"\",\"\",[2]Paramètres!N22)","v":0.74},{"$f":"IF([2]Paramètres!O22=\"\",\"\",[2]Paramètres!O22)","v":15},{"$f":"IF([2]Paramètres!P22=\"\",\"\",[2]Paramètres!P22)","v":20},{"$f":"IF([2]Paramètres!Q22=\"\",\"\",[2]Paramètres!Q22)","v":"Forte"},{"$f":"IF([2]Paramètres!R22=\"\",\"\",[2]Paramètres!R22)","v":""},{"$f":"IF([2]Paramètres!S22=\"\",\"\",[2]Paramètres!S22)","v":""},{"$f":"IF([2]Paramètres!T22=\"\",\"\",[2]Paramètres!T22)","v":""},{"$f":"IF([2]Paramètres!U22=\"\",\"\",[2]Paramètres!U22)","v":""},{"$f":"IF([2]Paramètres!V22=\"\",\"\",[2]Paramètres!V22)","v":""},{"$f":"IF([2]Paramètres!W22=\"\",\"\",[2]Paramètres!W22)","v":""},{"$f":"IF([2]Paramètres!X22=\"\",\"\",[2]Paramètres!X22)","v":""},{"$f":"IF([2]Paramètres!Y22=\"\",\"\",[2]Paramètres!Y22)","v":""},{"$f":"IF([2]Paramètres!Z22=\"\",\"\",[2]Paramètres!Z22)","v":""}]
[{"$f":"IF([2]Paramètres!A23=\"\",\"\",[2]Paramètres!A23)","v":"Château Biscuit Malt"},{"$f":"IF([2]Paramètres!B23=\"\",\"\",[2]Paramètres!B23)","v":0.77},{"$f":"IF([2]Paramètres!C23=\"\",\"\",[2]Paramètres!C23)","v":50},{"$f":"IF([2]Paramètres!D23=\"\",\"\",[2]Paramètres!D23)","v":0.25},{"$f":"IF([2]Paramètres!E23=\"\",\"\",[2]Paramètres!E23)","v":5.12},{"$f":"IF([2]Paramètres!F23=\"\",\"\",[2]Paramètres!F23)","v":"DME foncé"},{"$f":"IF([2]Paramètres!G23=\"\",\"\",[2]Paramètres!G23)","v":0.96599999999999997},{"$f":"IF([2]Paramètres!H23=\"\",\"\",[2]Paramètres!H23)","v":57},{"$f":"IF([2]Paramètres!I23=\"\",\"\",[2]Paramètres!I23)","v":""},{"$f":"IF([2]Paramètres!J23=\"\",\"\",[2]Paramètres!J23)","v":"Fermentis S-23"},{"$f":"IF([2]Paramètres!K23=\"\",\"\",[2]Paramètres!K23)","v":"Sèche"},{"$f":"IF([2]Paramètres!L23=\"\",\"\",[2]Paramètres!L23)","v":0.82},{"$f":"IF([2]Paramètres!M23=\"\",\"\",[2]Paramètres!M23)","v":0.82},{"$f":"IF([2]Paramètres!N23=\"\",\"\",[2]Paramètres!N23)","v":0.82},{"$f":"IF([2]Paramètres!O23=\"\",\"\",[2]Paramètres!O23)","v":12},{"$f":"IF([2]Paramètres!P23=\"\",\"\",[2]Paramètres!P23)","v":15},{"$f":"IF([2]Paramètres!Q23=\"\",\"\",[2]Paramètres!Q23)","v":"Forte"},{"$f":"IF([2]Paramètres!R23=\"\",\"\",[2]Paramètres!R23)","v":""},{"$f":"IF([2]Paramètres!S23=\"\",\"\",[2]Paramètres!S23)","v":""},{"$f":"IF([2]Paramètres!T23=\"\",\"\",[2]Paramètres!T23)","v":""},{"$f":"IF([2]Paramètres!U23=\"\",\"\",[2]Paramètres!U23)","v":""},{"$f":"IF([2]Paramètres!V23=\"\",\"\",[2]Paramètres!V23)","v":""},{"$f":"IF([2]Paramètres!W23=\"\",\"\",[2]Paramètres!W23)","v":""},{"$f":"IF([2]Paramètres!X23=\"\",\"\",[2]Paramètres!X23)","v":""},{"$f":"IF([2]Paramètres!Y23=\"\",\"\",[2]Paramètres!Y23)","v":""},{"$f":"IF([2]Paramètres!Z23=\"\",\"\",[2]Paramètres!Z23)","v":""}]
[{"$f":"IF([2]Paramètres!A24=\"\",\"\",[2]Paramètres!A24)","v":"Château Black"},{"$f":"IF([2]Paramètres!B24=\"\",\"\",[2]Paramètres!B24)","v":0.72},{"$f":"IF([2]Paramètres!C24=\"\",\"\",[2]Paramètres!C24)","v":1300},{"$f":"IF([2]Paramètres!D24=\"\",\"\",[2]Paramètres!D24)","v":0.06},{"$f":"IF([2]Paramètres!E24=\"\",\"\",[2]Paramètres!E24)","v":4.71},{"$f":"IF([2]Paramètres!F24=\"\",\"\",[2]Paramètres!F24)","v":"DME noir"},{"$f":"IF([2]Paramètres!G24=\"\",\"\",[2]Paramètres!G24)","v":0.96599999999999997},{"$f":"IF([2]Paramètres!H24=\"\",\"\",[2]Paramètres!H24)","v":95},{"$f":"IF([2]Paramètres!I24=\"\",\"\",[2]Paramètres!I24)","v":""},{"$f":"IF([2]Paramètres!J24=\"\",\"\",[2]Paramètres!J24)","v":"Fermentis S-33 Neutre (faible floculation)"},{"$f":"IF([2]Paramètres!K24=\"\",\"\",[2]Paramètres!K24)","v":"Sèche"},{"$f":"IF([2]Paramètres!L24=\"\",\"\",[2]Paramètres!L24)","v":0.72},{"$f":"IF([2]Paramètres!M24=\"\",\"\",[2]Paramètres!M24)","v":0.74},{"$f":"IF([2]Paramètres!N24=\"\",\"\",[2]Paramètres!N24)","v":0.73},{"$f":"IF([2]Paramètres!O24=\"\",\"\",[2]Paramètres!O24)","v":15},{"$f":"IF([2]Paramètres!P24=\"\",\"\",[2]Paramètres!P24)","v":22},{"$f":"IF([2]Paramètres!Q24=\"\",\"\",[2]Paramètres!Q24)","v":"Moyenne"},{"$f":"IF([2]Paramètres!R24=\"\",\"\",[2]Paramètres!R24)","v":""},{"$f":"IF([2]Paramètres!S24=\"\",\"\",[2]Paramètres!S24)","v":""},{"$f":"IF([2]Paramètres!T24=\"\",\"\",[2]Paramètres!T24)","v":""},{"$f":"IF([2]Paramètres!U24=\"\",\"\",[2]Paramètres!U24)","v":""},{"$f":"IF([2]Paramètres!V24=\"\",\"\",[2]Paramètres!V24)","v":""},{"$f":"IF([2]Paramètres!W24=\"\",\"\",[2]Paramètres!W24)","v":""},{"$f":"IF([2]Paramètres!X24=\"\",\"\",[2]Paramètres!X24)","v":""},{"$f":"IF([2]Paramètres!Y24=\"\",\"\",[2]Paramètres!Y24)","v":""},{"$f":"IF([2]Paramètres!Z24=\"\",\"\",[2]Paramètres!Z24)","v":""}]
[{"$f":"IF([2]Paramètres!A25=\"\",\"\",[2]Paramètres!A25)","v":"Château Café"},{"$f":"IF([2]Paramètres!B25=\"\",\"\",[2]Paramètres!B25)","v":0.75},{"$f":"IF([2]Paramètres!C25=\"\",\"\",[2]Paramètres!C25)","v":500},{"$f":"IF([2]Paramètres!D25=\"\",\"\",[2]Paramètres!D25)","v":0.1},{"$f":"IF([2]Paramètres!E25=\"\",\"\",[2]Paramètres!E25)","v":4.71},{"$f":"IF([2]Paramètres!F25=\"\",\"\",[2]Paramètres!F25)","v":"LME blond"},{"$f":"IF([2]Paramètres!G25=\"\",\"\",[2]Paramètres!G25)","v":0.79300000000000004},{"$f":"IF([2]Paramètres!H25=\"\",\"\",[2]Paramètres!H25)","v":10},{"$f":"IF([2]Paramètres!I25=\"\",\"\",[2]Paramètres!I25)","v":""},{"$f":"IF([2]Paramètres!J25=\"\",\"\",[2]Paramètres!J25)","v":"Fermentis T-58 Epicée"},{"$f":"IF([2]Paramètres!K25=\"\",\"\",[2]Paramètres!K25)","v":"Sèche"},{"$f":"IF([2]Paramètres!L25=\"\",\"\",[2]Paramètres!L25)","v":0.71},{"$f":"IF([2]Paramètres!M25=\"\",\"\",[2]Paramètres!M25)","v":0.75},{"$f":"IF([2]Paramètres!N25=\"\",\"\",[2]Paramètres!N25)","v":0.73},{"$f":"IF([2]Paramètres!O25=\"\",\"\",[2]Paramètres!O25)","v":15},{"$f":"IF([2]Paramètres!P25=\"\",\"\",[2]Paramètres!P25)","v":24},{"$f":"IF([2]Paramètres!Q25=\"\",\"\",[2]Paramètres!Q25)","v":"Moyenne"},{"$f":"IF([2]Paramètres!R25=\"\",\"\",[2]Paramètres!R25)","v":""},{"$f":"IF([2]Paramètres!S25=\"\",\"\",[2]Paramètres!S25)","v":""},{"$f":"IF([2]Paramètres!T25=\"\",\"\",[2]Paramètres!T25)","v":""},{"$f":"IF([2]Paramètres!U25=\"\",\"\",[2]Paramètres!U25)","v":""},{"$f":"IF([2]Paramètres!V25=\"\",\"\",[2]Paramètres!V25)","v":""},{"$f":"IF([2]Paramètres!W25=\"\",\"\",[2]Paramètres!W25)","v":""},{"$f":"IF([2]Paramètres!X25=\"\",\"\",[2]Paramètres!X25)","v":""},{"$f":"IF([2]Paramètres!Y25=\"\",\"\",[2]Paramètres!Y25)","v":""},{"$f":"IF([2]Paramètres!Z25=\"\",\"\",[2]Paramètres!Z25)","v":""}]
[{"$f":"IF([2]Paramètres!A26=\"\",\"\",[2]Paramètres!A26)","v":"Château Café Light"},{"$f":"IF([2]Paramètres!B26=\"\",\"\",[2]Paramètres!B26)","v":0.77},{"$f":"IF([2]Paramètres!C26=\"\",\"\",[2]Paramètres!C26)","v":250},{"$f":"IF([2]Paramètres!D26=\"\",\"\",[2]Paramètres!D26)","v":0.1},{"$f":"IF([2]Paramètres!E26=\"\",\"\",[2]Paramètres!E26)","v":4.71},{"$f":"IF([2]Paramètres!F26=\"\",\"\",[2]Paramètres!F26)","v":"LME ambré"},{"$f":"IF([2]Paramètres!G26=\"\",\"\",[2]Paramètres!G26)","v":0.79300000000000004},{"$f":"IF([2]Paramètres!H26=\"\",\"\",[2]Paramètres!H26)","v":18},{"$f":"IF([2]Paramètres!I26=\"\",\"\",[2]Paramètres!I26)","v":""},{"$f":"IF([2]Paramètres!J26=\"\",\"\",[2]Paramètres!J26)","v":"Fermentis US-05 American Ale"},{"$f":"IF([2]Paramètres!K26=\"\",\"\",[2]Paramètres!K26)","v":"Sèche"},{"$f":"IF([2]Paramètres!L26=\"\",\"\",[2]Paramètres!L26)","v":0.75},{"$f":"IF([2]Paramètres!M26=\"\",\"\",[2]Paramètres!M26)","v":0.78},{"$f":"IF([2]Paramètres!N26=\"\",\"\",[2]Paramètres!N26)","v":0.76500000000000001},{"$f":"IF([2]Paramètres!O26=\"\",\"\",[2]Paramètres!O26)","v":15},{"$f":"IF([2]Paramètres!P26=\"\",\"\",[2]Paramètres!P26)","v":22},{"$f":"IF([2]Paramètres!Q26=\"\",\"\",[2]Paramètres!Q26)","v":"Faible"},{"$f":"IF([2]Paramètres!R26=\"\",\"\",[2]Paramètres!R26)","v":""},{"$f":"IF([2]Paramètres!S26=\"\",\"\",[2]Paramètres!S26)","v":""},{"$f":"IF([2]Paramètres!T26=\"\",\"\",[2]Paramètres!T26)","v":""},{"$f":"IF([2]Paramètres!U26=\"\",\"\",[2]Paramètres!U26)","v":""},{"$f":"IF([2]Paramètres!V26=\"\",\"\",[2]Paramètres!V26)","v":""},{"$f":"IF([2]Paramètres!W26=\"\",\"\",[2]Paramètres!W26)","v":""},{"$f":"IF([2]Paramètres!X26=\"\",\"\",[2]Paramètres!X26)","v":""},{"$f":"IF([2]Paramètres!Y26=\"\",\"\",[2]Paramètres!Y26)","v":""},{"$f":"IF([2]Paramètres!Z26=\"\",\"\",[2]Paramètres!Z26)","v":""}]
[{"$f":"IF([2]Paramètres!A27=\"\",\"\",[2]Paramètres!A27)","v":"Château Cara Blond"},{"$f":"IF([2]Paramètres!B27=\"\",\"\",[2]Paramètres!B27)","v":0.78},{"$f":"IF([2]Paramètres!C27=\"\",\"\",[2]Paramètres!C27)","v":20},{"$f":"IF([2]Paramètres!D27=\"\",\"\",[2]Paramètres!D27)","v":0.3},{"$f":"IF([2]Paramètres!E27=\"\",\"\",[2]Paramètres!E27)","v":5.18},{"$f":"IF([2]Paramètres!F27=\"\",\"\",[2]Paramètres!F27)","v":"LME foncé"},{"$f":"IF([2]Paramètres!G27=\"\",\"\",[2]Paramètres!G27)","v":0.79300000000000004},{"$f":"IF([2]Paramètres!H27=\"\",\"\",[2]Paramètres!H27)","v":55},{"$f":"IF([2]Paramètres!I27=\"\",\"\",[2]Paramètres!I27)","v":""},{"$f":"IF([2]Paramètres!J27=\"\",\"\",[2]Paramètres!J27)","v":"Fermentis WB-06 (Blanches)"},{"$f":"IF([2]Paramètres!K27=\"\",\"\",[2]Paramètres!K27)","v":"Sèche"},{"$f":"IF([2]Paramètres!L27=\"\",\"\",[2]Paramètres!L27)","v":0.84},{"$f":"IF([2]Paramètres!M27=\"\",\"\",[2]Paramètres!M27)","v":0.88},{"$f":"IF([2]Paramètres!N27=\"\",\"\",[2]Paramètres!N27)","v":0.86},{"$f":"IF([2]Paramètres!O27=\"\",\"\",[2]Paramètres!O27)","v":15},{"$f":"IF([2]Paramètres!P27=\"\",\"\",[2]Paramètres!P27)","v":24},{"$f":"IF([2]Paramètres!Q27=\"\",\"\",[2]Paramètres!Q27)","v":"Faible"},{"$f":"IF([2]Paramètres!R27=\"\",\"\",[2]Paramètres!R27)","v":""},{"$f":"IF([2]Paramètres!S27=\"\",\"\",[2]Paramètres!S27)","v":""},{"$f":"IF([2]Paramètres!T27=\"\",\"\",[2]Paramètres!T27)","v":""},{"$f":"IF([2]Paramètres!U27=\"\",\"\",[2]Paramètres!U27)","v":""},{"$f":"IF([2]Paramètres!V27=\"\",\"\",[2]Paramètres!V27)","v":""},{"$f":"IF([2]Paramètres!W27=\"\",\"\",[2]Paramètres!W27)","v":""},{"$f":"IF([2]Paramètres!X27=\"\",\"\",[2]Paramètres!X27)","v":""},{"$f":"IF([2]Paramètres!Y27=\"\",\"\",[2]Paramètres!Y27)","v":""},{"$f":"IF([2]Paramètres!Z27=\"\",\"\",[2]Paramètres!Z27)","v":""}]
[{"$f":"IF([2]Paramètres!A28=\"\",\"\",[2]Paramètres!A28)","v":"Château Cara Clair (carapils)"},{"$f":"IF([2]Paramètres!B28=\"\",\"\",[2]Paramètres!B28)","v":0.78},{"$f":"IF([2]Paramètres!C28=\"\",\"\",[2]Paramètres!C28)","v":8},{"$f":"IF([2]Paramètres!D28=\"\",\"\",[2]Paramètres!D28)","v":0.3},{"$f":"IF([2]Paramètres!E28=\"\",\"\",[2]Paramètres!E28)","v":5.2},{"$f":"IF([2]Paramètres!F28=\"\",\"\",[2]Paramètres!F28)","v":"Miel (printemps)"},{"$f":"IF([2]Paramètres!G28=\"\",\"\",[2]Paramètres!G28)","v":0.75},{"$f":"IF([2]Paramètres!H28=\"\",\"\",[2]Paramètres!H28)","v":5},{"$f":"IF([2]Paramètres!I28=\"\",\"\",[2]Paramètres!I28)","v":""},{"$f":"IF([2]Paramètres!J28=\"\",\"\",[2]Paramètres!J28)","v":"GigaYeast - GB001 : BRUSSELS BRUXELLENSIS"},{"$f":"IF([2]Paramètres!K28=\"\",\"\",[2]Paramètres!K28)","v":"Liquide"},{"$f":"IF([2]Paramètres!L28=\"\",\"\",[2]Paramètres!L28)","v":0.57999999999999996},{"$f":"IF([2]Paramètres!M28=\"\",\"\",[2]Paramètres!M28)","v":0.85},{"$f":"IF([2]Paramètres!N28=\"\",\"\",[2]Paramètres!N28)","v":0.71499999999999997},{"$f":"IF([2]Paramètres!O28=\"\",\"\",[2]Paramètres!O28)","v":20},{"$f":"IF([2]Paramètres!P28=\"\",\"\",[2]Paramètres!P28)","v":26.7},{"$f":"IF([2]Paramètres!Q28=\"\",\"\",[2]Paramètres!Q28)","v":"Faible"},{"$f":"IF([2]Paramètres!R28=\"\",\"\",[2]Paramètres!R28)","v":""},{"$f":"IF([2]Paramètres!S28=\"\",\"\",[2]Paramètres!S28)","v":""},{"$f":"IF([2]Paramètres!T28=\"\",\"\",[2]Paramètres!T28)","v":""},{"$f":"IF([2]Paramètres!U28=\"\",\"\",[2]Paramètres!U28)","v":""},{"$f":"IF([2]Paramètres!V28=\"\",\"\",[2]Paramètres!V28)","v":""},{"$f":"IF([2]Paramètres!W28=\"\",\"\",[2]Paramètres!W28)","v":""},{"$f":"IF([2]Paramètres!X28=\"\",\"\",[2]Paramètres!X28)","v":""},{"$f":"IF([2]Paramètres!Y28=\"\",\"\",[2]Paramètres!Y28)","v":""},{"$f":"IF([2]Paramètres!Z28=\"\",\"\",[2]Paramètres!Z28)","v":""}]
[{"$f":"IF([2]Paramètres!A29=\"\",\"\",[2]Paramètres!A29)","v":"Château Cara Gold"},{"$f":"IF([2]Paramètres!B29=\"\",\"\",[2]Paramètres!B29)","v":0.78},{"$f":"IF([2]Paramètres!C29=\"\",\"\",[2]Paramètres!C29)","v":120},{"$f":"IF([2]Paramètres!D29=\"\",\"\",[2]Paramètres!D29)","v":0.2},{"$f":"IF([2]Paramètres!E29=\"\",\"\",[2]Paramètres!E29)","v":4.99},{"$f":"IF([2]Paramètres!F29=\"\",\"\",[2]Paramètres!F29)","v":"Miel (été)"},{"$f":"IF([2]Paramètres!G29=\"\",\"\",[2]Paramètres!G29)","v":0.75},{"$f":"IF([2]Paramètres!H29=\"\",\"\",[2]Paramètres!H29)","v":20},{"$f":"IF([2]Paramètres!I29=\"\",\"\",[2]Paramètres!I29)","v":""},{"$f":"IF([2]Paramètres!J29=\"\",\"\",[2]Paramètres!J29)","v":"GigaYeast - GB002 : TART CHERRY BRETT"},{"$f":"IF([2]Paramètres!K29=\"\",\"\",[2]Paramètres!K29)","v":"Liquide"},{"$f":"IF([2]Paramètres!L29=\"\",\"\",[2]Paramètres!L29)","v":0.7},{"$f":"IF([2]Paramètres!M29=\"\",\"\",[2]Paramètres!M29)","v":0.85},{"$f":"IF([2]Paramètres!N29=\"\",\"\",[2]Paramètres!N29)","v":0.77499999999999991},{"$f":"IF([2]Paramètres!O29=\"\",\"\",[2]Paramètres!O29)","v":20},{"$f":"IF([2]Paramètres!P29=\"\",\"\",[2]Paramètres!P29)","v":26.7},{"$f":"IF([2]Paramètres!Q29=\"\",\"\",[2]Paramètres!Q29)","v":"Faible"},{"$f":"IF([2]Paramètres!R29=\"\",\"\",[2]Paramètres!R29)","v":""},{"$f":"IF([2]Paramètres!S29=\"\",\"\",[2]Paramètres!S29)","v":""},{"$f":"IF([2]Paramètres!T29=\"\",\"\",[2]Paramètres!T29)","v":""},{"$f":"IF([2]Paramètres!U29=\"\",\"\",[2]Paramètres!U29)","v":""},{"$f":"IF([2]Paramètres!V29=\"\",\"\",[2]Paramètres!V29)","v":""},{"$f":"IF([2]Paramètres!W29=\"\",\"\",[2]Paramètres!W29)","v":""},{"$f":"IF([2]Paramètres!X29=\"\",\"\",[2]Paramètres!X29)","v":""},{"$f":"IF([2]Paramètres!Y29=\"\",\"\",[2]Paramètres!Y29)","v":""},{"$f":"IF([2]Paramètres!Z29=\"\",\"\",[2]Paramètres!Z29)","v":""}]
[{"$f":"IF([2]Paramètres!A30=\"\",\"\",[2]Paramètres!A30)","v":"Château Cara Ruby"},{"$f":"IF([2]Paramètres!B30=\"\",\"\",[2]Paramètres!B30)","v":0.77},{"$f":"IF([2]Paramètres!C30=\"\",\"\",[2]Paramètres!C30)","v":50},{"$f":"IF([2]Paramètres!D30=\"\",\"\",[2]Paramètres!D30)","v":0.25},{"$f":"IF([2]Paramètres!E30=\"\",\"\",[2]Paramètres!E30)","v":5.12},{"$f":"IF([2]Paramètres!F30=\"\",\"\",[2]Paramètres!F30)","v":"Fruits (coulis)"},{"$f":"IF([2]Paramètres!G30=\"\",\"\",[2]Paramètres!G30)","v":0.26},{"$f":"IF([2]Paramètres!H30=\"\",\"\",[2]Paramètres!H30)","v":5},{"$f":"IF([2]Paramètres!I30=\"\",\"\",[2]Paramètres!I30)","v":""},{"$f":"IF([2]Paramètres!J30=\"\",\"\",[2]Paramètres!J30)","v":"GigaYeast - GB110 : GIGAYEAST LACTO"},{"$f":"IF([2]Paramètres!K30=\"\",\"\",[2]Paramètres!K30)","v":"Liquide"},{"$f":"IF([2]Paramètres!L30=\"\",\"\",[2]Paramètres!L30)","v":0.4},{"$f":"IF([2]Paramètres!M30=\"\",\"\",[2]Paramètres!M30)","v":0.4},{"$f":"IF([2]Paramètres!N30=\"\",\"\",[2]Paramètres!N30)","v":0.4},{"$f":"IF([2]Paramètres!O30=\"\",\"\",[2]Paramètres!O30)","v":20},{"$f":"IF([2]Paramètres!P30=\"\",\"\",[2]Paramètres!P30)","v":37},{"$f":"IF([2]Paramètres!Q30=\"\",\"\",[2]Paramètres!Q30)","v":"Moyenne"},{"$f":"IF([2]Paramètres!R30=\"\",\"\",[2]Paramètres!R30)","v":""},{"$f":"IF([2]Paramètres!S30=\"\",\"\",[2]Paramètres!S30)","v":""},{"$f":"IF([2]Paramètres!T30=\"\",\"\",[2]Paramètres!T30)","v":""},{"$f":"IF([2]Paramètres!U30=\"\",\"\",[2]Paramètres!U30)","v":""},{"$f":"IF([2]Paramètres!V30=\"\",\"\",[2]Paramètres!V30)","v":""},{"$f":"IF([2]Paramètres!W30=\"\",\"\",[2]Paramètres!W30)","v":""},{"$f":"IF([2]Paramètres!X30=\"\",\"\",[2]Paramètres!X30)","v":""},{"$f":"IF([2]Paramètres!Y30=\"\",\"\",[2]Paramètres!Y30)","v":""},{"$f":"IF([2]Paramètres!Z30=\"\",\"\",[2]Paramètres!Z30)","v":""}]
[{"$f":"IF([2]Paramètres!A31=\"\",\"\",[2]Paramètres!A31)","v":"Château Chocolat"},{"$f":"IF([2]Paramètres!B31=\"\",\"\",[2]Paramètres!B31)","v":0.75},{"$f":"IF([2]Paramètres!C31=\"\",\"\",[2]Paramètres!C31)","v":900},{"$f":"IF([2]Paramètres!D31=\"\",\"\",[2]Paramètres!D31)","v":7.0000000000000007E-2},{"$f":"IF([2]Paramètres!E31=\"\",\"\",[2]Paramètres!E31)","v":3.33},{"$f":"IF([2]Paramètres!F31=\"\",\"\",[2]Paramètres!F31)","v":""},{"$f":"IF([2]Paramètres!G31=\"\",\"\",[2]Paramètres!G31)","v":""},{"$f":"IF([2]Paramètres!H31=\"\",\"\",[2]Paramètres!H31)","v":""},{"$f":"IF([2]Paramètres!I31=\"\",\"\",[2]Paramètres!I31)","v":""},{"$f":"IF([2]Paramètres!J31=\"\",\"\",[2]Paramètres!J31)","v":"GigaYeast - GB121 : FARMHOUSE SOUR"},{"$f":"IF([2]Paramètres!K31=\"\",\"\",[2]Paramètres!K31)","v":"Liquide"},{"$f":"IF([2]Paramètres!L31=\"\",\"\",[2]Paramètres!L31)","v":0.84},{"$f":"IF([2]Paramètres!M31=\"\",\"\",[2]Paramètres!M31)","v":0.89},{"$f":"IF([2]Paramètres!N31=\"\",\"\",[2]Paramètres!N31)","v":0.86499999999999999},{"$f":"IF([2]Paramètres!O31=\"\",\"\",[2]Paramètres!O31)","v":""},{"$f":"IF([2]Paramètres!P31=\"\",\"\",[2]Paramètres!P31)","v":""},{"$f":"IF([2]Paramètres!Q31=\"\",\"\",[2]Paramètres!Q31)","v":""},{"$f":"IF([2]Paramètres!R31=\"\",\"\",[2]Paramètres!R31)","v":""},{"$f":"IF([2]Paramètres!S31=\"\",\"\",[2]Paramètres!S31)","v":""},{"$f":"IF([2]Paramètres!T31=\"\",\"\",[2]Paramètres!T31)","v":""},{"$f":"IF([2]Paramètres!U31=\"\",\"\",[2]Paramètres!U31)","v":""},{"$f":"IF([2]Paramètres!V31=\"\",\"\",[2]Paramètres!V31)","v":""},{"$f":"IF([2]Paramètres!W31=\"\",\"\",[2]Paramètres!W31)","v":""},{"$f":"IF([2]Paramètres!X31=\"\",\"\",[2]Paramètres!X31)","v":""},{"$f":"IF([2]Paramètres!Y31=\"\",\"\",[2]Paramètres!Y31)","v":""},{"$f":"IF([2]Paramètres!Z31=\"\",\"\",[2]Paramètres!Z31)","v":""}]
[{"$f":"IF([2]Paramètres!A32=\"\",\"\",[2]Paramètres!A32)","v":"Château Crystal"},{"$f":"IF([2]Paramètres!B32=\"\",\"\",[2]Paramètres!B32)","v":0.78},{"$f":"IF([2]Paramètres!C32=\"\",\"\",[2]Paramètres!C32)","v":150},{"$f":"IF([2]Paramètres!D32=\"\",\"\",[2]Paramètres!D32)","v":0.2},{"$f":"IF([2]Paramètres!E32=\"\",\"\",[2]Paramètres!E32)","v":4.93},{"$f":"IF([2]Paramètres!F32=\"\",\"\",[2]Paramètres!F32)","v":""},{"$f":"IF([2]Paramètres!G32=\"\",\"\",[2]Paramètres!G32)","v":""},{"$f":"IF([2]Paramètres!H32=\"\",\"\",[2]Paramètres!H32)","v":""},{"$f":"IF([2]Paramètres!I32=\"\",\"\",[2]Paramètres!I32)","v":""},{"$f":"IF([2]Paramètres!J32=\"\",\"\",[2]Paramètres!J32)","v":"GigaYeast - GB122 : BERLINER BLEND"},{"$f":"IF([2]Paramètres!K32=\"\",\"\",[2]Paramètres!K32)","v":"Liquide"},{"$f":"IF([2]Paramètres!L32=\"\",\"\",[2]Paramètres!L32)","v":0.89},{"$f":"IF([2]Paramètres!M32=\"\",\"\",[2]Paramètres!M32)","v":0.89},{"$f":"IF([2]Paramètres!N32=\"\",\"\",[2]Paramètres!N32)","v":0.89},{"$f":"IF([2]Paramètres!O32=\"\",\"\",[2]Paramètres!O32)","v":""},{"$f":"IF([2]Paramètres!P32=\"\",\"\",[2]Paramètres!P32)","v":""},{"$f":"IF([2]Paramètres!Q32=\"\",\"\",[2]Paramètres!Q32)","v":""},{"$f":"IF([2]Paramètres!R32=\"\",\"\",[2]Paramètres!R32)","v":""},{"$f":"IF([2]Paramètres!S32=\"\",\"\",[2]Paramètres!S32)","v":""},{"$f":"IF([2]Paramètres!T32=\"\",\"\",[2]Paramètres!T32)","v":""},{"$f":"IF([2]Paramètres!U32=\"\",\"\",[2]Paramètres!U32)","v":""},{"$f":"IF([2]Paramètres!V32=\"\",\"\",[2]Paramètres!V32)","v":""},{"$f":"IF([2]Paramètres!W32=\"\",\"\",[2]Paramètres!W32)","v":""},{"$f":"IF([2]Paramètres!X32=\"\",\"\",[2]Paramètres!X32)","v":""},{"$f":"IF([2]Paramètres!Y32=\"\",\"\",[2]Paramètres!Y32)","v":""},{"$f":"IF([2]Paramètres!Z32=\"\",\"\",[2]Paramètres!Z32)","v":""}]
[{"$f":"IF([2]Paramètres!A33=\"\",\"\",[2]Paramètres!A33)","v":"Château Diastasique"},{"$f":"IF([2]Paramètres!B33=\"\",\"\",[2]Paramètres!B33)","v":0.8},{"$f":"IF([2]Paramètres!C33=\"\",\"\",[2]Paramètres!C33)","v":3},{"$f":"IF([2]Paramètres!D33=\"\",\"\",[2]Paramètres!D33)","v":0.3},{"$f":"IF([2]Paramètres!E33=\"\",\"\",[2]Paramètres!E33)","v":5.7},{"$f":"IF([2]Paramètres!F33=\"\",\"\",[2]Paramètres!F33)","v":"Sucres non-fermentiscibles"},{"$f":"IF([1]Paramètres!G33=\"\",\"\",[1]Paramètres!G33)","v":""},{"$f":"IF([1]Paramètres!H33=\"\",\"\",[1]Paramètres!H33)","v":""},{"$f":"IF([1]Paramètres!I33=\"\",\"\",[1]Paramètres!I33)","v":""},{"$f":"IF([2]Paramètres!J33=\"\",\"\",[2]Paramètres!J33)","v":"GigaYeast - GB123 : SOUR PLUM BELGIAN"},{"$f":"IF([2]Paramètres!K33=\"\",\"\",[2]Paramètres!K33)","v":"Liquide"},{"$f":"IF([2]Paramètres!L33=\"\",\"\",[2]Paramètres!L33)","v":0.77},{"$f":"IF([2]Paramètres!M33=\"\",\"\",[2]Paramètres!M33)","v":0.77},{"$f":"IF([2]Paramètres!N33=\"\",\"\",[2]Paramètres!N33)","v":0.77},{"$f":"IF([2]Paramètres!O33=\"\",\"\",[2]Paramètres!O33)","v":""},{"$f":"IF([2]Paramètres!P33=\"\",\"\",[2]Paramètres!P33)","v":""},{"$f":"IF([2]Paramètres!Q33=\"\",\"\",[2]Paramètres!Q33)","v":""},{"$f":"IF([2]Paramètres!R33=\"\",\"\",[2]Paramètres!R33)","v":""},{"$f":"IF([2]Paramètres!S33=\"\",\"\",[2]Paramètres!S33)","v":""},{"$f":"IF([2]Paramètres!T33=\"\",\"\",[2]Paramètres!T33)","v":""},{"$f":"IF([2]Paramètres!U33=\"\",\"\",[2]Paramètres!U33)","v":""},{"$f":"IF([2]Paramètres!V33=\"\",\"\",[2]Paramètres!V33)","v":""},{"$f":"IF([2]Paramètres!W33=\"\",\"\",[2]Paramètres!W33)","v":""},{"$f":"IF([1]Paramètres!X33=\"\",\"\",[1]Paramètres!X33)","v":""},{"$f":"IF([1]Paramètres!Y33=\"\",\"\",[1]Paramètres!Y33)","v":""},{"$f":"IF([1]Paramètres!Z33=\"\",\"\",[1]Paramètres!Z33)","v":""}]
[{"$f":"IF([2]Paramètres!A34=\"\",\"\",[2]Paramètres!A34)","v":"Château Epeautre"},{"$f":"IF([2]Paramètres!B34=\"\",\"\",[2]Paramètres!B34)","v":0.79},{"$f":"IF([2]Paramètres!C34=\"\",\"\",[2]Paramètres!C34)","v":5},{"$f":"IF([2]Paramètres!D34=\"\",\"\",[2]Paramètres!D34)","v":0.15},{"$f":"IF([2]Paramètres!E34=\"\",\"\",[2]Paramètres!E34)","v":5.8},{"$f":"IF([2]Paramètres!F34=\"\",\"\",[2]Paramètres!F34)","v":"Type"},{"$f":"IF([2]Paramètres!G34=\"\",\"\",[2]Paramètres!G34)","v":"Rendement max"},{"$f":"IF([2]Paramètres!H34=\"\",\"\",[2]Paramètres!H34)","v":"EBC"},{"$f":"IF([2]Paramètres!I34=\"\",\"\",[2]Paramètres!I34)","v":"Pouvoir sucrant"},{"$f":"IF([2]Paramètres!J34=\"\",\"\",[2]Paramètres!J34)","v":"GigaYeast - GB124 : SAISON SOUR"},{"$f":"IF([2]Paramètres!K34=\"\",\"\",[2]Paramètres!K34)","v":"Liquide"},{"$f":"IF([2]Paramètres!L34=\"\",\"\",[2]Paramètres!L34)","v":0.78},{"$f":"IF([2]Paramètres!M34=\"\",\"\",[2]Paramètres!M34)","v":0.78},{"$f":"IF([2]Paramètres!N34=\"\",\"\",[2]Paramètres!N34)","v":0.78},{"$f":"IF([2]Paramètres!O34=\"\",\"\",[2]Paramètres!O34)","v":""},{"$f":"IF([2]Paramètres!P34=\"\",\"\",[2]Paramètres!P34)","v":""},{"$f":"IF([2]Paramètres!Q34=\"\",\"\",[2]Paramètres!Q34)","v":""},{"$f":"IF([2]Paramètres!R34=\"\",\"\",[2]Paramètres!R34)","v":""},{"$f":"IF([2]Paramètres!S34=\"\",\"\",[2]Paramètres!S34)","v":""},{"$f":"IF([2]Paramètres!T34=\"\",\"\",[2]Paramètres!T34)","v":""},{"$f":"IF([2]Paramètres!U34=\"\",\"\",[2]Paramètres!U34)","v":""},{"$f":"IF([2]Paramètres!V34=\"\",\"\",[2]Paramètres!V34)","v":""},{"$f":"IF([2]Paramètres!W34=\"\",\"\",[2]Paramètres!W34)","v":""},{"$f":"IF([2]Paramètres!X34=\"\",\"\",[2]Paramètres!X34)","v":""},{"$f":"IF([2]Paramètres!Y34=\"\",\"\",[2]Paramètres!Y34)","v":""},{"$f":"IF([2]Paramètres!Z34=\"\",\"\",[2]Paramètres!Z34)","v":""}]
[{"$f":"IF([2]Paramètres!A35=\"\",\"\",[2]Paramètres!A35)","v":"Château Froment blanc"},{"$f":"IF([2]Paramètres!B35=\"\",\"\",[2]Paramètres!B35)","v":0.83},{"$f":"IF([2]Paramètres!C35=\"\",\"\",[2]Paramètres!C35)","v":4},{"$f":"IF([2]Paramètres!D35=\"\",\"\",[2]Paramètres!D35)","v":0.35},{"$f":"IF([2]Paramètres!E35=\"\",\"\",[2]Paramètres!E35)","v":6.04},{"$f":"IF([2]Paramètres!F35=\"\",\"\",[2]Paramètres!F35)","v":"Lactose"},{"$f":"IF([2]Paramètres!G35=\"\",\"\",[2]Paramètres!G35)","v":1},{"$f":"IF([2]Paramètres!H35=\"\",\"\",[2]Paramètres!H35)","v":""},{"$f":"IF([2]Paramètres!I35=\"\",\"\",[2]Paramètres!I35)","v":0.16},{"$f":"IF([2]Paramètres!J35=\"\",\"\",[2]Paramètres!J35)","v":"GigaYeast - GB144 : SWEET FLEMISH BRETT"},{"$f":"IF([2]Paramètres!K35=\"\",\"\",[2]Paramètres!K35)","v":"Liquide"},{"$f":"IF([2]Paramètres!L35=\"\",\"\",[2]Paramètres!L35)","v":0.83},{"$f":"IF([2]Paramètres!M35=\"\",\"\",[2]Paramètres!M35)","v":0.83},{"$f":"IF([2]Paramètres!N35=\"\",\"\",[2]Paramètres!N35)","v":0.83},{"$f":"IF([2]Paramètres!O35=\"\",\"\",[2]Paramètres!O35)","v":""},{"$f":"IF([2]Paramètres!P35=\"\",\"\",[2]Paramètres!P35)","v":""},{"$f":"IF([2]Paramètres!Q35=\"\",\"\",[2]Paramètres!Q35)","v":""},{"$f":"IF([2]Paramètres!R35=\"\",\"\",[2]Paramètres!R35)","v":""},{"$f":"IF([2]Paramètres!S35=\"\",\"\",[2]Paramètres!S35)","v":""},{"$f":"IF([2]Paramètres!T35=\"\",\"\",[2]Paramètres!T35)","v":""},{"$f":"IF([2]Paramètres!U35=\"\",\"\",[2]Paramètres!U35)","v":""},{"$f":"IF([2]Paramètres!V35=\"\",\"\",[2]Paramètres!V35)","v":""},{"$f":"IF([2]Paramètres!W35=\"\",\"\",[2]Paramètres!W35)","v":""},{"$f":"IF([2]Paramètres!X35=\"\",\"\",[2]Paramètres!X35)","v":""},{"$f":"IF([2]Paramètres!Y35=\"\",\"\",[2]Paramètres!Y35)","v":""},{"$f":"IF([2]Paramètres!Z35=\"\",\"\",[2]Paramètres!Z35)","v":""}]
[{"$f":"IF([2]Paramètres!A36=\"\",\"\",[2]Paramètres!A36)","v":"Château Froment Chocolat"},{"$f":"IF([2]Paramètres!B36=\"\",\"\",[2]Paramètres!B36)","v":0.71},{"$f":"IF([2]Paramètres!C36=\"\",\"\",[2]Paramètres!C36)","v":900},{"$f":"IF([2]Paramètres!D36=\"\",\"\",[2]Paramètres!D36)","v":0.2},{"$f":"IF([2]Paramètres!E36=\"\",\"\",[2]Paramètres!E36)","v":4.71},{"$f":"IF([2]Paramètres!F36=\"\",\"\",[2]Paramètres!F36)","v":""},{"$f":"IF([2]Paramètres!G36=\"\",\"\",[2]Paramètres!G36)","v":""},{"$f":"IF([2]Paramètres!H36=\"\",\"\",[2]Paramètres!H36)","v":""},{"$f":"IF([2]Paramètres!I36=\"\",\"\",[2]Paramètres!I36)","v":""},{"$f":"IF([2]Paramètres!J36=\"\",\"\",[2]Paramètres!J36)","v":"GigaYeast - GB150 : SOUR CHERRY FUNK"},{"$f":"IF([2]Paramètres!K36=\"\",\"\",[2]Paramètres!K36)","v":"Liquide"},{"$f":"IF([2]Paramètres!L36=\"\",\"\",[2]Paramètres!L36)","v":0.6},{"$f":"IF([2]Paramètres!M36=\"\",\"\",[2]Paramètres!M36)","v":0.89},{"$f":"IF([2]Paramètres!N36=\"\",\"\",[2]Paramètres!N36)","v":0.745},{"$f":"IF([2]Paramètres!O36=\"\",\"\",[2]Paramètres!O36)","v":20},{"$f":"IF([2]Paramètres!P36=\"\",\"\",[2]Paramètres!P36)","v":26.7},{"$f":"IF([2]Paramètres!Q36=\"\",\"\",[2]Paramètres!Q36)","v":""},{"$f":"IF([2]Paramètres!R36=\"\",\"\",[2]Paramètres!R36)","v":""},{"$f":"IF([2]Paramètres!S36=\"\",\"\",[2]Paramètres!S36)","v":""},{"$f":"IF([2]Paramètres!T36=\"\",\"\",[2]Paramètres!T36)","v":""},{"$f":"IF([2]Paramètres!U36=\"\",\"\",[2]Paramètres!U36)","v":""},{"$f":"IF([2]Paramètres!V36=\"\",\"\",[2]Paramètres!V36)","v":""},{"$f":"IF([2]Paramètres!W36=\"\",\"\",[2]Paramètres!W36)","v":""},{"$f":"IF([2]Paramètres!X36=\"\",\"\",[2]Paramètres!X36)","v":""},{"$f":"IF([2]Paramètres!Y36=\"\",\"\",[2]Paramètres!Y36)","v":""},{"$f":"IF([2]Paramètres!Z36=\"\",\"\",[2]Paramètres!Z36)","v":""}]
[{"$f":"IF([2]Paramètres!A37=\"\",\"\",[2]Paramètres!A37)","v":"Château Froment Crystal"},{"$f":"IF([2]Paramètres!B37=\"\",\"\",[2]Paramètres!B37)","v":0.78},{"$f":"IF([2]Paramètres!C37=\"\",\"\",[2]Paramètres!C37)","v":150},{"$f":"IF([2]Paramètres!D37=\"\",\"\",[2]Paramètres!D37)","v":0.2},{"$f":"IF([2]Paramètres!E37=\"\",\"\",[2]Paramètres!E37)","v":4.93},{"$f":"IF([2]Paramètres!F37=\"\",\"\",[2]Paramètres!F37)","v":""},{"$f":"IF([2]Paramètres!G37=\"\",\"\",[2]Paramètres!G37)","v":""},{"$f":"IF([2]Paramètres!H37=\"\",\"\",[2]Paramètres!H37)","v":""},{"$f":"IF([2]Paramètres!I37=\"\",\"\",[2]Paramètres!I37)","v":""},{"$f":"IF([2]Paramètres!J37=\"\",\"\",[2]Paramètres!J37)","v":"GigaYeast - GB156 : BRUX BLEND"},{"$f":"IF([2]Paramètres!K37=\"\",\"\",[2]Paramètres!K37)","v":"Liquide"},{"$f":"IF([2]Paramètres!L37=\"\",\"\",[2]Paramètres!L37)","v":""},{"$f":"IF([2]Paramètres!M37=\"\",\"\",[2]Paramètres!M37)","v":""},{"$f":"IF([2]Paramètres!N37=\"\",\"\",[2]Paramètres!N37)","v":{"$error":"#DIV/0!"}},{"$f":"IF([2]Paramètres!O37=\"\",\"\",[2]Paramètres!O37)","v":""},{"$f":"IF([2]Paramètres!P37=\"\",\"\",[2]Paramètres!P37)","v":""},{"$f":"IF([2]Paramètres!Q37=\"\",\"\",[2]Paramètres!Q37)","v":""},{"$f":"IF([2]Paramètres!R37=\"\",\"\",[2]Paramètres!R37)","v":""},{"$f":"IF([2]Paramètres!S37=\"\",\"\",[2]Paramètres!S37)","v":""},{"$f":"IF([2]Paramètres!T37=\"\",\"\",[2]Paramètres!T37)","v":""},{"$f":"IF([2]Paramètres!U37=\"\",\"\",[2]Paramètres!U37)","v":""},{"$f":"IF([2]Paramètres!V37=\"\",\"\",[2]Paramètres!V37)","v":""},{"$f":"IF([2]Paramètres!W37=\"\",\"\",[2]Paramètres!W37)","v":""},{"$f":"IF([2]Paramètres!X37=\"\",\"\",[2]Paramètres!X37)","v":""},{"$f":"IF([2]Paramètres!Y37=\"\",\"\",[2]Paramètres!Y37)","v":""},{"$f":"IF([2]Paramètres!Z37=\"\",\"\",[2]Paramètres!Z37)","v":""}]
[{"$f":"IF([2]Paramètres!A38=\"\",\"\",[2]Paramètres!A38)","v":"Château Froment Munich"},{"$f":"IF([2]Paramètres!B38=\"\",\"\",[2]Paramètres!B38)","v":0.84},{"$f":"IF([2]Paramètres!C38=\"\",\"\",[2]Paramètres!C38)","v":25},{"$f":"IF([2]Paramètres!D38=\"\",\"\",[2]Paramètres!D38)","v":0.3},{"$f":"IF([2]Paramètres!E38=\"\",\"\",[2]Paramètres!E38)","v":5.43},{"$f":"IF([2]Paramètres!F38=\"\",\"\",[2]Paramètres!F38)","v":""},{"$f":"IF([2]Paramètres!G38=\"\",\"\",[2]Paramètres!G38)","v":""},{"$f":"IF([2]Paramètres!H38=\"\",\"\",[2]Paramètres!H38)","v":""},{"$f":"IF([2]Paramètres!I38=\"\",\"\",[2]Paramètres!I38)","v":""},{"$f":"IF([2]Paramètres!J38=\"\",\"\",[2]Paramètres!J38)","v":"GigaYeast - GY001 : NORCAL ALE #1"},{"$f":"IF([2]Paramètres!K38=\"\",\"\",[2]Paramètres!K38)","v":"Liquide"},{"$f":"IF([2]Paramètres!L38=\"\",\"\",[2]Paramètres!L38)","v":0.76},{"$f":"IF([2]Paramètres!M38=\"\",\"\",[2]Paramètres!M38)","v":0.8},{"$f":"IF([2]Paramètres!N38=\"\",\"\",[2]Paramètres!N38)","v":0.78},{"$f":"IF([2]Paramètres!O38=\"\",\"\",[2]Paramètres!O38)","v":17.8},{"$f":"IF([2]Paramètres!P38=\"\",\"\",[2]Paramètres!P38)","v":25},{"$f":"IF([2]Paramètres!Q38=\"\",\"\",[2]Paramètres!Q38)","v":"Moyenne"},{"$f":"IF([2]Paramètres!R38=\"\",\"\",[2]Paramètres!R38)","v":""},{"$f":"IF([2]Paramètres!S38=\"\",\"\",[2]Paramètres!S38)","v":""},{"$f":"IF([2]Paramètres!T38=\"\",\"\",[2]Paramètres!T38)","v":""},{"$f":"IF([2]Paramètres!U38=\"\",\"\",[2]Paramètres!U38)","v":""},{"$f":"IF([2]Paramètres!V38=\"\",\"\",[2]Paramètres!V38)","v":""},{"$f":"IF([2]Paramètres!W38=\"\",\"\",[2]Paramètres!W38)","v":""},{"$f":"IF([2]Paramètres!X38=\"\",\"\",[2]Paramètres!X38)","v":""},{"$f":"IF([2]Paramètres!Y38=\"\",\"\",[2]Paramètres!Y38)","v":""},{"$f":"IF([2]Paramètres!Z38=\"\",\"\",[2]Paramètres!Z38)","v":""}]
[{"$f":"IF([2]Paramètres!A39=\"\",\"\",[2]Paramètres!A39)","v":"Château Fumé"},{"$f":"IF([2]Paramètres!B39=\"\",\"\",[2]Paramètres!B39)","v":0.77},{"$f":"IF([2]Paramètres!C39=\"\",\"\",[2]Paramètres!C39)","v":8},{"$f":"IF([2]Paramètres!D39=\"\",\"\",[2]Paramètres!D39)","v":0.15},{"$f":"IF([2]Paramètres!E39=\"\",\"\",[2]Paramètres!E39)","v":5.6},{"$f":"IF([2]Paramètres!F39=\"\",\"\",[2]Paramètres!F39)","v":""},{"$f":"IF([2]Paramètres!G39=\"\",\"\",[2]Paramètres!G39)","v":""},{"$f":"IF([2]Paramètres!H39=\"\",\"\",[2]Paramètres!H39)","v":""},{"$f":"IF([2]Paramètres!I39=\"\",\"\",[2]Paramètres!I39)","v":""},{"$f":"IF([2]Paramètres!J39=\"\",\"\",[2]Paramètres!J39)","v":"GigaYeast - GY002 : CZECH PILSNER"},{"$f":"IF([2]Paramètres!K39=\"\",\"\",[2]Paramètres!K39)","v":"Liquide"},{"$f":"IF([2]Paramètres!L39=\"\",\"\",[2]Paramètres!L39)","v":0.75},{"$f":"IF([2]Paramètres!M39=\"\",\"\",[2]Paramètres!M39)","v":0.79},{"$f":"IF([2]Paramètres!N39=\"\",\"\",[2]Paramètres!N39)","v":0.77},{"$f":"IF([2]Paramètres!O39=\"\",\"\",[2]Paramètres!O39)","v":8.9},{"$f":"IF([2]Paramètres!P39=\"\",\"\",[2]Paramètres!P39)","v":12.8},{"$f":"IF([2]Paramètres!Q39=\"\",\"\",[2]Paramètres!Q39)","v":"Moyenne - Haute"},{"$f":"IF([2]Paramètres!R39=\"\",\"\",[2]Paramètres!R39)","v":""},{"$f":"IF([2]Paramètres!S39=\"\",\"\",[2]Paramètres!S39)","v":""},{"$f":"IF([2]Paramètres!T39=\"\",\"\",[2]Paramètres!T39)","v":""},{"$f":"IF([2]Paramètres!U39=\"\",\"\",[2]Paramètres!U39)","v":""},{"$f":"IF([2]Paramètres!V39=\"\",\"\",[2]Paramètres!V39)","v":""},{"$f":"IF([2]Paramètres!W39=\"\",\"\",[2]Paramètres!W39)","v":""},{"$f":"IF([2]Paramètres!X39=\"\",\"\",[2]Paramètres!X39)","v":""},{"$f":"IF([2]Paramètres!Y39=\"\",\"\",[2]Paramètres!Y39)","v":""},{"$f":"IF([2]Paramètres!Z39=\"\",\"\",[2]Paramètres!Z39)","v":""}]
[{"$f":"IF([2]Paramètres!A40=\"\",\"\",[2]Paramètres!A40)","v":"Château Mélano (80)"},{"$f":"IF([2]Paramètres!B40=\"\",\"\",[2]Paramètres!B40)","v":0.78},{"$f":"IF([2]Paramètres!C40=\"\",\"\",[2]Paramètres!C40)","v":80},{"$f":"IF([2]Paramètres!D40=\"\",\"\",[2]Paramètres!D40)","v":0.2},{"$f":"IF([2]Paramètres!E40=\"\",\"\",[2]Paramètres!E40)","v":5.0999999999999996},{"$f":"IF([2]Paramètres!F40=\"\",\"\",[2]Paramètres!F40)","v":""},{"$f":"IF([2]Paramètres!G40=\"\",\"\",[2]Paramètres!G40)","v":""},{"$f":"IF([2]Paramètres!H40=\"\",\"\",[2]Paramètres!H40)","v":""},{"$f":"IF([2]Paramètres!I40=\"\",\"\",[2]Paramètres!I40)","v":""},{"$f":"IF([2]Paramètres!J40=\"\",\"\",[2]Paramètres!J40)","v":"GigaYeast - GY003 : A TOUCH OF SPICE BELGIAN ALE"},{"$f":"IF([2]Paramètres!K40=\"\",\"\",[2]Paramètres!K40)","v":"Liquide"},{"$f":"IF([2]Paramètres!L40=\"\",\"\",[2]Paramètres!L40)","v":0.81},{"$f":"IF([2]Paramètres!M40=\"\",\"\",[2]Paramètres!M40)","v":0.84},{"$f":"IF([2]Paramètres!N40=\"\",\"\",[2]Paramètres!N40)","v":0.82499999999999996},{"$f":"IF([2]Paramètres!O40=\"\",\"\",[2]Paramètres!O40)","v":20},{"$f":"IF([2]Paramètres!P40=\"\",\"\",[2]Paramètres!P40)","v":25},{"$f":"IF([2]Paramètres!Q40=\"\",\"\",[2]Paramètres!Q40)","v":"Basse- Moyenne"},{"$f":"IF([2]Paramètres!R40=\"\",\"\",[2]Paramètres!R40)","v":""},{"$f":"IF([2]Paramètres!S40=\"\",\"\",[2]Paramètres!S40)","v":""},{"$f":"IF([2]Paramètres!T40=\"\",\"\",[2]Paramètres!T40)","v":""},{"$f":"IF([2]Paramètres!U40=\"\",\"\",[2]Paramètres!U40)","v":""},{"$f":"IF([2]Paramètres!V40=\"\",\"\",[2]Paramètres!V40)","v":""},{"$f":"IF([2]Paramètres!W40=\"\",\"\",[2]Paramètres!W40)","v":""},{"$f":"IF([2]Paramètres!X40=\"\",\"\",[2]Paramètres!X40)","v":""},{"$f":"IF([2]Paramètres!Y40=\"\",\"\",[2]Paramètres!Y40)","v":""},{"$f":"IF([2]Paramètres!Z40=\"\",\"\",[2]Paramètres!Z40)","v":""}]
[{"$f":"IF([2]Paramètres!A41=\"\",\"\",[2]Paramètres!A41)","v":"Château Munich"},{"$f":"IF([2]Paramètres!B41=\"\",\"\",[2]Paramètres!B41)","v":0.8},{"$f":"IF([2]Paramètres!C41=\"\",\"\",[2]Paramètres!C41)","v":25},{"$f":"IF([2]Paramètres!D41=\"\",\"\",[2]Paramètres!D41)","v":0.6},{"$f":"IF([2]Paramètres!E41=\"\",\"\",[2]Paramètres!E41)","v":5.4},{"$f":"IF([2]Paramètres!F41=\"\",\"\",[2]Paramètres!F41)","v":""},{"$f":"IF([2]Paramètres!G41=\"\",\"\",[2]Paramètres!G41)","v":""},{"$f":"IF([2]Paramètres!H41=\"\",\"\",[2]Paramètres!H41)","v":""},{"$f":"IF([2]Paramètres!I41=\"\",\"\",[2]Paramètres!I41)","v":""},{"$f":"IF([2]Paramètres!J41=\"\",\"\",[2]Paramètres!J41)","v":"GigaYeast - GY005 : GOLDEN GATE LAGER"},{"$f":"IF([2]Paramètres!K41=\"\",\"\",[2]Paramètres!K41)","v":"Liquide"},{"$f":"IF([2]Paramètres!L41=\"\",\"\",[2]Paramètres!L41)","v":0.79},{"$f":"IF([2]Paramètres!M41=\"\",\"\",[2]Paramètres!M41)","v":0.83},{"$f":"IF([2]Paramètres!N41=\"\",\"\",[2]Paramètres!N41)","v":0.81},{"$f":"IF([2]Paramètres!O41=\"\",\"\",[2]Paramètres!O41)","v":12.8},{"$f":"IF([2]Paramètres!P41=\"\",\"\",[2]Paramètres!P41)","v":21.1},{"$f":"IF([2]Paramètres!Q41=\"\",\"\",[2]Paramètres!Q41)","v":"Moyenne"},{"$f":"IF([2]Paramètres!R41=\"\",\"\",[2]Paramètres!R41)","v":""},{"$f":"IF([2]Paramètres!S41=\"\",\"\",[2]Paramètres!S41)","v":""},{"$f":"IF([2]Paramètres!T41=\"\",\"\",[2]Paramètres!T41)","v":""},{"$f":"IF([2]Paramètres!U41=\"\",\"\",[2]Paramètres!U41)","v":""},{"$f":"IF([2]Paramètres!V41=\"\",\"\",[2]Paramètres!V41)","v":""},{"$f":"IF([2]Paramètres!W41=\"\",\"\",[2]Paramètres!W41)","v":""},{"$f":"IF([2]Paramètres!X41=\"\",\"\",[2]Paramètres!X41)","v":""},{"$f":"IF([2]Paramètres!Y41=\"\",\"\",[2]Paramètres!Y41)","v":""},{"$f":"IF([2]Paramètres!Z41=\"\",\"\",[2]Paramètres!Z41)","v":""}]
[{"$f":"IF([2]Paramètres!A42=\"\",\"\",[2]Paramètres!A42)","v":"Château Pale Ale"},{"$f":"IF([2]Paramètres!B42=\"\",\"\",[2]Paramètres!B42)","v":0.81},{"$f":"IF([2]Paramètres!C42=\"\",\"\",[2]Paramètres!C42)","v":8},{"$f":"IF([2]Paramètres!D42=\"\",\"\",[2]Paramètres!D42)","v":1},{"$f":"IF([2]Paramètres!E42=\"\",\"\",[2]Paramètres!E42)","v":5.7},{"$f":"IF([2]Paramètres!F42=\"\",\"\",[2]Paramètres!F42)","v":""},{"$f":"IF([2]Paramètres!G42=\"\",\"\",[2]Paramètres!G42)","v":""},{"$f":"IF([2]Paramètres!H42=\"\",\"\",[2]Paramètres!H42)","v":""},{"$f":"IF([2]Paramètres!I42=\"\",\"\",[2]Paramètres!I42)","v":""},{"$f":"IF([2]Paramètres!J42=\"\",\"\",[2]Paramètres!J42)","v":"GigaYeast - GY007 : BELGIAN MIX"},{"$f":"IF([2]Paramètres!K42=\"\",\"\",[2]Paramètres!K42)","v":"Liquide"},{"$f":"IF([2]Paramètres!L42=\"\",\"\",[2]Paramètres!L42)","v":0.79},{"$f":"IF([2]Paramètres!M42=\"\",\"\",[2]Paramètres!M42)","v":0.81},{"$f":"IF([2]Paramètres!N42=\"\",\"\",[2]Paramètres!N42)","v":0.8},{"$f":"IF([2]Paramètres!O42=\"\",\"\",[2]Paramètres!O42)","v":18.899999999999999},{"$f":"IF([2]Paramètres!P42=\"\",\"\",[2]Paramètres!P42)","v":25},{"$f":"IF([2]Paramètres!Q42=\"\",\"\",[2]Paramètres!Q42)","v":"Basse"},{"$f":"IF([2]Paramètres!R42=\"\",\"\",[2]Paramètres!R42)","v":""},{"$f":"IF([2]Paramètres!S42=\"\",\"\",[2]Paramètres!S42)","v":""},{"$f":"IF([2]Paramètres!T42=\"\",\"\",[2]Paramètres!T42)","v":""},{"$f":"IF([2]Paramètres!U42=\"\",\"\",[2]Paramètres!U42)","v":""},{"$f":"IF([2]Paramètres!V42=\"\",\"\",[2]Paramètres!V42)","v":""},{"$f":"IF([2]Paramètres!W42=\"\",\"\",[2]Paramètres!W42)","v":""},{"$f":"IF([2]Paramètres!X42=\"\",\"\",[2]Paramètres!X42)","v":""},{"$f":"IF([2]Paramètres!Y42=\"\",\"\",[2]Paramètres!Y42)","v":""},{"$f":"IF([2]Paramètres!Z42=\"\",\"\",[2]Paramètres!Z42)","v":""}]
[{"$f":"IF([2]Paramètres!A43=\"\",\"\",[2]Paramètres!A43)","v":"Château Pilsen 2 rangs"},{"$f":"IF([2]Paramètres!B43=\"\",\"\",[2]Paramètres!B43)","v":0.81},{"$f":"IF([2]Paramètres!C43=\"\",\"\",[2]Paramètres!C43)","v":3},{"$f":"IF([2]Paramètres!D43=\"\",\"\",[2]Paramètres!D43)","v":1},{"$f":"IF([2]Paramètres!E43=\"\",\"\",[2]Paramètres!E43)","v":5.7},{"$f":"IF([2]Paramètres!F43=\"\",\"\",[2]Paramètres!F43)","v":"Effet des acides"},{"$f":"IF([1]Paramètres!G43=\"\",\"\",[1]Paramètres!G43)","v":""},{"$f":"IF([1]Paramètres!H43=\"\",\"\",[1]Paramètres!H43)","v":""},{"$f":"IF([1]Paramètres!I43=\"\",\"\",[1]Paramètres!I43)","v":""},{"$f":"IF([2]Paramètres!J43=\"\",\"\",[2]Paramètres!J43)","v":"GigaYeast - GY011 : BRITISH ALE #1"},{"$f":"IF([2]Paramètres!K43=\"\",\"\",[2]Paramètres!K43)","v":"Liquide"},{"$f":"IF([2]Paramètres!L43=\"\",\"\",[2]Paramètres!L43)","v":0.75},{"$f":"IF([2]Paramètres!M43=\"\",\"\",[2]Paramètres!M43)","v":0.79},{"$f":"IF([2]Paramètres!N43=\"\",\"\",[2]Paramètres!N43)","v":0.77},{"$f":"IF([2]Paramètres!O43=\"\",\"\",[2]Paramètres!O43)","v":17.8},{"$f":"IF([2]Paramètres!P43=\"\",\"\",[2]Paramètres!P43)","v":25},{"$f":"IF([2]Paramètres!Q43=\"\",\"\",[2]Paramètres!Q43)","v":"Haute"},{"$f":"IF([2]Paramètres!R43=\"\",\"\",[2]Paramètres!R43)","v":""},{"$f":"IF([2]Paramètres!S43=\"\",\"\",[2]Paramètres!S43)","v":""},{"$f":"IF([2]Paramètres!T43=\"\",\"\",[2]Paramètres!T43)","v":""},{"$f":"IF([2]Paramètres!U43=\"\",\"\",[2]Paramètres!U43)","v":""},{"$f":"IF([2]Paramètres!V43=\"\",\"\",[2]Paramètres!V43)","v":""},{"$f":"IF([2]Paramètres!W43=\"\",\"\",[2]Paramètres!W43)","v":""},{"$f":"IF([1]Paramètres!X43=\"\",\"\",[1]Paramètres!X43)","v":""},{"$f":"IF([1]Paramètres!Y43=\"\",\"\",[1]Paramètres!Y43)","v":""},{"$f":"IF([1]Paramètres!Z43=\"\",\"\",[1]Paramètres!Z43)","v":""}]
[{"$f":"IF([2]Paramètres!A44=\"\",\"\",[2]Paramètres!A44)","v":"Château Roasted Barley"},{"$f":"IF([2]Paramètres!B44=\"\",\"\",[2]Paramètres!B44)","v":0.65},{"$f":"IF([2]Paramètres!C44=\"\",\"\",[2]Paramètres!C44)","v":1150},{"$f":"IF([2]Paramètres!D44=\"\",\"\",[2]Paramètres!D44)","v":0.05},{"$f":"IF([2]Paramètres!E44=\"\",\"\",[2]Paramètres!E44)","v":4.71},{"$f":"IF([2]Paramètres!F44=\"\",\"\",[2]Paramètres!F44)","v":"quantité"},{"$f":"IF([2]Paramètres!G44=\"\",\"\",[2]Paramètres!G44)","v":"Type"},{"$f":"IF([2]Paramètres!H44=\"\",\"\",[2]Paramètres!H44)","v":"concentration"},{"$f":"IF([2]Paramètres!I44=\"\",\"\",[2]Paramètres!I44)","v":"effet"},{"$f":"IF([2]Paramètres!J44=\"\",\"\",[2]Paramètres!J44)","v":"GigaYeast - GY014 : BELGIAN ABBEY ALE"},{"$f":"IF([2]Paramètres!K44=\"\",\"\",[2]Paramètres!K44)","v":"Liquide"},{"$f":"IF([2]Paramètres!L44=\"\",\"\",[2]Paramètres!L44)","v":0.79},{"$f":"IF([2]Paramètres!M44=\"\",\"\",[2]Paramètres!M44)","v":0.81},{"$f":"IF([2]Paramètres!N44=\"\",\"\",[2]Paramètres!N44)","v":0.8},{"$f":"IF([2]Paramètres!O44=\"\",\"\",[2]Paramètres!O44)","v":17.8},{"$f":"IF([2]Paramètres!P44=\"\",\"\",[2]Paramètres!P44)","v":26.7},{"$f":"IF([2]Paramètres!Q44=\"\",\"\",[2]Paramètres!Q44)","v":"Basse"},{"$f":"IF([2]Paramètres!R44=\"\",\"\",[2]Paramètres!R44)","v":""},{"$f":"IF([2]Paramètres!S44=\"\",\"\",[2]Paramètres!S44)","v":""},{"$f":"IF([2]Paramètres!T44=\"\",\"\",[2]Paramètres!T44)","v":""},{"$f":"IF([2]Paramètres!U44=\"\",\"\",[2]Paramètres!U44)","v":""},{"$f":"IF([2]Paramètres!V44=\"\",\"\",[2]Paramètres!V44)","v":""},{"$f":"IF([2]Paramètres!W44=\"\",\"\",[2]Paramètres!W44)","v":""},{"$f":"IF([2]Paramètres!X44=\"\",\"\",[2]Paramètres!X44)","v":""},{"$f":"IF([2]Paramètres!Y44=\"\",\"\",[2]Paramètres!Y44)","v":""},{"$f":"IF([2]Paramètres!Z44=\"\",\"\",[2]Paramètres!Z44)","v":""}]
[{"$f":"IF([2]Paramètres!A45=\"\",\"\",[2]Paramètres!A45)","v":"Château Sarrazin malt"},{"$f":"IF([2]Paramètres!B45=\"\",\"\",[2]Paramètres!B45)","v":0.65},{"$f":"IF([2]Paramètres!C45=\"\",\"\",[2]Paramètres!C45)","v":12},{"$f":"IF([2]Paramètres!D45=\"\",\"\",[2]Paramètres!D45)","v":0.75},{"$f":"IF([2]Paramètres!E45=\"\",\"\",[2]Paramètres!E45)","v":5.5},{"$f":"IF([2]Paramètres!F45=\"\",\"\",[2]Paramètres!F45)","v":1},{"$f":"IF([2]Paramètres!G45=\"\",\"\",[2]Paramètres!G45)","v":"Acide Lactique"},{"$f":"IF([2]Paramètres!H45=\"\",\"\",[2]Paramètres!H45)","v":0.8},{"$f":"IF([2]Paramètres!I45=\"\",\"\",[2]Paramètres!I45)","v":10.7},{"$f":"IF([2]Paramètres!J45=\"\",\"\",[2]Paramètres!J45)","v":"GigaYeast - GY015 : BELGIAN TRIPEL"},{"$f":"IF([2]Paramètres!K45=\"\",\"\",[2]Paramètres!K45)","v":"Liquide"},{"$f":"IF([2]Paramètres!L45=\"\",\"\",[2]Paramètres!L45)","v":0.74},{"$f":"IF([2]Paramètres!M45=\"\",\"\",[2]Paramètres!M45)","v":0.76},{"$f":"IF([2]Paramètres!N45=\"\",\"\",[2]Paramètres!N45)","v":0.75},{"$f":"IF([2]Paramètres!O45=\"\",\"\",[2]Paramètres!O45)","v":18.899999999999999},{"$f":"IF([2]Paramètres!P45=\"\",\"\",[2]Paramètres!P45)","v":23.3},{"$f":"IF([2]Paramètres!Q45=\"\",\"\",[2]Paramètres!Q45)","v":"Basse"},{"$f":"IF([2]Paramètres!R45=\"\",\"\",[2]Paramètres!R45)","v":""},{"$f":"IF([2]Paramètres!S45=\"\",\"\",[2]Paramètres!S45)","v":""},{"$f":"IF([2]Paramètres!T45=\"\",\"\",[2]Paramètres!T45)","v":""},{"$f":"IF([2]Paramètres!U45=\"\",\"\",[2]Paramètres!U45)","v":""},{"$f":"IF([2]Paramètres!V45=\"\",\"\",[2]Paramètres!V45)","v":""},{"$f":"IF([2]Paramètres!W45=\"\",\"\",[2]Paramètres!W45)","v":""},{"$f":"IF([2]Paramètres!X45=\"\",\"\",[2]Paramètres!X45)","v":""},{"$f":"IF([2]Paramètres!Y45=\"\",\"\",[2]Paramètres!Y45)","v":""},{"$f":"IF([2]Paramètres!Z45=\"\",\"\",[2]Paramètres!Z45)","v":""}]
[{"$f":"IF([2]Paramètres!A46=\"\",\"\",[2]Paramètres!A46)","v":"Château Seigle malt"},{"$f":"IF([2]Paramètres!B46=\"\",\"\",[2]Paramètres!B46)","v":0.81},{"$f":"IF([2]Paramètres!C46=\"\",\"\",[2]Paramètres!C46)","v":7},{"$f":"IF([2]Paramètres!D46=\"\",\"\",[2]Paramètres!D46)","v":1},{"$f":"IF([2]Paramètres!E46=\"\",\"\",[2]Paramètres!E46)","v":5.7},{"$f":"IF([2]Paramètres!F46=\"\",\"\",[2]Paramètres!F46)","v":1},{"$f":"IF([2]Paramètres!G46=\"\",\"\",[2]Paramètres!G46)","v":"Acide Lactique"},{"$f":"IF([2]Paramètres!H46=\"\",\"\",[2]Paramètres!H46)","v":0.88},{"$f":"IF([2]Paramètres!I46=\"\",\"\",[2]Paramètres!I46)","v":11.8},{"$f":"IF([2]Paramètres!J46=\"\",\"\",[2]Paramètres!J46)","v":"GigaYeast - GY016 : ALTSTADT ALE"},{"$f":"IF([2]Paramètres!K46=\"\",\"\",[2]Paramètres!K46)","v":"Liquide"},{"$f":"IF([2]Paramètres!L46=\"\",\"\",[2]Paramètres!L46)","v":0.77},{"$f":"IF([2]Paramètres!M46=\"\",\"\",[2]Paramètres!M46)","v":0.81},{"$f":"IF([2]Paramètres!N46=\"\",\"\",[2]Paramètres!N46)","v":0.79},{"$f":"IF([2]Paramètres!O46=\"\",\"\",[2]Paramètres!O46)","v":12.8},{"$f":"IF([2]Paramètres!P46=\"\",\"\",[2]Paramètres!P46)","v":20},{"$f":"IF([2]Paramètres!Q46=\"\",\"\",[2]Paramètres!Q46)","v":"Basse"},{"$f":"IF([2]Paramètres!R46=\"\",\"\",[2]Paramètres!R46)","v":""},{"$f":"IF([2]Paramètres!S46=\"\",\"\",[2]Paramètres!S46)","v":""},{"$f":"IF([2]Paramètres!T46=\"\",\"\",[2]Paramètres!T46)","v":""},{"$f":"IF([2]Paramètres!U46=\"\",\"\",[2]Paramètres!U46)","v":""},{"$f":"IF([2]Paramètres!V46=\"\",\"\",[2]Paramètres!V46)","v":""},{"$f":"IF([2]Paramètres!W46=\"\",\"\",[2]Paramètres!W46)","v":""},{"$f":"IF([2]Paramètres!X46=\"\",\"\",[2]Paramètres!X46)","v":""},{"$f":"IF([2]Paramètres!Y46=\"\",\"\",[2]Paramètres!Y46)","v":""},{"$f":"IF([2]Paramètres!Z46=\"\",\"\",[2]Paramètres!Z46)","v":""}]
[{"$f":"IF([2]Paramètres!A47=\"\",\"\",[2]Paramètres!A47)","v":"Château Special B"},{"$f":"IF([2]Paramètres!B47=\"\",\"\",[2]Paramètres!B47)","v":0.77},{"$f":"IF([2]Paramètres!C47=\"\",\"\",[2]Paramètres!C47)","v":290},{"$f":"IF([2]Paramètres!D47=\"\",\"\",[2]Paramètres!D47)","v":0.1},{"$f":"IF([2]Paramètres!E47=\"\",\"\",[2]Paramètres!E47)","v":4.6500000000000004},{"$f":"IF([2]Paramètres!F47=\"\",\"\",[2]Paramètres!F47)","v":1},{"$f":"IF([2]Paramètres!G47=\"\",\"\",[2]Paramètres!G47)","v":"Acide Chlorhydrique"},{"$f":"IF([2]Paramètres!H47=\"\",\"\",[2]Paramètres!H47)","v":0.37},{"$f":"IF([2]Paramètres!I47=\"\",\"\",[2]Paramètres!I47)","v":15},{"$f":"IF([2]Paramètres!J47=\"\",\"\",[2]Paramètres!J47)","v":"GigaYeast - GY017 : BAVARIAN HEFE"},{"$f":"IF([2]Paramètres!K47=\"\",\"\",[2]Paramètres!K47)","v":"Liquide"},{"$f":"IF([2]Paramètres!L47=\"\",\"\",[2]Paramètres!L47)","v":0.77},{"$f":"IF([2]Paramètres!M47=\"\",\"\",[2]Paramètres!M47)","v":0.81},{"$f":"IF([2]Paramètres!N47=\"\",\"\",[2]Paramètres!N47)","v":0.79},{"$f":"IF([2]Paramètres!O47=\"\",\"\",[2]Paramètres!O47)","v":17.8},{"$f":"IF([2]Paramètres!P47=\"\",\"\",[2]Paramètres!P47)","v":26.7},{"$f":"IF([2]Paramètres!Q47=\"\",\"\",[2]Paramètres!Q47)","v":"Très Basse"},{"$f":"IF([2]Paramètres!R47=\"\",\"\",[2]Paramètres!R47)","v":""},{"$f":"IF([2]Paramètres!S47=\"\",\"\",[2]Paramètres!S47)","v":""},{"$f":"IF([2]Paramètres!T47=\"\",\"\",[2]Paramètres!T47)","v":""},{"$f":"IF([2]Paramètres!U47=\"\",\"\",[2]Paramètres!U47)","v":""},{"$f":"IF([2]Paramètres!V47=\"\",\"\",[2]Paramètres!V47)","v":""},{"$f":"IF([2]Paramètres!W47=\"\",\"\",[2]Paramètres!W47)","v":""},{"$f":"IF([2]Paramètres!X47=\"\",\"\",[2]Paramètres!X47)","v":""},{"$f":"IF([2]Paramètres!Y47=\"\",\"\",[2]Paramètres!Y47)","v":""},{"$f":"IF([2]Paramètres!Z47=\"\",\"\",[2]Paramètres!Z47)","v":""}]
[{"$f":"IF([2]Paramètres!A48=\"\",\"\",[2]Paramètres!A48)","v":"Château Vienna"},{"$f":"IF([2]Paramètres!B48=\"\",\"\",[2]Paramètres!B48)","v":0.8},{"$f":"IF([2]Paramètres!C48=\"\",\"\",[2]Paramètres!C48)","v":6},{"$f":"IF([2]Paramètres!D48=\"\",\"\",[2]Paramètres!D48)","v":1},{"$f":"IF([2]Paramètres!E48=\"\",\"\",[2]Paramètres!E48)","v":5.56},{"$f":"IF([2]Paramètres!F48=\"\",\"\",[2]Paramètres!F48)","v":1},{"$f":"IF([2]Paramètres!G48=\"\",\"\",[2]Paramètres!G48)","v":"Malt acide"},{"$f":"IF([2]Paramètres!H48=\"\",\"\",[2]Paramètres!H48)","v":0.04},{"$f":"IF([2]Paramètres!I48=\"\",\"\",[2]Paramètres!I48)","v":0.33},{"$f":"IF([2]Paramètres!J48=\"\",\"\",[2]Paramètres!J48)","v":"GigaYeast - GY018 : SAISON #1"},{"$f":"IF([2]Paramètres!K48=\"\",\"\",[2]Paramètres!K48)","v":"Liquide"},{"$f":"IF([2]Paramètres!L48=\"\",\"\",[2]Paramètres!L48)","v":0.81},{"$f":"IF([2]Paramètres!M48=\"\",\"\",[2]Paramètres!M48)","v":0.83},{"$f":"IF([2]Paramètres!N48=\"\",\"\",[2]Paramètres!N48)","v":0.82000000000000006},{"$f":"IF([2]Paramètres!O48=\"\",\"\",[2]Paramètres!O48)","v":17.8},{"$f":"IF([2]Paramètres!P48=\"\",\"\",[2]Paramètres!P48)","v":26.7},{"$f":"IF([2]Paramètres!Q48=\"\",\"\",[2]Paramètres!Q48)","v":"Basse"},{"$f":"IF([2]Paramètres!R48=\"\",\"\",[2]Paramètres!R48)","v":""},{"$f":"IF([2]Paramètres!S48=\"\",\"\",[2]Paramètres!S48)","v":""},{"$f":"IF([2]Paramètres!T48=\"\",\"\",[2]Paramètres!T48)","v":""},{"$f":"IF([2]Paramètres!U48=\"\",\"\",[2]Paramètres!U48)","v":""},{"$f":"IF([2]Paramètres!V48=\"\",\"\",[2]Paramètres!V48)","v":""},{"$f":"IF([2]Paramètres!W48=\"\",\"\",[2]Paramètres!W48)","v":""},{"$f":"IF([2]Paramètres!X48=\"\",\"\",[2]Paramètres!X48)","v":""},{"$f":"IF([2]Paramètres!Y48=\"\",\"\",[2]Paramètres!Y48)","v":""},{"$f":"IF([2]Paramètres!Z48=\"\",\"\",[2]Paramètres!Z48)","v":""}]
[{"$f":"IF([2]Paramètres!A49=\"\",\"\",[2]Paramètres!A49)","v":"Château Whisky"},{"$f":"IF([2]Paramètres!B49=\"\",\"\",[2]Paramètres!B49)","v":0.67},{"$f":"IF([2]Paramètres!C49=\"\",\"\",[2]Paramètres!C49)","v":4},{"$f":"IF([2]Paramètres!D49=\"\",\"\",[2]Paramètres!D49)","v":0.05},{"$f":"IF([2]Paramètres!E49=\"\",\"\",[2]Paramètres!E49)","v":5.6},{"$f":"IF([2]Paramètres!F49=\"\",\"\",[2]Paramètres!F49)","v":"pH des malts"},{"$f":"IF([1]Paramètres!G49=\"\",\"\",[1]Paramètres!G49)","v":""},{"$f":"IF([1]Paramètres!H49=\"\",\"\",[1]Paramètres!H49)","v":""},{"$f":"IF([2]Paramètres!I49=\"\",\"\",[2]Paramètres!I49)","v":""},{"$f":"IF([2]Paramètres!J49=\"\",\"\",[2]Paramètres!J49)","v":"GigaYeast - GY020 : PORTLAND HEFE"},{"$f":"IF([2]Paramètres!K49=\"\",\"\",[2]Paramètres!K49)","v":"Liquide"},{"$f":"IF([2]Paramètres!L49=\"\",\"\",[2]Paramètres!L49)","v":0.76},{"$f":"IF([2]Paramètres!M49=\"\",\"\",[2]Paramètres!M49)","v":0.8},{"$f":"IF([2]Paramètres!N49=\"\",\"\",[2]Paramètres!N49)","v":0.78},{"$f":"IF([2]Paramètres!O49=\"\",\"\",[2]Paramètres!O49)","v":17.8},{"$f":"IF([2]Paramètres!P49=\"\",\"\",[2]Paramètres!P49)","v":17.8},{"$f":"IF([2]Paramètres!Q49=\"\",\"\",[2]Paramètres!Q49)","v":"Très Basse"},{"$f":"IF([2]Paramètres!R49=\"\",\"\",[2]Paramètres!R49)","v":""},{"$f":"IF([2]Paramètres!S49=\"\",\"\",[2]Paramètres!S49)","v":""},{"$f":"IF([2]Paramètres!T49=\"\",\"\",[2]Paramètres!T49)","v":""},{"$f":"IF([2]Paramètres!U49=\"\",\"\",[2]Paramètres!U49)","v":""},{"$f":"IF([2]Paramètres!V49=\"\",\"\",[2]Paramètres!V49)","v":""},{"$f":"IF([2]Paramètres!W49=\"\",\"\",[2]Paramètres!W49)","v":""},{"$f":"IF([1]Paramètres!X49=\"\",\"\",[1]Paramètres!X49)","v":""},{"$f":"IF([1]Paramètres!Y49=\"\",\"\",[1]Paramètres!Y49)","v":""},{"$f":"IF([2]Paramètres!Z49=\"\",\"\",[2]Paramètres!Z49)","v":""}]
[{"$f":"IF([2]Paramètres!A50=\"\",\"\",[2]Paramètres!A50)","v":"Chocolat"},{"$f":"IF([2]Paramètres!B50=\"\",\"\",[2]Paramètres!B50)","v":0.6},{"$f":"IF([2]Paramètres!C50=\"\",\"\",[2]Paramètres!C50)","v":1000},{"$f":"IF([2]Paramètres!D50=\"\",\"\",[2]Paramètres!D50)","v":7.0000000000000007E-2},{"$f":"IF([2]Paramètres!E50=\"\",\"\",[2]Paramètres!E50)","v":3.33},{"$f":"IF([2]Paramètres!F50=\"\",\"\",[2]Paramètres!F50)","v":"Crystal/Cara Malt"},{"$f":"IF([2]Paramètres!G50=\"\",\"\",[2]Paramètres!G50)","v":5},{"$f":"IF([2]Paramètres!H50=\"\",\"\",[2]Paramètres!H50)","v":5.2077635614179716},{"$f":"IF([2]Paramètres!I50=\"\",\"\",[2]Paramètres!I50)","v":""},{"$f":"IF([2]Paramètres!J50=\"\",\"\",[2]Paramètres!J50)","v":"GigaYeast - GY021 : KÖLSCH BIER"},{"$f":"IF([2]Paramètres!K50=\"\",\"\",[2]Paramètres!K50)","v":"Liquide"},{"$f":"IF([2]Paramètres!L50=\"\",\"\",[2]Paramètres!L50)","v":0.79},{"$f":"IF([2]Paramètres!M50=\"\",\"\",[2]Paramètres!M50)","v":0.83},{"$f":"IF([2]Paramètres!N50=\"\",\"\",[2]Paramètres!N50)","v":0.81},{"$f":"IF([2]Paramètres!O50=\"\",\"\",[2]Paramètres!O50)","v":15.6},{"$f":"IF([2]Paramètres!P50=\"\",\"\",[2]Paramètres!P50)","v":22.2},{"$f":"IF([2]Paramètres!Q50=\"\",\"\",[2]Paramètres!Q50)","v":"Moyenne - Haute"},{"$f":"IF([2]Paramètres!R50=\"\",\"\",[2]Paramètres!R50)","v":""},{"$f":"IF([2]Paramètres!S50=\"\",\"\",[2]Paramètres!S50)","v":""},{"$f":"IF([2]Paramètres!T50=\"\",\"\",[2]Paramètres!T50)","v":""},{"$f":"IF([2]Paramètres!U50=\"\",\"\",[2]Paramètres!U50)","v":""},{"$f":"IF([2]Paramètres!V50=\"\",\"\",[2]Paramètres!V50)","v":""},{"$f":"IF([2]Paramètres!W50=\"\",\"\",[2]Paramètres!W50)","v":""},{"$f":"IF([2]Paramètres!X50=\"\",\"\",[2]Paramètres!X50)","v":""},{"$f":"IF([2]Paramètres!Y50=\"\",\"\",[2]Paramètres!Y50)","v":""},{"$f":"IF([2]Paramètres!Z50=\"\",\"\",[2]Paramètres!Z50)","v":""}]
[{"$f":"IF([2]Paramètres!A51=\"\",\"\",[2]Paramètres!A51)","v":"Crystal"},{"$f":"IF([2]Paramètres!B51=\"\",\"\",[2]Paramètres!B51)","v":0.74},{"$f":"IF([2]Paramètres!C51=\"\",\"\",[2]Paramètres!C51)","v":150},{"$f":"IF([2]Paramètres!D51=\"\",\"\",[2]Paramètres!D51)","v":0.2},{"$f":"IF([2]Paramètres!E51=\"\",\"\",[2]Paramètres!E51)","v":4.93},{"$f":"IF([2]Paramètres!F51=\"\",\"\",[2]Paramètres!F51)","v":"Base - 2-Row"},{"$f":"IF([2]Paramètres!G51=\"\",\"\",[2]Paramètres!G51)","v":5.7},{"$f":"IF([1]Paramètres!H51=\"\",\"\",[1]Paramètres!H51)","v":""},{"$f":"IF([2]Paramètres!I51=\"\",\"\",[2]Paramètres!I51)","v":""},{"$f":"IF([2]Paramètres!J51=\"\",\"\",[2]Paramètres!J51)","v":"GigaYeast - GY027 : SAISON #2"},{"$f":"IF([2]Paramètres!K51=\"\",\"\",[2]Paramètres!K51)","v":"Liquide"},{"$f":"IF([2]Paramètres!L51=\"\",\"\",[2]Paramètres!L51)","v":0.79},{"$f":"IF([2]Paramètres!M51=\"\",\"\",[2]Paramètres!M51)","v":0.83},{"$f":"IF([2]Paramètres!N51=\"\",\"\",[2]Paramètres!N51)","v":0.81},{"$f":"IF([2]Paramètres!O51=\"\",\"\",[2]Paramètres!O51)","v":17.8},{"$f":"IF([2]Paramètres!P51=\"\",\"\",[2]Paramètres!P51)","v":26.7},{"$f":"IF([2]Paramètres!Q51=\"\",\"\",[2]Paramètres!Q51)","v":"Basse"},{"$f":"IF([2]Paramètres!R51=\"\",\"\",[2]Paramètres!R51)","v":""},{"$f":"IF([2]Paramètres!S51=\"\",\"\",[2]Paramètres!S51)","v":""},{"$f":"IF([2]Paramètres!T51=\"\",\"\",[2]Paramètres!T51)","v":""},{"$f":"IF([2]Paramètres!U51=\"\",\"\",[2]Paramètres!U51)","v":""},{"$f":"IF([2]Paramètres!V51=\"\",\"\",[2]Paramètres!V51)","v":""},{"$f":"IF([2]Paramètres!W51=\"\",\"\",[2]Paramètres!W51)","v":""},{"$f":"IF([2]Paramètres!X51=\"\",\"\",[2]Paramètres!X51)","v":""},{"$f":"IF([1]Paramètres!Y51=\"\",\"\",[1]Paramètres!Y51)","v":""},{"$f":"IF([2]Paramètres!Z51=\"\",\"\",[2]Paramètres!Z51)","v":""}]
[{"$f":"IF([2]Paramètres!A52=\"\",\"\",[2]Paramètres!A52)","v":"Dextrine/Cara pils Malt"},{"$f":"IF([2]Paramètres!B52=\"\",\"\",[2]Paramètres!B52)","v":0.7},{"$f":"IF([2]Paramètres!C52=\"\",\"\",[2]Paramètres!C52)","v":5},{"$f":"IF([2]Paramètres!D52=\"\",\"\",[2]Paramètres!D52)","v":0.4},{"$f":"IF([2]Paramètres!E52=\"\",\"\",[2]Paramètres!E52)","v":5.2},{"$f":"IF([2]Paramètres!F52=\"\",\"\",[2]Paramètres!F52)","v":"Base - 6-Row"},{"$f":"IF([2]Paramètres!G52=\"\",\"\",[2]Paramètres!G52)","v":5.79},{"$f":"IF([1]Paramètres!H52=\"\",\"\",[1]Paramètres!H52)","v":""},{"$f":"IF([2]Paramètres!I52=\"\",\"\",[2]Paramètres!I52)","v":""},{"$f":"IF([2]Paramètres!J52=\"\",\"\",[2]Paramètres!J52)","v":"GigaYeast - GY028 : BELGIAN WIT"},{"$f":"IF([2]Paramètres!K52=\"\",\"\",[2]Paramètres!K52)","v":"Liquide"},{"$f":"IF([2]Paramètres!L52=\"\",\"\",[2]Paramètres!L52)","v":0.76},{"$f":"IF([2]Paramètres!M52=\"\",\"\",[2]Paramètres!M52)","v":0.79},{"$f":"IF([2]Paramètres!N52=\"\",\"\",[2]Paramètres!N52)","v":0.77500000000000002},{"$f":"IF([2]Paramètres!O52=\"\",\"\",[2]Paramètres!O52)","v":17.8},{"$f":"IF([2]Paramètres!P52=\"\",\"\",[2]Paramètres!P52)","v":26.7},{"$f":"IF([2]Paramètres!Q52=\"\",\"\",[2]Paramètres!Q52)","v":"Très Basse"},{"$f":"IF([2]Paramètres!R52=\"\",\"\",[2]Paramètres!R52)","v":""},{"$f":"IF([2]Paramètres!S52=\"\",\"\",[2]Paramètres!S52)","v":""},{"$f":"IF([2]Paramètres!T52=\"\",\"\",[2]Paramètres!T52)","v":""},{"$f":"IF([2]Paramètres!U52=\"\",\"\",[2]Paramètres!U52)","v":""},{"$f":"IF([2]Paramètres!V52=\"\",\"\",[2]Paramètres!V52)","v":""},{"$f":"IF([2]Paramètres!W52=\"\",\"\",[2]Paramètres!W52)","v":""},{"$f":"IF([2]Paramètres!X52=\"\",\"\",[2]Paramètres!X52)","v":""},{"$f":"IF([1]Paramètres!Y52=\"\",\"\",[1]Paramètres!Y52)","v":""},{"$f":"IF([2]Paramètres!Z52=\"\",\"\",[2]Paramètres!Z52)","v":""}]
[{"$f":"IF([2]Paramètres!A53=\"\",\"\",[2]Paramètres!A53)","v":"Diastasique"},{"$f":"IF([2]Paramètres!B53=\"\",\"\",[2]Paramètres!B53)","v":0.81},{"$f":"IF([2]Paramètres!C53=\"\",\"\",[2]Paramètres!C53)","v":3},{"$f":"IF([2]Paramètres!D53=\"\",\"\",[2]Paramètres!D53)","v":0.3},{"$f":"IF([2]Paramètres!E53=\"\",\"\",[2]Paramètres!E53)","v":5.7},{"$f":"IF([2]Paramètres!F53=\"\",\"\",[2]Paramètres!F53)","v":"Base - Maris Otter"},{"$f":"IF([2]Paramètres!G53=\"\",\"\",[2]Paramètres!G53)","v":5.77},{"$f":"IF([1]Paramètres!H53=\"\",\"\",[1]Paramètres!H53)","v":""},{"$f":"IF([2]Paramètres!I53=\"\",\"\",[2]Paramètres!I53)","v":""},{"$f":"IF([2]Paramètres!J53=\"\",\"\",[2]Paramètres!J53)","v":"GigaYeast - GY030 : AMERICAN LAGER"},{"$f":"IF([2]Paramètres!K53=\"\",\"\",[2]Paramètres!K53)","v":"Liquide"},{"$f":"IF([2]Paramètres!L53=\"\",\"\",[2]Paramètres!L53)","v":0.79},{"$f":"IF([2]Paramètres!M53=\"\",\"\",[2]Paramètres!M53)","v":0.83},{"$f":"IF([2]Paramètres!N53=\"\",\"\",[2]Paramètres!N53)","v":0.81},{"$f":"IF([2]Paramètres!O53=\"\",\"\",[2]Paramètres!O53)","v":8.9},{"$f":"IF([2]Paramètres!P53=\"\",\"\",[2]Paramètres!P53)","v":15.6},{"$f":"IF([2]Paramètres!Q53=\"\",\"\",[2]Paramètres!Q53)","v":"Moyenne"},{"$f":"IF([2]Paramètres!R53=\"\",\"\",[2]Paramètres!R53)","v":""},{"$f":"IF([2]Paramètres!S53=\"\",\"\",[2]Paramètres!S53)","v":""},{"$f":"IF([2]Paramètres!T53=\"\",\"\",[2]Paramètres!T53)","v":""},{"$f":"IF([2]Paramètres!U53=\"\",\"\",[2]Paramètres!U53)","v":""},{"$f":"IF([2]Paramètres!V53=\"\",\"\",[2]Paramètres!V53)","v":""},{"$f":"IF([2]Paramètres!W53=\"\",\"\",[2]Paramètres!W53)","v":""},{"$f":"IF([2]Paramètres!X53=\"\",\"\",[2]Paramètres!X53)","v":""},{"$f":"IF([1]Paramètres!Y53=\"\",\"\",[1]Paramètres!Y53)","v":""},{"$f":"IF([2]Paramètres!Z53=\"\",\"\",[2]Paramètres!Z53)","v":""}]
[{"$f":"IF([2]Paramètres!A54=\"\",\"\",[2]Paramètres!A54)","v":"Flocons Avoine"},{"$f":"IF([2]Paramètres!B54=\"\",\"\",[2]Paramètres!B54)","v":0.7},{"$f":"IF([2]Paramètres!C54=\"\",\"\",[2]Paramètres!C54)","v":5},{"$f":"IF([2]Paramètres!D54=\"\",\"\",[2]Paramètres!D54)","v":0.25},{"$f":"IF([2]Paramètres!E54=\"\",\"\",[2]Paramètres!E54)","v":5.2},{"$f":"IF([2]Paramètres!F54=\"\",\"\",[2]Paramètres!F54)","v":"Base - Munich"},{"$f":"IF([2]Paramètres!G54=\"\",\"\",[2]Paramètres!G54)","v":5.43},{"$f":"IF([1]Paramètres!H54=\"\",\"\",[1]Paramètres!H54)","v":""},{"$f":"IF([2]Paramètres!I54=\"\",\"\",[2]Paramètres!I54)","v":""},{"$f":"IF([2]Paramètres!J54=\"\",\"\",[2]Paramètres!J54)","v":"GigaYeast - GY031 : BRITISH ALE #2"},{"$f":"IF([2]Paramètres!K54=\"\",\"\",[2]Paramètres!K54)","v":"Liquide"},{"$f":"IF([2]Paramètres!L54=\"\",\"\",[2]Paramètres!L54)","v":0.8},{"$f":"IF([2]Paramètres!M54=\"\",\"\",[2]Paramètres!M54)","v":0.82},{"$f":"IF([2]Paramètres!N54=\"\",\"\",[2]Paramètres!N54)","v":0.81},{"$f":"IF([2]Paramètres!O54=\"\",\"\",[2]Paramètres!O54)","v":17.8},{"$f":"IF([2]Paramètres!P54=\"\",\"\",[2]Paramètres!P54)","v":23.9},{"$f":"IF([2]Paramètres!Q54=\"\",\"\",[2]Paramètres!Q54)","v":"Haute"},{"$f":"IF([2]Paramètres!R54=\"\",\"\",[2]Paramètres!R54)","v":""},{"$f":"IF([2]Paramètres!S54=\"\",\"\",[2]Paramètres!S54)","v":""},{"$f":"IF([2]Paramètres!T54=\"\",\"\",[2]Paramètres!T54)","v":""},{"$f":"IF([2]Paramètres!U54=\"\",\"\",[2]Paramètres!U54)","v":""},{"$f":"IF([2]Paramètres!V54=\"\",\"\",[2]Paramètres!V54)","v":""},{"$f":"IF([2]Paramètres!W54=\"\",\"\",[2]Paramètres!W54)","v":""},{"$f":"IF([2]Paramètres!X54=\"\",\"\",[2]Paramètres!X54)","v":""},{"$f":"IF([1]Paramètres!Y54=\"\",\"\",[1]Paramètres!Y54)","v":""},{"$f":"IF([2]Paramètres!Z54=\"\",\"\",[2]Paramètres!Z54)","v":""}]
[{"$f":"IF([2]Paramètres!A55=\"\",\"\",[2]Paramètres!A55)","v":"Flocons Blé"},{"$f":"IF([2]Paramètres!B55=\"\",\"\",[2]Paramètres!B55)","v":0.5},{"$f":"IF([2]Paramètres!C55=\"\",\"\",[2]Paramètres!C55)","v":5},{"$f":"IF([2]Paramètres!D55=\"\",\"\",[2]Paramètres!D55)","v":0.25},{"$f":"IF([2]Paramètres!E55=\"\",\"\",[2]Paramètres!E55)","v":5.2},{"$f":"IF([2]Paramètres!F55=\"\",\"\",[2]Paramètres!F55)","v":"Base - Pilsner"},{"$f":"IF([2]Paramètres!G55=\"\",\"\",[2]Paramètres!G55)","v":5.75},{"$f":"IF([1]Paramètres!H55=\"\",\"\",[1]Paramètres!H55)","v":""},{"$f":"IF([2]Paramètres!I55=\"\",\"\",[2]Paramètres!I55)","v":""},{"$f":"IF([2]Paramètres!J55=\"\",\"\",[2]Paramètres!J55)","v":"GigaYeast - GY044 : SCOTCH ALE #1"},{"$f":"IF([2]Paramètres!K55=\"\",\"\",[2]Paramètres!K55)","v":"Liquide"},{"$f":"IF([2]Paramètres!L55=\"\",\"\",[2]Paramètres!L55)","v":0.8},{"$f":"IF([2]Paramètres!M55=\"\",\"\",[2]Paramètres!M55)","v":0.82},{"$f":"IF([2]Paramètres!N55=\"\",\"\",[2]Paramètres!N55)","v":0.81},{"$f":"IF([2]Paramètres!O55=\"\",\"\",[2]Paramètres!O55)","v":17.8},{"$f":"IF([2]Paramètres!P55=\"\",\"\",[2]Paramètres!P55)","v":23.9},{"$f":"IF([2]Paramètres!Q55=\"\",\"\",[2]Paramètres!Q55)","v":"Basse- Moyenne"},{"$f":"IF([2]Paramètres!R55=\"\",\"\",[2]Paramètres!R55)","v":""},{"$f":"IF([2]Paramètres!S55=\"\",\"\",[2]Paramètres!S55)","v":""},{"$f":"IF([2]Paramètres!T55=\"\",\"\",[2]Paramètres!T55)","v":""},{"$f":"IF([2]Paramètres!U55=\"\",\"\",[2]Paramètres!U55)","v":""},{"$f":"IF([2]Paramètres!V55=\"\",\"\",[2]Paramètres!V55)","v":""},{"$f":"IF([2]Paramètres!W55=\"\",\"\",[2]Paramètres!W55)","v":""},{"$f":"IF([2]Paramètres!X55=\"\",\"\",[2]Paramètres!X55)","v":""},{"$f":"IF([1]Paramètres!Y55=\"\",\"\",[1]Paramètres!Y55)","v":""},{"$f":"IF([2]Paramètres!Z55=\"\",\"\",[2]Paramètres!Z55)","v":""}]
[{"$f":"IF([2]Paramètres!A56=\"\",\"\",[2]Paramètres!A56)","v":"Flocons Epeautre"},{"$f":"IF([2]Paramètres!B56=\"\",\"\",[2]Paramètres!B56)","v":0.75},{"$f":"IF([2]Paramètres!C56=\"\",\"\",[2]Paramètres!C56)","v":5},{"$f":"IF([2]Paramètres!D56=\"\",\"\",[2]Paramètres!D56)","v":0.1},{"$f":"IF([2]Paramètres!E56=\"\",\"\",[2]Paramètres!E56)","v":5.7},{"$f":"IF([2]Paramètres!F56=\"\",\"\",[2]Paramètres!F56)","v":"Base - Wheat"},{"$f":"IF([2]Paramètres!G56=\"\",\"\",[2]Paramètres!G56)","v":6.04},{"$f":"IF([1]Paramètres!H56=\"\",\"\",[1]Paramètres!H56)","v":""},{"$f":"IF([2]Paramètres!I56=\"\",\"\",[2]Paramètres!I56)","v":""},{"$f":"IF([2]Paramètres!J56=\"\",\"\",[2]Paramètres!J56)","v":"GigaYeast - GY045 : GERMAN LAGER"},{"$f":"IF([2]Paramètres!K56=\"\",\"\",[2]Paramètres!K56)","v":"Liquide"},{"$f":"IF([2]Paramètres!L56=\"\",\"\",[2]Paramètres!L56)","v":0.74},{"$f":"IF([2]Paramètres!M56=\"\",\"\",[2]Paramètres!M56)","v":0.78},{"$f":"IF([2]Paramètres!N56=\"\",\"\",[2]Paramètres!N56)","v":0.76},{"$f":"IF([2]Paramètres!O56=\"\",\"\",[2]Paramètres!O56)","v":10},{"$f":"IF([2]Paramètres!P56=\"\",\"\",[2]Paramètres!P56)","v":15.6},{"$f":"IF([2]Paramètres!Q56=\"\",\"\",[2]Paramètres!Q56)","v":"Basse- Moyenne"},{"$f":"IF([2]Paramètres!R56=\"\",\"\",[2]Paramètres!R56)","v":""},{"$f":"IF([2]Paramètres!S56=\"\",\"\",[2]Paramètres!S56)","v":""},{"$f":"IF([2]Paramètres!T56=\"\",\"\",[2]Paramètres!T56)","v":""},{"$f":"IF([2]Paramètres!U56=\"\",\"\",[2]Paramètres!U56)","v":""},{"$f":"IF([2]Paramètres!V56=\"\",\"\",[2]Paramètres!V56)","v":""},{"$f":"IF([2]Paramètres!W56=\"\",\"\",[2]Paramètres!W56)","v":""},{"$f":"IF([2]Paramètres!X56=\"\",\"\",[2]Paramètres!X56)","v":""},{"$f":"IF([1]Paramètres!Y56=\"\",\"\",[1]Paramètres!Y56)","v":""},{"$f":"IF([2]Paramètres!Z56=\"\",\"\",[2]Paramètres!Z56)","v":""}]
[{"$f":"IF([2]Paramètres!A57=\"\",\"\",[2]Paramètres!A57)","v":"Flocons Maïs"},{"$f":"IF([2]Paramètres!B57=\"\",\"\",[2]Paramètres!B57)","v":0.82},{"$f":"IF([2]Paramètres!C57=\"\",\"\",[2]Paramètres!C57)","v":2},{"$f":"IF([2]Paramètres!D57=\"\",\"\",[2]Paramètres!D57)","v":0.4},{"$f":"IF([2]Paramètres!E57=\"\",\"\",[2]Paramètres!E57)","v":5.7},{"$f":"IF([2]Paramètres!F57=\"\",\"\",[2]Paramètres!F57)","v":"Base - Vienna"},{"$f":"IF([2]Paramètres!G57=\"\",\"\",[2]Paramètres!G57)","v":5.56},{"$f":"IF([1]Paramètres!H57=\"\",\"\",[1]Paramètres!H57)","v":""},{"$f":"IF([2]Paramètres!I57=\"\",\"\",[2]Paramètres!I57)","v":""},{"$f":"IF([2]Paramètres!J57=\"\",\"\",[2]Paramètres!J57)","v":"GigaYeast - GY047 : SAISON BLEND"},{"$f":"IF([2]Paramètres!K57=\"\",\"\",[2]Paramètres!K57)","v":"Liquide"},{"$f":"IF([2]Paramètres!L57=\"\",\"\",[2]Paramètres!L57)","v":0.8},{"$f":"IF([2]Paramètres!M57=\"\",\"\",[2]Paramètres!M57)","v":0.83},{"$f":"IF([2]Paramètres!N57=\"\",\"\",[2]Paramètres!N57)","v":0.81499999999999995},{"$f":"IF([2]Paramètres!O57=\"\",\"\",[2]Paramètres!O57)","v":17.8},{"$f":"IF([2]Paramètres!P57=\"\",\"\",[2]Paramètres!P57)","v":26.7},{"$f":"IF([2]Paramètres!Q57=\"\",\"\",[2]Paramètres!Q57)","v":"Basse"},{"$f":"IF([2]Paramètres!R57=\"\",\"\",[2]Paramètres!R57)","v":""},{"$f":"IF([2]Paramètres!S57=\"\",\"\",[2]Paramètres!S57)","v":""},{"$f":"IF([2]Paramètres!T57=\"\",\"\",[2]Paramètres!T57)","v":""},{"$f":"IF([2]Paramètres!U57=\"\",\"\",[2]Paramètres!U57)","v":""},{"$f":"IF([2]Paramètres!V57=\"\",\"\",[2]Paramètres!V57)","v":""},{"$f":"IF([2]Paramètres!W57=\"\",\"\",[2]Paramètres!W57)","v":""},{"$f":"IF([2]Paramètres!X57=\"\",\"\",[2]Paramètres!X57)","v":""},{"$f":"IF([1]Paramètres!Y57=\"\",\"\",[1]Paramètres!Y57)","v":""},{"$f":"IF([2]Paramètres!Z57=\"\",\"\",[2]Paramètres!Z57)","v":""}]
[{"$f":"IF([2]Paramètres!A58=\"\",\"\",[2]Paramètres!A58)","v":"Flocons Orge"},{"$f":"IF([2]Paramètres!B58=\"\",\"\",[2]Paramètres!B58)","v":0.5},{"$f":"IF([2]Paramètres!C58=\"\",\"\",[2]Paramètres!C58)","v":5},{"$f":"IF([2]Paramètres!D58=\"\",\"\",[2]Paramètres!D58)","v":0.3},{"$f":"IF([2]Paramètres!E58=\"\",\"\",[2]Paramètres!E58)","v":5.7},{"$f":"IF([2]Paramètres!F58=\"\",\"\",[2]Paramètres!F58)","v":"Base - Other"},{"$f":"IF([2]Paramètres!G58=\"\",\"\",[2]Paramètres!G58)","v":5.7},{"$f":"IF([1]Paramètres!H58=\"\",\"\",[1]Paramètres!H58)","v":""},{"$f":"IF([2]Paramètres!I58=\"\",\"\",[2]Paramètres!I58)","v":""},{"$f":"IF([2]Paramètres!J58=\"\",\"\",[2]Paramètres!J58)","v":"GigaYeast - GY048 : GOLDEN PEAR BELGIAN"},{"$f":"IF([2]Paramètres!K58=\"\",\"\",[2]Paramètres!K58)","v":"Liquide"},{"$f":"IF([2]Paramètres!L58=\"\",\"\",[2]Paramètres!L58)","v":0.83},{"$f":"IF([2]Paramètres!M58=\"\",\"\",[2]Paramètres!M58)","v":0.85},{"$f":"IF([2]Paramètres!N58=\"\",\"\",[2]Paramètres!N58)","v":0.84},{"$f":"IF([2]Paramètres!O58=\"\",\"\",[2]Paramètres!O58)","v":18.3},{"$f":"IF([2]Paramètres!P58=\"\",\"\",[2]Paramètres!P58)","v":26.7},{"$f":"IF([2]Paramètres!Q58=\"\",\"\",[2]Paramètres!Q58)","v":"Basse"},{"$f":"IF([2]Paramètres!R58=\"\",\"\",[2]Paramètres!R58)","v":""},{"$f":"IF([2]Paramètres!S58=\"\",\"\",[2]Paramètres!S58)","v":""},{"$f":"IF([2]Paramètres!T58=\"\",\"\",[2]Paramètres!T58)","v":""},{"$f":"IF([2]Paramètres!U58=\"\",\"\",[2]Paramètres!U58)","v":""},{"$f":"IF([2]Paramètres!V58=\"\",\"\",[2]Paramètres!V58)","v":""},{"$f":"IF([2]Paramètres!W58=\"\",\"\",[2]Paramètres!W58)","v":""},{"$f":"IF([2]Paramètres!X58=\"\",\"\",[2]Paramètres!X58)","v":""},{"$f":"IF([1]Paramètres!Y58=\"\",\"\",[1]Paramètres!Y58)","v":""},{"$f":"IF([2]Paramètres!Z58=\"\",\"\",[2]Paramètres!Z58)","v":""}]
[{"$f":"IF([2]Paramètres!A59=\"\",\"\",[2]Paramètres!A59)","v":"Flocons Riz"},{"$f":"IF([2]Paramètres!B59=\"\",\"\",[2]Paramètres!B59)","v":0.7},{"$f":"IF([2]Paramètres!C59=\"\",\"\",[2]Paramètres!C59)","v":1},{"$f":"IF([2]Paramètres!D59=\"\",\"\",[2]Paramètres!D59)","v":0.25},{"$f":"IF([2]Paramètres!E59=\"\",\"\",[2]Paramètres!E59)","v":5.7},{"$f":"IF([2]Paramètres!F59=\"\",\"\",[2]Paramètres!F59)","v":"Roasted/Toasted Malt"},{"$f":"IF([2]Paramètres!G59=\"\",\"\",[2]Paramètres!G59)","v":4.71},{"$f":"IF([1]Paramètres!H59=\"\",\"\",[1]Paramètres!H59)","v":""},{"$f":"IF([2]Paramètres!I59=\"\",\"\",[2]Paramètres!I59)","v":""},{"$f":"IF([2]Paramètres!J59=\"\",\"\",[2]Paramètres!J59)","v":"GigaYeast - GY054 : VERMONT IPA"},{"$f":"IF([2]Paramètres!K59=\"\",\"\",[2]Paramètres!K59)","v":"Liquide"},{"$f":"IF([2]Paramètres!L59=\"\",\"\",[2]Paramètres!L59)","v":0.78},{"$f":"IF([2]Paramètres!M59=\"\",\"\",[2]Paramètres!M59)","v":0.82},{"$f":"IF([2]Paramètres!N59=\"\",\"\",[2]Paramètres!N59)","v":0.8},{"$f":"IF([2]Paramètres!O59=\"\",\"\",[2]Paramètres!O59)","v":16.7},{"$f":"IF([2]Paramètres!P59=\"\",\"\",[2]Paramètres!P59)","v":23.9},{"$f":"IF([2]Paramètres!Q59=\"\",\"\",[2]Paramètres!Q59)","v":"Basse- Moyenne"},{"$f":"IF([2]Paramètres!R59=\"\",\"\",[2]Paramètres!R59)","v":""},{"$f":"IF([2]Paramètres!S59=\"\",\"\",[2]Paramètres!S59)","v":""},{"$f":"IF([2]Paramètres!T59=\"\",\"\",[2]Paramètres!T59)","v":""},{"$f":"IF([2]Paramètres!U59=\"\",\"\",[2]Paramètres!U59)","v":""},{"$f":"IF([2]Paramètres!V59=\"\",\"\",[2]Paramètres!V59)","v":""},{"$f":"IF([2]Paramètres!W59=\"\",\"\",[2]Paramètres!W59)","v":""},{"$f":"IF([2]Paramètres!X59=\"\",\"\",[2]Paramètres!X59)","v":""},{"$f":"IF([1]Paramètres!Y59=\"\",\"\",[1]Paramètres!Y59)","v":""},{"$f":"IF([2]Paramètres!Z59=\"\",\"\",[2]Paramètres!Z59)","v":""}]
[{"$f":"IF([2]Paramètres!A60=\"\",\"\",[2]Paramètres!A60)","v":"Flocons Seigle"},{"$f":"IF([2]Paramètres!B60=\"\",\"\",[2]Paramètres!B60)","v":0.78},{"$f":"IF([2]Paramètres!C60=\"\",\"\",[2]Paramètres!C60)","v":3},{"$f":"IF([2]Paramètres!D60=\"\",\"\",[2]Paramètres!D60)","v":0.1},{"$f":"IF([2]Paramètres!E60=\"\",\"\",[2]Paramètres!E60)","v":5.7},{"$f":"IF([2]Paramètres!F60=\"\",\"\",[2]Paramètres!F60)","v":""},{"$f":"IF([2]Paramètres!G60=\"\",\"\",[2]Paramètres!G60)","v":""},{"$f":"IF([2]Paramètres!H60=\"\",\"\",[2]Paramètres!H60)","v":""},{"$f":"IF([2]Paramètres!I60=\"\",\"\",[2]Paramètres!I60)","v":""},{"$f":"IF([2]Paramètres!J60=\"\",\"\",[2]Paramètres!J60)","v":"GigaYeast - GY077 : QUEBEC ABBEY ALE"},{"$f":"IF([2]Paramètres!K60=\"\",\"\",[2]Paramètres!K60)","v":"Liquide"},{"$f":"IF([2]Paramètres!L60=\"\",\"\",[2]Paramètres!L60)","v":0.79},{"$f":"IF([2]Paramètres!M60=\"\",\"\",[2]Paramètres!M60)","v":0.83},{"$f":"IF([2]Paramètres!N60=\"\",\"\",[2]Paramètres!N60)","v":0.81},{"$f":"IF([2]Paramètres!O60=\"\",\"\",[2]Paramètres!O60)","v":20},{"$f":"IF([2]Paramètres!P60=\"\",\"\",[2]Paramètres!P60)","v":26.7},{"$f":"IF([2]Paramètres!Q60=\"\",\"\",[2]Paramètres!Q60)","v":"Moyenne"},{"$f":"IF([2]Paramètres!R60=\"\",\"\",[2]Paramètres!R60)","v":""},{"$f":"IF([2]Paramètres!S60=\"\",\"\",[2]Paramètres!S60)","v":""},{"$f":"IF([2]Paramètres!T60=\"\",\"\",[2]Paramètres!T60)","v":""},{"$f":"IF([2]Paramètres!U60=\"\",\"\",[2]Paramètres!U60)","v":""},{"$f":"IF([2]Paramètres!V60=\"\",\"\",[2]Paramètres!V60)","v":""},{"$f":"IF([2]Paramètres!W60=\"\",\"\",[2]Paramètres!W60)","v":""},{"$f":"IF([2]Paramètres!X60=\"\",\"\",[2]Paramètres!X60)","v":""},{"$f":"IF([2]Paramètres!Y60=\"\",\"\",[2]Paramètres!Y60)","v":""},{"$f":"IF([2]Paramètres!Z60=\"\",\"\",[2]Paramètres!Z60)","v":""}]
[{"$f":"IF([2]Paramètres!A61=\"\",\"\",[2]Paramètres!A61)","v":"Froment"},{"$f":"IF([2]Paramètres!B61=\"\",\"\",[2]Paramètres!B61)","v":0.79},{"$f":"IF([2]Paramètres!C61=\"\",\"\",[2]Paramètres!C61)","v":4.5},{"$f":"IF([2]Paramètres!D61=\"\",\"\",[2]Paramètres!D61)","v":0.35},{"$f":"IF([2]Paramètres!E61=\"\",\"\",[2]Paramètres!E61)","v":6.04},{"$f":"IF([2]Paramètres!F61=\"\",\"\",[2]Paramètres!F61)","v":""},{"$f":"IF([2]Paramètres!G61=\"\",\"\",[2]Paramètres!G61)","v":""},{"$f":"IF([2]Paramètres!H61=\"\",\"\",[2]Paramètres!H61)","v":""},{"$f":"IF([2]Paramètres!I61=\"\",\"\",[2]Paramètres!I61)","v":""},{"$f":"IF([2]Paramètres!J61=\"\",\"\",[2]Paramètres!J61)","v":"GigaYeast - GY080 : IRISH STOUT"},{"$f":"IF([2]Paramètres!K61=\"\",\"\",[2]Paramètres!K61)","v":"Liquide"},{"$f":"IF([2]Paramètres!L61=\"\",\"\",[2]Paramètres!L61)","v":0.82},{"$f":"IF([2]Paramètres!M61=\"\",\"\",[2]Paramètres!M61)","v":0.86},{"$f":"IF([2]Paramètres!N61=\"\",\"\",[2]Paramètres!N61)","v":0.84},{"$f":"IF([2]Paramètres!O61=\"\",\"\",[2]Paramètres!O61)","v":17.8},{"$f":"IF([2]Paramètres!P61=\"\",\"\",[2]Paramètres!P61)","v":22.2},{"$f":"IF([2]Paramètres!Q61=\"\",\"\",[2]Paramètres!Q61)","v":"Moyenne"},{"$f":"IF([2]Paramètres!R61=\"\",\"\",[2]Paramètres!R61)","v":""},{"$f":"IF([2]Paramètres!S61=\"\",\"\",[2]Paramètres!S61)","v":""},{"$f":"IF([2]Paramètres!T61=\"\",\"\",[2]Paramètres!T61)","v":""},{"$f":"IF([2]Paramètres!U61=\"\",\"\",[2]Paramètres!U61)","v":""},{"$f":"IF([2]Paramètres!V61=\"\",\"\",[2]Paramètres!V61)","v":""},{"$f":"IF([2]Paramètres!W61=\"\",\"\",[2]Paramètres!W61)","v":""},{"$f":"IF([2]Paramètres!X61=\"\",\"\",[2]Paramètres!X61)","v":""},{"$f":"IF([2]Paramètres!Y61=\"\",\"\",[2]Paramètres!Y61)","v":""},{"$f":"IF([2]Paramètres!Z61=\"\",\"\",[2]Paramètres!Z61)","v":""}]
[{"$f":"IF([2]Paramètres!A62=\"\",\"\",[2]Paramètres!A62)","v":"Froment - Vieux Silo"},{"$f":"IF([2]Paramètres!B62=\"\",\"\",[2]Paramètres!B62)","v":0.75},{"$f":"IF([2]Paramètres!C62=\"\",\"\",[2]Paramètres!C62)","v":4.5},{"$f":"IF([2]Paramètres!D62=\"\",\"\",[2]Paramètres!D62)","v":0.35},{"$f":"IF([2]Paramètres!E62=\"\",\"\",[2]Paramètres!E62)","v":6.04},{"$f":"IF([2]Paramètres!F62=\"\",\"\",[2]Paramètres!F62)","v":""},{"$f":"IF([2]Paramètres!G62=\"\",\"\",[2]Paramètres!G62)","v":""},{"$f":"IF([2]Paramètres!H62=\"\",\"\",[2]Paramètres!H62)","v":""},{"$f":"IF([2]Paramètres!I62=\"\",\"\",[2]Paramètres!I62)","v":""},{"$f":"IF([2]Paramètres!J62=\"\",\"\",[2]Paramètres!J62)","v":"Imperial Yeast - A01 House"},{"$f":"IF([2]Paramètres!K62=\"\",\"\",[2]Paramètres!K62)","v":"Liquide"},{"$f":"IF([2]Paramètres!L62=\"\",\"\",[2]Paramètres!L62)","v":0.73},{"$f":"IF([2]Paramètres!M62=\"\",\"\",[2]Paramètres!M62)","v":0.75},{"$f":"IF([2]Paramètres!N62=\"\",\"\",[2]Paramètres!N62)","v":0.74},{"$f":"IF([2]Paramètres!O62=\"\",\"\",[2]Paramètres!O62)","v":16.7},{"$f":"IF([2]Paramètres!P62=\"\",\"\",[2]Paramètres!P62)","v":21.1},{"$f":"IF([2]Paramètres!Q62=\"\",\"\",[2]Paramètres!Q62)","v":"Haute"},{"$f":"IF([2]Paramètres!R62=\"\",\"\",[2]Paramètres!R62)","v":""},{"$f":"IF([2]Paramètres!S62=\"\",\"\",[2]Paramètres!S62)","v":""},{"$f":"IF([2]Paramètres!T62=\"\",\"\",[2]Paramètres!T62)","v":""},{"$f":"IF([2]Paramètres!U62=\"\",\"\",[2]Paramètres!U62)","v":""},{"$f":"IF([2]Paramètres!V62=\"\",\"\",[2]Paramètres!V62)","v":""},{"$f":"IF([2]Paramètres!W62=\"\",\"\",[2]Paramètres!W62)","v":""},{"$f":"IF([2]Paramètres!X62=\"\",\"\",[2]Paramètres!X62)","v":""},{"$f":"IF([2]Paramètres!Y62=\"\",\"\",[2]Paramètres!Y62)","v":""},{"$f":"IF([2]Paramètres!Z62=\"\",\"\",[2]Paramètres!Z62)","v":""}]
[{"$f":"IF([2]Paramètres!A63=\"\",\"\",[2]Paramètres!A63)","v":"Froment Black"},{"$f":"IF([2]Paramètres!B63=\"\",\"\",[2]Paramètres!B63)","v":0.55000000000000004},{"$f":"IF([2]Paramètres!C63=\"\",\"\",[2]Paramètres!C63)","v":1300},{"$f":"IF([2]Paramètres!D63=\"\",\"\",[2]Paramètres!D63)","v":0.05},{"$f":"IF([2]Paramètres!E63=\"\",\"\",[2]Paramètres!E63)","v":4.71},{"$f":"IF([2]Paramètres!F63=\"\",\"\",[2]Paramètres!F63)","v":""},{"$f":"IF([2]Paramètres!G63=\"\",\"\",[2]Paramètres!G63)","v":""},{"$f":"IF([2]Paramètres!H63=\"\",\"\",[2]Paramètres!H63)","v":""},{"$f":"IF([2]Paramètres!I63=\"\",\"\",[2]Paramètres!I63)","v":""},{"$f":"IF([2]Paramètres!J63=\"\",\"\",[2]Paramètres!J63)","v":"Imperial Yeast - A04 Barbarian"},{"$f":"IF([2]Paramètres!K63=\"\",\"\",[2]Paramètres!K63)","v":"Liquide"},{"$f":"IF([2]Paramètres!L63=\"\",\"\",[2]Paramètres!L63)","v":0.73},{"$f":"IF([2]Paramètres!M63=\"\",\"\",[2]Paramètres!M63)","v":0.74},{"$f":"IF([2]Paramètres!N63=\"\",\"\",[2]Paramètres!N63)","v":0.73499999999999999},{"$f":"IF([2]Paramètres!O63=\"\",\"\",[2]Paramètres!O63)","v":16.7},{"$f":"IF([2]Paramètres!P63=\"\",\"\",[2]Paramètres!P63)","v":21.1},{"$f":"IF([2]Paramètres!Q63=\"\",\"\",[2]Paramètres!Q63)","v":"Moyenne"},{"$f":"IF([2]Paramètres!R63=\"\",\"\",[2]Paramètres!R63)","v":""},{"$f":"IF([2]Paramètres!S63=\"\",\"\",[2]Paramètres!S63)","v":""},{"$f":"IF([2]Paramètres!T63=\"\",\"\",[2]Paramètres!T63)","v":""},{"$f":"IF([2]Paramètres!U63=\"\",\"\",[2]Paramètres!U63)","v":""},{"$f":"IF([2]Paramètres!V63=\"\",\"\",[2]Paramètres!V63)","v":""},{"$f":"IF([2]Paramètres!W63=\"\",\"\",[2]Paramètres!W63)","v":""},{"$f":"IF([2]Paramètres!X63=\"\",\"\",[2]Paramètres!X63)","v":""},{"$f":"IF([2]Paramètres!Y63=\"\",\"\",[2]Paramètres!Y63)","v":""},{"$f":"IF([2]Paramètres!Z63=\"\",\"\",[2]Paramètres!Z63)","v":""}]
[{"$f":"IF([2]Paramètres!A64=\"\",\"\",[2]Paramètres!A64)","v":"Froment Chocolat"},{"$f":"IF([2]Paramètres!B64=\"\",\"\",[2]Paramètres!B64)","v":0.6},{"$f":"IF([2]Paramètres!C64=\"\",\"\",[2]Paramètres!C64)","v":1000},{"$f":"IF([2]Paramètres!D64=\"\",\"\",[2]Paramètres!D64)","v":0.2},{"$f":"IF([2]Paramètres!E64=\"\",\"\",[2]Paramètres!E64)","v":4.71},{"$f":"IF([2]Paramètres!F64=\"\",\"\",[2]Paramètres!F64)","v":""},{"$f":"IF([2]Paramètres!G64=\"\",\"\",[2]Paramètres!G64)","v":""},{"$f":"IF([2]Paramètres!H64=\"\",\"\",[2]Paramètres!H64)","v":""},{"$f":"IF([2]Paramètres!I64=\"\",\"\",[2]Paramètres!I64)","v":""},{"$f":"IF([2]Paramètres!J64=\"\",\"\",[2]Paramètres!J64)","v":"Imperial Yeast - A07 Flagship"},{"$f":"IF([2]Paramètres!K64=\"\",\"\",[2]Paramètres!K64)","v":"Liquide"},{"$f":"IF([2]Paramètres!L64=\"\",\"\",[2]Paramètres!L64)","v":0.73},{"$f":"IF([2]Paramètres!M64=\"\",\"\",[2]Paramètres!M64)","v":0.77},{"$f":"IF([2]Paramètres!N64=\"\",\"\",[2]Paramètres!N64)","v":0.75},{"$f":"IF([2]Paramètres!O64=\"\",\"\",[2]Paramètres!O64)","v":15.6},{"$f":"IF([2]Paramètres!P64=\"\",\"\",[2]Paramètres!P64)","v":22.2},{"$f":"IF([2]Paramètres!Q64=\"\",\"\",[2]Paramètres!Q64)","v":"Basse - Moyenne"},{"$f":"IF([2]Paramètres!R64=\"\",\"\",[2]Paramètres!R64)","v":""},{"$f":"IF([2]Paramètres!S64=\"\",\"\",[2]Paramètres!S64)","v":""},{"$f":"IF([2]Paramètres!T64=\"\",\"\",[2]Paramètres!T64)","v":""},{"$f":"IF([2]Paramètres!U64=\"\",\"\",[2]Paramètres!U64)","v":""},{"$f":"IF([2]Paramètres!V64=\"\",\"\",[2]Paramètres!V64)","v":""},{"$f":"IF([2]Paramètres!W64=\"\",\"\",[2]Paramètres!W64)","v":""},{"$f":"IF([2]Paramètres!X64=\"\",\"\",[2]Paramètres!X64)","v":""},{"$f":"IF([2]Paramètres!Y64=\"\",\"\",[2]Paramètres!Y64)","v":""},{"$f":"IF([2]Paramètres!Z64=\"\",\"\",[2]Paramètres!Z64)","v":""}]
[{"$f":"IF([2]Paramètres!A65=\"\",\"\",[2]Paramètres!A65)","v":"Froment Crystal"},{"$f":"IF([2]Paramètres!B65=\"\",\"\",[2]Paramètres!B65)","v":0.74},{"$f":"IF([2]Paramètres!C65=\"\",\"\",[2]Paramètres!C65)","v":150},{"$f":"IF([2]Paramètres!D65=\"\",\"\",[2]Paramètres!D65)","v":0.2},{"$f":"IF([2]Paramètres!E65=\"\",\"\",[2]Paramètres!E65)","v":4.93},{"$f":"IF([2]Paramètres!F65=\"\",\"\",[2]Paramètres!F65)","v":""},{"$f":"IF([2]Paramètres!G65=\"\",\"\",[2]Paramètres!G65)","v":""},{"$f":"IF([2]Paramètres!H65=\"\",\"\",[2]Paramètres!H65)","v":""},{"$f":"IF([2]Paramètres!I65=\"\",\"\",[2]Paramètres!I65)","v":""},{"$f":"IF([2]Paramètres!J65=\"\",\"\",[2]Paramètres!J65)","v":"Imperial Yeast - A09 Pub"},{"$f":"IF([2]Paramètres!K65=\"\",\"\",[2]Paramètres!K65)","v":"Liquide"},{"$f":"IF([2]Paramètres!L65=\"\",\"\",[2]Paramètres!L65)","v":0.69},{"$f":"IF([2]Paramètres!M65=\"\",\"\",[2]Paramètres!M65)","v":0.74},{"$f":"IF([2]Paramètres!N65=\"\",\"\",[2]Paramètres!N65)","v":0.71499999999999997},{"$f":"IF([2]Paramètres!O65=\"\",\"\",[2]Paramètres!O65)","v":17.8},{"$f":"IF([2]Paramètres!P65=\"\",\"\",[2]Paramètres!P65)","v":21.1},{"$f":"IF([2]Paramètres!Q65=\"\",\"\",[2]Paramètres!Q65)","v":"Très  Haute"},{"$f":"IF([2]Paramètres!R65=\"\",\"\",[2]Paramètres!R65)","v":""},{"$f":"IF([2]Paramètres!S65=\"\",\"\",[2]Paramètres!S65)","v":""},{"$f":"IF([2]Paramètres!T65=\"\",\"\",[2]Paramètres!T65)","v":""},{"$f":"IF([2]Paramètres!U65=\"\",\"\",[2]Paramètres!U65)","v":""},{"$f":"IF([2]Paramètres!V65=\"\",\"\",[2]Paramètres!V65)","v":""},{"$f":"IF([2]Paramètres!W65=\"\",\"\",[2]Paramètres!W65)","v":""},{"$f":"IF([2]Paramètres!X65=\"\",\"\",[2]Paramètres!X65)","v":""},{"$f":"IF([2]Paramètres!Y65=\"\",\"\",[2]Paramètres!Y65)","v":""},{"$f":"IF([2]Paramètres!Z65=\"\",\"\",[2]Paramètres!Z65)","v":""}]
[{"$f":"IF([2]Paramètres!A66=\"\",\"\",[2]Paramètres!A66)","v":"Froment Munich"},{"$f":"IF([2]Paramètres!B66=\"\",\"\",[2]Paramètres!B66)","v":0.75},{"$f":"IF([2]Paramètres!C66=\"\",\"\",[2]Paramètres!C66)","v":25},{"$f":"IF([2]Paramètres!D66=\"\",\"\",[2]Paramètres!D66)","v":0.3},{"$f":"IF([2]Paramètres!E66=\"\",\"\",[2]Paramètres!E66)","v":5.43},{"$f":"IF([2]Paramètres!F66=\"\",\"\",[2]Paramètres!F66)","v":""},{"$f":"IF([2]Paramètres!G66=\"\",\"\",[2]Paramètres!G66)","v":""},{"$f":"IF([2]Paramètres!H66=\"\",\"\",[2]Paramètres!H66)","v":""},{"$f":"IF([2]Paramètres!I66=\"\",\"\",[2]Paramètres!I66)","v":""},{"$f":"IF([2]Paramètres!J66=\"\",\"\",[2]Paramètres!J66)","v":"Imperial Yeast - A10 Darkness"},{"$f":"IF([2]Paramètres!K66=\"\",\"\",[2]Paramètres!K66)","v":"Liquide"},{"$f":"IF([2]Paramètres!L66=\"\",\"\",[2]Paramètres!L66)","v":0.71},{"$f":"IF([2]Paramètres!M66=\"\",\"\",[2]Paramètres!M66)","v":0.75},{"$f":"IF([2]Paramètres!N66=\"\",\"\",[2]Paramètres!N66)","v":0.73},{"$f":"IF([2]Paramètres!O66=\"\",\"\",[2]Paramètres!O66)","v":16.7},{"$f":"IF([2]Paramètres!P66=\"\",\"\",[2]Paramètres!P66)","v":22.2},{"$f":"IF([2]Paramètres!Q66=\"\",\"\",[2]Paramètres!Q66)","v":"Moyenne"},{"$f":"IF([2]Paramètres!R66=\"\",\"\",[2]Paramètres!R66)","v":""},{"$f":"IF([2]Paramètres!S66=\"\",\"\",[2]Paramètres!S66)","v":""},{"$f":"IF([2]Paramètres!T66=\"\",\"\",[2]Paramètres!T66)","v":""},{"$f":"IF([2]Paramètres!U66=\"\",\"\",[2]Paramètres!U66)","v":""},{"$f":"IF([2]Paramètres!V66=\"\",\"\",[2]Paramètres!V66)","v":""},{"$f":"IF([2]Paramètres!W66=\"\",\"\",[2]Paramètres!W66)","v":""},{"$f":"IF([2]Paramètres!X66=\"\",\"\",[2]Paramètres!X66)","v":""},{"$f":"IF([2]Paramètres!Y66=\"\",\"\",[2]Paramètres!Y66)","v":""},{"$f":"IF([2]Paramètres!Z66=\"\",\"\",[2]Paramètres!Z66)","v":""}]
[{"$f":"IF([2]Paramètres!A67=\"\",\"\",[2]Paramètres!A67)","v":"Froment Munich light"},{"$f":"IF([2]Paramètres!B67=\"\",\"\",[2]Paramètres!B67)","v":0.75},{"$f":"IF([2]Paramètres!C67=\"\",\"\",[2]Paramètres!C67)","v":15},{"$f":"IF([2]Paramètres!D67=\"\",\"\",[2]Paramètres!D67)","v":0.3},{"$f":"IF([2]Paramètres!E67=\"\",\"\",[2]Paramètres!E67)","v":5.19},{"$f":"IF([2]Paramètres!F67=\"\",\"\",[2]Paramètres!F67)","v":""},{"$f":"IF([2]Paramètres!G67=\"\",\"\",[2]Paramètres!G67)","v":""},{"$f":"IF([2]Paramètres!H67=\"\",\"\",[2]Paramètres!H67)","v":""},{"$f":"IF([2]Paramètres!I67=\"\",\"\",[2]Paramètres!I67)","v":""},{"$f":"IF([2]Paramètres!J67=\"\",\"\",[2]Paramètres!J67)","v":"Imperial Yeast - A15 Independence"},{"$f":"IF([2]Paramètres!K67=\"\",\"\",[2]Paramètres!K67)","v":"Liquide"},{"$f":"IF([2]Paramètres!L67=\"\",\"\",[2]Paramètres!L67)","v":0.72},{"$f":"IF([2]Paramètres!M67=\"\",\"\",[2]Paramètres!M67)","v":0.76},{"$f":"IF([2]Paramètres!N67=\"\",\"\",[2]Paramètres!N67)","v":0.74},{"$f":"IF([2]Paramètres!O67=\"\",\"\",[2]Paramètres!O67)","v":15.6},{"$f":"IF([2]Paramètres!P67=\"\",\"\",[2]Paramètres!P67)","v":22.2},{"$f":"IF([2]Paramètres!Q67=\"\",\"\",[2]Paramètres!Q67)","v":"Moyenne"},{"$f":"IF([2]Paramètres!R67=\"\",\"\",[2]Paramètres!R67)","v":""},{"$f":"IF([2]Paramètres!S67=\"\",\"\",[2]Paramètres!S67)","v":""},{"$f":"IF([2]Paramètres!T67=\"\",\"\",[2]Paramètres!T67)","v":""},{"$f":"IF([2]Paramètres!U67=\"\",\"\",[2]Paramètres!U67)","v":""},{"$f":"IF([2]Paramètres!V67=\"\",\"\",[2]Paramètres!V67)","v":""},{"$f":"IF([2]Paramètres!W67=\"\",\"\",[2]Paramètres!W67)","v":""},{"$f":"IF([2]Paramètres!X67=\"\",\"\",[2]Paramètres!X67)","v":""},{"$f":"IF([2]Paramètres!Y67=\"\",\"\",[2]Paramètres!Y67)","v":""},{"$f":"IF([2]Paramètres!Z67=\"\",\"\",[2]Paramètres!Z67)","v":""}]
[{"$f":"IF([2]Paramètres!A68=\"\",\"\",[2]Paramètres!A68)","v":"Maïs (flocons)"},{"$f":"IF([2]Paramètres!B68=\"\",\"\",[2]Paramètres!B68)","v":0.84},{"$f":"IF([2]Paramètres!C68=\"\",\"\",[2]Paramètres!C68)","v":5},{"$f":"IF([2]Paramètres!D68=\"\",\"\",[2]Paramètres!D68)","v":0.25},{"$f":"IF([2]Paramètres!E68=\"\",\"\",[2]Paramètres!E68)","v":5.7},{"$f":"IF([2]Paramètres!F68=\"\",\"\",[2]Paramètres!F68)","v":""},{"$f":"IF([2]Paramètres!G68=\"\",\"\",[2]Paramètres!G68)","v":""},{"$f":"IF([2]Paramètres!H68=\"\",\"\",[2]Paramètres!H68)","v":""},{"$f":"IF([2]Paramètres!I68=\"\",\"\",[2]Paramètres!I68)","v":""},{"$f":"IF([2]Paramètres!J68=\"\",\"\",[2]Paramètres!J68)","v":"Imperial Yeast - A18 Joystick"},{"$f":"IF([2]Paramètres!K68=\"\",\"\",[2]Paramètres!K68)","v":"Liquide"},{"$f":"IF([2]Paramètres!L68=\"\",\"\",[2]Paramètres!L68)","v":0.73},{"$f":"IF([2]Paramètres!M68=\"\",\"\",[2]Paramètres!M68)","v":0.77},{"$f":"IF([2]Paramètres!N68=\"\",\"\",[2]Paramètres!N68)","v":0.75},{"$f":"IF([2]Paramètres!O68=\"\",\"\",[2]Paramètres!O68)","v":15.6},{"$f":"IF([2]Paramètres!P68=\"\",\"\",[2]Paramètres!P68)","v":21.1},{"$f":"IF([2]Paramètres!Q68=\"\",\"\",[2]Paramètres!Q68)","v":"Moyenne - Haute"},{"$f":"IF([2]Paramètres!R68=\"\",\"\",[2]Paramètres!R68)","v":""},{"$f":"IF([2]Paramètres!S68=\"\",\"\",[2]Paramètres!S68)","v":""},{"$f":"IF([2]Paramètres!T68=\"\",\"\",[2]Paramètres!T68)","v":""},{"$f":"IF([2]Paramètres!U68=\"\",\"\",[2]Paramètres!U68)","v":""},{"$f":"IF([2]Paramètres!V68=\"\",\"\",[2]Paramètres!V68)","v":""},{"$f":"IF([2]Paramètres!W68=\"\",\"\",[2]Paramètres!W68)","v":""},{"$f":"IF([2]Paramètres!X68=\"\",\"\",[2]Paramètres!X68)","v":""},{"$f":"IF([2]Paramètres!Y68=\"\",\"\",[2]Paramètres!Y68)","v":""},{"$f":"IF([2]Paramètres!Z68=\"\",\"\",[2]Paramètres!Z68)","v":""}]
[{"$f":"IF([2]Paramètres!A69=\"\",\"\",[2]Paramètres!A69)","v":"Marris Otter"},{"$f":"IF([2]Paramètres!B69=\"\",\"\",[2]Paramètres!B69)","v":0.81},{"$f":"IF([2]Paramètres!C69=\"\",\"\",[2]Paramètres!C69)","v":5},{"$f":"IF([2]Paramètres!D69=\"\",\"\",[2]Paramètres!D69)","v":1},{"$f":"IF([2]Paramètres!E69=\"\",\"\",[2]Paramètres!E69)","v":5.77},{"$f":"IF([2]Paramètres!F69=\"\",\"\",[2]Paramètres!F69)","v":""},{"$f":"IF([2]Paramètres!G69=\"\",\"\",[2]Paramètres!G69)","v":""},{"$f":"IF([2]Paramètres!H69=\"\",\"\",[2]Paramètres!H69)","v":""},{"$f":"IF([2]Paramètres!I69=\"\",\"\",[2]Paramètres!I69)","v":""},{"$f":"IF([2]Paramètres!J69=\"\",\"\",[2]Paramètres!J69)","v":"Imperial Yeast - A20 Citrus"},{"$f":"IF([2]Paramètres!K69=\"\",\"\",[2]Paramètres!K69)","v":"Liquide"},{"$f":"IF([2]Paramètres!L69=\"\",\"\",[2]Paramètres!L69)","v":0.74},{"$f":"IF([2]Paramètres!M69=\"\",\"\",[2]Paramètres!M69)","v":0.78},{"$f":"IF([2]Paramètres!N69=\"\",\"\",[2]Paramètres!N69)","v":0.76},{"$f":"IF([2]Paramètres!O69=\"\",\"\",[2]Paramètres!O69)","v":19.399999999999999},{"$f":"IF([2]Paramètres!P69=\"\",\"\",[2]Paramètres!P69)","v":26.7},{"$f":"IF([2]Paramètres!Q69=\"\",\"\",[2]Paramètres!Q69)","v":"Basse"},{"$f":"IF([2]Paramètres!R69=\"\",\"\",[2]Paramètres!R69)","v":""},{"$f":"IF([2]Paramètres!S69=\"\",\"\",[2]Paramètres!S69)","v":""},{"$f":"IF([2]Paramètres!T69=\"\",\"\",[2]Paramètres!T69)","v":""},{"$f":"IF([2]Paramètres!U69=\"\",\"\",[2]Paramètres!U69)","v":""},{"$f":"IF([2]Paramètres!V69=\"\",\"\",[2]Paramètres!V69)","v":""},{"$f":"IF([2]Paramètres!W69=\"\",\"\",[2]Paramètres!W69)","v":""},{"$f":"IF([2]Paramètres!X69=\"\",\"\",[2]Paramètres!X69)","v":""},{"$f":"IF([2]Paramètres!Y69=\"\",\"\",[2]Paramètres!Y69)","v":""},{"$f":"IF([2]Paramètres!Z69=\"\",\"\",[2]Paramètres!Z69)","v":""}]
[{"$f":"IF([2]Paramètres!A70=\"\",\"\",[2]Paramètres!A70)","v":"Marris Otter (Muntons)"},{"$f":"IF([2]Paramètres!B70=\"\",\"\",[2]Paramètres!B70)","v":0.81},{"$f":"IF([2]Paramètres!C70=\"\",\"\",[2]Paramètres!C70)","v":6},{"$f":"IF([2]Paramètres!D70=\"\",\"\",[2]Paramètres!D70)","v":1},{"$f":"IF([2]Paramètres!E70=\"\",\"\",[2]Paramètres!E70)","v":5.77},{"$f":"IF([2]Paramètres!F70=\"\",\"\",[2]Paramètres!F70)","v":""},{"$f":"IF([2]Paramètres!G70=\"\",\"\",[2]Paramètres!G70)","v":""},{"$f":"IF([2]Paramètres!H70=\"\",\"\",[2]Paramètres!H70)","v":""},{"$f":"IF([2]Paramètres!I70=\"\",\"\",[2]Paramètres!I70)","v":""},{"$f":"IF([2]Paramètres!J70=\"\",\"\",[2]Paramètres!J70)","v":"Imperial Yeast - A24 Dry Hop"},{"$f":"IF([2]Paramètres!K70=\"\",\"\",[2]Paramètres!K70)","v":"Liquide"},{"$f":"IF([2]Paramètres!L70=\"\",\"\",[2]Paramètres!L70)","v":0.74},{"$f":"IF([2]Paramètres!M70=\"\",\"\",[2]Paramètres!M70)","v":0.78},{"$f":"IF([2]Paramètres!N70=\"\",\"\",[2]Paramètres!N70)","v":0.76},{"$f":"IF([2]Paramètres!O70=\"\",\"\",[2]Paramètres!O70)","v":17.8},{"$f":"IF([2]Paramètres!P70=\"\",\"\",[2]Paramètres!P70)","v":23.3},{"$f":"IF([2]Paramètres!Q70=\"\",\"\",[2]Paramètres!Q70)","v":"Moyenne"},{"$f":"IF([2]Paramètres!R70=\"\",\"\",[2]Paramètres!R70)","v":""},{"$f":"IF([2]Paramètres!S70=\"\",\"\",[2]Paramètres!S70)","v":""},{"$f":"IF([2]Paramètres!T70=\"\",\"\",[2]Paramètres!T70)","v":""},{"$f":"IF([2]Paramètres!U70=\"\",\"\",[2]Paramètres!U70)","v":""},{"$f":"IF([2]Paramètres!V70=\"\",\"\",[2]Paramètres!V70)","v":""},{"$f":"IF([2]Paramètres!W70=\"\",\"\",[2]Paramètres!W70)","v":""},{"$f":"IF([2]Paramètres!X70=\"\",\"\",[2]Paramètres!X70)","v":""},{"$f":"IF([2]Paramètres!Y70=\"\",\"\",[2]Paramètres!Y70)","v":""},{"$f":"IF([2]Paramètres!Z70=\"\",\"\",[2]Paramètres!Z70)","v":""}]
[{"$f":"IF([2]Paramètres!A71=\"\",\"\",[2]Paramètres!A71)","v":"Melano"},{"$f":"IF([2]Paramètres!B71=\"\",\"\",[2]Paramètres!B71)","v":0.7},{"$f":"IF([2]Paramètres!C71=\"\",\"\",[2]Paramètres!C71)","v":80},{"$f":"IF([2]Paramètres!D71=\"\",\"\",[2]Paramètres!D71)","v":0.3},{"$f":"IF([2]Paramètres!E71=\"\",\"\",[2]Paramètres!E71)","v":5.07},{"$f":"IF([2]Paramètres!F71=\"\",\"\",[2]Paramètres!F71)","v":""},{"$f":"IF([2]Paramètres!G71=\"\",\"\",[2]Paramètres!G71)","v":""},{"$f":"IF([2]Paramètres!H71=\"\",\"\",[2]Paramètres!H71)","v":""},{"$f":"IF([2]Paramètres!I71=\"\",\"\",[2]Paramètres!I71)","v":""},{"$f":"IF([2]Paramètres!J71=\"\",\"\",[2]Paramètres!J71)","v":"Imperial Yeast - A31 Tartan"},{"$f":"IF([2]Paramètres!K71=\"\",\"\",[2]Paramètres!K71)","v":"Liquide"},{"$f":"IF([2]Paramètres!L71=\"\",\"\",[2]Paramètres!L71)","v":0.7},{"$f":"IF([2]Paramètres!M71=\"\",\"\",[2]Paramètres!M71)","v":0.75},{"$f":"IF([2]Paramètres!N71=\"\",\"\",[2]Paramètres!N71)","v":0.72499999999999998},{"$f":"IF([2]Paramètres!O71=\"\",\"\",[2]Paramètres!O71)","v":18.3},{"$f":"IF([2]Paramètres!P71=\"\",\"\",[2]Paramètres!P71)","v":21.1},{"$f":"IF([2]Paramètres!Q71=\"\",\"\",[2]Paramètres!Q71)","v":"Moyenne"},{"$f":"IF([2]Paramètres!R71=\"\",\"\",[2]Paramètres!R71)","v":""},{"$f":"IF([2]Paramètres!S71=\"\",\"\",[2]Paramètres!S71)","v":""},{"$f":"IF([2]Paramètres!T71=\"\",\"\",[2]Paramètres!T71)","v":""},{"$f":"IF([2]Paramètres!U71=\"\",\"\",[2]Paramètres!U71)","v":""},{"$f":"IF([2]Paramètres!V71=\"\",\"\",[2]Paramètres!V71)","v":""},{"$f":"IF([2]Paramètres!W71=\"\",\"\",[2]Paramètres!W71)","v":""},{"$f":"IF([2]Paramètres!X71=\"\",\"\",[2]Paramètres!X71)","v":""},{"$f":"IF([2]Paramètres!Y71=\"\",\"\",[2]Paramètres!Y71)","v":""},{"$f":"IF([2]Paramètres!Z71=\"\",\"\",[2]Paramètres!Z71)","v":""}]
[{"$f":"IF([2]Paramètres!A72=\"\",\"\",[2]Paramètres!A72)","v":"Melano light"},{"$f":"IF([2]Paramètres!B72=\"\",\"\",[2]Paramètres!B72)","v":0.7},{"$f":"IF([2]Paramètres!C72=\"\",\"\",[2]Paramètres!C72)","v":40},{"$f":"IF([2]Paramètres!D72=\"\",\"\",[2]Paramètres!D72)","v":0.3},{"$f":"IF([2]Paramètres!E72=\"\",\"\",[2]Paramètres!E72)","v":5.14},{"$f":"IF([2]Paramètres!F72=\"\",\"\",[2]Paramètres!F72)","v":""},{"$f":"IF([2]Paramètres!G72=\"\",\"\",[2]Paramètres!G72)","v":""},{"$f":"IF([2]Paramètres!H72=\"\",\"\",[2]Paramètres!H72)","v":""},{"$f":"IF([2]Paramètres!I72=\"\",\"\",[2]Paramètres!I72)","v":""},{"$f":"IF([2]Paramètres!J72=\"\",\"\",[2]Paramètres!J72)","v":"Imperial Yeast - A38 Juice"},{"$f":"IF([2]Paramètres!K72=\"\",\"\",[2]Paramètres!K72)","v":"Liquide"},{"$f":"IF([2]Paramètres!L72=\"\",\"\",[2]Paramètres!L72)","v":0.72},{"$f":"IF([2]Paramètres!M72=\"\",\"\",[2]Paramètres!M72)","v":0.76},{"$f":"IF([2]Paramètres!N72=\"\",\"\",[2]Paramètres!N72)","v":0.74},{"$f":"IF([2]Paramètres!O72=\"\",\"\",[2]Paramètres!O72)","v":17.8},{"$f":"IF([2]Paramètres!P72=\"\",\"\",[2]Paramètres!P72)","v":23.3},{"$f":"IF([2]Paramètres!Q72=\"\",\"\",[2]Paramètres!Q72)","v":"Moyenne"},{"$f":"IF([2]Paramètres!R72=\"\",\"\",[2]Paramètres!R72)","v":""},{"$f":"IF([2]Paramètres!S72=\"\",\"\",[2]Paramètres!S72)","v":""},{"$f":"IF([2]Paramètres!T72=\"\",\"\",[2]Paramètres!T72)","v":""},{"$f":"IF([2]Paramètres!U72=\"\",\"\",[2]Paramètres!U72)","v":""},{"$f":"IF([2]Paramètres!V72=\"\",\"\",[2]Paramètres!V72)","v":""},{"$f":"IF([2]Paramètres!W72=\"\",\"\",[2]Paramètres!W72)","v":""},{"$f":"IF([2]Paramètres!X72=\"\",\"\",[2]Paramètres!X72)","v":""},{"$f":"IF([2]Paramètres!Y72=\"\",\"\",[2]Paramètres!Y72)","v":""},{"$f":"IF([2]Paramètres!Z72=\"\",\"\",[2]Paramètres!Z72)","v":""}]
[{"$f":"IF([2]Paramètres!A73=\"\",\"\",[2]Paramètres!A73)","v":"Munich light"},{"$f":"IF([2]Paramètres!B73=\"\",\"\",[2]Paramètres!B73)","v":0.75},{"$f":"IF([2]Paramètres!C73=\"\",\"\",[2]Paramètres!C73)","v":15},{"$f":"IF([2]Paramètres!D73=\"\",\"\",[2]Paramètres!D73)","v":0.6},{"$f":"IF([2]Paramètres!E73=\"\",\"\",[2]Paramètres!E73)","v":5.43},{"$f":"IF([2]Paramètres!F73=\"\",\"\",[2]Paramètres!F73)","v":""},{"$f":"IF([2]Paramètres!G73=\"\",\"\",[2]Paramètres!G73)","v":""},{"$f":"IF([2]Paramètres!H73=\"\",\"\",[2]Paramètres!H73)","v":""},{"$f":"IF([2]Paramètres!I73=\"\",\"\",[2]Paramètres!I73)","v":""},{"$f":"IF([2]Paramètres!J73=\"\",\"\",[2]Paramètres!J73)","v":"Imperial Yeast - A43 Loki"},{"$f":"IF([2]Paramètres!K73=\"\",\"\",[2]Paramètres!K73)","v":"Liquide"},{"$f":"IF([2]Paramètres!L73=\"\",\"\",[2]Paramètres!L73)","v":0.75},{"$f":"IF([2]Paramètres!M73=\"\",\"\",[2]Paramètres!M73)","v":0.85},{"$f":"IF([2]Paramètres!N73=\"\",\"\",[2]Paramètres!N73)","v":0.8},{"$f":"IF([2]Paramètres!O73=\"\",\"\",[2]Paramètres!O73)","v":18.3},{"$f":"IF([2]Paramètres!P73=\"\",\"\",[2]Paramètres!P73)","v":37.799999999999997},{"$f":"IF([2]Paramètres!Q73=\"\",\"\",[2]Paramètres!Q73)","v":"Moyenne - Haute"},{"$f":"IF([2]Paramètres!R73=\"\",\"\",[2]Paramètres!R73)","v":""},{"$f":"IF([2]Paramètres!S73=\"\",\"\",[2]Paramètres!S73)","v":""},{"$f":"IF([2]Paramètres!T73=\"\",\"\",[2]Paramètres!T73)","v":""},{"$f":"IF([2]Paramètres!U73=\"\",\"\",[2]Paramètres!U73)","v":""},{"$f":"IF([2]Paramètres!V73=\"\",\"\",[2]Paramètres!V73)","v":""},{"$f":"IF([2]Paramètres!W73=\"\",\"\",[2]Paramètres!W73)","v":""},{"$f":"IF([2]Paramètres!X73=\"\",\"\",[2]Paramètres!X73)","v":""},{"$f":"IF([2]Paramètres!Y73=\"\",\"\",[2]Paramètres!Y73)","v":""},{"$f":"IF([2]Paramètres!Z73=\"\",\"\",[2]Paramètres!Z73)","v":""}]
[{"$f":"IF([2]Paramètres!A74=\"\",\"\",[2]Paramètres!A74)","v":"Munich light Swaen"},{"$f":"IF([2]Paramètres!B74=\"\",\"\",[2]Paramètres!B74)","v":0.75},{"$f":"IF([2]Paramètres!C74=\"\",\"\",[2]Paramètres!C74)","v":13},{"$f":"IF([2]Paramètres!D74=\"\",\"\",[2]Paramètres!D74)","v":0.6},{"$f":"IF([2]Paramètres!E74=\"\",\"\",[2]Paramètres!E74)","v":5.43},{"$f":"IF([2]Paramètres!F74=\"\",\"\",[2]Paramètres!F74)","v":""},{"$f":"IF([2]Paramètres!G74=\"\",\"\",[2]Paramètres!G74)","v":""},{"$f":"IF([2]Paramètres!H74=\"\",\"\",[2]Paramètres!H74)","v":""},{"$f":"IF([2]Paramètres!I74=\"\",\"\",[2]Paramètres!I74)","v":""},{"$f":"IF([2]Paramètres!J74=\"\",\"\",[2]Paramètres!J74)","v":"Imperial Yeast - B44 Whiteout"},{"$f":"IF([2]Paramètres!K74=\"\",\"\",[2]Paramètres!K74)","v":"Liquide"},{"$f":"IF([2]Paramètres!L74=\"\",\"\",[2]Paramètres!L74)","v":0.72},{"$f":"IF([2]Paramètres!M74=\"\",\"\",[2]Paramètres!M74)","v":0.76},{"$f":"IF([2]Paramètres!N74=\"\",\"\",[2]Paramètres!N74)","v":0.74},{"$f":"IF([2]Paramètres!O74=\"\",\"\",[2]Paramètres!O74)","v":16.7},{"$f":"IF([2]Paramètres!P74=\"\",\"\",[2]Paramètres!P74)","v":22.2},{"$f":"IF([2]Paramètres!Q74=\"\",\"\",[2]Paramètres!Q74)","v":"Basse - Moyenne"},{"$f":"IF([2]Paramètres!R74=\"\",\"\",[2]Paramètres!R74)","v":""},{"$f":"IF([2]Paramètres!S74=\"\",\"\",[2]Paramètres!S74)","v":""},{"$f":"IF([2]Paramètres!T74=\"\",\"\",[2]Paramètres!T74)","v":""},{"$f":"IF([2]Paramètres!U74=\"\",\"\",[2]Paramètres!U74)","v":""},{"$f":"IF([2]Paramètres!V74=\"\",\"\",[2]Paramètres!V74)","v":""},{"$f":"IF([2]Paramètres!W74=\"\",\"\",[2]Paramètres!W74)","v":""},{"$f":"IF([2]Paramètres!X74=\"\",\"\",[2]Paramètres!X74)","v":""},{"$f":"IF([2]Paramètres!Y74=\"\",\"\",[2]Paramètres!Y74)","v":""},{"$f":"IF([2]Paramètres!Z74=\"\",\"\",[2]Paramètres!Z74)","v":""}]
[{"$f":"IF([2]Paramètres!A75=\"\",\"\",[2]Paramètres!A75)","v":"Munich Malt"},{"$f":"IF([2]Paramètres!B75=\"\",\"\",[2]Paramètres!B75)","v":0.75},{"$f":"IF([2]Paramètres!C75=\"\",\"\",[2]Paramètres!C75)","v":25},{"$f":"IF([2]Paramètres!D75=\"\",\"\",[2]Paramètres!D75)","v":0.6},{"$f":"IF([2]Paramètres!E75=\"\",\"\",[2]Paramètres!E75)","v":5.43},{"$f":"IF([2]Paramètres!F75=\"\",\"\",[2]Paramètres!F75)","v":""},{"$f":"IF([2]Paramètres!G75=\"\",\"\",[2]Paramètres!G75)","v":""},{"$f":"IF([2]Paramètres!H75=\"\",\"\",[2]Paramètres!H75)","v":""},{"$f":"IF([2]Paramètres!I75=\"\",\"\",[2]Paramètres!I75)","v":""},{"$f":"IF([2]Paramètres!J75=\"\",\"\",[2]Paramètres!J75)","v":"Imperial Yeast - B45 Gnome"},{"$f":"IF([2]Paramètres!K75=\"\",\"\",[2]Paramètres!K75)","v":"Liquide"},{"$f":"IF([2]Paramètres!L75=\"\",\"\",[2]Paramètres!L75)","v":0.72},{"$f":"IF([2]Paramètres!M75=\"\",\"\",[2]Paramètres!M75)","v":0.76},{"$f":"IF([2]Paramètres!N75=\"\",\"\",[2]Paramètres!N75)","v":0.74},{"$f":"IF([2]Paramètres!O75=\"\",\"\",[2]Paramètres!O75)","v":18.3},{"$f":"IF([2]Paramètres!P75=\"\",\"\",[2]Paramètres!P75)","v":23.9},{"$f":"IF([2]Paramètres!Q75=\"\",\"\",[2]Paramètres!Q75)","v":"Moyenne - Haute"},{"$f":"IF([2]Paramètres!R75=\"\",\"\",[2]Paramètres!R75)","v":""},{"$f":"IF([2]Paramètres!S75=\"\",\"\",[2]Paramètres!S75)","v":""},{"$f":"IF([2]Paramètres!T75=\"\",\"\",[2]Paramètres!T75)","v":""},{"$f":"IF([2]Paramètres!U75=\"\",\"\",[2]Paramètres!U75)","v":""},{"$f":"IF([2]Paramètres!V75=\"\",\"\",[2]Paramètres!V75)","v":""},{"$f":"IF([2]Paramètres!W75=\"\",\"\",[2]Paramètres!W75)","v":""},{"$f":"IF([2]Paramètres!X75=\"\",\"\",[2]Paramètres!X75)","v":""},{"$f":"IF([2]Paramètres!Y75=\"\",\"\",[2]Paramètres!Y75)","v":""},{"$f":"IF([2]Paramètres!Z75=\"\",\"\",[2]Paramètres!Z75)","v":""}]
[{"$f":"IF([2]Paramètres!A76=\"\",\"\",[2]Paramètres!A76)","v":"Orge (flocons)"},{"$f":"IF([2]Paramètres!B76=\"\",\"\",[2]Paramètres!B76)","v":0.7},{"$f":"IF([2]Paramètres!C76=\"\",\"\",[2]Paramètres!C76)","v":5},{"$f":"IF([2]Paramètres!D76=\"\",\"\",[2]Paramètres!D76)","v":0.25},{"$f":"IF([2]Paramètres!E76=\"\",\"\",[2]Paramètres!E76)","v":5.7},{"$f":"IF([2]Paramètres!F76=\"\",\"\",[2]Paramètres!F76)","v":""},{"$f":"IF([2]Paramètres!G76=\"\",\"\",[2]Paramètres!G76)","v":""},{"$f":"IF([2]Paramètres!H76=\"\",\"\",[2]Paramètres!H76)","v":""},{"$f":"IF([2]Paramètres!I76=\"\",\"\",[2]Paramètres!I76)","v":""},{"$f":"IF([2]Paramètres!J76=\"\",\"\",[2]Paramètres!J76)","v":"Imperial Yeast - B48 Triple Double"},{"$f":"IF([2]Paramètres!K76=\"\",\"\",[2]Paramètres!K76)","v":"Liquide"},{"$f":"IF([2]Paramètres!L76=\"\",\"\",[2]Paramètres!L76)","v":0.74},{"$f":"IF([2]Paramètres!M76=\"\",\"\",[2]Paramètres!M76)","v":0.78},{"$f":"IF([2]Paramètres!N76=\"\",\"\",[2]Paramètres!N76)","v":0.76},{"$f":"IF([2]Paramètres!O76=\"\",\"\",[2]Paramètres!O76)","v":18.3},{"$f":"IF([2]Paramètres!P76=\"\",\"\",[2]Paramètres!P76)","v":25},{"$f":"IF([2]Paramètres!Q76=\"\",\"\",[2]Paramètres!Q76)","v":"Moyenne"},{"$f":"IF([2]Paramètres!R76=\"\",\"\",[2]Paramètres!R76)","v":""},{"$f":"IF([2]Paramètres!S76=\"\",\"\",[2]Paramètres!S76)","v":""},{"$f":"IF([2]Paramètres!T76=\"\",\"\",[2]Paramètres!T76)","v":""},{"$f":"IF([2]Paramètres!U76=\"\",\"\",[2]Paramètres!U76)","v":""},{"$f":"IF([2]Paramètres!V76=\"\",\"\",[2]Paramètres!V76)","v":""},{"$f":"IF([2]Paramètres!W76=\"\",\"\",[2]Paramètres!W76)","v":""},{"$f":"IF([2]Paramètres!X76=\"\",\"\",[2]Paramètres!X76)","v":""},{"$f":"IF([2]Paramètres!Y76=\"\",\"\",[2]Paramètres!Y76)","v":""},{"$f":"IF([2]Paramètres!Z76=\"\",\"\",[2]Paramètres!Z76)","v":""}]
[{"$f":"IF([2]Paramètres!A77=\"\",\"\",[2]Paramètres!A77)","v":"Pale ale 2 rangs"},{"$f":"IF([2]Paramètres!B77=\"\",\"\",[2]Paramètres!B77)","v":0.81},{"$f":"IF([2]Paramètres!C77=\"\",\"\",[2]Paramètres!C77)","v":8},{"$f":"IF([2]Paramètres!D77=\"\",\"\",[2]Paramètres!D77)","v":0.8},{"$f":"IF([2]Paramètres!E77=\"\",\"\",[2]Paramètres!E77)","v":5.7},{"$f":"IF([2]Paramètres!F77=\"\",\"\",[2]Paramètres!F77)","v":""},{"$f":"IF([2]Paramètres!G77=\"\",\"\",[2]Paramètres!G77)","v":""},{"$f":"IF([2]Paramètres!H77=\"\",\"\",[2]Paramètres!H77)","v":""},{"$f":"IF([2]Paramètres!I77=\"\",\"\",[2]Paramètres!I77)","v":""},{"$f":"IF([2]Paramètres!J77=\"\",\"\",[2]Paramètres!J77)","v":"Imperial Yeast - B51 Workhorse"},{"$f":"IF([2]Paramètres!K77=\"\",\"\",[2]Paramètres!K77)","v":"Liquide"},{"$f":"IF([2]Paramètres!L77=\"\",\"\",[2]Paramètres!L77)","v":0.72},{"$f":"IF([2]Paramètres!M77=\"\",\"\",[2]Paramètres!M77)","v":0.77},{"$f":"IF([2]Paramètres!N77=\"\",\"\",[2]Paramètres!N77)","v":0.745},{"$f":"IF([2]Paramètres!O77=\"\",\"\",[2]Paramètres!O77)","v":18.3},{"$f":"IF([2]Paramètres!P77=\"\",\"\",[2]Paramètres!P77)","v":23.9},{"$f":"IF([2]Paramètres!Q77=\"\",\"\",[2]Paramètres!Q77)","v":"Moyenne"},{"$f":"IF([2]Paramètres!R77=\"\",\"\",[2]Paramètres!R77)","v":""},{"$f":"IF([2]Paramètres!S77=\"\",\"\",[2]Paramètres!S77)","v":""},{"$f":"IF([2]Paramètres!T77=\"\",\"\",[2]Paramètres!T77)","v":""},{"$f":"IF([2]Paramètres!U77=\"\",\"\",[2]Paramètres!U77)","v":""},{"$f":"IF([2]Paramètres!V77=\"\",\"\",[2]Paramètres!V77)","v":""},{"$f":"IF([2]Paramètres!W77=\"\",\"\",[2]Paramètres!W77)","v":""},{"$f":"IF([2]Paramètres!X77=\"\",\"\",[2]Paramètres!X77)","v":""},{"$f":"IF([2]Paramètres!Y77=\"\",\"\",[2]Paramètres!Y77)","v":""},{"$f":"IF([2]Paramètres!Z77=\"\",\"\",[2]Paramètres!Z77)","v":""}]
[{"$f":"IF([2]Paramètres!A78=\"\",\"\",[2]Paramètres!A78)","v":"Pale ale Château"},{"$f":"IF([2]Paramètres!B78=\"\",\"\",[2]Paramètres!B78)","v":0.81},{"$f":"IF([2]Paramètres!C78=\"\",\"\",[2]Paramètres!C78)","v":8.5},{"$f":"IF([2]Paramètres!D78=\"\",\"\",[2]Paramètres!D78)","v":1},{"$f":"IF([2]Paramètres!E78=\"\",\"\",[2]Paramètres!E78)","v":5.7},{"$f":"IF([2]Paramètres!F78=\"\",\"\",[2]Paramètres!F78)","v":""},{"$f":"IF([2]Paramètres!G78=\"\",\"\",[2]Paramètres!G78)","v":""},{"$f":"IF([2]Paramètres!H78=\"\",\"\",[2]Paramètres!H78)","v":""},{"$f":"IF([2]Paramètres!I78=\"\",\"\",[2]Paramètres!I78)","v":""},{"$f":"IF([2]Paramètres!J78=\"\",\"\",[2]Paramètres!J78)","v":"Imperial Yeast - B56 Rustic"},{"$f":"IF([2]Paramètres!K78=\"\",\"\",[2]Paramètres!K78)","v":"Liquide"},{"$f":"IF([2]Paramètres!L78=\"\",\"\",[2]Paramètres!L78)","v":0.72},{"$f":"IF([2]Paramètres!M78=\"\",\"\",[2]Paramètres!M78)","v":0.76},{"$f":"IF([2]Paramètres!N78=\"\",\"\",[2]Paramètres!N78)","v":0.74},{"$f":"IF([2]Paramètres!O78=\"\",\"\",[2]Paramètres!O78)","v":20},{"$f":"IF([2]Paramètres!P78=\"\",\"\",[2]Paramètres!P78)","v":26.7},{"$f":"IF([2]Paramètres!Q78=\"\",\"\",[2]Paramètres!Q78)","v":"Moyenne"},{"$f":"IF([2]Paramètres!R78=\"\",\"\",[2]Paramètres!R78)","v":""},{"$f":"IF([2]Paramètres!S78=\"\",\"\",[2]Paramètres!S78)","v":""},{"$f":"IF([2]Paramètres!T78=\"\",\"\",[2]Paramètres!T78)","v":""},{"$f":"IF([2]Paramètres!U78=\"\",\"\",[2]Paramètres!U78)","v":""},{"$f":"IF([2]Paramètres!V78=\"\",\"\",[2]Paramètres!V78)","v":""},{"$f":"IF([2]Paramètres!W78=\"\",\"\",[2]Paramètres!W78)","v":""},{"$f":"IF([2]Paramètres!X78=\"\",\"\",[2]Paramètres!X78)","v":""},{"$f":"IF([2]Paramètres!Y78=\"\",\"\",[2]Paramètres!Y78)","v":""},{"$f":"IF([2]Paramètres!Z78=\"\",\"\",[2]Paramètres!Z78)","v":""}]
[{"$f":"IF([2]Paramètres!A79=\"\",\"\",[2]Paramètres!A79)","v":"Pale ale Swaen"},{"$f":"IF([2]Paramètres!B79=\"\",\"\",[2]Paramètres!B79)","v":0.8},{"$f":"IF([2]Paramètres!C79=\"\",\"\",[2]Paramètres!C79)","v":7.1},{"$f":"IF([2]Paramètres!D79=\"\",\"\",[2]Paramètres!D79)","v":1},{"$f":"IF([2]Paramètres!E79=\"\",\"\",[2]Paramètres!E79)","v":5.7},{"$f":"IF([2]Paramètres!F79=\"\",\"\",[2]Paramètres!F79)","v":""},{"$f":"IF([2]Paramètres!G79=\"\",\"\",[2]Paramètres!G79)","v":""},{"$f":"IF([2]Paramètres!H79=\"\",\"\",[2]Paramètres!H79)","v":""},{"$f":"IF([2]Paramètres!I79=\"\",\"\",[2]Paramètres!I79)","v":""},{"$f":"IF([2]Paramètres!J79=\"\",\"\",[2]Paramètres!J79)","v":"Imperial Yeast - B63 Monastic"},{"$f":"IF([2]Paramètres!K79=\"\",\"\",[2]Paramètres!K79)","v":"Liquide"},{"$f":"IF([2]Paramètres!L79=\"\",\"\",[2]Paramètres!L79)","v":0.74},{"$f":"IF([2]Paramètres!M79=\"\",\"\",[2]Paramètres!M79)","v":0.78},{"$f":"IF([2]Paramètres!N79=\"\",\"\",[2]Paramètres!N79)","v":0.76},{"$f":"IF([2]Paramètres!O79=\"\",\"\",[2]Paramètres!O79)","v":20},{"$f":"IF([2]Paramètres!P79=\"\",\"\",[2]Paramètres!P79)","v":25.6},{"$f":"IF([2]Paramètres!Q79=\"\",\"\",[2]Paramètres!Q79)","v":"Basse - Moyenne"},{"$f":"IF([2]Paramètres!R79=\"\",\"\",[2]Paramètres!R79)","v":""},{"$f":"IF([2]Paramètres!S79=\"\",\"\",[2]Paramètres!S79)","v":""},{"$f":"IF([2]Paramètres!T79=\"\",\"\",[2]Paramètres!T79)","v":""},{"$f":"IF([2]Paramètres!U79=\"\",\"\",[2]Paramètres!U79)","v":""},{"$f":"IF([2]Paramètres!V79=\"\",\"\",[2]Paramètres!V79)","v":""},{"$f":"IF([2]Paramètres!W79=\"\",\"\",[2]Paramètres!W79)","v":""},{"$f":"IF([2]Paramètres!X79=\"\",\"\",[2]Paramètres!X79)","v":""},{"$f":"IF([2]Paramètres!Y79=\"\",\"\",[2]Paramètres!Y79)","v":""},{"$f":"IF([2]Paramètres!Z79=\"\",\"\",[2]Paramètres!Z79)","v":""}]
[{"$f":"IF([2]Paramètres!A80=\"\",\"\",[2]Paramètres!A80)","v":"Pilsen 2 rangs"},{"$f":"IF([2]Paramètres!B80=\"\",\"\",[2]Paramètres!B80)","v":0.8},{"$f":"IF([2]Paramètres!C80=\"\",\"\",[2]Paramètres!C80)","v":3},{"$f":"IF([2]Paramètres!D80=\"\",\"\",[2]Paramètres!D80)","v":1},{"$f":"IF([2]Paramètres!E80=\"\",\"\",[2]Paramètres!E80)","v":5.7},{"$f":"IF([2]Paramètres!F80=\"\",\"\",[2]Paramètres!F80)","v":""},{"$f":"IF([2]Paramètres!G80=\"\",\"\",[2]Paramètres!G80)","v":""},{"$f":"IF([2]Paramètres!H80=\"\",\"\",[2]Paramètres!H80)","v":""},{"$f":"IF([2]Paramètres!I80=\"\",\"\",[2]Paramètres!I80)","v":""},{"$f":"IF([2]Paramètres!J80=\"\",\"\",[2]Paramètres!J80)","v":"Imperial Yeast - B64 Napoleon"},{"$f":"IF([2]Paramètres!K80=\"\",\"\",[2]Paramètres!K80)","v":"Liquide"},{"$f":"IF([2]Paramètres!L80=\"\",\"\",[2]Paramètres!L80)","v":0.77},{"$f":"IF([2]Paramètres!M80=\"\",\"\",[2]Paramètres!M80)","v":0.83},{"$f":"IF([2]Paramètres!N80=\"\",\"\",[2]Paramètres!N80)","v":0.8},{"$f":"IF([2]Paramètres!O80=\"\",\"\",[2]Paramètres!O80)","v":18.3},{"$f":"IF([2]Paramètres!P80=\"\",\"\",[2]Paramètres!P80)","v":25.6},{"$f":"IF([2]Paramètres!Q80=\"\",\"\",[2]Paramètres!Q80)","v":"Basse"},{"$f":"IF([2]Paramètres!R80=\"\",\"\",[2]Paramètres!R80)","v":""},{"$f":"IF([2]Paramètres!S80=\"\",\"\",[2]Paramètres!S80)","v":""},{"$f":"IF([2]Paramètres!T80=\"\",\"\",[2]Paramètres!T80)","v":""},{"$f":"IF([2]Paramètres!U80=\"\",\"\",[2]Paramètres!U80)","v":""},{"$f":"IF([2]Paramètres!V80=\"\",\"\",[2]Paramètres!V80)","v":""},{"$f":"IF([2]Paramètres!W80=\"\",\"\",[2]Paramètres!W80)","v":""},{"$f":"IF([2]Paramètres!X80=\"\",\"\",[2]Paramètres!X80)","v":""},{"$f":"IF([2]Paramètres!Y80=\"\",\"\",[2]Paramètres!Y80)","v":""},{"$f":"IF([2]Paramètres!Z80=\"\",\"\",[2]Paramètres!Z80)","v":""}]
[{"$f":"IF([2]Paramètres!A81=\"\",\"\",[2]Paramètres!A81)","v":"Pilsen 6 rangs"},{"$f":"IF([2]Paramètres!B81=\"\",\"\",[2]Paramètres!B81)","v":0.76},{"$f":"IF([2]Paramètres!C81=\"\",\"\",[2]Paramètres!C81)","v":3},{"$f":"IF([2]Paramètres!D81=\"\",\"\",[2]Paramètres!D81)","v":1},{"$f":"IF([2]Paramètres!E81=\"\",\"\",[2]Paramètres!E81)","v":5.79},{"$f":"IF([2]Paramètres!F81=\"\",\"\",[2]Paramètres!F81)","v":""},{"$f":"IF([2]Paramètres!G81=\"\",\"\",[2]Paramètres!G81)","v":""},{"$f":"IF([2]Paramètres!H81=\"\",\"\",[2]Paramètres!H81)","v":""},{"$f":"IF([2]Paramètres!I81=\"\",\"\",[2]Paramètres!I81)","v":""},{"$f":"IF([2]Paramètres!J81=\"\",\"\",[2]Paramètres!J81)","v":"Imperial Yeast - F08 Sour Batch Kidz"},{"$f":"IF([2]Paramètres!K81=\"\",\"\",[2]Paramètres!K81)","v":"Liquide"},{"$f":"IF([2]Paramètres!L81=\"\",\"\",[2]Paramètres!L81)","v":0},{"$f":"IF([2]Paramètres!M81=\"\",\"\",[2]Paramètres!M81)","v":0},{"$f":"IF([2]Paramètres!N81=\"\",\"\",[2]Paramètres!N81)","v":0},{"$f":"IF([2]Paramètres!O81=\"\",\"\",[2]Paramètres!O81)","v":20},{"$f":"IF([2]Paramètres!P81=\"\",\"\",[2]Paramètres!P81)","v":24.4},{"$f":"IF([2]Paramètres!Q81=\"\",\"\",[2]Paramètres!Q81)","v":"Basse"},{"$f":"IF([2]Paramètres!R81=\"\",\"\",[2]Paramètres!R81)","v":""},{"$f":"IF([2]Paramètres!S81=\"\",\"\",[2]Paramètres!S81)","v":""},{"$f":"IF([2]Paramètres!T81=\"\",\"\",[2]Paramètres!T81)","v":""},{"$f":"IF([2]Paramètres!U81=\"\",\"\",[2]Paramètres!U81)","v":""},{"$f":"IF([2]Paramètres!V81=\"\",\"\",[2]Paramètres!V81)","v":""},{"$f":"IF([2]Paramètres!W81=\"\",\"\",[2]Paramètres!W81)","v":""},{"$f":"IF([2]Paramètres!X81=\"\",\"\",[2]Paramètres!X81)","v":""},{"$f":"IF([2]Paramètres!Y81=\"\",\"\",[2]Paramètres!Y81)","v":""},{"$f":"IF([2]Paramètres!Z81=\"\",\"\",[2]Paramètres!Z81)","v":""}]
[{"$f":"IF([2]Paramètres!A82=\"\",\"\",[2]Paramètres!A82)","v":"Pilsen Swaen"},{"$f":"IF([2]Paramètres!B82=\"\",\"\",[2]Paramètres!B82)","v":0.8},{"$f":"IF([2]Paramètres!C82=\"\",\"\",[2]Paramètres!C82)","v":3.7},{"$f":"IF([2]Paramètres!D82=\"\",\"\",[2]Paramètres!D82)","v":1},{"$f":"IF([2]Paramètres!E82=\"\",\"\",[2]Paramètres!E82)","v":5.7},{"$f":"IF([2]Paramètres!F82=\"\",\"\",[2]Paramètres!F82)","v":""},{"$f":"IF([2]Paramètres!G82=\"\",\"\",[2]Paramètres!G82)","v":""},{"$f":"IF([2]Paramètres!H82=\"\",\"\",[2]Paramètres!H82)","v":""},{"$f":"IF([2]Paramètres!I82=\"\",\"\",[2]Paramètres!I82)","v":""},{"$f":"IF([2]Paramètres!J82=\"\",\"\",[2]Paramètres!J82)","v":"Imperial Yeast - G01 Stefon"},{"$f":"IF([2]Paramètres!K82=\"\",\"\",[2]Paramètres!K82)","v":"Liquide"},{"$f":"IF([2]Paramètres!L82=\"\",\"\",[2]Paramètres!L82)","v":0.73},{"$f":"IF([2]Paramètres!M82=\"\",\"\",[2]Paramètres!M82)","v":0.77},{"$f":"IF([2]Paramètres!N82=\"\",\"\",[2]Paramètres!N82)","v":0.75},{"$f":"IF([2]Paramètres!O82=\"\",\"\",[2]Paramètres!O82)","v":17.2},{"$f":"IF([2]Paramètres!P82=\"\",\"\",[2]Paramètres!P82)","v":22.8},{"$f":"IF([2]Paramètres!Q82=\"\",\"\",[2]Paramètres!Q82)","v":"Basse"},{"$f":"IF([2]Paramètres!R82=\"\",\"\",[2]Paramètres!R82)","v":""},{"$f":"IF([2]Paramètres!S82=\"\",\"\",[2]Paramètres!S82)","v":""},{"$f":"IF([2]Paramètres!T82=\"\",\"\",[2]Paramètres!T82)","v":""},{"$f":"IF([2]Paramètres!U82=\"\",\"\",[2]Paramètres!U82)","v":""},{"$f":"IF([2]Paramètres!V82=\"\",\"\",[2]Paramètres!V82)","v":""},{"$f":"IF([2]Paramètres!W82=\"\",\"\",[2]Paramètres!W82)","v":""},{"$f":"IF([2]Paramètres!X82=\"\",\"\",[2]Paramètres!X82)","v":""},{"$f":"IF([2]Paramètres!Y82=\"\",\"\",[2]Paramètres!Y82)","v":""},{"$f":"IF([2]Paramètres!Z82=\"\",\"\",[2]Paramètres!Z82)","v":""}]
[{"$f":"IF([2]Paramètres!A83=\"\",\"\",[2]Paramètres!A83)","v":"Pilsen vieux silo"},{"$f":"IF([2]Paramètres!B83=\"\",\"\",[2]Paramètres!B83)","v":0.72},{"$f":"IF([2]Paramètres!C83=\"\",\"\",[2]Paramètres!C83)","v":3},{"$f":"IF([2]Paramètres!D83=\"\",\"\",[2]Paramètres!D83)","v":1},{"$f":"IF([2]Paramètres!E83=\"\",\"\",[2]Paramètres!E83)","v":5.79},{"$f":"IF([2]Paramètres!F83=\"\",\"\",[2]Paramètres!F83)","v":""},{"$f":"IF([2]Paramètres!G83=\"\",\"\",[2]Paramètres!G83)","v":""},{"$f":"IF([2]Paramètres!H83=\"\",\"\",[2]Paramètres!H83)","v":""},{"$f":"IF([2]Paramètres!I83=\"\",\"\",[2]Paramètres!I83)","v":""},{"$f":"IF([2]Paramètres!J83=\"\",\"\",[2]Paramètres!J83)","v":"Imperial Yeast - G02 Kaiser"},{"$f":"IF([2]Paramètres!K83=\"\",\"\",[2]Paramètres!K83)","v":"Liquide"},{"$f":"IF([2]Paramètres!L83=\"\",\"\",[2]Paramètres!L83)","v":0.73},{"$f":"IF([2]Paramètres!M83=\"\",\"\",[2]Paramètres!M83)","v":0.77},{"$f":"IF([2]Paramètres!N83=\"\",\"\",[2]Paramètres!N83)","v":0.75},{"$f":"IF([2]Paramètres!O83=\"\",\"\",[2]Paramètres!O83)","v":13.3},{"$f":"IF([2]Paramètres!P83=\"\",\"\",[2]Paramètres!P83)","v":18.3},{"$f":"IF([2]Paramètres!Q83=\"\",\"\",[2]Paramètres!Q83)","v":"Basse"},{"$f":"IF([2]Paramètres!R83=\"\",\"\",[2]Paramètres!R83)","v":""},{"$f":"IF([2]Paramètres!S83=\"\",\"\",[2]Paramètres!S83)","v":""},{"$f":"IF([2]Paramètres!T83=\"\",\"\",[2]Paramètres!T83)","v":""},{"$f":"IF([2]Paramètres!U83=\"\",\"\",[2]Paramètres!U83)","v":""},{"$f":"IF([2]Paramètres!V83=\"\",\"\",[2]Paramètres!V83)","v":""},{"$f":"IF([2]Paramètres!W83=\"\",\"\",[2]Paramètres!W83)","v":""},{"$f":"IF([2]Paramètres!X83=\"\",\"\",[2]Paramètres!X83)","v":""},{"$f":"IF([2]Paramètres!Y83=\"\",\"\",[2]Paramètres!Y83)","v":""},{"$f":"IF([2]Paramètres!Z83=\"\",\"\",[2]Paramètres!Z83)","v":""}]
[{"$f":"IF([2]Paramètres!A84=\"\",\"\",[2]Paramètres!A84)","v":"Riz (flocons)"},{"$f":"IF([2]Paramètres!B84=\"\",\"\",[2]Paramètres!B84)","v":0.82},{"$f":"IF([2]Paramètres!C84=\"\",\"\",[2]Paramètres!C84)","v":5},{"$f":"IF([2]Paramètres!D84=\"\",\"\",[2]Paramètres!D84)","v":0.25},{"$f":"IF([2]Paramètres!E84=\"\",\"\",[2]Paramètres!E84)","v":5.7},{"$f":"IF([2]Paramètres!F84=\"\",\"\",[2]Paramètres!F84)","v":""},{"$f":"IF([2]Paramètres!G84=\"\",\"\",[2]Paramètres!G84)","v":""},{"$f":"IF([2]Paramètres!H84=\"\",\"\",[2]Paramètres!H84)","v":""},{"$f":"IF([2]Paramètres!I84=\"\",\"\",[2]Paramètres!I84)","v":""},{"$f":"IF([2]Paramètres!J84=\"\",\"\",[2]Paramètres!J84)","v":"Imperial Yeast - G03 Dieter"},{"$f":"IF([2]Paramètres!K84=\"\",\"\",[2]Paramètres!K84)","v":"Liquide"},{"$f":"IF([2]Paramètres!L84=\"\",\"\",[2]Paramètres!L84)","v":0.73},{"$f":"IF([2]Paramètres!M84=\"\",\"\",[2]Paramètres!M84)","v":0.77},{"$f":"IF([2]Paramètres!N84=\"\",\"\",[2]Paramètres!N84)","v":0.75},{"$f":"IF([2]Paramètres!O84=\"\",\"\",[2]Paramètres!O84)","v":15.6},{"$f":"IF([2]Paramètres!P84=\"\",\"\",[2]Paramètres!P84)","v":20.6},{"$f":"IF([2]Paramètres!Q84=\"\",\"\",[2]Paramètres!Q84)","v":"Moyenne"},{"$f":"IF([2]Paramètres!R84=\"\",\"\",[2]Paramètres!R84)","v":""},{"$f":"IF([2]Paramètres!S84=\"\",\"\",[2]Paramètres!S84)","v":""},{"$f":"IF([2]Paramètres!T84=\"\",\"\",[2]Paramètres!T84)","v":""},{"$f":"IF([2]Paramètres!U84=\"\",\"\",[2]Paramètres!U84)","v":""},{"$f":"IF([2]Paramètres!V84=\"\",\"\",[2]Paramètres!V84)","v":""},{"$f":"IF([2]Paramètres!W84=\"\",\"\",[2]Paramètres!W84)","v":""},{"$f":"IF([2]Paramètres!X84=\"\",\"\",[2]Paramètres!X84)","v":""},{"$f":"IF([2]Paramètres!Y84=\"\",\"\",[2]Paramètres!Y84)","v":""},{"$f":"IF([2]Paramètres!Z84=\"\",\"\",[2]Paramètres!Z84)","v":""}]
[{"$f":"IF([2]Paramètres!A85=\"\",\"\",[2]Paramètres!A85)","v":"Roasted Barley"},{"$f":"IF([2]Paramètres!B85=\"\",\"\",[2]Paramètres!B85)","v":0.55000000000000004},{"$f":"IF([2]Paramètres!C85=\"\",\"\",[2]Paramètres!C85)","v":1200},{"$f":"IF([2]Paramètres!D85=\"\",\"\",[2]Paramètres!D85)","v":0.1},{"$f":"IF([2]Paramètres!E85=\"\",\"\",[2]Paramètres!E85)","v":4.71},{"$f":"IF([2]Paramètres!F85=\"\",\"\",[2]Paramètres!F85)","v":""},{"$f":"IF([2]Paramètres!G85=\"\",\"\",[2]Paramètres!G85)","v":""},{"$f":"IF([2]Paramètres!H85=\"\",\"\",[2]Paramètres!H85)","v":""},{"$f":"IF([2]Paramètres!I85=\"\",\"\",[2]Paramètres!I85)","v":""},{"$f":"IF([2]Paramètres!J85=\"\",\"\",[2]Paramètres!J85)","v":"Imperial Yeast - L05 Cablecar"},{"$f":"IF([2]Paramètres!K85=\"\",\"\",[2]Paramètres!K85)","v":"Liquide"},{"$f":"IF([2]Paramètres!L85=\"\",\"\",[2]Paramètres!L85)","v":0.71},{"$f":"IF([2]Paramètres!M85=\"\",\"\",[2]Paramètres!M85)","v":0.75},{"$f":"IF([2]Paramètres!N85=\"\",\"\",[2]Paramètres!N85)","v":0.73},{"$f":"IF([2]Paramètres!O85=\"\",\"\",[2]Paramètres!O85)","v":12.8},{"$f":"IF([2]Paramètres!P85=\"\",\"\",[2]Paramètres!P85)","v":18.3},{"$f":"IF([2]Paramètres!Q85=\"\",\"\",[2]Paramètres!Q85)","v":"Moyenne - Haute"},{"$f":"IF([2]Paramètres!R85=\"\",\"\",[2]Paramètres!R85)","v":""},{"$f":"IF([2]Paramètres!S85=\"\",\"\",[2]Paramètres!S85)","v":""},{"$f":"IF([2]Paramètres!T85=\"\",\"\",[2]Paramètres!T85)","v":""},{"$f":"IF([2]Paramètres!U85=\"\",\"\",[2]Paramètres!U85)","v":""},{"$f":"IF([2]Paramètres!V85=\"\",\"\",[2]Paramètres!V85)","v":""},{"$f":"IF([2]Paramètres!W85=\"\",\"\",[2]Paramètres!W85)","v":""},{"$f":"IF([2]Paramètres!X85=\"\",\"\",[2]Paramètres!X85)","v":""},{"$f":"IF([2]Paramètres!Y85=\"\",\"\",[2]Paramètres!Y85)","v":""},{"$f":"IF([2]Paramètres!Z85=\"\",\"\",[2]Paramètres!Z85)","v":""}]
[{"$f":"IF([2]Paramètres!A86=\"\",\"\",[2]Paramètres!A86)","v":"Seigle"},{"$f":"IF([2]Paramètres!B86=\"\",\"\",[2]Paramètres!B86)","v":0.63},{"$f":"IF([2]Paramètres!C86=\"\",\"\",[2]Paramètres!C86)","v":8},{"$f":"IF([2]Paramètres!D86=\"\",\"\",[2]Paramètres!D86)","v":0.2},{"$f":"IF([2]Paramètres!E86=\"\",\"\",[2]Paramètres!E86)","v":5.7},{"$f":"IF([2]Paramètres!F86=\"\",\"\",[2]Paramètres!F86)","v":""},{"$f":"IF([2]Paramètres!G86=\"\",\"\",[2]Paramètres!G86)","v":""},{"$f":"IF([2]Paramètres!H86=\"\",\"\",[2]Paramètres!H86)","v":""},{"$f":"IF([2]Paramètres!I86=\"\",\"\",[2]Paramètres!I86)","v":""},{"$f":"IF([2]Paramètres!J86=\"\",\"\",[2]Paramètres!J86)","v":"Imperial Yeast - L13 Global"},{"$f":"IF([2]Paramètres!K86=\"\",\"\",[2]Paramètres!K86)","v":"Liquide"},{"$f":"IF([2]Paramètres!L86=\"\",\"\",[2]Paramètres!L86)","v":0.73},{"$f":"IF([2]Paramètres!M86=\"\",\"\",[2]Paramètres!M86)","v":0.77},{"$f":"IF([2]Paramètres!N86=\"\",\"\",[2]Paramètres!N86)","v":0.75},{"$f":"IF([2]Paramètres!O86=\"\",\"\",[2]Paramètres!O86)","v":7.8},{"$f":"IF([2]Paramètres!P86=\"\",\"\",[2]Paramètres!P86)","v":13.3},{"$f":"IF([2]Paramètres!Q86=\"\",\"\",[2]Paramètres!Q86)","v":"Basse - Moyenne"},{"$f":"IF([2]Paramètres!R86=\"\",\"\",[2]Paramètres!R86)","v":""},{"$f":"IF([2]Paramètres!S86=\"\",\"\",[2]Paramètres!S86)","v":""},{"$f":"IF([2]Paramètres!T86=\"\",\"\",[2]Paramètres!T86)","v":""},{"$f":"IF([2]Paramètres!U86=\"\",\"\",[2]Paramètres!U86)","v":""},{"$f":"IF([2]Paramètres!V86=\"\",\"\",[2]Paramètres!V86)","v":""},{"$f":"IF([2]Paramètres!W86=\"\",\"\",[2]Paramètres!W86)","v":""},{"$f":"IF([2]Paramètres!X86=\"\",\"\",[2]Paramètres!X86)","v":""},{"$f":"IF([2]Paramètres!Y86=\"\",\"\",[2]Paramètres!Y86)","v":""},{"$f":"IF([2]Paramètres!Z86=\"\",\"\",[2]Paramètres!Z86)","v":""}]
[{"$f":"IF([2]Paramètres!A87=\"\",\"\",[2]Paramètres!A87)","v":"Seigle Chocolat"},{"$f":"IF([2]Paramètres!B87=\"\",\"\",[2]Paramètres!B87)","v":0.6},{"$f":"IF([2]Paramètres!C87=\"\",\"\",[2]Paramètres!C87)","v":650},{"$f":"IF([2]Paramètres!D87=\"\",\"\",[2]Paramètres!D87)","v":7.0000000000000007E-2},{"$f":"IF([2]Paramètres!E87=\"\",\"\",[2]Paramètres!E87)","v":4.71},{"$f":"IF([2]Paramètres!F87=\"\",\"\",[2]Paramètres!F87)","v":""},{"$f":"IF([2]Paramètres!G87=\"\",\"\",[2]Paramètres!G87)","v":""},{"$f":"IF([2]Paramètres!H87=\"\",\"\",[2]Paramètres!H87)","v":""},{"$f":"IF([2]Paramètres!I87=\"\",\"\",[2]Paramètres!I87)","v":""},{"$f":"IF([2]Paramètres!J87=\"\",\"\",[2]Paramètres!J87)","v":"Imperial Yeast - L17 Harvest"},{"$f":"IF([2]Paramètres!K87=\"\",\"\",[2]Paramètres!K87)","v":"Liquide"},{"$f":"IF([2]Paramètres!L87=\"\",\"\",[2]Paramètres!L87)","v":0.7},{"$f":"IF([2]Paramètres!M87=\"\",\"\",[2]Paramètres!M87)","v":0.74},{"$f":"IF([2]Paramètres!N87=\"\",\"\",[2]Paramètres!N87)","v":0.72},{"$f":"IF([2]Paramètres!O87=\"\",\"\",[2]Paramètres!O87)","v":10},{"$f":"IF([2]Paramètres!P87=\"\",\"\",[2]Paramètres!P87)","v":15.6},{"$f":"IF([2]Paramètres!Q87=\"\",\"\",[2]Paramètres!Q87)","v":"Moyenne"},{"$f":"IF([2]Paramètres!R87=\"\",\"\",[2]Paramètres!R87)","v":""},{"$f":"IF([2]Paramètres!S87=\"\",\"\",[2]Paramètres!S87)","v":""},{"$f":"IF([2]Paramètres!T87=\"\",\"\",[2]Paramètres!T87)","v":""},{"$f":"IF([2]Paramètres!U87=\"\",\"\",[2]Paramètres!U87)","v":""},{"$f":"IF([2]Paramètres!V87=\"\",\"\",[2]Paramètres!V87)","v":""},{"$f":"IF([2]Paramètres!W87=\"\",\"\",[2]Paramètres!W87)","v":""},{"$f":"IF([2]Paramètres!X87=\"\",\"\",[2]Paramètres!X87)","v":""},{"$f":"IF([2]Paramètres!Y87=\"\",\"\",[2]Paramètres!Y87)","v":""},{"$f":"IF([2]Paramètres!Z87=\"\",\"\",[2]Paramètres!Z87)","v":""}]
[{"$f":"IF([2]Paramètres!A88=\"\",\"\",[2]Paramètres!A88)","v":"Soufflet Pale Ale 2RP"},{"$f":"IF([2]Paramètres!B88=\"\",\"\",[2]Paramètres!B88)","v":0.8},{"$f":"IF([2]Paramètres!C88=\"\",\"\",[2]Paramètres!C88)","v":5},{"$f":"IF([2]Paramètres!D88=\"\",\"\",[2]Paramètres!D88)","v":1},{"$f":"IF([2]Paramètres!E88=\"\",\"\",[2]Paramètres!E88)","v":5.7},{"$f":"IF([2]Paramètres!F88=\"\",\"\",[2]Paramètres!F88)","v":""},{"$f":"IF([2]Paramètres!G88=\"\",\"\",[2]Paramètres!G88)","v":""},{"$f":"IF([2]Paramètres!H88=\"\",\"\",[2]Paramètres!H88)","v":""},{"$f":"IF([2]Paramètres!I88=\"\",\"\",[2]Paramètres!I88)","v":""},{"$f":"IF([2]Paramètres!J88=\"\",\"\",[2]Paramètres!J88)","v":"Imperial Yeast - L28 Urkel"},{"$f":"IF([2]Paramètres!K88=\"\",\"\",[2]Paramètres!K88)","v":"Liquide"},{"$f":"IF([2]Paramètres!L88=\"\",\"\",[2]Paramètres!L88)","v":0.71},{"$f":"IF([2]Paramètres!M88=\"\",\"\",[2]Paramètres!M88)","v":0.75},{"$f":"IF([2]Paramètres!N88=\"\",\"\",[2]Paramètres!N88)","v":0.73},{"$f":"IF([2]Paramètres!O88=\"\",\"\",[2]Paramètres!O88)","v":11.1},{"$f":"IF([2]Paramètres!P88=\"\",\"\",[2]Paramètres!P88)","v":14.4},{"$f":"IF([2]Paramètres!Q88=\"\",\"\",[2]Paramètres!Q88)","v":"Moyenne"},{"$f":"IF([2]Paramètres!R88=\"\",\"\",[2]Paramètres!R88)","v":""},{"$f":"IF([2]Paramètres!S88=\"\",\"\",[2]Paramètres!S88)","v":""},{"$f":"IF([2]Paramètres!T88=\"\",\"\",[2]Paramètres!T88)","v":""},{"$f":"IF([2]Paramètres!U88=\"\",\"\",[2]Paramètres!U88)","v":""},{"$f":"IF([2]Paramètres!V88=\"\",\"\",[2]Paramètres!V88)","v":""},{"$f":"IF([2]Paramètres!W88=\"\",\"\",[2]Paramètres!W88)","v":""},{"$f":"IF([2]Paramètres!X88=\"\",\"\",[2]Paramètres!X88)","v":""},{"$f":"IF([2]Paramètres!Y88=\"\",\"\",[2]Paramètres!Y88)","v":""},{"$f":"IF([2]Paramètres!Z88=\"\",\"\",[2]Paramètres!Z88)","v":""}]
[{"$f":"IF([2]Paramètres!A89=\"\",\"\",[2]Paramètres!A89)","v":"Soufflet Pilsen 2RP"},{"$f":"IF([2]Paramètres!B89=\"\",\"\",[2]Paramètres!B89)","v":0.8},{"$f":"IF([2]Paramètres!C89=\"\",\"\",[2]Paramètres!C89)","v":5},{"$f":"IF([2]Paramètres!D89=\"\",\"\",[2]Paramètres!D89)","v":1},{"$f":"IF([2]Paramètres!E89=\"\",\"\",[2]Paramètres!E89)","v":5.7},{"$f":"IF([2]Paramètres!F89=\"\",\"\",[2]Paramètres!F89)","v":""},{"$f":"IF([2]Paramètres!G89=\"\",\"\",[2]Paramètres!G89)","v":""},{"$f":"IF([2]Paramètres!H89=\"\",\"\",[2]Paramètres!H89)","v":""},{"$f":"IF([2]Paramètres!I89=\"\",\"\",[2]Paramètres!I89)","v":""},{"$f":"IF([2]Paramètres!J89=\"\",\"\",[2]Paramètres!J89)","v":"Imperial Yeast - W15 Suburban Brett"},{"$f":"IF([2]Paramètres!K89=\"\",\"\",[2]Paramètres!K89)","v":"Liquide"},{"$f":"IF([2]Paramètres!L89=\"\",\"\",[2]Paramètres!L89)","v":0.75},{"$f":"IF([2]Paramètres!M89=\"\",\"\",[2]Paramètres!M89)","v":0.8},{"$f":"IF([2]Paramètres!N89=\"\",\"\",[2]Paramètres!N89)","v":0.77500000000000002},{"$f":"IF([2]Paramètres!O89=\"\",\"\",[2]Paramètres!O89)","v":17.8},{"$f":"IF([2]Paramètres!P89=\"\",\"\",[2]Paramètres!P89)","v":23.3},{"$f":"IF([2]Paramètres!Q89=\"\",\"\",[2]Paramètres!Q89)","v":"Basse"},{"$f":"IF([2]Paramètres!R89=\"\",\"\",[2]Paramètres!R89)","v":""},{"$f":"IF([2]Paramètres!S89=\"\",\"\",[2]Paramètres!S89)","v":""},{"$f":"IF([2]Paramètres!T89=\"\",\"\",[2]Paramètres!T89)","v":""},{"$f":"IF([2]Paramètres!U89=\"\",\"\",[2]Paramètres!U89)","v":""},{"$f":"IF([2]Paramètres!V89=\"\",\"\",[2]Paramètres!V89)","v":""},{"$f":"IF([2]Paramètres!W89=\"\",\"\",[2]Paramètres!W89)","v":""},{"$f":"IF([2]Paramètres!X89=\"\",\"\",[2]Paramètres!X89)","v":""},{"$f":"IF([2]Paramètres!Y89=\"\",\"\",[2]Paramètres!Y89)","v":""},{"$f":"IF([2]Paramètres!Z89=\"\",\"\",[2]Paramètres!Z89)","v":""}]
[{"$f":"IF([2]Paramètres!A90=\"\",\"\",[2]Paramètres!A90)","v":"Soufflet Pilsen 6RH"},{"$f":"IF([2]Paramètres!B90=\"\",\"\",[2]Paramètres!B90)","v":0.8},{"$f":"IF([2]Paramètres!C90=\"\",\"\",[2]Paramètres!C90)","v":5},{"$f":"IF([2]Paramètres!D90=\"\",\"\",[2]Paramètres!D90)","v":1},{"$f":"IF([2]Paramètres!E90=\"\",\"\",[2]Paramètres!E90)","v":5.79},{"$f":"IF([2]Paramètres!F90=\"\",\"\",[2]Paramètres!F90)","v":""},{"$f":"IF([2]Paramètres!G90=\"\",\"\",[2]Paramètres!G90)","v":""},{"$f":"IF([2]Paramètres!H90=\"\",\"\",[2]Paramètres!H90)","v":""},{"$f":"IF([2]Paramètres!I90=\"\",\"\",[2]Paramètres!I90)","v":""},{"$f":"IF([2]Paramètres!J90=\"\",\"\",[2]Paramètres!J90)","v":"Lallemand - ABBAYE Belgian-style Ale"},{"$f":"IF([2]Paramètres!K90=\"\",\"\",[2]Paramètres!K90)","v":"Sèche"},{"$f":"IF([2]Paramètres!L90=\"\",\"\",[2]Paramètres!L90)","v":""},{"$f":"IF([2]Paramètres!M90=\"\",\"\",[2]Paramètres!M90)","v":""},{"$f":"IF([2]Paramètres!N90=\"\",\"\",[2]Paramètres!N90)","v":"Moyenne - Haute"},{"$f":"IF([2]Paramètres!O90=\"\",\"\",[2]Paramètres!O90)","v":17.2},{"$f":"IF([2]Paramètres!P90=\"\",\"\",[2]Paramètres!P90)","v":25},{"$f":"IF([2]Paramètres!Q90=\"\",\"\",[2]Paramètres!Q90)","v":"Haute"},{"$f":"IF([2]Paramètres!R90=\"\",\"\",[2]Paramètres!R90)","v":""},{"$f":"IF([2]Paramètres!S90=\"\",\"\",[2]Paramètres!S90)","v":""},{"$f":"IF([2]Paramètres!T90=\"\",\"\",[2]Paramètres!T90)","v":""},{"$f":"IF([2]Paramètres!U90=\"\",\"\",[2]Paramètres!U90)","v":""},{"$f":"IF([2]Paramètres!V90=\"\",\"\",[2]Paramètres!V90)","v":""},{"$f":"IF([2]Paramètres!W90=\"\",\"\",[2]Paramètres!W90)","v":""},{"$f":"IF([2]Paramètres!X90=\"\",\"\",[2]Paramètres!X90)","v":""},{"$f":"IF([2]Paramètres!Y90=\"\",\"\",[2]Paramètres!Y90)","v":""},{"$f":"IF([2]Paramètres!Z90=\"\",\"\",[2]Paramètres!Z90)","v":""}]
[{"$f":"IF([2]Paramètres!A91=\"\",\"\",[2]Paramètres!A91)","v":"Special B"},{"$f":"IF([2]Paramètres!B91=\"\",\"\",[2]Paramètres!B91)","v":0.68},{"$f":"IF([2]Paramètres!C91=\"\",\"\",[2]Paramètres!C91)","v":300},{"$f":"IF([2]Paramètres!D91=\"\",\"\",[2]Paramètres!D91)","v":0.1},{"$f":"IF([2]Paramètres!E91=\"\",\"\",[2]Paramètres!E91)","v":4.6500000000000004},{"$f":"IF([2]Paramètres!F91=\"\",\"\",[2]Paramètres!F91)","v":""},{"$f":"IF([2]Paramètres!G91=\"\",\"\",[2]Paramètres!G91)","v":""},{"$f":"IF([2]Paramètres!H91=\"\",\"\",[2]Paramètres!H91)","v":""},{"$f":"IF([2]Paramètres!I91=\"\",\"\",[2]Paramètres!I91)","v":""},{"$f":"IF([2]Paramètres!J91=\"\",\"\",[2]Paramètres!J91)","v":"Lallemand - BELLE SAISON Belgian Saison-Style"},{"$f":"IF([2]Paramètres!K91=\"\",\"\",[2]Paramètres!K91)","v":"Sèche"},{"$f":"IF([2]Paramètres!L91=\"\",\"\",[2]Paramètres!L91)","v":""},{"$f":"IF([2]Paramètres!M91=\"\",\"\",[2]Paramètres!M91)","v":""},{"$f":"IF([2]Paramètres!N91=\"\",\"\",[2]Paramètres!N91)","v":"Haute"},{"$f":"IF([2]Paramètres!O91=\"\",\"\",[2]Paramètres!O91)","v":15},{"$f":"IF([2]Paramètres!P91=\"\",\"\",[2]Paramètres!P91)","v":35},{"$f":"IF([2]Paramètres!Q91=\"\",\"\",[2]Paramètres!Q91)","v":"Basse"},{"$f":"IF([2]Paramètres!R91=\"\",\"\",[2]Paramètres!R91)","v":""},{"$f":"IF([2]Paramètres!S91=\"\",\"\",[2]Paramètres!S91)","v":""},{"$f":"IF([2]Paramètres!T91=\"\",\"\",[2]Paramètres!T91)","v":""},{"$f":"IF([2]Paramètres!U91=\"\",\"\",[2]Paramètres!U91)","v":""},{"$f":"IF([2]Paramètres!V91=\"\",\"\",[2]Paramètres!V91)","v":""},{"$f":"IF([2]Paramètres!W91=\"\",\"\",[2]Paramètres!W91)","v":""},{"$f":"IF([2]Paramètres!X91=\"\",\"\",[2]Paramètres!X91)","v":""},{"$f":"IF([2]Paramètres!Y91=\"\",\"\",[2]Paramètres!Y91)","v":""},{"$f":"IF([2]Paramètres!Z91=\"\",\"\",[2]Paramètres!Z91)","v":""}]
[{"$f":"IF([2]Paramètres!A92=\"\",\"\",[2]Paramètres!A92)","v":"Sucre ambré"},{"$f":"IF([2]Paramètres!B92=\"\",\"\",[2]Paramètres!B92)","v":1},{"$f":"IF([2]Paramètres!C92=\"\",\"\",[2]Paramètres!C92)","v":150},{"$f":"IF([2]Paramètres!D92=\"\",\"\",[2]Paramètres!D92)","v":""},{"$f":"IF([2]Paramètres!E92=\"\",\"\",[2]Paramètres!E92)","v":""},{"$f":"IF([2]Paramètres!F92=\"\",\"\",[2]Paramètres!F92)","v":""},{"$f":"IF([2]Paramètres!G92=\"\",\"\",[2]Paramètres!G92)","v":""},{"$f":"IF([2]Paramètres!H92=\"\",\"\",[2]Paramètres!H92)","v":""},{"$f":"IF([2]Paramètres!I92=\"\",\"\",[2]Paramètres!I92)","v":""},{"$f":"IF([2]Paramètres!J92=\"\",\"\",[2]Paramètres!J92)","v":"Lallemand - BRY-97 American West Coast Ale"},{"$f":"IF([2]Paramètres!K92=\"\",\"\",[2]Paramètres!K92)","v":"Sèche"},{"$f":"IF([2]Paramètres!L92=\"\",\"\",[2]Paramètres!L92)","v":""},{"$f":"IF([2]Paramètres!M92=\"\",\"\",[2]Paramètres!M92)","v":""},{"$f":"IF([2]Paramètres!N92=\"\",\"\",[2]Paramètres!N92)","v":"Moyenne - Haute"},{"$f":"IF([2]Paramètres!O92=\"\",\"\",[2]Paramètres!O92)","v":15},{"$f":"IF([2]Paramètres!P92=\"\",\"\",[2]Paramètres!P92)","v":22.2},{"$f":"IF([2]Paramètres!Q92=\"\",\"\",[2]Paramètres!Q92)","v":"Haute"},{"$f":"IF([2]Paramètres!R92=\"\",\"\",[2]Paramètres!R92)","v":""},{"$f":"IF([2]Paramètres!S92=\"\",\"\",[2]Paramètres!S92)","v":""},{"$f":"IF([2]Paramètres!T92=\"\",\"\",[2]Paramètres!T92)","v":""},{"$f":"IF([2]Paramètres!U92=\"\",\"\",[2]Paramètres!U92)","v":""},{"$f":"IF([2]Paramètres!V92=\"\",\"\",[2]Paramètres!V92)","v":""},{"$f":"IF([2]Paramètres!W92=\"\",\"\",[2]Paramètres!W92)","v":""},{"$f":"IF([2]Paramètres!X92=\"\",\"\",[2]Paramètres!X92)","v":""},{"$f":"IF([2]Paramètres!Y92=\"\",\"\",[2]Paramètres!Y92)","v":""},{"$f":"IF([2]Paramètres!Z92=\"\",\"\",[2]Paramètres!Z92)","v":""}]
[{"$f":"IF([2]Paramètres!A93=\"\",\"\",[2]Paramètres!A93)","v":"Sucre blanc"},{"$f":"IF([2]Paramètres!B93=\"\",\"\",[2]Paramètres!B93)","v":1},{"$f":"IF([2]Paramètres!C93=\"\",\"\",[2]Paramètres!C93)","v":2},{"$f":"IF([2]Paramètres!D93=\"\",\"\",[2]Paramètres!D93)","v":""},{"$f":"IF([2]Paramètres!E93=\"\",\"\",[2]Paramètres!E93)","v":""},{"$f":"IF([2]Paramètres!F93=\"\",\"\",[2]Paramètres!F93)","v":""},{"$f":"IF([2]Paramètres!G93=\"\",\"\",[2]Paramètres!G93)","v":""},{"$f":"IF([2]Paramètres!H93=\"\",\"\",[2]Paramètres!H93)","v":""},{"$f":"IF([2]Paramètres!I93=\"\",\"\",[2]Paramètres!I93)","v":""},{"$f":"IF([2]Paramètres!J93=\"\",\"\",[2]Paramètres!J93)","v":"Lallemand - DIAMOND Lager"},{"$f":"IF([2]Paramètres!K93=\"\",\"\",[2]Paramètres!K93)","v":"Sèche"},{"$f":"IF([2]Paramètres!L93=\"\",\"\",[2]Paramètres!L93)","v":0.85},{"$f":"IF([2]Paramètres!M93=\"\",\"\",[2]Paramètres!M93)","v":0.9},{"$f":"IF([2]Paramètres!N93=\"\",\"\",[2]Paramètres!N93)","v":0.875},{"$f":"IF([2]Paramètres!O93=\"\",\"\",[2]Paramètres!O93)","v":10},{"$f":"IF([2]Paramètres!P93=\"\",\"\",[2]Paramètres!P93)","v":15},{"$f":"IF([2]Paramètres!Q93=\"\",\"\",[2]Paramètres!Q93)","v":"Haute"},{"$f":"IF([2]Paramètres!R93=\"\",\"\",[2]Paramètres!R93)","v":""},{"$f":"IF([2]Paramètres!S93=\"\",\"\",[2]Paramètres!S93)","v":""},{"$f":"IF([2]Paramètres!T93=\"\",\"\",[2]Paramètres!T93)","v":""},{"$f":"IF([2]Paramètres!U93=\"\",\"\",[2]Paramètres!U93)","v":""},{"$f":"IF([2]Paramètres!V93=\"\",\"\",[2]Paramètres!V93)","v":""},{"$f":"IF([2]Paramètres!W93=\"\",\"\",[2]Paramètres!W93)","v":""},{"$f":"IF([2]Paramètres!X93=\"\",\"\",[2]Paramètres!X93)","v":""},{"$f":"IF([2]Paramètres!Y93=\"\",\"\",[2]Paramètres!Y93)","v":""},{"$f":"IF([2]Paramètres!Z93=\"\",\"\",[2]Paramètres!Z93)","v":""}]
[{"$f":"IF([2]Paramètres!A94=\"\",\"\",[2]Paramètres!A94)","v":"Sucre foncé"},{"$f":"IF([2]Paramètres!B94=\"\",\"\",[2]Paramètres!B94)","v":1},{"$f":"IF([2]Paramètres!C94=\"\",\"\",[2]Paramètres!C94)","v":542},{"$f":"IF([2]Paramètres!D94=\"\",\"\",[2]Paramètres!D94)","v":""},{"$f":"IF([2]Paramètres!E94=\"\",\"\",[2]Paramètres!E94)","v":""},{"$f":"IF([2]Paramètres!F94=\"\",\"\",[2]Paramètres!F94)","v":""},{"$f":"IF([2]Paramètres!G94=\"\",\"\",[2]Paramètres!G94)","v":""},{"$f":"IF([2]Paramètres!H94=\"\",\"\",[2]Paramètres!H94)","v":""},{"$f":"IF([2]Paramètres!I94=\"\",\"\",[2]Paramètres!I94)","v":""},{"$f":"IF([2]Paramètres!J94=\"\",\"\",[2]Paramètres!J94)","v":"Lallemand - LalBrew™ New England East Coast Ale"},{"$f":"IF([2]Paramètres!K94=\"\",\"\",[2]Paramètres!K94)","v":"Sèche"},{"$f":"IF([2]Paramètres!L94=\"\",\"\",[2]Paramètres!L94)","v":""},{"$f":"IF([2]Paramètres!M94=\"\",\"\",[2]Paramètres!M94)","v":""},{"$f":"IF([2]Paramètres!N94=\"\",\"\",[2]Paramètres!N94)","v":"Moyenne - Haute"},{"$f":"IF([2]Paramètres!O94=\"\",\"\",[2]Paramètres!O94)","v":15},{"$f":"IF([2]Paramètres!P94=\"\",\"\",[2]Paramètres!P94)","v":22.2},{"$f":"IF([2]Paramètres!Q94=\"\",\"\",[2]Paramètres!Q94)","v":"Moyenne"},{"$f":"IF([2]Paramètres!R94=\"\",\"\",[2]Paramètres!R94)","v":""},{"$f":"IF([2]Paramètres!S94=\"\",\"\",[2]Paramètres!S94)","v":""},{"$f":"IF([2]Paramètres!T94=\"\",\"\",[2]Paramètres!T94)","v":""},{"$f":"IF([2]Paramètres!U94=\"\",\"\",[2]Paramètres!U94)","v":""},{"$f":"IF([2]Paramètres!V94=\"\",\"\",[2]Paramètres!V94)","v":""},{"$f":"IF([2]Paramètres!W94=\"\",\"\",[2]Paramètres!W94)","v":""},{"$f":"IF([2]Paramètres!X94=\"\",\"\",[2]Paramètres!X94)","v":""},{"$f":"IF([2]Paramètres!Y94=\"\",\"\",[2]Paramètres!Y94)","v":""},{"$f":"IF([2]Paramètres!Z94=\"\",\"\",[2]Paramètres!Z94)","v":""}]
[{"$f":"IF([2]Paramètres!A95=\"\",\"\",[2]Paramètres!A95)","v":"Vienna"},{"$f":"IF([2]Paramètres!B95=\"\",\"\",[2]Paramètres!B95)","v":0.75},{"$f":"IF([2]Paramètres!C95=\"\",\"\",[2]Paramètres!C95)","v":6},{"$f":"IF([2]Paramètres!D95=\"\",\"\",[2]Paramètres!D95)","v":1},{"$f":"IF([2]Paramètres!E95=\"\",\"\",[2]Paramètres!E95)","v":5.56},{"$f":"IF([2]Paramètres!F95=\"\",\"\",[2]Paramètres!F95)","v":""},{"$f":"IF([2]Paramètres!G95=\"\",\"\",[2]Paramètres!G95)","v":""},{"$f":"IF([2]Paramètres!H95=\"\",\"\",[2]Paramètres!H95)","v":""},{"$f":"IF([2]Paramètres!I95=\"\",\"\",[2]Paramètres!I95)","v":""},{"$f":"IF([2]Paramètres!J95=\"\",\"\",[2]Paramètres!J95)","v":"Lallemand - LONDON ESB Beer"},{"$f":"IF([2]Paramètres!K95=\"\",\"\",[2]Paramètres!K95)","v":"Sèche"},{"$f":"IF([2]Paramètres!L95=\"\",\"\",[2]Paramètres!L95)","v":""},{"$f":"IF([2]Paramètres!M95=\"\",\"\",[2]Paramètres!M95)","v":""},{"$f":"IF([2]Paramètres!N95=\"\",\"\",[2]Paramètres!N95)","v":"Moyenne"},{"$f":"IF([2]Paramètres!O95=\"\",\"\",[2]Paramètres!O95)","v":18.3},{"$f":"IF([2]Paramètres!P95=\"\",\"\",[2]Paramètres!P95)","v":22.2},{"$f":"IF([2]Paramètres!Q95=\"\",\"\",[2]Paramètres!Q95)","v":"Basse"},{"$f":"IF([2]Paramètres!R95=\"\",\"\",[2]Paramètres!R95)","v":""},{"$f":"IF([2]Paramètres!S95=\"\",\"\",[2]Paramètres!S95)","v":""},{"$f":"IF([2]Paramètres!T95=\"\",\"\",[2]Paramètres!T95)","v":""},{"$f":"IF([2]Paramètres!U95=\"\",\"\",[2]Paramètres!U95)","v":""},{"$f":"IF([2]Paramètres!V95=\"\",\"\",[2]Paramètres!V95)","v":""},{"$f":"IF([2]Paramètres!W95=\"\",\"\",[2]Paramètres!W95)","v":""},{"$f":"IF([2]Paramètres!X95=\"\",\"\",[2]Paramètres!X95)","v":""},{"$f":"IF([2]Paramètres!Y95=\"\",\"\",[2]Paramètres!Y95)","v":""},{"$f":"IF([2]Paramètres!Z95=\"\",\"\",[2]Paramètres!Z95)","v":""}]
[{"$f":"IF([2]Paramètres!A96=\"\",\"\",[2]Paramètres!A96)","v":"Vienna Swaen"},{"$f":"IF([2]Paramètres!B96=\"\",\"\",[2]Paramètres!B96)","v":0.75},{"$f":"IF([2]Paramètres!C96=\"\",\"\",[2]Paramètres!C96)","v":10},{"$f":"IF([2]Paramètres!D96=\"\",\"\",[2]Paramètres!D96)","v":1},{"$f":"IF([2]Paramètres!E96=\"\",\"\",[2]Paramètres!E96)","v":5.56},{"$f":"IF([2]Paramètres!F96=\"\",\"\",[2]Paramètres!F96)","v":""},{"$f":"IF([2]Paramètres!G96=\"\",\"\",[2]Paramètres!G96)","v":""},{"$f":"IF([2]Paramètres!H96=\"\",\"\",[2]Paramètres!H96)","v":""},{"$f":"IF([2]Paramètres!I96=\"\",\"\",[2]Paramètres!I96)","v":""},{"$f":"IF([2]Paramètres!J96=\"\",\"\",[2]Paramètres!J96)","v":"Lallemand - MUNICH CLASSIC"},{"$f":"IF([2]Paramètres!K96=\"\",\"\",[2]Paramètres!K96)","v":"Sèche"},{"$f":"IF([2]Paramètres!L96=\"\",\"\",[2]Paramètres!L96)","v":""},{"$f":"IF([2]Paramètres!M96=\"\",\"\",[2]Paramètres!M96)","v":""},{"$f":"IF([2]Paramètres!N96=\"\",\"\",[2]Paramètres!N96)","v":"Moyenne - Haute"},{"$f":"IF([2]Paramètres!O96=\"\",\"\",[2]Paramètres!O96)","v":17.2},{"$f":"IF([2]Paramètres!P96=\"\",\"\",[2]Paramètres!P96)","v":22.2},{"$f":"IF([2]Paramètres!Q96=\"\",\"\",[2]Paramètres!Q96)","v":"Basse"},{"$f":"IF([2]Paramètres!R96=\"\",\"\",[2]Paramètres!R96)","v":""},{"$f":"IF([2]Paramètres!S96=\"\",\"\",[2]Paramètres!S96)","v":""},{"$f":"IF([2]Paramètres!T96=\"\",\"\",[2]Paramètres!T96)","v":""},{"$f":"IF([2]Paramètres!U96=\"\",\"\",[2]Paramètres!U96)","v":""},{"$f":"IF([2]Paramètres!V96=\"\",\"\",[2]Paramètres!V96)","v":""},{"$f":"IF([2]Paramètres!W96=\"\",\"\",[2]Paramètres!W96)","v":""},{"$f":"IF([2]Paramètres!X96=\"\",\"\",[2]Paramètres!X96)","v":""},{"$f":"IF([2]Paramètres!Y96=\"\",\"\",[2]Paramètres!Y96)","v":""},{"$f":"IF([2]Paramètres!Z96=\"\",\"\",[2]Paramètres!Z96)","v":""}]
[{"$f":"IF([2]Paramètres!A97=\"\",\"\",[2]Paramètres!A97)","v":"Viking Vienna"},{"$f":"IF([2]Paramètres!B97=\"\",\"\",[2]Paramètres!B97)","v":0.8},{"$f":"IF([2]Paramètres!C97=\"\",\"\",[2]Paramètres!C97)","v":8},{"$f":"IF([2]Paramètres!D97=\"\",\"\",[2]Paramètres!D97)","v":1},{"$f":"IF([2]Paramètres!E97=\"\",\"\",[2]Paramètres!E97)","v":5.56},{"$f":"IF([2]Paramètres!F97=\"\",\"\",[2]Paramètres!F97)","v":""},{"$f":"IF([2]Paramètres!G97=\"\",\"\",[2]Paramètres!G97)","v":""},{"$f":"IF([2]Paramètres!H97=\"\",\"\",[2]Paramètres!H97)","v":""},{"$f":"IF([2]Paramètres!I97=\"\",\"\",[2]Paramètres!I97)","v":""},{"$f":"IF([2]Paramètres!J97=\"\",\"\",[2]Paramètres!J97)","v":"Lallemand - MUNICH Wheat"},{"$f":"IF([2]Paramètres!K97=\"\",\"\",[2]Paramètres!K97)","v":"Sèche"},{"$f":"IF([2]Paramètres!L97=\"\",\"\",[2]Paramètres!L97)","v":""},{"$f":"IF([2]Paramètres!M97=\"\",\"\",[2]Paramètres!M97)","v":""},{"$f":"IF([2]Paramètres!N97=\"\",\"\",[2]Paramètres!N97)","v":"Moyenne - Haute"},{"$f":"IF([2]Paramètres!O97=\"\",\"\",[2]Paramètres!O97)","v":17.2},{"$f":"IF([2]Paramètres!P97=\"\",\"\",[2]Paramètres!P97)","v":22.2},{"$f":"IF([2]Paramètres!Q97=\"\",\"\",[2]Paramètres!Q97)","v":"Basse"},{"$f":"IF([2]Paramètres!R97=\"\",\"\",[2]Paramètres!R97)","v":""},{"$f":"IF([2]Paramètres!S97=\"\",\"\",[2]Paramètres!S97)","v":""},{"$f":"IF([2]Paramètres!T97=\"\",\"\",[2]Paramètres!T97)","v":""},{"$f":"IF([2]Paramètres!U97=\"\",\"\",[2]Paramètres!U97)","v":""},{"$f":"IF([2]Paramètres!V97=\"\",\"\",[2]Paramètres!V97)","v":""},{"$f":"IF([2]Paramètres!W97=\"\",\"\",[2]Paramètres!W97)","v":""},{"$f":"IF([2]Paramètres!X97=\"\",\"\",[2]Paramètres!X97)","v":""},{"$f":"IF([2]Paramètres!Y97=\"\",\"\",[2]Paramètres!Y97)","v":""},{"$f":"IF([2]Paramètres!Z97=\"\",\"\",[2]Paramètres!Z97)","v":""}]
[{"$f":"IF([2]Paramètres!A98=\"\",\"\",[2]Paramètres!A98)","v":"Weyermann Abbey"},{"$f":"IF([2]Paramètres!B98=\"\",\"\",[2]Paramètres!B98)","v":0.78},{"$f":"IF([2]Paramètres!C98=\"\",\"\",[2]Paramètres!C98)","v":60},{"$f":"IF([2]Paramètres!D98=\"\",\"\",[2]Paramètres!D98)","v":0.25},{"$f":"IF([2]Paramètres!E98=\"\",\"\",[2]Paramètres!E98)","v":5.0999999999999996},{"$f":"IF([2]Paramètres!F98=\"\",\"\",[2]Paramètres!F98)","v":""},{"$f":"IF([2]Paramètres!G98=\"\",\"\",[2]Paramètres!G98)","v":""},{"$f":"IF([2]Paramètres!H98=\"\",\"\",[2]Paramètres!H98)","v":""},{"$f":"IF([2]Paramètres!I98=\"\",\"\",[2]Paramètres!I98)","v":""},{"$f":"IF([2]Paramètres!J98=\"\",\"\",[2]Paramètres!J98)","v":"Lallemand - NOTTINGHAM High-Performance Ale"},{"$f":"IF([2]Paramètres!K98=\"\",\"\",[2]Paramètres!K98)","v":"Sèche"},{"$f":"IF([2]Paramètres!L98=\"\",\"\",[2]Paramètres!L98)","v":""},{"$f":"IF([2]Paramètres!M98=\"\",\"\",[2]Paramètres!M98)","v":""},{"$f":"IF([2]Paramètres!N98=\"\",\"\",[2]Paramètres!N98)","v":"Haute"},{"$f":"IF([2]Paramètres!O98=\"\",\"\",[2]Paramètres!O98)","v":10},{"$f":"IF([2]Paramètres!P98=\"\",\"\",[2]Paramètres!P98)","v":22.2},{"$f":"IF([2]Paramètres!Q98=\"\",\"\",[2]Paramètres!Q98)","v":"Haute"},{"$f":"IF([2]Paramètres!R98=\"\",\"\",[2]Paramètres!R98)","v":""},{"$f":"IF([2]Paramètres!S98=\"\",\"\",[2]Paramètres!S98)","v":""},{"$f":"IF([2]Paramètres!T98=\"\",\"\",[2]Paramètres!T98)","v":""},{"$f":"IF([2]Paramètres!U98=\"\",\"\",[2]Paramètres!U98)","v":""},{"$f":"IF([2]Paramètres!V98=\"\",\"\",[2]Paramètres!V98)","v":""},{"$f":"IF([2]Paramètres!W98=\"\",\"\",[2]Paramètres!W98)","v":""},{"$f":"IF([2]Paramètres!X98=\"\",\"\",[2]Paramètres!X98)","v":""},{"$f":"IF([2]Paramètres!Y98=\"\",\"\",[2]Paramètres!Y98)","v":""},{"$f":"IF([2]Paramètres!Z98=\"\",\"\",[2]Paramètres!Z98)","v":""}]
[{"$f":"IF([2]Paramètres!A99=\"\",\"\",[2]Paramètres!A99)","v":"Weyermann Acide malt"},{"$f":"IF([2]Paramètres!B99=\"\",\"\",[2]Paramètres!B99)","v":0.65},{"$f":"IF([2]Paramètres!C99=\"\",\"\",[2]Paramètres!C99)","v":4},{"$f":"IF([2]Paramètres!D99=\"\",\"\",[2]Paramètres!D99)","v":0.1},{"$f":"IF([2]Paramètres!E99=\"\",\"\",[2]Paramètres!E99)","v":4.5},{"$f":"IF([2]Paramètres!F99=\"\",\"\",[2]Paramètres!F99)","v":""},{"$f":"IF([2]Paramètres!G99=\"\",\"\",[2]Paramètres!G99)","v":""},{"$f":"IF([2]Paramètres!H99=\"\",\"\",[2]Paramètres!H99)","v":""},{"$f":"IF([2]Paramètres!I99=\"\",\"\",[2]Paramètres!I99)","v":""},{"$f":"IF([2]Paramètres!J99=\"\",\"\",[2]Paramètres!J99)","v":"Lallemand - WildBrew™ Sour Pitch"},{"$f":"IF([2]Paramètres!K99=\"\",\"\",[2]Paramètres!K99)","v":"Sèche"},{"$f":"IF([2]Paramètres!L99=\"\",\"\",[2]Paramètres!L99)","v":""},{"$f":"IF([2]Paramètres!M99=\"\",\"\",[2]Paramètres!M99)","v":""},{"$f":"IF([2]Paramètres!N99=\"\",\"\",[2]Paramètres!N99)","v":""},{"$f":"IF([2]Paramètres!O99=\"\",\"\",[2]Paramètres!O99)","v":30},{"$f":"IF([2]Paramètres!P99=\"\",\"\",[2]Paramètres!P99)","v":40},{"$f":"IF([2]Paramètres!Q99=\"\",\"\",[2]Paramètres!Q99)","v":""},{"$f":"IF([2]Paramètres!R99=\"\",\"\",[2]Paramètres!R99)","v":""},{"$f":"IF([2]Paramètres!S99=\"\",\"\",[2]Paramètres!S99)","v":""},{"$f":"IF([2]Paramètres!T99=\"\",\"\",[2]Paramètres!T99)","v":""},{"$f":"IF([2]Paramètres!U99=\"\",\"\",[2]Paramètres!U99)","v":""},{"$f":"IF([2]Paramètres!V99=\"\",\"\",[2]Paramètres!V99)","v":""},{"$f":"IF([2]Paramètres!W99=\"\",\"\",[2]Paramètres!W99)","v":""},{"$f":"IF([2]Paramètres!X99=\"\",\"\",[2]Paramètres!X99)","v":""},{"$f":"IF([2]Paramètres!Y99=\"\",\"\",[2]Paramètres!Y99)","v":""},{"$f":"IF([2]Paramètres!Z99=\"\",\"\",[2]Paramètres!Z99)","v":""}]
[{"$f":"IF([2]Paramètres!A100=\"\",\"\",[2]Paramètres!A100)","v":"Weyermann Cara Amber"},{"$f":"IF([2]Paramètres!B100=\"\",\"\",[2]Paramètres!B100)","v":0.8},{"$f":"IF([2]Paramètres!C100=\"\",\"\",[2]Paramètres!C100)","v":70},{"$f":"IF([2]Paramètres!D100=\"\",\"\",[2]Paramètres!D100)","v":0.2},{"$f":"IF([2]Paramètres!E100=\"\",\"\",[2]Paramètres!E100)","v":5},{"$f":"IF([2]Paramètres!F100=\"\",\"\",[2]Paramètres!F100)","v":""},{"$f":"IF([2]Paramètres!G100=\"\",\"\",[2]Paramètres!G100)","v":""},{"$f":"IF([2]Paramètres!H100=\"\",\"\",[2]Paramètres!H100)","v":""},{"$f":"IF([2]Paramètres!I100=\"\",\"\",[2]Paramètres!I100)","v":""},{"$f":"IF([2]Paramètres!J100=\"\",\"\",[2]Paramètres!J100)","v":"Lallemand - WINDSOR British-Style"},{"$f":"IF([2]Paramètres!K100=\"\",\"\",[2]Paramètres!K100)","v":"Sèche"},{"$f":"IF([2]Paramètres!L100=\"\",\"\",[2]Paramètres!L100)","v":""},{"$f":"IF([2]Paramètres!M100=\"\",\"\",[2]Paramètres!M100)","v":""},{"$f":"IF([2]Paramètres!N100=\"\",\"\",[2]Paramètres!N100)","v":"Moyenne"},{"$f":"IF([2]Paramètres!O100=\"\",\"\",[2]Paramètres!O100)","v":15},{"$f":"IF([2]Paramètres!P100=\"\",\"\",[2]Paramètres!P100)","v":22.2},{"$f":"IF([2]Paramètres!Q100=\"\",\"\",[2]Paramètres!Q100)","v":"Basse"},{"$f":"IF([2]Paramètres!R100=\"\",\"\",[2]Paramètres!R100)","v":""},{"$f":"IF([2]Paramètres!S100=\"\",\"\",[2]Paramètres!S100)","v":""},{"$f":"IF([2]Paramètres!T100=\"\",\"\",[2]Paramètres!T100)","v":""},{"$f":"IF([2]Paramètres!U100=\"\",\"\",[2]Paramètres!U100)","v":""},{"$f":"IF([2]Paramètres!V100=\"\",\"\",[2]Paramètres!V100)","v":""},{"$f":"IF([2]Paramètres!W100=\"\",\"\",[2]Paramètres!W100)","v":""},{"$f":"IF([2]Paramètres!X100=\"\",\"\",[2]Paramètres!X100)","v":""},{"$f":"IF([2]Paramètres!Y100=\"\",\"\",[2]Paramètres!Y100)","v":""},{"$f":"IF([2]Paramètres!Z100=\"\",\"\",[2]Paramètres!Z100)","v":""}]
[{"$f":"IF([2]Paramètres!A101=\"\",\"\",[2]Paramètres!A101)","v":"Weyermann Cara Aroma"},{"$f":"IF([2]Paramètres!B101=\"\",\"\",[2]Paramètres!B101)","v":0.73},{"$f":"IF([2]Paramètres!C101=\"\",\"\",[2]Paramètres!C101)","v":400},{"$f":"IF([2]Paramètres!D101=\"\",\"\",[2]Paramètres!D101)","v":0.15},{"$f":"IF([2]Paramètres!E101=\"\",\"\",[2]Paramètres!E101)","v":4.7},{"$f":"IF([2]Paramètres!F101=\"\",\"\",[2]Paramètres!F101)","v":""},{"$f":"IF([2]Paramètres!G101=\"\",\"\",[2]Paramètres!G101)","v":""},{"$f":"IF([2]Paramètres!H101=\"\",\"\",[2]Paramètres!H101)","v":""},{"$f":"IF([2]Paramètres!I101=\"\",\"\",[2]Paramètres!I101)","v":""},{"$f":"IF([2]Paramètres!J101=\"\",\"\",[2]Paramètres!J101)","v":"Lallemand Abbaye"},{"$f":"IF([2]Paramètres!K101=\"\",\"\",[2]Paramètres!K101)","v":"Sèche"},{"$f":"IF([2]Paramètres!L101=\"\",\"\",[2]Paramètres!L101)","v":0.7},{"$f":"IF([2]Paramètres!M101=\"\",\"\",[2]Paramètres!M101)","v":0.74},{"$f":"IF([2]Paramètres!N101=\"\",\"\",[2]Paramètres!N101)","v":0.72},{"$f":"IF([2]Paramètres!O101=\"\",\"\",[2]Paramètres!O101)","v":17},{"$f":"IF([2]Paramètres!P101=\"\",\"\",[2]Paramètres!P101)","v":23},{"$f":"IF([2]Paramètres!Q101=\"\",\"\",[2]Paramètres!Q101)","v":"Forte"},{"$f":"IF([2]Paramètres!R101=\"\",\"\",[2]Paramètres!R101)","v":""},{"$f":"IF([2]Paramètres!S101=\"\",\"\",[2]Paramètres!S101)","v":""},{"$f":"IF([2]Paramètres!T101=\"\",\"\",[2]Paramètres!T101)","v":""},{"$f":"IF([2]Paramètres!U101=\"\",\"\",[2]Paramètres!U101)","v":""},{"$f":"IF([2]Paramètres!V101=\"\",\"\",[2]Paramètres!V101)","v":""},{"$f":"IF([2]Paramètres!W101=\"\",\"\",[2]Paramètres!W101)","v":""},{"$f":"IF([2]Paramètres!X101=\"\",\"\",[2]Paramètres!X101)","v":""},{"$f":"IF([2]Paramètres!Y101=\"\",\"\",[2]Paramètres!Y101)","v":""},{"$f":"IF([2]Paramètres!Z101=\"\",\"\",[2]Paramètres!Z101)","v":""}]
[{"$f":"IF([2]Paramètres!A102=\"\",\"\",[2]Paramètres!A102)","v":"Weyermann Cara Belge"},{"$f":"IF([2]Paramètres!B102=\"\",\"\",[2]Paramètres!B102)","v":0.74},{"$f":"IF([2]Paramètres!C102=\"\",\"\",[2]Paramètres!C102)","v":32},{"$f":"IF([2]Paramètres!D102=\"\",\"\",[2]Paramètres!D102)","v":0.3},{"$f":"IF([2]Paramètres!E102=\"\",\"\",[2]Paramètres!E102)","v":5.16},{"$f":"IF([2]Paramètres!F102=\"\",\"\",[2]Paramètres!F102)","v":""},{"$f":"IF([2]Paramètres!G102=\"\",\"\",[2]Paramètres!G102)","v":""},{"$f":"IF([2]Paramètres!H102=\"\",\"\",[2]Paramètres!H102)","v":""},{"$f":"IF([2]Paramètres!I102=\"\",\"\",[2]Paramètres!I102)","v":""},{"$f":"IF([2]Paramètres!J102=\"\",\"\",[2]Paramètres!J102)","v":"Lallemand Belle Saison"},{"$f":"IF([2]Paramètres!K102=\"\",\"\",[2]Paramètres!K102)","v":"Sèche"},{"$f":"IF([2]Paramètres!L102=\"\",\"\",[2]Paramètres!L102)","v":0.76},{"$f":"IF([2]Paramètres!M102=\"\",\"\",[2]Paramètres!M102)","v":0.8},{"$f":"IF([2]Paramètres!N102=\"\",\"\",[2]Paramètres!N102)","v":0.78},{"$f":"IF([2]Paramètres!O102=\"\",\"\",[2]Paramètres!O102)","v":15},{"$f":"IF([2]Paramètres!P102=\"\",\"\",[2]Paramètres!P102)","v":35},{"$f":"IF([2]Paramètres!Q102=\"\",\"\",[2]Paramètres!Q102)","v":"Faible"},{"$f":"IF([2]Paramètres!R102=\"\",\"\",[2]Paramètres!R102)","v":""},{"$f":"IF([2]Paramètres!S102=\"\",\"\",[2]Paramètres!S102)","v":""},{"$f":"IF([2]Paramètres!T102=\"\",\"\",[2]Paramètres!T102)","v":""},{"$f":"IF([2]Paramètres!U102=\"\",\"\",[2]Paramètres!U102)","v":""},{"$f":"IF([2]Paramètres!V102=\"\",\"\",[2]Paramètres!V102)","v":""},{"$f":"IF([2]Paramètres!W102=\"\",\"\",[2]Paramètres!W102)","v":""},{"$f":"IF([2]Paramètres!X102=\"\",\"\",[2]Paramètres!X102)","v":""},{"$f":"IF([2]Paramètres!Y102=\"\",\"\",[2]Paramètres!Y102)","v":""},{"$f":"IF([2]Paramètres!Z102=\"\",\"\",[2]Paramètres!Z102)","v":""}]
[{"$f":"IF([2]Paramètres!A103=\"\",\"\",[2]Paramètres!A103)","v":"Weyermann Cara Bohemian"},{"$f":"IF([2]Paramètres!B103=\"\",\"\",[2]Paramètres!B103)","v":0.74},{"$f":"IF([2]Paramètres!C103=\"\",\"\",[2]Paramètres!C103)","v":200},{"$f":"IF([2]Paramètres!D103=\"\",\"\",[2]Paramètres!D103)","v":0.2},{"$f":"IF([2]Paramètres!E103=\"\",\"\",[2]Paramètres!E103)","v":4.9000000000000004},{"$f":"IF([2]Paramètres!F103=\"\",\"\",[2]Paramètres!F103)","v":""},{"$f":"IF([2]Paramètres!G103=\"\",\"\",[2]Paramètres!G103)","v":""},{"$f":"IF([2]Paramètres!H103=\"\",\"\",[2]Paramètres!H103)","v":""},{"$f":"IF([2]Paramètres!I103=\"\",\"\",[2]Paramètres!I103)","v":""},{"$f":"IF([2]Paramètres!J103=\"\",\"\",[2]Paramètres!J103)","v":"Lallemand BRY97 American West Coast"},{"$f":"IF([2]Paramètres!K103=\"\",\"\",[2]Paramètres!K103)","v":"Sèche"},{"$f":"IF([2]Paramètres!L103=\"\",\"\",[2]Paramètres!L103)","v":0.75},{"$f":"IF([2]Paramètres!M103=\"\",\"\",[2]Paramètres!M103)","v":0.78},{"$f":"IF([2]Paramètres!N103=\"\",\"\",[2]Paramètres!N103)","v":0.76500000000000001},{"$f":"IF([2]Paramètres!O103=\"\",\"\",[2]Paramètres!O103)","v":17},{"$f":"IF([2]Paramètres!P103=\"\",\"\",[2]Paramètres!P103)","v":22},{"$f":"IF([2]Paramètres!Q103=\"\",\"\",[2]Paramètres!Q103)","v":"Forte"},{"$f":"IF([2]Paramètres!R103=\"\",\"\",[2]Paramètres!R103)","v":""},{"$f":"IF([2]Paramètres!S103=\"\",\"\",[2]Paramètres!S103)","v":""},{"$f":"IF([2]Paramètres!T103=\"\",\"\",[2]Paramètres!T103)","v":""},{"$f":"IF([2]Paramètres!U103=\"\",\"\",[2]Paramètres!U103)","v":""},{"$f":"IF([2]Paramètres!V103=\"\",\"\",[2]Paramètres!V103)","v":""},{"$f":"IF([2]Paramètres!W103=\"\",\"\",[2]Paramètres!W103)","v":""},{"$f":"IF([2]Paramètres!X103=\"\",\"\",[2]Paramètres!X103)","v":""},{"$f":"IF([2]Paramètres!Y103=\"\",\"\",[2]Paramètres!Y103)","v":""},{"$f":"IF([2]Paramètres!Z103=\"\",\"\",[2]Paramètres!Z103)","v":""}]
[{"$f":"IF([2]Paramètres!A104=\"\",\"\",[2]Paramètres!A104)","v":"Weyermann Cara Hell"},{"$f":"IF([2]Paramètres!B104=\"\",\"\",[2]Paramètres!B104)","v":0.76},{"$f":"IF([2]Paramètres!C104=\"\",\"\",[2]Paramètres!C104)","v":25},{"$f":"IF([2]Paramètres!D104=\"\",\"\",[2]Paramètres!D104)","v":0.3},{"$f":"IF([2]Paramètres!E104=\"\",\"\",[2]Paramètres!E104)","v":5.17},{"$f":"IF([2]Paramètres!F104=\"\",\"\",[2]Paramètres!F104)","v":""},{"$f":"IF([2]Paramètres!G104=\"\",\"\",[2]Paramètres!G104)","v":""},{"$f":"IF([2]Paramètres!H104=\"\",\"\",[2]Paramètres!H104)","v":""},{"$f":"IF([2]Paramètres!I104=\"\",\"\",[2]Paramètres!I104)","v":""},{"$f":"IF([2]Paramètres!J104=\"\",\"\",[2]Paramètres!J104)","v":"Lallemand Koln (Kolsch style)"},{"$f":"IF([2]Paramètres!K104=\"\",\"\",[2]Paramètres!K104)","v":"Sèche"},{"$f":"IF([2]Paramètres!L104=\"\",\"\",[2]Paramètres!L104)","v":0.75},{"$f":"IF([2]Paramètres!M104=\"\",\"\",[2]Paramètres!M104)","v":0.79},{"$f":"IF([2]Paramètres!N104=\"\",\"\",[2]Paramètres!N104)","v":0.77},{"$f":"IF([2]Paramètres!O104=\"\",\"\",[2]Paramètres!O104)","v":12},{"$f":"IF([2]Paramètres!P104=\"\",\"\",[2]Paramètres!P104)","v":20},{"$f":"IF([2]Paramètres!Q104=\"\",\"\",[2]Paramètres!Q104)","v":"Moyenne"},{"$f":"IF([2]Paramètres!R104=\"\",\"\",[2]Paramètres!R104)","v":""},{"$f":"IF([2]Paramètres!S104=\"\",\"\",[2]Paramètres!S104)","v":""},{"$f":"IF([2]Paramètres!T104=\"\",\"\",[2]Paramètres!T104)","v":""},{"$f":"IF([2]Paramètres!U104=\"\",\"\",[2]Paramètres!U104)","v":""},{"$f":"IF([2]Paramètres!V104=\"\",\"\",[2]Paramètres!V104)","v":""},{"$f":"IF([2]Paramètres!W104=\"\",\"\",[2]Paramètres!W104)","v":""},{"$f":"IF([2]Paramètres!X104=\"\",\"\",[2]Paramètres!X104)","v":""},{"$f":"IF([2]Paramètres!Y104=\"\",\"\",[2]Paramètres!Y104)","v":""},{"$f":"IF([2]Paramètres!Z104=\"\",\"\",[2]Paramètres!Z104)","v":""}]
[{"$f":"IF([2]Paramètres!A105=\"\",\"\",[2]Paramètres!A105)","v":"Weyermann Cara Munich I"},{"$f":"IF([2]Paramètres!B105=\"\",\"\",[2]Paramètres!B105)","v":0.77},{"$f":"IF([2]Paramètres!C105=\"\",\"\",[2]Paramètres!C105)","v":90},{"$f":"IF([2]Paramètres!D105=\"\",\"\",[2]Paramètres!D105)","v":0.1},{"$f":"IF([2]Paramètres!E105=\"\",\"\",[2]Paramètres!E105)","v":5.05},{"$f":"IF([2]Paramètres!F105=\"\",\"\",[2]Paramètres!F105)","v":""},{"$f":"IF([2]Paramètres!G105=\"\",\"\",[2]Paramètres!G105)","v":""},{"$f":"IF([2]Paramètres!H105=\"\",\"\",[2]Paramètres!H105)","v":""},{"$f":"IF([2]Paramètres!I105=\"\",\"\",[2]Paramètres!I105)","v":""},{"$f":"IF([2]Paramètres!J105=\"\",\"\",[2]Paramètres!J105)","v":"Lallemand London ESB"},{"$f":"IF([2]Paramètres!K105=\"\",\"\",[2]Paramètres!K105)","v":"Sèche"},{"$f":"IF([2]Paramètres!L105=\"\",\"\",[2]Paramètres!L105)","v":0.71},{"$f":"IF([2]Paramètres!M105=\"\",\"\",[2]Paramètres!M105)","v":0.74},{"$f":"IF([2]Paramètres!N105=\"\",\"\",[2]Paramètres!N105)","v":0.72499999999999998},{"$f":"IF([2]Paramètres!O105=\"\",\"\",[2]Paramètres!O105)","v":18},{"$f":"IF([2]Paramètres!P105=\"\",\"\",[2]Paramètres!P105)","v":22},{"$f":"IF([2]Paramètres!Q105=\"\",\"\",[2]Paramètres!Q105)","v":"Faible"},{"$f":"IF([2]Paramètres!R105=\"\",\"\",[2]Paramètres!R105)","v":""},{"$f":"IF([2]Paramètres!S105=\"\",\"\",[2]Paramètres!S105)","v":""},{"$f":"IF([2]Paramètres!T105=\"\",\"\",[2]Paramètres!T105)","v":""},{"$f":"IF([2]Paramètres!U105=\"\",\"\",[2]Paramètres!U105)","v":""},{"$f":"IF([2]Paramètres!V105=\"\",\"\",[2]Paramètres!V105)","v":""},{"$f":"IF([2]Paramètres!W105=\"\",\"\",[2]Paramètres!W105)","v":""},{"$f":"IF([2]Paramètres!X105=\"\",\"\",[2]Paramètres!X105)","v":""},{"$f":"IF([2]Paramètres!Y105=\"\",\"\",[2]Paramètres!Y105)","v":""},{"$f":"IF([2]Paramètres!Z105=\"\",\"\",[2]Paramètres!Z105)","v":""}]
[{"$f":"IF([2]Paramètres!A106=\"\",\"\",[2]Paramètres!A106)","v":"Weyermann Cara Munich II"},{"$f":"IF([2]Paramètres!B106=\"\",\"\",[2]Paramètres!B106)","v":0.75},{"$f":"IF([2]Paramètres!C106=\"\",\"\",[2]Paramètres!C106)","v":120},{"$f":"IF([2]Paramètres!D106=\"\",\"\",[2]Paramètres!D106)","v":0.2},{"$f":"IF([2]Paramètres!E106=\"\",\"\",[2]Paramètres!E106)","v":5},{"$f":"IF([2]Paramètres!F106=\"\",\"\",[2]Paramètres!F106)","v":""},{"$f":"IF([2]Paramètres!G106=\"\",\"\",[2]Paramètres!G106)","v":""},{"$f":"IF([2]Paramètres!H106=\"\",\"\",[2]Paramètres!H106)","v":""},{"$f":"IF([2]Paramètres!I106=\"\",\"\",[2]Paramètres!I106)","v":""},{"$f":"IF([2]Paramètres!J106=\"\",\"\",[2]Paramètres!J106)","v":"Lallemand Munich (Classic)"},{"$f":"IF([2]Paramètres!K106=\"\",\"\",[2]Paramètres!K106)","v":"Sèche"},{"$f":"IF([2]Paramètres!L106=\"\",\"\",[2]Paramètres!L106)","v":0.69},{"$f":"IF([2]Paramètres!M106=\"\",\"\",[2]Paramètres!M106)","v":0.71},{"$f":"IF([2]Paramètres!N106=\"\",\"\",[2]Paramètres!N106)","v":0.7},{"$f":"IF([2]Paramètres!O106=\"\",\"\",[2]Paramètres!O106)","v":17},{"$f":"IF([2]Paramètres!P106=\"\",\"\",[2]Paramètres!P106)","v":22},{"$f":"IF([2]Paramètres!Q106=\"\",\"\",[2]Paramètres!Q106)","v":"Moyenne"},{"$f":"IF([2]Paramètres!R106=\"\",\"\",[2]Paramètres!R106)","v":""},{"$f":"IF([2]Paramètres!S106=\"\",\"\",[2]Paramètres!S106)","v":""},{"$f":"IF([2]Paramètres!T106=\"\",\"\",[2]Paramètres!T106)","v":""},{"$f":"IF([2]Paramètres!U106=\"\",\"\",[2]Paramètres!U106)","v":""},{"$f":"IF([2]Paramètres!V106=\"\",\"\",[2]Paramètres!V106)","v":""},{"$f":"IF([2]Paramètres!W106=\"\",\"\",[2]Paramètres!W106)","v":""},{"$f":"IF([2]Paramètres!X106=\"\",\"\",[2]Paramètres!X106)","v":""},{"$f":"IF([2]Paramètres!Y106=\"\",\"\",[2]Paramètres!Y106)","v":""},{"$f":"IF([2]Paramètres!Z106=\"\",\"\",[2]Paramètres!Z106)","v":""}]
[{"$f":"IF([2]Paramètres!A107=\"\",\"\",[2]Paramètres!A107)","v":"Weyermann Cara Munich III"},{"$f":"IF([2]Paramètres!B107=\"\",\"\",[2]Paramètres!B107)","v":0.78},{"$f":"IF([2]Paramètres!C107=\"\",\"\",[2]Paramètres!C107)","v":150},{"$f":"IF([2]Paramètres!D107=\"\",\"\",[2]Paramètres!D107)","v":0.1},{"$f":"IF([2]Paramètres!E107=\"\",\"\",[2]Paramètres!E107)","v":4.9000000000000004},{"$f":"IF([2]Paramètres!F107=\"\",\"\",[2]Paramètres!F107)","v":""},{"$f":"IF([2]Paramètres!G107=\"\",\"\",[2]Paramètres!G107)","v":""},{"$f":"IF([2]Paramètres!H107=\"\",\"\",[2]Paramètres!H107)","v":""},{"$f":"IF([2]Paramètres!I107=\"\",\"\",[2]Paramètres!I107)","v":""},{"$f":"IF([2]Paramètres!J107=\"\",\"\",[2]Paramètres!J107)","v":"Lallemand New England"},{"$f":"IF([2]Paramètres!K107=\"\",\"\",[2]Paramètres!K107)","v":"Sèche"},{"$f":"IF([2]Paramètres!L107=\"\",\"\",[2]Paramètres!L107)","v":0.76},{"$f":"IF([2]Paramètres!M107=\"\",\"\",[2]Paramètres!M107)","v":0.8},{"$f":"IF([2]Paramètres!N107=\"\",\"\",[2]Paramètres!N107)","v":0.78},{"$f":"IF([2]Paramètres!O107=\"\",\"\",[2]Paramètres!O107)","v":15},{"$f":"IF([2]Paramètres!P107=\"\",\"\",[2]Paramètres!P107)","v":22},{"$f":"IF([2]Paramètres!Q107=\"\",\"\",[2]Paramètres!Q107)","v":"Forte"},{"$f":"IF([2]Paramètres!R107=\"\",\"\",[2]Paramètres!R107)","v":""},{"$f":"IF([2]Paramètres!S107=\"\",\"\",[2]Paramètres!S107)","v":""},{"$f":"IF([2]Paramètres!T107=\"\",\"\",[2]Paramètres!T107)","v":""},{"$f":"IF([2]Paramètres!U107=\"\",\"\",[2]Paramètres!U107)","v":""},{"$f":"IF([2]Paramètres!V107=\"\",\"\",[2]Paramètres!V107)","v":""},{"$f":"IF([2]Paramètres!W107=\"\",\"\",[2]Paramètres!W107)","v":""},{"$f":"IF([2]Paramètres!X107=\"\",\"\",[2]Paramètres!X107)","v":""},{"$f":"IF([2]Paramètres!Y107=\"\",\"\",[2]Paramètres!Y107)","v":""},{"$f":"IF([2]Paramètres!Z107=\"\",\"\",[2]Paramètres!Z107)","v":""}]
[{"$f":"IF([2]Paramètres!A108=\"\",\"\",[2]Paramètres!A108)","v":"Weyermann Cara Red"},{"$f":"IF([2]Paramètres!B108=\"\",\"\",[2]Paramètres!B108)","v":0.77},{"$f":"IF([2]Paramètres!C108=\"\",\"\",[2]Paramètres!C108)","v":50},{"$f":"IF([2]Paramètres!D108=\"\",\"\",[2]Paramètres!D108)","v":0.25},{"$f":"IF([2]Paramètres!E108=\"\",\"\",[2]Paramètres!E108)","v":5.12},{"$f":"IF([2]Paramètres!F108=\"\",\"\",[2]Paramètres!F108)","v":""},{"$f":"IF([2]Paramètres!G108=\"\",\"\",[2]Paramètres!G108)","v":""},{"$f":"IF([2]Paramètres!H108=\"\",\"\",[2]Paramètres!H108)","v":""},{"$f":"IF([2]Paramètres!I108=\"\",\"\",[2]Paramètres!I108)","v":""},{"$f":"IF([2]Paramètres!J108=\"\",\"\",[2]Paramètres!J108)","v":"Lallemand Nottingham"},{"$f":"IF([2]Paramètres!K108=\"\",\"\",[2]Paramètres!K108)","v":"Sèche"},{"$f":"IF([2]Paramètres!L108=\"\",\"\",[2]Paramètres!L108)","v":0.76},{"$f":"IF([2]Paramètres!M108=\"\",\"\",[2]Paramètres!M108)","v":0.79},{"$f":"IF([2]Paramètres!N108=\"\",\"\",[2]Paramètres!N108)","v":0.77500000000000002},{"$f":"IF([2]Paramètres!O108=\"\",\"\",[2]Paramètres!O108)","v":10},{"$f":"IF([2]Paramètres!P108=\"\",\"\",[2]Paramètres!P108)","v":22},{"$f":"IF([2]Paramètres!Q108=\"\",\"\",[2]Paramètres!Q108)","v":"Forte"},{"$f":"IF([2]Paramètres!R108=\"\",\"\",[2]Paramètres!R108)","v":""},{"$f":"IF([2]Paramètres!S108=\"\",\"\",[2]Paramètres!S108)","v":""},{"$f":"IF([2]Paramètres!T108=\"\",\"\",[2]Paramètres!T108)","v":""},{"$f":"IF([2]Paramètres!U108=\"\",\"\",[2]Paramètres!U108)","v":""},{"$f":"IF([2]Paramètres!V108=\"\",\"\",[2]Paramètres!V108)","v":""},{"$f":"IF([2]Paramètres!W108=\"\",\"\",[2]Paramètres!W108)","v":""},{"$f":"IF([2]Paramètres!X108=\"\",\"\",[2]Paramètres!X108)","v":""},{"$f":"IF([2]Paramètres!Y108=\"\",\"\",[2]Paramètres!Y108)","v":""},{"$f":"IF([2]Paramètres!Z108=\"\",\"\",[2]Paramètres!Z108)","v":""}]
[{"$f":"IF([2]Paramètres!A109=\"\",\"\",[2]Paramètres!A109)","v":"Weyermann Carafa spécial I"},{"$f":"IF([2]Paramètres!B109=\"\",\"\",[2]Paramètres!B109)","v":0.55000000000000004},{"$f":"IF([2]Paramètres!C109=\"\",\"\",[2]Paramètres!C109)","v":900},{"$f":"IF([2]Paramètres!D109=\"\",\"\",[2]Paramètres!D109)","v":0.05},{"$f":"IF([2]Paramètres!E109=\"\",\"\",[2]Paramètres!E109)","v":4.71},{"$f":"IF([2]Paramètres!F109=\"\",\"\",[2]Paramètres!F109)","v":""},{"$f":"IF([2]Paramètres!G109=\"\",\"\",[2]Paramètres!G109)","v":""},{"$f":"IF([2]Paramètres!H109=\"\",\"\",[2]Paramètres!H109)","v":""},{"$f":"IF([2]Paramètres!I109=\"\",\"\",[2]Paramètres!I109)","v":""},{"$f":"IF([2]Paramètres!J109=\"\",\"\",[2]Paramètres!J109)","v":"Lallemand Voss Kveik"},{"$f":"IF([2]Paramètres!K109=\"\",\"\",[2]Paramètres!K109)","v":"Sèche"},{"$f":"IF([2]Paramètres!L109=\"\",\"\",[2]Paramètres!L109)","v":0.76},{"$f":"IF([2]Paramètres!M109=\"\",\"\",[2]Paramètres!M109)","v":0.8},{"$f":"IF([2]Paramètres!N109=\"\",\"\",[2]Paramètres!N109)","v":0.78},{"$f":"IF([2]Paramètres!O109=\"\",\"\",[2]Paramètres!O109)","v":25},{"$f":"IF([2]Paramètres!P109=\"\",\"\",[2]Paramètres!P109)","v":40},{"$f":"IF([2]Paramètres!Q109=\"\",\"\",[2]Paramètres!Q109)","v":"Moyenne"},{"$f":"IF([2]Paramètres!R109=\"\",\"\",[2]Paramètres!R109)","v":""},{"$f":"IF([2]Paramètres!S109=\"\",\"\",[2]Paramètres!S109)","v":""},{"$f":"IF([2]Paramètres!T109=\"\",\"\",[2]Paramètres!T109)","v":""},{"$f":"IF([2]Paramètres!U109=\"\",\"\",[2]Paramètres!U109)","v":""},{"$f":"IF([2]Paramètres!V109=\"\",\"\",[2]Paramètres!V109)","v":""},{"$f":"IF([2]Paramètres!W109=\"\",\"\",[2]Paramètres!W109)","v":""},{"$f":"IF([2]Paramètres!X109=\"\",\"\",[2]Paramètres!X109)","v":""},{"$f":"IF([2]Paramètres!Y109=\"\",\"\",[2]Paramètres!Y109)","v":""},{"$f":"IF([2]Paramètres!Z109=\"\",\"\",[2]Paramètres!Z109)","v":""}]
[{"$f":"IF([2]Paramètres!A110=\"\",\"\",[2]Paramètres!A110)","v":"Weyermann Carafa spécial II"},{"$f":"IF([2]Paramètres!B110=\"\",\"\",[2]Paramètres!B110)","v":0.77},{"$f":"IF([2]Paramètres!C110=\"\",\"\",[2]Paramètres!C110)","v":1150},{"$f":"IF([2]Paramètres!D110=\"\",\"\",[2]Paramètres!D110)","v":0.05},{"$f":"IF([2]Paramètres!E110=\"\",\"\",[2]Paramètres!E110)","v":4.7},{"$f":"IF([2]Paramètres!F110=\"\",\"\",[2]Paramètres!F110)","v":""},{"$f":"IF([2]Paramètres!G110=\"\",\"\",[2]Paramètres!G110)","v":""},{"$f":"IF([2]Paramètres!H110=\"\",\"\",[2]Paramètres!H110)","v":""},{"$f":"IF([2]Paramètres!I110=\"\",\"\",[2]Paramètres!I110)","v":""},{"$f":"IF([2]Paramètres!J110=\"\",\"\",[2]Paramètres!J110)","v":"Lallemand Windsor"},{"$f":"IF([2]Paramètres!K110=\"\",\"\",[2]Paramètres!K110)","v":"Sèche"},{"$f":"IF([2]Paramètres!L110=\"\",\"\",[2]Paramètres!L110)","v":0.74},{"$f":"IF([2]Paramètres!M110=\"\",\"\",[2]Paramètres!M110)","v":0.76},{"$f":"IF([2]Paramètres!N110=\"\",\"\",[2]Paramètres!N110)","v":0.75},{"$f":"IF([2]Paramètres!O110=\"\",\"\",[2]Paramètres!O110)","v":15},{"$f":"IF([2]Paramètres!P110=\"\",\"\",[2]Paramètres!P110)","v":22},{"$f":"IF([2]Paramètres!Q110=\"\",\"\",[2]Paramètres!Q110)","v":"Forte"},{"$f":"IF([2]Paramètres!R110=\"\",\"\",[2]Paramètres!R110)","v":""},{"$f":"IF([2]Paramètres!S110=\"\",\"\",[2]Paramètres!S110)","v":""},{"$f":"IF([2]Paramètres!T110=\"\",\"\",[2]Paramètres!T110)","v":""},{"$f":"IF([2]Paramètres!U110=\"\",\"\",[2]Paramètres!U110)","v":""},{"$f":"IF([2]Paramètres!V110=\"\",\"\",[2]Paramètres!V110)","v":""},{"$f":"IF([2]Paramètres!W110=\"\",\"\",[2]Paramètres!W110)","v":""},{"$f":"IF([2]Paramètres!X110=\"\",\"\",[2]Paramètres!X110)","v":""},{"$f":"IF([2]Paramètres!Y110=\"\",\"\",[2]Paramètres!Y110)","v":""},{"$f":"IF([2]Paramètres!Z110=\"\",\"\",[2]Paramètres!Z110)","v":""}]
[{"$f":"IF([2]Paramètres!A111=\"\",\"\",[2]Paramètres!A111)","v":"Weyermann Carafa spécial III"},{"$f":"IF([2]Paramètres!B111=\"\",\"\",[2]Paramètres!B111)","v":0.6},{"$f":"IF([2]Paramètres!C111=\"\",\"\",[2]Paramètres!C111)","v":1400},{"$f":"IF([2]Paramètres!D111=\"\",\"\",[2]Paramètres!D111)","v":0.05},{"$f":"IF([2]Paramètres!E111=\"\",\"\",[2]Paramètres!E111)","v":3.33},{"$f":"IF([2]Paramètres!F111=\"\",\"\",[2]Paramètres!F111)","v":""},{"$f":"IF([2]Paramètres!G111=\"\",\"\",[2]Paramètres!G111)","v":""},{"$f":"IF([2]Paramètres!H111=\"\",\"\",[2]Paramètres!H111)","v":""},{"$f":"IF([2]Paramètres!I111=\"\",\"\",[2]Paramètres!I111)","v":""},{"$f":"IF([2]Paramètres!J111=\"\",\"\",[2]Paramètres!J111)","v":"Mangrove Jack - Bavarian Lager M76"},{"$f":"IF([2]Paramètres!K111=\"\",\"\",[2]Paramètres!K111)","v":"Sèche"},{"$f":"IF([2]Paramètres!L111=\"\",\"\",[2]Paramètres!L111)","v":0.75},{"$f":"IF([2]Paramètres!M111=\"\",\"\",[2]Paramètres!M111)","v":0.8},{"$f":"IF([2]Paramètres!N111=\"\",\"\",[2]Paramètres!N111)","v":0.77500000000000002},{"$f":"IF([2]Paramètres!O111=\"\",\"\",[2]Paramètres!O111)","v":7.2},{"$f":"IF([2]Paramètres!P111=\"\",\"\",[2]Paramètres!P111)","v":13.9},{"$f":"IF([2]Paramètres!Q111=\"\",\"\",[2]Paramètres!Q111)","v":"Moyenne"},{"$f":"IF([2]Paramètres!R111=\"\",\"\",[2]Paramètres!R111)","v":""},{"$f":"IF([2]Paramètres!S111=\"\",\"\",[2]Paramètres!S111)","v":""},{"$f":"IF([2]Paramètres!T111=\"\",\"\",[2]Paramètres!T111)","v":""},{"$f":"IF([2]Paramètres!U111=\"\",\"\",[2]Paramètres!U111)","v":""},{"$f":"IF([2]Paramètres!V111=\"\",\"\",[2]Paramètres!V111)","v":""},{"$f":"IF([2]Paramètres!W111=\"\",\"\",[2]Paramètres!W111)","v":""},{"$f":"IF([2]Paramètres!X111=\"\",\"\",[2]Paramètres!X111)","v":""},{"$f":"IF([2]Paramètres!Y111=\"\",\"\",[2]Paramètres!Y111)","v":""},{"$f":"IF([2]Paramètres!Z111=\"\",\"\",[2]Paramètres!Z111)","v":""}]
[{"$f":"IF([2]Paramètres!A112=\"\",\"\",[2]Paramètres!A112)","v":"Weyermann CaraPils (Dextrine)"},{"$f":"IF([2]Paramètres!B112=\"\",\"\",[2]Paramètres!B112)","v":0.78},{"$f":"IF([2]Paramètres!C112=\"\",\"\",[2]Paramètres!C112)","v":5},{"$f":"IF([2]Paramètres!D112=\"\",\"\",[2]Paramètres!D112)","v":0.4},{"$f":"IF([2]Paramètres!E112=\"\",\"\",[2]Paramètres!E112)","v":5.2},{"$f":"IF([2]Paramètres!F112=\"\",\"\",[2]Paramètres!F112)","v":""},{"$f":"IF([2]Paramètres!G112=\"\",\"\",[2]Paramètres!G112)","v":""},{"$f":"IF([2]Paramètres!H112=\"\",\"\",[2]Paramètres!H112)","v":""},{"$f":"IF([2]Paramètres!I112=\"\",\"\",[2]Paramètres!I112)","v":""},{"$f":"IF([2]Paramètres!J112=\"\",\"\",[2]Paramètres!J112)","v":"Mangrove Jack - Bavarian Wheat M20"},{"$f":"IF([2]Paramètres!K112=\"\",\"\",[2]Paramètres!K112)","v":"Sèche"},{"$f":"IF([2]Paramètres!L112=\"\",\"\",[2]Paramètres!L112)","v":0.7},{"$f":"IF([2]Paramètres!M112=\"\",\"\",[2]Paramètres!M112)","v":0.75},{"$f":"IF([2]Paramètres!N112=\"\",\"\",[2]Paramètres!N112)","v":0.72499999999999998},{"$f":"IF([2]Paramètres!O112=\"\",\"\",[2]Paramètres!O112)","v":17.8},{"$f":"IF([2]Paramètres!P112=\"\",\"\",[2]Paramètres!P112)","v":30},{"$f":"IF([2]Paramètres!Q112=\"\",\"\",[2]Paramètres!Q112)","v":"Moyenne – Basse"},{"$f":"IF([2]Paramètres!R112=\"\",\"\",[2]Paramètres!R112)","v":""},{"$f":"IF([2]Paramètres!S112=\"\",\"\",[2]Paramètres!S112)","v":""},{"$f":"IF([2]Paramètres!T112=\"\",\"\",[2]Paramètres!T112)","v":""},{"$f":"IF([2]Paramètres!U112=\"\",\"\",[2]Paramètres!U112)","v":""},{"$f":"IF([2]Paramètres!V112=\"\",\"\",[2]Paramètres!V112)","v":""},{"$f":"IF([2]Paramètres!W112=\"\",\"\",[2]Paramètres!W112)","v":""},{"$f":"IF([2]Paramètres!X112=\"\",\"\",[2]Paramètres!X112)","v":""},{"$f":"IF([2]Paramètres!Y112=\"\",\"\",[2]Paramètres!Y112)","v":""},{"$f":"IF([2]Paramètres!Z112=\"\",\"\",[2]Paramètres!Z112)","v":""}]
[{"$f":"IF([2]Paramètres!A113=\"\",\"\",[2]Paramètres!A113)","v":"Weyermann Diastatic (orge/blé)"},{"$f":"IF([2]Paramètres!B113=\"\",\"\",[2]Paramètres!B113)","v":0.8},{"$f":"IF([2]Paramètres!C113=\"\",\"\",[2]Paramètres!C113)","v":3},{"$f":"IF([2]Paramètres!D113=\"\",\"\",[2]Paramètres!D113)","v":0.3},{"$f":"IF([2]Paramètres!E113=\"\",\"\",[2]Paramètres!E113)","v":5.7},{"$f":"IF([2]Paramètres!F113=\"\",\"\",[2]Paramètres!F113)","v":""},{"$f":"IF([2]Paramètres!G113=\"\",\"\",[2]Paramètres!G113)","v":""},{"$f":"IF([2]Paramètres!H113=\"\",\"\",[2]Paramètres!H113)","v":""},{"$f":"IF([2]Paramètres!I113=\"\",\"\",[2]Paramètres!I113)","v":""},{"$f":"IF([2]Paramètres!J113=\"\",\"\",[2]Paramètres!J113)","v":"Mangrove Jack - Belgian Abbey M47"},{"$f":"IF([2]Paramètres!K113=\"\",\"\",[2]Paramètres!K113)","v":"Sèche"},{"$f":"IF([2]Paramètres!L113=\"\",\"\",[2]Paramètres!L113)","v":0.73},{"$f":"IF([2]Paramètres!M113=\"\",\"\",[2]Paramètres!M113)","v":0.77},{"$f":"IF([2]Paramètres!N113=\"\",\"\",[2]Paramètres!N113)","v":0.75},{"$f":"IF([2]Paramètres!O113=\"\",\"\",[2]Paramètres!O113)","v":17.8},{"$f":"IF([2]Paramètres!P113=\"\",\"\",[2]Paramètres!P113)","v":25},{"$f":"IF([2]Paramètres!Q113=\"\",\"\",[2]Paramètres!Q113)","v":"Moyenne – Haute"},{"$f":"IF([2]Paramètres!R113=\"\",\"\",[2]Paramètres!R113)","v":""},{"$f":"IF([2]Paramètres!S113=\"\",\"\",[2]Paramètres!S113)","v":""},{"$f":"IF([2]Paramètres!T113=\"\",\"\",[2]Paramètres!T113)","v":""},{"$f":"IF([2]Paramètres!U113=\"\",\"\",[2]Paramètres!U113)","v":""},{"$f":"IF([2]Paramètres!V113=\"\",\"\",[2]Paramètres!V113)","v":""},{"$f":"IF([2]Paramètres!W113=\"\",\"\",[2]Paramètres!W113)","v":""},{"$f":"IF([2]Paramètres!X113=\"\",\"\",[2]Paramètres!X113)","v":""},{"$f":"IF([2]Paramètres!Y113=\"\",\"\",[2]Paramètres!Y113)","v":""},{"$f":"IF([2]Paramètres!Z113=\"\",\"\",[2]Paramètres!Z113)","v":""}]
[{"$f":"IF([2]Paramètres!A114=\"\",\"\",[2]Paramètres!A114)","v":"Weyermann Epeautre Choco (Spelt)"},{"$f":"IF([2]Paramètres!B114=\"\",\"\",[2]Paramètres!B114)","v":0.7},{"$f":"IF([2]Paramètres!C114=\"\",\"\",[2]Paramètres!C114)","v":550},{"$f":"IF([2]Paramètres!D114=\"\",\"\",[2]Paramètres!D114)","v":0.06},{"$f":"IF([2]Paramètres!E114=\"\",\"\",[2]Paramètres!E114)","v":4.7},{"$f":"IF([2]Paramètres!F114=\"\",\"\",[2]Paramètres!F114)","v":""},{"$f":"IF([2]Paramètres!G114=\"\",\"\",[2]Paramètres!G114)","v":""},{"$f":"IF([2]Paramètres!H114=\"\",\"\",[2]Paramètres!H114)","v":""},{"$f":"IF([2]Paramètres!I114=\"\",\"\",[2]Paramètres!I114)","v":""},{"$f":"IF([2]Paramètres!J114=\"\",\"\",[2]Paramètres!J114)","v":"Mangrove Jack - Belgian Ale M41"},{"$f":"IF([2]Paramètres!K114=\"\",\"\",[2]Paramètres!K114)","v":"Sèche"},{"$f":"IF([2]Paramètres!L114=\"\",\"\",[2]Paramètres!L114)","v":0.82},{"$f":"IF([2]Paramètres!M114=\"\",\"\",[2]Paramètres!M114)","v":0.88},{"$f":"IF([2]Paramètres!N114=\"\",\"\",[2]Paramètres!N114)","v":0.85},{"$f":"IF([2]Paramètres!O114=\"\",\"\",[2]Paramètres!O114)","v":17.8},{"$f":"IF([2]Paramètres!P114=\"\",\"\",[2]Paramètres!P114)","v":27.8},{"$f":"IF([2]Paramètres!Q114=\"\",\"\",[2]Paramètres!Q114)","v":"Moyenne"},{"$f":"IF([2]Paramètres!R114=\"\",\"\",[2]Paramètres!R114)","v":""},{"$f":"IF([2]Paramètres!S114=\"\",\"\",[2]Paramètres!S114)","v":""},{"$f":"IF([2]Paramètres!T114=\"\",\"\",[2]Paramètres!T114)","v":""},{"$f":"IF([2]Paramètres!U114=\"\",\"\",[2]Paramètres!U114)","v":""},{"$f":"IF([2]Paramètres!V114=\"\",\"\",[2]Paramètres!V114)","v":""},{"$f":"IF([2]Paramètres!W114=\"\",\"\",[2]Paramètres!W114)","v":""},{"$f":"IF([2]Paramètres!X114=\"\",\"\",[2]Paramètres!X114)","v":""},{"$f":"IF([2]Paramètres!Y114=\"\",\"\",[2]Paramètres!Y114)","v":""},{"$f":"IF([2]Paramètres!Z114=\"\",\"\",[2]Paramètres!Z114)","v":""}]
[{"$f":"IF([2]Paramètres!A115=\"\",\"\",[2]Paramètres!A115)","v":"Weyermann Epeautre malt (Spelt)"},{"$f":"IF([2]Paramètres!B115=\"\",\"\",[2]Paramètres!B115)","v":0.75},{"$f":"IF([2]Paramètres!C115=\"\",\"\",[2]Paramètres!C115)","v":5},{"$f":"IF([2]Paramètres!D115=\"\",\"\",[2]Paramètres!D115)","v":0.15},{"$f":"IF([2]Paramètres!E115=\"\",\"\",[2]Paramètres!E115)","v":5.8},{"$f":"IF([2]Paramètres!F115=\"\",\"\",[2]Paramètres!F115)","v":""},{"$f":"IF([2]Paramètres!G115=\"\",\"\",[2]Paramètres!G115)","v":""},{"$f":"IF([2]Paramètres!H115=\"\",\"\",[2]Paramètres!H115)","v":""},{"$f":"IF([2]Paramètres!I115=\"\",\"\",[2]Paramètres!I115)","v":""},{"$f":"IF([2]Paramètres!J115=\"\",\"\",[2]Paramètres!J115)","v":"Mangrove Jack - Belgian Tripel M31"},{"$f":"IF([2]Paramètres!K115=\"\",\"\",[2]Paramètres!K115)","v":"Sèche"},{"$f":"IF([2]Paramètres!L115=\"\",\"\",[2]Paramètres!L115)","v":0.82},{"$f":"IF([2]Paramètres!M115=\"\",\"\",[2]Paramètres!M115)","v":0.88},{"$f":"IF([2]Paramètres!N115=\"\",\"\",[2]Paramètres!N115)","v":0.85},{"$f":"IF([2]Paramètres!O115=\"\",\"\",[2]Paramètres!O115)","v":17.8},{"$f":"IF([2]Paramètres!P115=\"\",\"\",[2]Paramètres!P115)","v":27.8},{"$f":"IF([2]Paramètres!Q115=\"\",\"\",[2]Paramètres!Q115)","v":"Moyenne – Basse"},{"$f":"IF([2]Paramètres!R115=\"\",\"\",[2]Paramètres!R115)","v":""},{"$f":"IF([2]Paramètres!S115=\"\",\"\",[2]Paramètres!S115)","v":""},{"$f":"IF([2]Paramètres!T115=\"\",\"\",[2]Paramètres!T115)","v":""},{"$f":"IF([2]Paramètres!U115=\"\",\"\",[2]Paramètres!U115)","v":""},{"$f":"IF([2]Paramètres!V115=\"\",\"\",[2]Paramètres!V115)","v":""},{"$f":"IF([2]Paramètres!W115=\"\",\"\",[2]Paramètres!W115)","v":""},{"$f":"IF([2]Paramètres!X115=\"\",\"\",[2]Paramètres!X115)","v":""},{"$f":"IF([2]Paramètres!Y115=\"\",\"\",[2]Paramètres!Y115)","v":""},{"$f":"IF([2]Paramètres!Z115=\"\",\"\",[2]Paramètres!Z115)","v":""}]
[{"$f":"IF([2]Paramètres!A116=\"\",\"\",[2]Paramètres!A116)","v":"Weyermann Froment Cara (Wheat)"},{"$f":"IF([2]Paramètres!B116=\"\",\"\",[2]Paramètres!B116)","v":0.8},{"$f":"IF([2]Paramètres!C116=\"\",\"\",[2]Paramètres!C116)","v":125},{"$f":"IF([2]Paramètres!D116=\"\",\"\",[2]Paramètres!D116)","v":0.15},{"$f":"IF([2]Paramètres!E116=\"\",\"\",[2]Paramètres!E116)","v":4.9800000000000004},{"$f":"IF([2]Paramètres!F116=\"\",\"\",[2]Paramètres!F116)","v":""},{"$f":"IF([2]Paramètres!G116=\"\",\"\",[2]Paramètres!G116)","v":""},{"$f":"IF([2]Paramètres!H116=\"\",\"\",[2]Paramètres!H116)","v":""},{"$f":"IF([2]Paramètres!I116=\"\",\"\",[2]Paramètres!I116)","v":""},{"$f":"IF([2]Paramètres!J116=\"\",\"\",[2]Paramètres!J116)","v":"Mangrove Jack - Belgian Wit M21"},{"$f":"IF([2]Paramètres!K116=\"\",\"\",[2]Paramètres!K116)","v":"Sèche"},{"$f":"IF([2]Paramètres!L116=\"\",\"\",[2]Paramètres!L116)","v":0.7},{"$f":"IF([2]Paramètres!M116=\"\",\"\",[2]Paramètres!M116)","v":0.75},{"$f":"IF([2]Paramètres!N116=\"\",\"\",[2]Paramètres!N116)","v":0.72499999999999998},{"$f":"IF([2]Paramètres!O116=\"\",\"\",[2]Paramètres!O116)","v":17.8},{"$f":"IF([2]Paramètres!P116=\"\",\"\",[2]Paramètres!P116)","v":25},{"$f":"IF([2]Paramètres!Q116=\"\",\"\",[2]Paramètres!Q116)","v":"Moyenne – Basse"},{"$f":"IF([2]Paramètres!R116=\"\",\"\",[2]Paramètres!R116)","v":""},{"$f":"IF([2]Paramètres!S116=\"\",\"\",[2]Paramètres!S116)","v":""},{"$f":"IF([2]Paramètres!T116=\"\",\"\",[2]Paramètres!T116)","v":""},{"$f":"IF([2]Paramètres!U116=\"\",\"\",[2]Paramètres!U116)","v":""},{"$f":"IF([2]Paramètres!V116=\"\",\"\",[2]Paramètres!V116)","v":""},{"$f":"IF([2]Paramètres!W116=\"\",\"\",[2]Paramètres!W116)","v":""},{"$f":"IF([2]Paramètres!X116=\"\",\"\",[2]Paramètres!X116)","v":""},{"$f":"IF([2]Paramètres!Y116=\"\",\"\",[2]Paramètres!Y116)","v":""},{"$f":"IF([2]Paramètres!Z116=\"\",\"\",[2]Paramètres!Z116)","v":""}]
[{"$f":"IF([2]Paramètres!A117=\"\",\"\",[2]Paramètres!A117)","v":"Weyermann Froment Choco (Wheat)"},{"$f":"IF([2]Paramètres!B117=\"\",\"\",[2]Paramètres!B117)","v":0.75},{"$f":"IF([2]Paramètres!C117=\"\",\"\",[2]Paramètres!C117)","v":1050},{"$f":"IF([2]Paramètres!D117=\"\",\"\",[2]Paramètres!D117)","v":0.05},{"$f":"IF([2]Paramètres!E117=\"\",\"\",[2]Paramètres!E117)","v":4.7},{"$f":"IF([2]Paramètres!F117=\"\",\"\",[2]Paramètres!F117)","v":""},{"$f":"IF([2]Paramètres!G117=\"\",\"\",[2]Paramètres!G117)","v":""},{"$f":"IF([2]Paramètres!H117=\"\",\"\",[2]Paramètres!H117)","v":""},{"$f":"IF([2]Paramètres!I117=\"\",\"\",[2]Paramètres!I117)","v":""},{"$f":"IF([2]Paramètres!J117=\"\",\"\",[2]Paramètres!J117)","v":"Mangrove Jack - Bohemian Lager M84"},{"$f":"IF([2]Paramètres!K117=\"\",\"\",[2]Paramètres!K117)","v":"Sèche"},{"$f":"IF([2]Paramètres!L117=\"\",\"\",[2]Paramètres!L117)","v":0.72},{"$f":"IF([2]Paramètres!M117=\"\",\"\",[2]Paramètres!M117)","v":0.76},{"$f":"IF([2]Paramètres!N117=\"\",\"\",[2]Paramètres!N117)","v":0.74},{"$f":"IF([2]Paramètres!O117=\"\",\"\",[2]Paramètres!O117)","v":10},{"$f":"IF([2]Paramètres!P117=\"\",\"\",[2]Paramètres!P117)","v":15},{"$f":"IF([2]Paramètres!Q117=\"\",\"\",[2]Paramètres!Q117)","v":"Moyenne – Haute"},{"$f":"IF([2]Paramètres!R117=\"\",\"\",[2]Paramètres!R117)","v":""},{"$f":"IF([2]Paramètres!S117=\"\",\"\",[2]Paramètres!S117)","v":""},{"$f":"IF([2]Paramètres!T117=\"\",\"\",[2]Paramètres!T117)","v":""},{"$f":"IF([2]Paramètres!U117=\"\",\"\",[2]Paramètres!U117)","v":""},{"$f":"IF([2]Paramètres!V117=\"\",\"\",[2]Paramètres!V117)","v":""},{"$f":"IF([2]Paramètres!W117=\"\",\"\",[2]Paramètres!W117)","v":""},{"$f":"IF([2]Paramètres!X117=\"\",\"\",[2]Paramètres!X117)","v":""},{"$f":"IF([2]Paramètres!Y117=\"\",\"\",[2]Paramètres!Y117)","v":""},{"$f":"IF([2]Paramètres!Z117=\"\",\"\",[2]Paramètres!Z117)","v":""}]
[{"$f":"IF([2]Paramètres!A118=\"\",\"\",[2]Paramètres!A118)","v":"Weyermann Froment malt (Wheat)"},{"$f":"IF([2]Paramètres!B118=\"\",\"\",[2]Paramètres!B118)","v":0.8},{"$f":"IF([2]Paramètres!C118=\"\",\"\",[2]Paramètres!C118)","v":4},{"$f":"IF([2]Paramètres!D118=\"\",\"\",[2]Paramètres!D118)","v":1},{"$f":"IF([2]Paramètres!E118=\"\",\"\",[2]Paramètres!E118)","v":5.8},{"$f":"IF([2]Paramètres!F118=\"\",\"\",[2]Paramètres!F118)","v":""},{"$f":"IF([2]Paramètres!G118=\"\",\"\",[2]Paramètres!G118)","v":""},{"$f":"IF([2]Paramètres!H118=\"\",\"\",[2]Paramètres!H118)","v":""},{"$f":"IF([2]Paramètres!I118=\"\",\"\",[2]Paramètres!I118)","v":""},{"$f":"IF([2]Paramètres!J118=\"\",\"\",[2]Paramètres!J118)","v":"Mangrove Jack - Californian Lager M54"},{"$f":"IF([2]Paramètres!K118=\"\",\"\",[2]Paramètres!K118)","v":"Sèche"},{"$f":"IF([2]Paramètres!L118=\"\",\"\",[2]Paramètres!L118)","v":0.77},{"$f":"IF([2]Paramètres!M118=\"\",\"\",[2]Paramètres!M118)","v":0.82},{"$f":"IF([2]Paramètres!N118=\"\",\"\",[2]Paramètres!N118)","v":0.79499999999999993},{"$f":"IF([2]Paramètres!O118=\"\",\"\",[2]Paramètres!O118)","v":17.8},{"$f":"IF([2]Paramètres!P118=\"\",\"\",[2]Paramètres!P118)","v":20},{"$f":"IF([2]Paramètres!Q118=\"\",\"\",[2]Paramètres!Q118)","v":"Moyenne – Haute"},{"$f":"IF([2]Paramètres!R118=\"\",\"\",[2]Paramètres!R118)","v":""},{"$f":"IF([2]Paramètres!S118=\"\",\"\",[2]Paramètres!S118)","v":""},{"$f":"IF([2]Paramètres!T118=\"\",\"\",[2]Paramètres!T118)","v":""},{"$f":"IF([2]Paramètres!U118=\"\",\"\",[2]Paramètres!U118)","v":""},{"$f":"IF([2]Paramètres!V118=\"\",\"\",[2]Paramètres!V118)","v":""},{"$f":"IF([2]Paramètres!W118=\"\",\"\",[2]Paramètres!W118)","v":""},{"$f":"IF([2]Paramètres!X118=\"\",\"\",[2]Paramètres!X118)","v":""},{"$f":"IF([2]Paramètres!Y118=\"\",\"\",[2]Paramètres!Y118)","v":""},{"$f":"IF([2]Paramètres!Z118=\"\",\"\",[2]Paramètres!Z118)","v":""}]
[{"$f":"IF([2]Paramètres!A119=\"\",\"\",[2]Paramètres!A119)","v":"Weyermann Froment Sombre (Wheat)"},{"$f":"IF([2]Paramètres!B119=\"\",\"\",[2]Paramètres!B119)","v":0.75},{"$f":"IF([2]Paramètres!C119=\"\",\"\",[2]Paramètres!C119)","v":18},{"$f":"IF([2]Paramètres!D119=\"\",\"\",[2]Paramètres!D119)","v":0.1},{"$f":"IF([2]Paramètres!E119=\"\",\"\",[2]Paramètres!E119)","v":5.3},{"$f":"IF([2]Paramètres!F119=\"\",\"\",[2]Paramètres!F119)","v":""},{"$f":"IF([2]Paramètres!G119=\"\",\"\",[2]Paramètres!G119)","v":""},{"$f":"IF([2]Paramètres!H119=\"\",\"\",[2]Paramètres!H119)","v":""},{"$f":"IF([2]Paramètres!I119=\"\",\"\",[2]Paramètres!I119)","v":""},{"$f":"IF([2]Paramètres!J119=\"\",\"\",[2]Paramètres!J119)","v":"Mangrove Jack - Cider M02"},{"$f":"IF([2]Paramètres!K119=\"\",\"\",[2]Paramètres!K119)","v":"Sèche"},{"$f":"IF([2]Paramètres!L119=\"\",\"\",[2]Paramètres!L119)","v":0.95},{"$f":"IF([2]Paramètres!M119=\"\",\"\",[2]Paramètres!M119)","v":1},{"$f":"IF([2]Paramètres!N119=\"\",\"\",[2]Paramètres!N119)","v":0.97499999999999998},{"$f":"IF([2]Paramètres!O119=\"\",\"\",[2]Paramètres!O119)","v":12.2},{"$f":"IF([2]Paramètres!P119=\"\",\"\",[2]Paramètres!P119)","v":27.8},{"$f":"IF([2]Paramètres!Q119=\"\",\"\",[2]Paramètres!Q119)","v":"Haute"},{"$f":"IF([2]Paramètres!R119=\"\",\"\",[2]Paramètres!R119)","v":""},{"$f":"IF([2]Paramètres!S119=\"\",\"\",[2]Paramètres!S119)","v":""},{"$f":"IF([2]Paramètres!T119=\"\",\"\",[2]Paramètres!T119)","v":""},{"$f":"IF([2]Paramètres!U119=\"\",\"\",[2]Paramètres!U119)","v":""},{"$f":"IF([2]Paramètres!V119=\"\",\"\",[2]Paramètres!V119)","v":""},{"$f":"IF([2]Paramètres!W119=\"\",\"\",[2]Paramètres!W119)","v":""},{"$f":"IF([2]Paramètres!X119=\"\",\"\",[2]Paramètres!X119)","v":""},{"$f":"IF([2]Paramètres!Y119=\"\",\"\",[2]Paramètres!Y119)","v":""},{"$f":"IF([2]Paramètres!Z119=\"\",\"\",[2]Paramètres!Z119)","v":""}]
[{"$f":"IF([2]Paramètres!A120=\"\",\"\",[2]Paramètres!A120)","v":"Weyermann Fumé Chêne (blé)"},{"$f":"IF([2]Paramètres!B120=\"\",\"\",[2]Paramètres!B120)","v":0.76},{"$f":"IF([2]Paramètres!C120=\"\",\"\",[2]Paramètres!C120)","v":5},{"$f":"IF([2]Paramètres!D120=\"\",\"\",[2]Paramètres!D120)","v":0.25},{"$f":"IF([2]Paramètres!E120=\"\",\"\",[2]Paramètres!E120)","v":5.5},{"$f":"IF([2]Paramètres!F120=\"\",\"\",[2]Paramètres!F120)","v":""},{"$f":"IF([2]Paramètres!G120=\"\",\"\",[2]Paramètres!G120)","v":""},{"$f":"IF([2]Paramètres!H120=\"\",\"\",[2]Paramètres!H120)","v":""},{"$f":"IF([2]Paramètres!I120=\"\",\"\",[2]Paramètres!I120)","v":""},{"$f":"IF([2]Paramètres!J120=\"\",\"\",[2]Paramètres!J120)","v":"Mangrove Jack - Empire Ale M15"},{"$f":"IF([2]Paramètres!K120=\"\",\"\",[2]Paramètres!K120)","v":"Sèche"},{"$f":"IF([2]Paramètres!L120=\"\",\"\",[2]Paramètres!L120)","v":0.7},{"$f":"IF([2]Paramètres!M120=\"\",\"\",[2]Paramètres!M120)","v":0.75},{"$f":"IF([2]Paramètres!N120=\"\",\"\",[2]Paramètres!N120)","v":0.72499999999999998},{"$f":"IF([2]Paramètres!O120=\"\",\"\",[2]Paramètres!O120)","v":17.8},{"$f":"IF([2]Paramètres!P120=\"\",\"\",[2]Paramètres!P120)","v":22.2},{"$f":"IF([2]Paramètres!Q120=\"\",\"\",[2]Paramètres!Q120)","v":"Moyenne"},{"$f":"IF([2]Paramètres!R120=\"\",\"\",[2]Paramètres!R120)","v":""},{"$f":"IF([2]Paramètres!S120=\"\",\"\",[2]Paramètres!S120)","v":""},{"$f":"IF([2]Paramètres!T120=\"\",\"\",[2]Paramètres!T120)","v":""},{"$f":"IF([2]Paramètres!U120=\"\",\"\",[2]Paramètres!U120)","v":""},{"$f":"IF([2]Paramètres!V120=\"\",\"\",[2]Paramètres!V120)","v":""},{"$f":"IF([2]Paramètres!W120=\"\",\"\",[2]Paramètres!W120)","v":""},{"$f":"IF([2]Paramètres!X120=\"\",\"\",[2]Paramètres!X120)","v":""},{"$f":"IF([2]Paramètres!Y120=\"\",\"\",[2]Paramètres!Y120)","v":""},{"$f":"IF([2]Paramètres!Z120=\"\",\"\",[2]Paramètres!Z120)","v":""}]
[{"$f":"IF([2]Paramètres!A121=\"\",\"\",[2]Paramètres!A121)","v":"Weyermann Fumé Hêtre (orge)"},{"$f":"IF([2]Paramètres!B121=\"\",\"\",[2]Paramètres!B121)","v":0.76},{"$f":"IF([2]Paramètres!C121=\"\",\"\",[2]Paramètres!C121)","v":6},{"$f":"IF([2]Paramètres!D121=\"\",\"\",[2]Paramètres!D121)","v":0.25},{"$f":"IF([2]Paramètres!E121=\"\",\"\",[2]Paramètres!E121)","v":5.5},{"$f":"IF([2]Paramètres!F121=\"\",\"\",[2]Paramètres!F121)","v":""},{"$f":"IF([2]Paramètres!G121=\"\",\"\",[2]Paramètres!G121)","v":""},{"$f":"IF([2]Paramètres!H121=\"\",\"\",[2]Paramètres!H121)","v":""},{"$f":"IF([2]Paramètres!I121=\"\",\"\",[2]Paramètres!I121)","v":""},{"$f":"IF([2]Paramètres!J121=\"\",\"\",[2]Paramètres!J121)","v":"Mangrove Jack - French Saison Ale M29"},{"$f":"IF([2]Paramètres!K121=\"\",\"\",[2]Paramètres!K121)","v":"Sèche"},{"$f":"IF([2]Paramètres!L121=\"\",\"\",[2]Paramètres!L121)","v":0.85},{"$f":"IF([2]Paramètres!M121=\"\",\"\",[2]Paramètres!M121)","v":0.9},{"$f":"IF([2]Paramètres!N121=\"\",\"\",[2]Paramètres!N121)","v":0.875},{"$f":"IF([2]Paramètres!O121=\"\",\"\",[2]Paramètres!O121)","v":26.1},{"$f":"IF([2]Paramètres!P121=\"\",\"\",[2]Paramètres!P121)","v":32.200000000000003},{"$f":"IF([2]Paramètres!Q121=\"\",\"\",[2]Paramètres!Q121)","v":"Moyenne"},{"$f":"IF([2]Paramètres!R121=\"\",\"\",[2]Paramètres!R121)","v":""},{"$f":"IF([2]Paramètres!S121=\"\",\"\",[2]Paramètres!S121)","v":""},{"$f":"IF([2]Paramètres!T121=\"\",\"\",[2]Paramètres!T121)","v":""},{"$f":"IF([2]Paramètres!U121=\"\",\"\",[2]Paramètres!U121)","v":""},{"$f":"IF([2]Paramètres!V121=\"\",\"\",[2]Paramètres!V121)","v":""},{"$f":"IF([2]Paramètres!W121=\"\",\"\",[2]Paramètres!W121)","v":""},{"$f":"IF([2]Paramètres!X121=\"\",\"\",[2]Paramètres!X121)","v":""},{"$f":"IF([2]Paramètres!Y121=\"\",\"\",[2]Paramètres!Y121)","v":""},{"$f":"IF([2]Paramètres!Z121=\"\",\"\",[2]Paramètres!Z121)","v":""}]
[{"$f":"IF([2]Paramètres!A122=\"\",\"\",[2]Paramètres!A122)","v":"Weyermann Melano"},{"$f":"IF([2]Paramètres!B122=\"\",\"\",[2]Paramètres!B122)","v":0.7},{"$f":"IF([2]Paramètres!C122=\"\",\"\",[2]Paramètres!C122)","v":70},{"$f":"IF([2]Paramètres!D122=\"\",\"\",[2]Paramètres!D122)","v":0.2},{"$f":"IF([2]Paramètres!E122=\"\",\"\",[2]Paramètres!E122)","v":5.07},{"$f":"IF([2]Paramètres!F122=\"\",\"\",[2]Paramètres!F122)","v":""},{"$f":"IF([2]Paramètres!G122=\"\",\"\",[2]Paramètres!G122)","v":""},{"$f":"IF([2]Paramètres!H122=\"\",\"\",[2]Paramètres!H122)","v":""},{"$f":"IF([2]Paramètres!I122=\"\",\"\",[2]Paramètres!I122)","v":""},{"$f":"IF([2]Paramètres!J122=\"\",\"\",[2]Paramètres!J122)","v":"Mangrove Jack - Liberty Bell Ale M36"},{"$f":"IF([2]Paramètres!K122=\"\",\"\",[2]Paramètres!K122)","v":"Sèche"},{"$f":"IF([2]Paramètres!L122=\"\",\"\",[2]Paramètres!L122)","v":0.74},{"$f":"IF([2]Paramètres!M122=\"\",\"\",[2]Paramètres!M122)","v":0.78},{"$f":"IF([2]Paramètres!N122=\"\",\"\",[2]Paramètres!N122)","v":0.76},{"$f":"IF([2]Paramètres!O122=\"\",\"\",[2]Paramètres!O122)","v":17.8},{"$f":"IF([2]Paramètres!P122=\"\",\"\",[2]Paramètres!P122)","v":22.8},{"$f":"IF([2]Paramètres!Q122=\"\",\"\",[2]Paramètres!Q122)","v":"Moyenne – Haute"},{"$f":"IF([2]Paramètres!R122=\"\",\"\",[2]Paramètres!R122)","v":""},{"$f":"IF([2]Paramètres!S122=\"\",\"\",[2]Paramètres!S122)","v":""},{"$f":"IF([2]Paramètres!T122=\"\",\"\",[2]Paramètres!T122)","v":""},{"$f":"IF([2]Paramètres!U122=\"\",\"\",[2]Paramètres!U122)","v":""},{"$f":"IF([2]Paramètres!V122=\"\",\"\",[2]Paramètres!V122)","v":""},{"$f":"IF([2]Paramètres!W122=\"\",\"\",[2]Paramètres!W122)","v":""},{"$f":"IF([2]Paramètres!X122=\"\",\"\",[2]Paramètres!X122)","v":""},{"$f":"IF([2]Paramètres!Y122=\"\",\"\",[2]Paramètres!Y122)","v":""},{"$f":"IF([2]Paramètres!Z122=\"\",\"\",[2]Paramètres!Z122)","v":""}]
[{"$f":"IF([2]Paramètres!A123=\"\",\"\",[2]Paramètres!A123)","v":"Weyermann Munich I"},{"$f":"IF([2]Paramètres!B123=\"\",\"\",[2]Paramètres!B123)","v":0.82199999999999995},{"$f":"IF([2]Paramètres!C123=\"\",\"\",[2]Paramètres!C123)","v":14},{"$f":"IF([2]Paramètres!D123=\"\",\"\",[2]Paramètres!D123)","v":1},{"$f":"IF([2]Paramètres!E123=\"\",\"\",[2]Paramètres!E123)","v":5.43},{"$f":"IF([2]Paramètres!F123=\"\",\"\",[2]Paramètres!F123)","v":""},{"$f":"IF([2]Paramètres!G123=\"\",\"\",[2]Paramètres!G123)","v":""},{"$f":"IF([2]Paramètres!H123=\"\",\"\",[2]Paramètres!H123)","v":""},{"$f":"IF([2]Paramètres!I123=\"\",\"\",[2]Paramètres!I123)","v":""},{"$f":"IF([2]Paramètres!J123=\"\",\"\",[2]Paramètres!J123)","v":"Mangrove Jack - Mead M05"},{"$f":"IF([2]Paramètres!K123=\"\",\"\",[2]Paramètres!K123)","v":"Sèche"},{"$f":"IF([2]Paramètres!L123=\"\",\"\",[2]Paramètres!L123)","v":0.95},{"$f":"IF([2]Paramètres!M123=\"\",\"\",[2]Paramètres!M123)","v":1},{"$f":"IF([2]Paramètres!N123=\"\",\"\",[2]Paramètres!N123)","v":0.97499999999999998},{"$f":"IF([2]Paramètres!O123=\"\",\"\",[2]Paramètres!O123)","v":15},{"$f":"IF([2]Paramètres!P123=\"\",\"\",[2]Paramètres!P123)","v":30},{"$f":"IF([2]Paramètres!Q123=\"\",\"\",[2]Paramètres!Q123)","v":"Moyenne – Haute"},{"$f":"IF([2]Paramètres!R123=\"\",\"\",[2]Paramètres!R123)","v":""},{"$f":"IF([2]Paramètres!S123=\"\",\"\",[2]Paramètres!S123)","v":""},{"$f":"IF([2]Paramètres!T123=\"\",\"\",[2]Paramètres!T123)","v":""},{"$f":"IF([2]Paramètres!U123=\"\",\"\",[2]Paramètres!U123)","v":""},{"$f":"IF([2]Paramètres!V123=\"\",\"\",[2]Paramètres!V123)","v":""},{"$f":"IF([2]Paramètres!W123=\"\",\"\",[2]Paramètres!W123)","v":""},{"$f":"IF([2]Paramètres!X123=\"\",\"\",[2]Paramètres!X123)","v":""},{"$f":"IF([2]Paramètres!Y123=\"\",\"\",[2]Paramètres!Y123)","v":""},{"$f":"IF([2]Paramètres!Z123=\"\",\"\",[2]Paramètres!Z123)","v":""}]
[{"$f":"IF([2]Paramètres!A124=\"\",\"\",[2]Paramètres!A124)","v":"Weyermann Munich II"},{"$f":"IF([2]Paramètres!B124=\"\",\"\",[2]Paramètres!B124)","v":0.75},{"$f":"IF([2]Paramètres!C124=\"\",\"\",[2]Paramètres!C124)","v":22},{"$f":"IF([2]Paramètres!D124=\"\",\"\",[2]Paramètres!D124)","v":0.6},{"$f":"IF([2]Paramètres!E124=\"\",\"\",[2]Paramètres!E124)","v":5.41},{"$f":"IF([2]Paramètres!F124=\"\",\"\",[2]Paramètres!F124)","v":""},{"$f":"IF([2]Paramètres!G124=\"\",\"\",[2]Paramètres!G124)","v":""},{"$f":"IF([2]Paramètres!H124=\"\",\"\",[2]Paramètres!H124)","v":""},{"$f":"IF([2]Paramètres!I124=\"\",\"\",[2]Paramètres!I124)","v":""},{"$f":"IF([2]Paramètres!J124=\"\",\"\",[2]Paramètres!J124)","v":"Mangrove Jack - New World Strong Ale M42"},{"$f":"IF([2]Paramètres!K124=\"\",\"\",[2]Paramètres!K124)","v":"Sèche"},{"$f":"IF([2]Paramètres!L124=\"\",\"\",[2]Paramètres!L124)","v":0.77},{"$f":"IF([2]Paramètres!M124=\"\",\"\",[2]Paramètres!M124)","v":0.82},{"$f":"IF([2]Paramètres!N124=\"\",\"\",[2]Paramètres!N124)","v":0.79499999999999993},{"$f":"IF([2]Paramètres!O124=\"\",\"\",[2]Paramètres!O124)","v":16.100000000000001},{"$f":"IF([2]Paramètres!P124=\"\",\"\",[2]Paramètres!P124)","v":22.2},{"$f":"IF([2]Paramètres!Q124=\"\",\"\",[2]Paramètres!Q124)","v":"Haute"},{"$f":"IF([2]Paramètres!R124=\"\",\"\",[2]Paramètres!R124)","v":""},{"$f":"IF([2]Paramètres!S124=\"\",\"\",[2]Paramètres!S124)","v":""},{"$f":"IF([2]Paramètres!T124=\"\",\"\",[2]Paramètres!T124)","v":""},{"$f":"IF([2]Paramètres!U124=\"\",\"\",[2]Paramètres!U124)","v":""},{"$f":"IF([2]Paramètres!V124=\"\",\"\",[2]Paramètres!V124)","v":""},{"$f":"IF([2]Paramètres!W124=\"\",\"\",[2]Paramètres!W124)","v":""},{"$f":"IF([2]Paramètres!X124=\"\",\"\",[2]Paramètres!X124)","v":""},{"$f":"IF([2]Paramètres!Y124=\"\",\"\",[2]Paramètres!Y124)","v":""},{"$f":"IF([2]Paramètres!Z124=\"\",\"\",[2]Paramètres!Z124)","v":""}]
[{"$f":"IF([2]Paramètres!A125=\"\",\"\",[2]Paramètres!A125)","v":"Weyermann Roasted Barley"},{"$f":"IF([2]Paramètres!B125=\"\",\"\",[2]Paramètres!B125)","v":0.65},{"$f":"IF([2]Paramètres!C125=\"\",\"\",[2]Paramètres!C125)","v":1150},{"$f":"IF([2]Paramètres!D125=\"\",\"\",[2]Paramètres!D125)","v":0.05},{"$f":"IF([2]Paramètres!E125=\"\",\"\",[2]Paramètres!E125)","v":4.72},{"$f":"IF([2]Paramètres!F125=\"\",\"\",[2]Paramètres!F125)","v":""},{"$f":"IF([2]Paramètres!G125=\"\",\"\",[2]Paramètres!G125)","v":""},{"$f":"IF([2]Paramètres!H125=\"\",\"\",[2]Paramètres!H125)","v":""},{"$f":"IF([2]Paramètres!I125=\"\",\"\",[2]Paramètres!I125)","v":""},{"$f":"IF([2]Paramètres!J125=\"\",\"\",[2]Paramètres!J125)","v":"Mangrove Jack - US West Coast M44"},{"$f":"IF([2]Paramètres!K125=\"\",\"\",[2]Paramètres!K125)","v":"Sèche"},{"$f":"IF([2]Paramètres!L125=\"\",\"\",[2]Paramètres!L125)","v":0.77},{"$f":"IF([2]Paramètres!M125=\"\",\"\",[2]Paramètres!M125)","v":0.85},{"$f":"IF([2]Paramètres!N125=\"\",\"\",[2]Paramètres!N125)","v":0.81},{"$f":"IF([2]Paramètres!O125=\"\",\"\",[2]Paramètres!O125)","v":17.8},{"$f":"IF([2]Paramètres!P125=\"\",\"\",[2]Paramètres!P125)","v":22.8},{"$f":"IF([2]Paramètres!Q125=\"\",\"\",[2]Paramètres!Q125)","v":"Moyenne"},{"$f":"IF([2]Paramètres!R125=\"\",\"\",[2]Paramètres!R125)","v":""},{"$f":"IF([2]Paramètres!S125=\"\",\"\",[2]Paramètres!S125)","v":""},{"$f":"IF([2]Paramètres!T125=\"\",\"\",[2]Paramètres!T125)","v":""},{"$f":"IF([2]Paramètres!U125=\"\",\"\",[2]Paramètres!U125)","v":""},{"$f":"IF([2]Paramètres!V125=\"\",\"\",[2]Paramètres!V125)","v":""},{"$f":"IF([2]Paramètres!W125=\"\",\"\",[2]Paramètres!W125)","v":""},{"$f":"IF([2]Paramètres!X125=\"\",\"\",[2]Paramètres!X125)","v":""},{"$f":"IF([2]Paramètres!Y125=\"\",\"\",[2]Paramètres!Y125)","v":""},{"$f":"IF([2]Paramètres!Z125=\"\",\"\",[2]Paramètres!Z125)","v":""}]
[{"$f":"IF([2]Paramètres!A126=\"\",\"\",[2]Paramètres!A126)","v":"Weyermann Seigle Cara (Rye)"},{"$f":"IF([2]Paramètres!B126=\"\",\"\",[2]Paramètres!B126)","v":0.7},{"$f":"IF([2]Paramètres!C126=\"\",\"\",[2]Paramètres!C126)","v":175},{"$f":"IF([2]Paramètres!D126=\"\",\"\",[2]Paramètres!D126)","v":0.15},{"$f":"IF([2]Paramètres!E126=\"\",\"\",[2]Paramètres!E126)","v":4.8899999999999997},{"$f":"IF([2]Paramètres!F126=\"\",\"\",[2]Paramètres!F126)","v":""},{"$f":"IF([2]Paramètres!G126=\"\",\"\",[2]Paramètres!G126)","v":""},{"$f":"IF([2]Paramètres!H126=\"\",\"\",[2]Paramètres!H126)","v":""},{"$f":"IF([2]Paramètres!I126=\"\",\"\",[2]Paramètres!I126)","v":""},{"$f":"IF([2]Paramètres!J126=\"\",\"\",[2]Paramètres!J126)","v":"Mangrove M12 Kveik"},{"$f":"IF([2]Paramètres!K126=\"\",\"\",[2]Paramètres!K126)","v":"Sèche"},{"$f":"IF([2]Paramètres!L126=\"\",\"\",[2]Paramètres!L126)","v":0.77},{"$f":"IF([2]Paramètres!M126=\"\",\"\",[2]Paramètres!M126)","v":0.82},{"$f":"IF([2]Paramètres!N126=\"\",\"\",[2]Paramètres!N126)","v":0.79499999999999993},{"$f":"IF([2]Paramètres!O126=\"\",\"\",[2]Paramètres!O126)","v":20},{"$f":"IF([2]Paramètres!P126=\"\",\"\",[2]Paramètres!P126)","v":40},{"$f":"IF([2]Paramètres!Q126=\"\",\"\",[2]Paramètres!Q126)","v":"Forte"},{"$f":"IF([2]Paramètres!R126=\"\",\"\",[2]Paramètres!R126)","v":""},{"$f":"IF([2]Paramètres!S126=\"\",\"\",[2]Paramètres!S126)","v":""},{"$f":"IF([2]Paramètres!T126=\"\",\"\",[2]Paramètres!T126)","v":""},{"$f":"IF([2]Paramètres!U126=\"\",\"\",[2]Paramètres!U126)","v":""},{"$f":"IF([2]Paramètres!V126=\"\",\"\",[2]Paramètres!V126)","v":""},{"$f":"IF([2]Paramètres!W126=\"\",\"\",[2]Paramètres!W126)","v":""},{"$f":"IF([2]Paramètres!X126=\"\",\"\",[2]Paramètres!X126)","v":""},{"$f":"IF([2]Paramètres!Y126=\"\",\"\",[2]Paramètres!Y126)","v":""},{"$f":"IF([2]Paramètres!Z126=\"\",\"\",[2]Paramètres!Z126)","v":""}]
[{"$f":"IF([2]Paramètres!A127=\"\",\"\",[2]Paramètres!A127)","v":"Weyermann Seigle Choco (Rye)"},{"$f":"IF([2]Paramètres!B127=\"\",\"\",[2]Paramètres!B127)","v":0.65},{"$f":"IF([2]Paramètres!C127=\"\",\"\",[2]Paramètres!C127)","v":650},{"$f":"IF([2]Paramètres!D127=\"\",\"\",[2]Paramètres!D127)","v":0.06},{"$f":"IF([2]Paramètres!E127=\"\",\"\",[2]Paramètres!E127)","v":4.71},{"$f":"IF([2]Paramètres!F127=\"\",\"\",[2]Paramètres!F127)","v":""},{"$f":"IF([2]Paramètres!G127=\"\",\"\",[2]Paramètres!G127)","v":""},{"$f":"IF([2]Paramètres!H127=\"\",\"\",[2]Paramètres!H127)","v":""},{"$f":"IF([2]Paramètres!I127=\"\",\"\",[2]Paramètres!I127)","v":""},{"$f":"IF([2]Paramètres!J127=\"\",\"\",[2]Paramètres!J127)","v":"Mangrove M15 Empire Ale"},{"$f":"IF([2]Paramètres!K127=\"\",\"\",[2]Paramètres!K127)","v":"Sèche"},{"$f":"IF([2]Paramètres!L127=\"\",\"\",[2]Paramètres!L127)","v":0.7},{"$f":"IF([2]Paramètres!M127=\"\",\"\",[2]Paramètres!M127)","v":0.75},{"$f":"IF([2]Paramètres!N127=\"\",\"\",[2]Paramètres!N127)","v":0.72499999999999998},{"$f":"IF([2]Paramètres!O127=\"\",\"\",[2]Paramètres!O127)","v":18},{"$f":"IF([2]Paramètres!P127=\"\",\"\",[2]Paramètres!P127)","v":22},{"$f":"IF([2]Paramètres!Q127=\"\",\"\",[2]Paramètres!Q127)","v":"Faible"},{"$f":"IF([2]Paramètres!R127=\"\",\"\",[2]Paramètres!R127)","v":""},{"$f":"IF([2]Paramètres!S127=\"\",\"\",[2]Paramètres!S127)","v":""},{"$f":"IF([2]Paramètres!T127=\"\",\"\",[2]Paramètres!T127)","v":""},{"$f":"IF([2]Paramètres!U127=\"\",\"\",[2]Paramètres!U127)","v":""},{"$f":"IF([2]Paramètres!V127=\"\",\"\",[2]Paramètres!V127)","v":""},{"$f":"IF([2]Paramètres!W127=\"\",\"\",[2]Paramètres!W127)","v":""},{"$f":"IF([2]Paramètres!X127=\"\",\"\",[2]Paramètres!X127)","v":""},{"$f":"IF([2]Paramètres!Y127=\"\",\"\",[2]Paramètres!Y127)","v":""},{"$f":"IF([2]Paramètres!Z127=\"\",\"\",[2]Paramètres!Z127)","v":""}]
[{"$f":"IF([2]Paramètres!A128=\"\",\"\",[2]Paramètres!A128)","v":"Weyermann Seigle Malt (Rye)"},{"$f":"IF([2]Paramètres!B128=\"\",\"\",[2]Paramètres!B128)","v":0.63},{"$f":"IF([2]Paramètres!C128=\"\",\"\",[2]Paramètres!C128)","v":7},{"$f":"IF([2]Paramètres!D128=\"\",\"\",[2]Paramètres!D128)","v":0.5},{"$f":"IF([2]Paramètres!E128=\"\",\"\",[2]Paramètres!E128)","v":5.7},{"$f":"IF([2]Paramètres!F128=\"\",\"\",[2]Paramètres!F128)","v":""},{"$f":"IF([2]Paramètres!G128=\"\",\"\",[2]Paramètres!G128)","v":""},{"$f":"IF([2]Paramètres!H128=\"\",\"\",[2]Paramètres!H128)","v":""},{"$f":"IF([2]Paramètres!I128=\"\",\"\",[2]Paramètres!I128)","v":""},{"$f":"IF([2]Paramètres!J128=\"\",\"\",[2]Paramètres!J128)","v":"Mangrove M20 Bavarian"},{"$f":"IF([2]Paramètres!K128=\"\",\"\",[2]Paramètres!K128)","v":"Sèche"},{"$f":"IF([2]Paramètres!L128=\"\",\"\",[2]Paramètres!L128)","v":0.7},{"$f":"IF([2]Paramètres!M128=\"\",\"\",[2]Paramètres!M128)","v":0.75},{"$f":"IF([2]Paramètres!N128=\"\",\"\",[2]Paramètres!N128)","v":0.72499999999999998},{"$f":"IF([2]Paramètres!O128=\"\",\"\",[2]Paramètres!O128)","v":18},{"$f":"IF([2]Paramètres!P128=\"\",\"\",[2]Paramètres!P128)","v":30},{"$f":"IF([2]Paramètres!Q128=\"\",\"\",[2]Paramètres!Q128)","v":"Faible"},{"$f":"IF([2]Paramètres!R128=\"\",\"\",[2]Paramètres!R128)","v":""},{"$f":"IF([2]Paramètres!S128=\"\",\"\",[2]Paramètres!S128)","v":""},{"$f":"IF([2]Paramètres!T128=\"\",\"\",[2]Paramètres!T128)","v":""},{"$f":"IF([2]Paramètres!U128=\"\",\"\",[2]Paramètres!U128)","v":""},{"$f":"IF([2]Paramètres!V128=\"\",\"\",[2]Paramètres!V128)","v":""},{"$f":"IF([2]Paramètres!W128=\"\",\"\",[2]Paramètres!W128)","v":""},{"$f":"IF([2]Paramètres!X128=\"\",\"\",[2]Paramètres!X128)","v":""},{"$f":"IF([2]Paramètres!Y128=\"\",\"\",[2]Paramètres!Y128)","v":""},{"$f":"IF([2]Paramètres!Z128=\"\",\"\",[2]Paramètres!Z128)","v":""}]
[{"$f":"IF([2]Paramètres!A129=\"\",\"\",[2]Paramètres!A129)","v":"Weyermann Special W."},{"$f":"IF([2]Paramètres!B129=\"\",\"\",[2]Paramètres!B129)","v":0.77},{"$f":"IF([2]Paramètres!C129=\"\",\"\",[2]Paramètres!C129)","v":300},{"$f":"IF([2]Paramètres!D129=\"\",\"\",[2]Paramètres!D129)","v":0.1},{"$f":"IF([2]Paramètres!E129=\"\",\"\",[2]Paramètres!E129)","v":4.6500000000000004},{"$f":"IF([2]Paramètres!F129=\"\",\"\",[2]Paramètres!F129)","v":""},{"$f":"IF([2]Paramètres!G129=\"\",\"\",[2]Paramètres!G129)","v":""},{"$f":"IF([2]Paramètres!H129=\"\",\"\",[2]Paramètres!H129)","v":""},{"$f":"IF([2]Paramètres!I129=\"\",\"\",[2]Paramètres!I129)","v":""},{"$f":"IF([2]Paramètres!J129=\"\",\"\",[2]Paramètres!J129)","v":"Mangrove M21 Belgian Wit"},{"$f":"IF([2]Paramètres!K129=\"\",\"\",[2]Paramètres!K129)","v":"Sèche"},{"$f":"IF([2]Paramètres!L129=\"\",\"\",[2]Paramètres!L129)","v":0.7},{"$f":"IF([2]Paramètres!M129=\"\",\"\",[2]Paramètres!M129)","v":0.75},{"$f":"IF([2]Paramètres!N129=\"\",\"\",[2]Paramètres!N129)","v":0.72499999999999998},{"$f":"IF([2]Paramètres!O129=\"\",\"\",[2]Paramètres!O129)","v":18},{"$f":"IF([2]Paramètres!P129=\"\",\"\",[2]Paramètres!P129)","v":25},{"$f":"IF([2]Paramètres!Q129=\"\",\"\",[2]Paramètres!Q129)","v":"Moyenne"},{"$f":"IF([2]Paramètres!R129=\"\",\"\",[2]Paramètres!R129)","v":""},{"$f":"IF([2]Paramètres!S129=\"\",\"\",[2]Paramètres!S129)","v":""},{"$f":"IF([2]Paramètres!T129=\"\",\"\",[2]Paramètres!T129)","v":""},{"$f":"IF([2]Paramètres!U129=\"\",\"\",[2]Paramètres!U129)","v":""},{"$f":"IF([2]Paramètres!V129=\"\",\"\",[2]Paramètres!V129)","v":""},{"$f":"IF([2]Paramètres!W129=\"\",\"\",[2]Paramètres!W129)","v":""},{"$f":"IF([2]Paramètres!X129=\"\",\"\",[2]Paramètres!X129)","v":""},{"$f":"IF([2]Paramètres!Y129=\"\",\"\",[2]Paramètres!Y129)","v":""},{"$f":"IF([2]Paramètres!Z129=\"\",\"\",[2]Paramètres!Z129)","v":""}]
[{"$f":"IF([2]Paramètres!A130=\"\",\"\",[2]Paramètres!A130)","v":"Weyermann Vienna"},{"$f":"IF([2]Paramètres!B130=\"\",\"\",[2]Paramètres!B130)","v":0.8},{"$f":"IF([2]Paramètres!C130=\"\",\"\",[2]Paramètres!C130)","v":8},{"$f":"IF([2]Paramètres!D130=\"\",\"\",[2]Paramètres!D130)","v":1},{"$f":"IF([2]Paramètres!E130=\"\",\"\",[2]Paramètres!E130)","v":5.5},{"$f":"IF([2]Paramètres!F130=\"\",\"\",[2]Paramètres!F130)","v":""},{"$f":"IF([2]Paramètres!G130=\"\",\"\",[2]Paramètres!G130)","v":""},{"$f":"IF([2]Paramètres!H130=\"\",\"\",[2]Paramètres!H130)","v":""},{"$f":"IF([2]Paramètres!I130=\"\",\"\",[2]Paramètres!I130)","v":""},{"$f":"IF([2]Paramètres!J130=\"\",\"\",[2]Paramètres!J130)","v":"Mangrove M29 French Saison"},{"$f":"IF([2]Paramètres!K130=\"\",\"\",[2]Paramètres!K130)","v":"Sèche"},{"$f":"IF([2]Paramètres!L130=\"\",\"\",[2]Paramètres!L130)","v":0.85},{"$f":"IF([2]Paramètres!M130=\"\",\"\",[2]Paramètres!M130)","v":0.9},{"$f":"IF([2]Paramètres!N130=\"\",\"\",[2]Paramètres!N130)","v":0.875},{"$f":"IF([2]Paramètres!O130=\"\",\"\",[2]Paramètres!O130)","v":26},{"$f":"IF([2]Paramètres!P130=\"\",\"\",[2]Paramètres!P130)","v":32},{"$f":"IF([2]Paramètres!Q130=\"\",\"\",[2]Paramètres!Q130)","v":"Moyenne"},{"$f":"IF([2]Paramètres!R130=\"\",\"\",[2]Paramètres!R130)","v":""},{"$f":"IF([2]Paramètres!S130=\"\",\"\",[2]Paramètres!S130)","v":""},{"$f":"IF([2]Paramètres!T130=\"\",\"\",[2]Paramètres!T130)","v":""},{"$f":"IF([2]Paramètres!U130=\"\",\"\",[2]Paramètres!U130)","v":""},{"$f":"IF([2]Paramètres!V130=\"\",\"\",[2]Paramètres!V130)","v":""},{"$f":"IF([2]Paramètres!W130=\"\",\"\",[2]Paramètres!W130)","v":""},{"$f":"IF([2]Paramètres!X130=\"\",\"\",[2]Paramètres!X130)","v":""},{"$f":"IF([2]Paramètres!Y130=\"\",\"\",[2]Paramètres!Y130)","v":""},{"$f":"IF([2]Paramètres!Z130=\"\",\"\",[2]Paramètres!Z130)","v":""}]
[{"$f":"IF([2]Paramètres!A131=\"\",\"\",[2]Paramètres!A131)","v":""},{"$f":"IF([2]Paramètres!B131=\"\",\"\",[2]Paramètres!B131)","v":""},{"$f":"IF([2]Paramètres!C131=\"\",\"\",[2]Paramètres!C131)","v":""},{"$f":"IF([2]Paramètres!D131=\"\",\"\",[2]Paramètres!D131)","v":""},{"$f":"IF([2]Paramètres!E131=\"\",\"\",[2]Paramètres!E131)","v":""},{"$f":"IF([2]Paramètres!F131=\"\",\"\",[2]Paramètres!F131)","v":""},{"$f":"IF([2]Paramètres!G131=\"\",\"\",[2]Paramètres!G131)","v":""},{"$f":"IF([2]Paramètres!H131=\"\",\"\",[2]Paramètres!H131)","v":""},{"$f":"IF([2]Paramètres!I131=\"\",\"\",[2]Paramètres!I131)","v":""},{"$f":"IF([2]Paramètres!J131=\"\",\"\",[2]Paramètres!J131)","v":"Mangrove M31 BelgianTripel"},{"$f":"IF([2]Paramètres!K131=\"\",\"\",[2]Paramètres!K131)","v":"Sèche"},{"$f":"IF([2]Paramètres!L131=\"\",\"\",[2]Paramètres!L131)","v":0.82},{"$f":"IF([2]Paramètres!M131=\"\",\"\",[2]Paramètres!M131)","v":0.88},{"$f":"IF([2]Paramètres!N131=\"\",\"\",[2]Paramètres!N131)","v":0.85},{"$f":"IF([2]Paramètres!O131=\"\",\"\",[2]Paramètres!O131)","v":18},{"$f":"IF([2]Paramètres!P131=\"\",\"\",[2]Paramètres!P131)","v":28},{"$f":"IF([2]Paramètres!Q131=\"\",\"\",[2]Paramètres!Q131)","v":"Forte"},{"$f":"IF([2]Paramètres!R131=\"\",\"\",[2]Paramètres!R131)","v":""},{"$f":"IF([2]Paramètres!S131=\"\",\"\",[2]Paramètres!S131)","v":""},{"$f":"IF([2]Paramètres!T131=\"\",\"\",[2]Paramètres!T131)","v":""},{"$f":"IF([2]Paramètres!U131=\"\",\"\",[2]Paramètres!U131)","v":""},{"$f":"IF([2]Paramètres!V131=\"\",\"\",[2]Paramètres!V131)","v":""},{"$f":"IF([2]Paramètres!W131=\"\",\"\",[2]Paramètres!W131)","v":""},{"$f":"IF([2]Paramètres!X131=\"\",\"\",[2]Paramètres!X131)","v":""},{"$f":"IF([2]Paramètres!Y131=\"\",\"\",[2]Paramètres!Y131)","v":""},{"$f":"IF([2]Paramètres!Z131=\"\",\"\",[2]Paramètres!Z131)","v":""}]
[{"$f":"IF([2]Paramètres!A132=\"\",\"\",[2]Paramètres!A132)","v":""},{"$f":"IF([2]Paramètres!B132=\"\",\"\",[2]Paramètres!B132)","v":""},{"$f":"IF([2]Paramètres!C132=\"\",\"\",[2]Paramètres!C132)","v":""},{"$f":"IF([2]Paramètres!D132=\"\",\"\",[2]Paramètres!D132)","v":""},{"$f":"IF([2]Paramètres!E132=\"\",\"\",[2]Paramètres!E132)","v":""},{"$f":"IF([2]Paramètres!F132=\"\",\"\",[2]Paramètres!F132)","v":""},{"$f":"IF([2]Paramètres!G132=\"\",\"\",[2]Paramètres!G132)","v":""},{"$f":"IF([2]Paramètres!H132=\"\",\"\",[2]Paramètres!H132)","v":""},{"$f":"IF([2]Paramètres!I132=\"\",\"\",[2]Paramètres!I132)","v":""},{"$f":"IF([2]Paramètres!J132=\"\",\"\",[2]Paramètres!J132)","v":"Mangrove M36 Liberty Bell"},{"$f":"IF([2]Paramètres!K132=\"\",\"\",[2]Paramètres!K132)","v":"Sèche"},{"$f":"IF([2]Paramètres!L132=\"\",\"\",[2]Paramètres!L132)","v":0.74},{"$f":"IF([2]Paramètres!M132=\"\",\"\",[2]Paramètres!M132)","v":0.78},{"$f":"IF([2]Paramètres!N132=\"\",\"\",[2]Paramètres!N132)","v":0.76},{"$f":"IF([2]Paramètres!O132=\"\",\"\",[2]Paramètres!O132)","v":18},{"$f":"IF([2]Paramètres!P132=\"\",\"\",[2]Paramètres!P132)","v":23},{"$f":"IF([2]Paramètres!Q132=\"\",\"\",[2]Paramètres!Q132)","v":"Moyenne"},{"$f":"IF([2]Paramètres!R132=\"\",\"\",[2]Paramètres!R132)","v":""},{"$f":"IF([2]Paramètres!S132=\"\",\"\",[2]Paramètres!S132)","v":""},{"$f":"IF([2]Paramètres!T132=\"\",\"\",[2]Paramètres!T132)","v":""},{"$f":"IF([2]Paramètres!U132=\"\",\"\",[2]Paramètres!U132)","v":""},{"$f":"IF([2]Paramètres!V132=\"\",\"\",[2]Paramètres!V132)","v":""},{"$f":"IF([2]Paramètres!W132=\"\",\"\",[2]Paramètres!W132)","v":""},{"$f":"IF([2]Paramètres!X132=\"\",\"\",[2]Paramètres!X132)","v":""},{"$f":"IF([2]Paramètres!Y132=\"\",\"\",[2]Paramètres!Y132)","v":""},{"$f":"IF([2]Paramètres!Z132=\"\",\"\",[2]Paramètres!Z132)","v":""}]
[{"$f":"IF([2]Paramètres!A133=\"\",\"\",[2]Paramètres!A133)","v":""},{"$f":"IF([2]Paramètres!B133=\"\",\"\",[2]Paramètres!B133)","v":""},{"$f":"IF([2]Paramètres!C133=\"\",\"\",[2]Paramètres!C133)","v":""},{"$f":"IF([2]Paramètres!D133=\"\",\"\",[2]Paramètres!D133)","v":""},{"$f":"IF([2]Paramètres!E133=\"\",\"\",[2]Paramètres!E133)","v":""},{"$f":"IF([2]Paramètres!F133=\"\",\"\",[2]Paramètres!F133)","v":""},{"$f":"IF([2]Paramètres!G133=\"\",\"\",[2]Paramètres!G133)","v":""},{"$f":"IF([2]Paramètres!H133=\"\",\"\",[2]Paramètres!H133)","v":""},{"$f":"IF([2]Paramètres!I133=\"\",\"\",[2]Paramètres!I133)","v":""},{"$f":"IF([2]Paramètres!J133=\"\",\"\",[2]Paramètres!J133)","v":"Mangrove M41 Belgian Ale"},{"$f":"IF([2]Paramètres!K133=\"\",\"\",[2]Paramètres!K133)","v":"Sèche"},{"$f":"IF([2]Paramètres!L133=\"\",\"\",[2]Paramètres!L133)","v":0.82},{"$f":"IF([2]Paramètres!M133=\"\",\"\",[2]Paramètres!M133)","v":0.88},{"$f":"IF([2]Paramètres!N133=\"\",\"\",[2]Paramètres!N133)","v":0.85},{"$f":"IF([2]Paramètres!O133=\"\",\"\",[2]Paramètres!O133)","v":18},{"$f":"IF([2]Paramètres!P133=\"\",\"\",[2]Paramètres!P133)","v":28},{"$f":"IF([2]Paramètres!Q133=\"\",\"\",[2]Paramètres!Q133)","v":"Forte"},{"$f":"IF([2]Paramètres!R133=\"\",\"\",[2]Paramètres!R133)","v":""},{"$f":"IF([2]Paramètres!S133=\"\",\"\",[2]Paramètres!S133)","v":""},{"$f":"IF([2]Paramètres!T133=\"\",\"\",[2]Paramètres!T133)","v":""},{"$f":"IF([2]Paramètres!U133=\"\",\"\",[2]Paramètres!U133)","v":""},{"$f":"IF([2]Paramètres!V133=\"\",\"\",[2]Paramètres!V133)","v":""},{"$f":"IF([2]Paramètres!W133=\"\",\"\",[2]Paramètres!W133)","v":""},{"$f":"IF([2]Paramètres!X133=\"\",\"\",[2]Paramètres!X133)","v":""},{"$f":"IF([2]Paramètres!Y133=\"\",\"\",[2]Paramètres!Y133)","v":""},{"$f":"IF([2]Paramètres!Z133=\"\",\"\",[2]Paramètres!Z133)","v":""}]
[{"$f":"IF([2]Paramètres!A134=\"\",\"\",[2]Paramètres!A134)","v":""},{"$f":"IF([2]Paramètres!B134=\"\",\"\",[2]Paramètres!B134)","v":""},{"$f":"IF([2]Paramètres!C134=\"\",\"\",[2]Paramètres!C134)","v":""},{"$f":"IF([2]Paramètres!D134=\"\",\"\",[2]Paramètres!D134)","v":""},{"$f":"IF([2]Paramètres!E134=\"\",\"\",[2]Paramètres!E134)","v":""},{"$f":"IF([2]Paramètres!F134=\"\",\"\",[2]Paramètres!F134)","v":""},{"$f":"IF([2]Paramètres!G134=\"\",\"\",[2]Paramètres!G134)","v":""},{"$f":"IF([2]Paramètres!H134=\"\",\"\",[2]Paramètres!H134)","v":""},{"$f":"IF([2]Paramètres!I134=\"\",\"\",[2]Paramètres!I134)","v":""},{"$f":"IF([2]Paramètres!J134=\"\",\"\",[2]Paramètres!J134)","v":"Mangrove M42 New World Strong Ale"},{"$f":"IF([2]Paramètres!K134=\"\",\"\",[2]Paramètres!K134)","v":"Sèche"},{"$f":"IF([2]Paramètres!L134=\"\",\"\",[2]Paramètres!L134)","v":0.77},{"$f":"IF([2]Paramètres!M134=\"\",\"\",[2]Paramètres!M134)","v":0.82},{"$f":"IF([2]Paramètres!N134=\"\",\"\",[2]Paramètres!N134)","v":0.79499999999999993},{"$f":"IF([2]Paramètres!O134=\"\",\"\",[2]Paramètres!O134)","v":16},{"$f":"IF([2]Paramètres!P134=\"\",\"\",[2]Paramètres!P134)","v":22},{"$f":"IF([2]Paramètres!Q134=\"\",\"\",[2]Paramètres!Q134)","v":"Forte"},{"$f":"IF([2]Paramètres!R134=\"\",\"\",[2]Paramètres!R134)","v":""},{"$f":"IF([2]Paramètres!S134=\"\",\"\",[2]Paramètres!S134)","v":""},{"$f":"IF([2]Paramètres!T134=\"\",\"\",[2]Paramètres!T134)","v":""},{"$f":"IF([2]Paramètres!U134=\"\",\"\",[2]Paramètres!U134)","v":""},{"$f":"IF([2]Paramètres!V134=\"\",\"\",[2]Paramètres!V134)","v":""},{"$f":"IF([2]Paramètres!W134=\"\",\"\",[2]Paramètres!W134)","v":""},{"$f":"IF([2]Paramètres!X134=\"\",\"\",[2]Paramètres!X134)","v":""},{"$f":"IF([2]Paramètres!Y134=\"\",\"\",[2]Paramètres!Y134)","v":""},{"$f":"IF([2]Paramètres!Z134=\"\",\"\",[2]Paramètres!Z134)","v":""}]
[{"$f":"IF([2]Paramètres!A135=\"\",\"\",[2]Paramètres!A135)","v":""},{"$f":"IF([2]Paramètres!B135=\"\",\"\",[2]Paramètres!B135)","v":""},{"$f":"IF([2]Paramètres!C135=\"\",\"\",[2]Paramètres!C135)","v":""},{"$f":"IF([2]Paramètres!D135=\"\",\"\",[2]Paramètres!D135)","v":""},{"$f":"IF([2]Paramètres!E135=\"\",\"\",[2]Paramètres!E135)","v":""},{"$f":"IF([2]Paramètres!F135=\"\",\"\",[2]Paramètres!F135)","v":""},{"$f":"IF([2]Paramètres!G135=\"\",\"\",[2]Paramètres!G135)","v":""},{"$f":"IF([2]Paramètres!H135=\"\",\"\",[2]Paramètres!H135)","v":""},{"$f":"IF([2]Paramètres!I135=\"\",\"\",[2]Paramètres!I135)","v":""},{"$f":"IF([2]Paramètres!J135=\"\",\"\",[2]Paramètres!J135)","v":"Mangrove M44 US West Coast"},{"$f":"IF([2]Paramètres!K135=\"\",\"\",[2]Paramètres!K135)","v":"Sèche"},{"$f":"IF([2]Paramètres!L135=\"\",\"\",[2]Paramètres!L135)","v":0.77},{"$f":"IF([2]Paramètres!M135=\"\",\"\",[2]Paramètres!M135)","v":0.85},{"$f":"IF([2]Paramètres!N135=\"\",\"\",[2]Paramètres!N135)","v":0.81},{"$f":"IF([2]Paramètres!O135=\"\",\"\",[2]Paramètres!O135)","v":18},{"$f":"IF([2]Paramètres!P135=\"\",\"\",[2]Paramètres!P135)","v":23},{"$f":"IF([2]Paramètres!Q135=\"\",\"\",[2]Paramètres!Q135)","v":"Faible"},{"$f":"IF([2]Paramètres!R135=\"\",\"\",[2]Paramètres!R135)","v":""},{"$f":"IF([2]Paramètres!S135=\"\",\"\",[2]Paramètres!S135)","v":""},{"$f":"IF([2]Paramètres!T135=\"\",\"\",[2]Paramètres!T135)","v":""},{"$f":"IF([2]Paramètres!U135=\"\",\"\",[2]Paramètres!U135)","v":""},{"$f":"IF([2]Paramètres!V135=\"\",\"\",[2]Paramètres!V135)","v":""},{"$f":"IF([2]Paramètres!W135=\"\",\"\",[2]Paramètres!W135)","v":""},{"$f":"IF([2]Paramètres!X135=\"\",\"\",[2]Paramètres!X135)","v":""},{"$f":"IF([2]Paramètres!Y135=\"\",\"\",[2]Paramètres!Y135)","v":""},{"$f":"IF([2]Paramètres!Z135=\"\",\"\",[2]Paramètres!Z135)","v":""}]
[{"$f":"IF([2]Paramètres!A136=\"\",\"\",[2]Paramètres!A136)","v":""},{"$f":"IF([2]Paramètres!B136=\"\",\"\",[2]Paramètres!B136)","v":""},{"$f":"IF([2]Paramètres!C136=\"\",\"\",[2]Paramètres!C136)","v":""},{"$f":"IF([2]Paramètres!D136=\"\",\"\",[2]Paramètres!D136)","v":""},{"$f":"IF([2]Paramètres!E136=\"\",\"\",[2]Paramètres!E136)","v":""},{"$f":"IF([2]Paramètres!F136=\"\",\"\",[2]Paramètres!F136)","v":""},{"$f":"IF([2]Paramètres!G136=\"\",\"\",[2]Paramètres!G136)","v":""},{"$f":"IF([2]Paramètres!H136=\"\",\"\",[2]Paramètres!H136)","v":""},{"$f":"IF([2]Paramètres!I136=\"\",\"\",[2]Paramètres!I136)","v":""},{"$f":"IF([2]Paramètres!J136=\"\",\"\",[2]Paramètres!J136)","v":"OYL-062 - Voss Kveik"},{"$f":"IF([2]Paramètres!K136=\"\",\"\",[2]Paramètres!K136)","v":"Liquide"},{"$f":"IF([2]Paramètres!L136=\"\",\"\",[2]Paramètres!L136)","v":0.75},{"$f":"IF([2]Paramètres!M136=\"\",\"\",[2]Paramètres!M136)","v":0.82},{"$f":"IF([2]Paramètres!N136=\"\",\"\",[2]Paramètres!N136)","v":0.78499999999999992},{"$f":"IF([2]Paramètres!O136=\"\",\"\",[2]Paramètres!O136)","v":20},{"$f":"IF([2]Paramètres!P136=\"\",\"\",[2]Paramètres!P136)","v":36.700000000000003},{"$f":"IF([2]Paramètres!Q136=\"\",\"\",[2]Paramètres!Q136)","v":"Moyenne"},{"$f":"IF([2]Paramètres!R136=\"\",\"\",[2]Paramètres!R136)","v":""},{"$f":"IF([2]Paramètres!S136=\"\",\"\",[2]Paramètres!S136)","v":""},{"$f":"IF([2]Paramètres!T136=\"\",\"\",[2]Paramètres!T136)","v":""},{"$f":"IF([2]Paramètres!U136=\"\",\"\",[2]Paramètres!U136)","v":""},{"$f":"IF([2]Paramètres!V136=\"\",\"\",[2]Paramètres!V136)","v":""},{"$f":"IF([2]Paramètres!W136=\"\",\"\",[2]Paramètres!W136)","v":""},{"$f":"IF([2]Paramètres!X136=\"\",\"\",[2]Paramètres!X136)","v":""},{"$f":"IF([2]Paramètres!Y136=\"\",\"\",[2]Paramètres!Y136)","v":""},{"$f":"IF([2]Paramètres!Z136=\"\",\"\",[2]Paramètres!Z136)","v":""}]
[{"$f":"IF([2]Paramètres!A137=\"\",\"\",[2]Paramètres!A137)","v":""},{"$f":"IF([2]Paramètres!B137=\"\",\"\",[2]Paramètres!B137)","v":""},{"$f":"IF([2]Paramètres!C137=\"\",\"\",[2]Paramètres!C137)","v":""},{"$f":"IF([2]Paramètres!D137=\"\",\"\",[2]Paramètres!D137)","v":""},{"$f":"IF([2]Paramètres!E137=\"\",\"\",[2]Paramètres!E137)","v":""},{"$f":"IF([2]Paramètres!F137=\"\",\"\",[2]Paramètres!F137)","v":""},{"$f":"IF([2]Paramètres!G137=\"\",\"\",[2]Paramètres!G137)","v":""},{"$f":"IF([2]Paramètres!H137=\"\",\"\",[2]Paramètres!H137)","v":""},{"$f":"IF([2]Paramètres!I137=\"\",\"\",[2]Paramètres!I137)","v":""},{"$f":"IF([2]Paramètres!J137=\"\",\"\",[2]Paramètres!J137)","v":"The Yeast Bay - AMALGAMATION I\nBRETTANOMYCES BLEND"},{"$f":"IF([2]Paramètres!K137=\"\",\"\",[2]Paramètres!K137)","v":"Liquide"},{"$f":"IF([2]Paramètres!L137=\"\",\"\",[2]Paramètres!L137)","v":0.85},{"$f":"IF([2]Paramètres!M137=\"\",\"\",[2]Paramètres!M137)","v":0.85},{"$f":"IF([2]Paramètres!N137=\"\",\"\",[2]Paramètres!N137)","v":0.85},{"$f":"IF([2]Paramètres!O137=\"\",\"\",[2]Paramètres!O137)","v":21.1},{"$f":"IF([2]Paramètres!P137=\"\",\"\",[2]Paramètres!P137)","v":26.7},{"$f":"IF([2]Paramètres!Q137=\"\",\"\",[2]Paramètres!Q137)","v":"Basse"},{"$f":"IF([2]Paramètres!R137=\"\",\"\",[2]Paramètres!R137)","v":""},{"$f":"IF([2]Paramètres!S137=\"\",\"\",[2]Paramètres!S137)","v":""},{"$f":"IF([2]Paramètres!T137=\"\",\"\",[2]Paramètres!T137)","v":""},{"$f":"IF([2]Paramètres!U137=\"\",\"\",[2]Paramètres!U137)","v":""},{"$f":"IF([2]Paramètres!V137=\"\",\"\",[2]Paramètres!V137)","v":""},{"$f":"IF([2]Paramètres!W137=\"\",\"\",[2]Paramètres!W137)","v":""},{"$f":"IF([2]Paramètres!X137=\"\",\"\",[2]Paramètres!X137)","v":""},{"$f":"IF([2]Paramètres!Y137=\"\",\"\",[2]Paramètres!Y137)","v":""},{"$f":"IF([2]Paramètres!Z137=\"\",\"\",[2]Paramètres!Z137)","v":""}]
[{"$f":"IF([2]Paramètres!A138=\"\",\"\",[2]Paramètres!A138)","v":""},{"$f":"IF([2]Paramètres!B138=\"\",\"\",[2]Paramètres!B138)","v":""},{"$f":"IF([2]Paramètres!C138=\"\",\"\",[2]Paramètres!C138)","v":""},{"$f":"IF([2]Paramètres!D138=\"\",\"\",[2]Paramètres!D138)","v":""},{"$f":"IF([2]Paramètres!E138=\"\",\"\",[2]Paramètres!E138)","v":""},{"$f":"IF([2]Paramètres!F138=\"\",\"\",[2]Paramètres!F138)","v":""},{"$f":"IF([2]Paramètres!G138=\"\",\"\",[2]Paramètres!G138)","v":""},{"$f":"IF([2]Paramètres!H138=\"\",\"\",[2]Paramètres!H138)","v":""},{"$f":"IF([2]Paramètres!I138=\"\",\"\",[2]Paramètres!I138)","v":""},{"$f":"IF([2]Paramètres!J138=\"\",\"\",[2]Paramètres!J138)","v":"The Yeast Bay - AMALGAMATION II\nBRETTANOMYCES BLEND"},{"$f":"IF([2]Paramètres!K138=\"\",\"\",[2]Paramètres!K138)","v":"Liquide"},{"$f":"IF([2]Paramètres!L138=\"\",\"\",[2]Paramètres!L138)","v":0.82},{"$f":"IF([2]Paramètres!M138=\"\",\"\",[2]Paramètres!M138)","v":0.86},{"$f":"IF([2]Paramètres!N138=\"\",\"\",[2]Paramètres!N138)","v":0.84},{"$f":"IF([2]Paramètres!O138=\"\",\"\",[2]Paramètres!O138)","v":21.1},{"$f":"IF([2]Paramètres!P138=\"\",\"\",[2]Paramètres!P138)","v":26.7},{"$f":"IF([2]Paramètres!Q138=\"\",\"\",[2]Paramètres!Q138)","v":"Basse"},{"$f":"IF([2]Paramètres!R138=\"\",\"\",[2]Paramètres!R138)","v":""},{"$f":"IF([2]Paramètres!S138=\"\",\"\",[2]Paramètres!S138)","v":""},{"$f":"IF([2]Paramètres!T138=\"\",\"\",[2]Paramètres!T138)","v":""},{"$f":"IF([2]Paramètres!U138=\"\",\"\",[2]Paramètres!U138)","v":""},{"$f":"IF([2]Paramètres!V138=\"\",\"\",[2]Paramètres!V138)","v":""},{"$f":"IF([2]Paramètres!W138=\"\",\"\",[2]Paramètres!W138)","v":""},{"$f":"IF([2]Paramètres!X138=\"\",\"\",[2]Paramètres!X138)","v":""},{"$f":"IF([2]Paramètres!Y138=\"\",\"\",[2]Paramètres!Y138)","v":""},{"$f":"IF([2]Paramètres!Z138=\"\",\"\",[2]Paramètres!Z138)","v":""}]
[{"$f":"IF([2]Paramètres!A139=\"\",\"\",[2]Paramètres!A139)","v":""},{"$f":"IF([2]Paramètres!B139=\"\",\"\",[2]Paramètres!B139)","v":""},{"$f":"IF([2]Paramètres!C139=\"\",\"\",[2]Paramètres!C139)","v":""},{"$f":"IF([2]Paramètres!D139=\"\",\"\",[2]Paramètres!D139)","v":""},{"$f":"IF([2]Paramètres!E139=\"\",\"\",[2]Paramètres!E139)","v":""},{"$f":"IF([2]Paramètres!F139=\"\",\"\",[2]Paramètres!F139)","v":""},{"$f":"IF([2]Paramètres!G139=\"\",\"\",[2]Paramètres!G139)","v":""},{"$f":"IF([2]Paramètres!H139=\"\",\"\",[2]Paramètres!H139)","v":""},{"$f":"IF([2]Paramètres!I139=\"\",\"\",[2]Paramètres!I139)","v":""},{"$f":"IF([2]Paramètres!J139=\"\",\"\",[2]Paramètres!J139)","v":"The Yeast Bay - BEERSEL BRETTANOMYCES\nBLEND"},{"$f":"IF([2]Paramètres!K139=\"\",\"\",[2]Paramètres!K139)","v":"Liquide"},{"$f":"IF([2]Paramètres!L139=\"\",\"\",[2]Paramètres!L139)","v":0.82},{"$f":"IF([2]Paramètres!M139=\"\",\"\",[2]Paramètres!M139)","v":0.85},{"$f":"IF([2]Paramètres!N139=\"\",\"\",[2]Paramètres!N139)","v":0.83499999999999996},{"$f":"IF([2]Paramètres!O139=\"\",\"\",[2]Paramètres!O139)","v":21.1},{"$f":"IF([2]Paramètres!P139=\"\",\"\",[2]Paramètres!P139)","v":26.7},{"$f":"IF([2]Paramètres!Q139=\"\",\"\",[2]Paramètres!Q139)","v":"Basse"},{"$f":"IF([2]Paramètres!R139=\"\",\"\",[2]Paramètres!R139)","v":""},{"$f":"IF([2]Paramètres!S139=\"\",\"\",[2]Paramètres!S139)","v":""},{"$f":"IF([2]Paramètres!T139=\"\",\"\",[2]Paramètres!T139)","v":""},{"$f":"IF([2]Paramètres!U139=\"\",\"\",[2]Paramètres!U139)","v":""},{"$f":"IF([2]Paramètres!V139=\"\",\"\",[2]Paramètres!V139)","v":""},{"$f":"IF([2]Paramètres!W139=\"\",\"\",[2]Paramètres!W139)","v":""},{"$f":"IF([2]Paramètres!X139=\"\",\"\",[2]Paramètres!X139)","v":""},{"$f":"IF([2]Paramètres!Y139=\"\",\"\",[2]Paramètres!Y139)","v":""},{"$f":"IF([2]Paramètres!Z139=\"\",\"\",[2]Paramètres!Z139)","v":""}]
[{"$f":"IF([2]Paramètres!A140=\"\",\"\",[2]Paramètres!A140)","v":""},{"$f":"IF([2]Paramètres!B140=\"\",\"\",[2]Paramètres!B140)","v":""},{"$f":"IF([2]Paramètres!C140=\"\",\"\",[2]Paramètres!C140)","v":""},{"$f":"IF([2]Paramètres!D140=\"\",\"\",[2]Paramètres!D140)","v":""},{"$f":"IF([2]Paramètres!E140=\"\",\"\",[2]Paramètres!E140)","v":""},{"$f":"IF([2]Paramètres!F140=\"\",\"\",[2]Paramètres!F140)","v":""},{"$f":"IF([2]Paramètres!G140=\"\",\"\",[2]Paramètres!G140)","v":""},{"$f":"IF([2]Paramètres!H140=\"\",\"\",[2]Paramètres!H140)","v":""},{"$f":"IF([2]Paramètres!I140=\"\",\"\",[2]Paramètres!I140)","v":""},{"$f":"IF([2]Paramètres!J140=\"\",\"\",[2]Paramètres!J140)","v":"The Yeast Bay - BRETTANOMYCES BRUXELLENSIS\nSTRAIN TYB184"},{"$f":"IF([2]Paramètres!K140=\"\",\"\",[2]Paramètres!K140)","v":"Liquide"},{"$f":"IF([2]Paramètres!L140=\"\",\"\",[2]Paramètres!L140)","v":0.82},{"$f":"IF([2]Paramètres!M140=\"\",\"\",[2]Paramètres!M140)","v":0.88},{"$f":"IF([2]Paramètres!N140=\"\",\"\",[2]Paramètres!N140)","v":0.85},{"$f":"IF([2]Paramètres!O140=\"\",\"\",[2]Paramètres!O140)","v":22.2},{"$f":"IF([2]Paramètres!P140=\"\",\"\",[2]Paramètres!P140)","v":27.8},{"$f":"IF([2]Paramètres!Q140=\"\",\"\",[2]Paramètres!Q140)","v":"Basse - Moyenne"},{"$f":"IF([2]Paramètres!R140=\"\",\"\",[2]Paramètres!R140)","v":""},{"$f":"IF([2]Paramètres!S140=\"\",\"\",[2]Paramètres!S140)","v":""},{"$f":"IF([2]Paramètres!T140=\"\",\"\",[2]Paramètres!T140)","v":""},{"$f":"IF([2]Paramètres!U140=\"\",\"\",[2]Paramètres!U140)","v":""},{"$f":"IF([2]Paramètres!V140=\"\",\"\",[2]Paramètres!V140)","v":""},{"$f":"IF([2]Paramètres!W140=\"\",\"\",[2]Paramètres!W140)","v":""},{"$f":"IF([2]Paramètres!X140=\"\",\"\",[2]Paramètres!X140)","v":""},{"$f":"IF([2]Paramètres!Y140=\"\",\"\",[2]Paramètres!Y140)","v":""},{"$f":"IF([2]Paramètres!Z140=\"\",\"\",[2]Paramètres!Z140)","v":""}]
[{"$f":"IF([2]Paramètres!A141=\"\",\"\",[2]Paramètres!A141)","v":""},{"$f":"IF([2]Paramètres!B141=\"\",\"\",[2]Paramètres!B141)","v":""},{"$f":"IF([2]Paramètres!C141=\"\",\"\",[2]Paramètres!C141)","v":""},{"$f":"IF([2]Paramètres!D141=\"\",\"\",[2]Paramètres!D141)","v":""},{"$f":"IF([2]Paramètres!E141=\"\",\"\",[2]Paramètres!E141)","v":""},{"$f":"IF([2]Paramètres!F141=\"\",\"\",[2]Paramètres!F141)","v":""},{"$f":"IF([2]Paramètres!G141=\"\",\"\",[2]Paramètres!G141)","v":""},{"$f":"IF([2]Paramètres!H141=\"\",\"\",[2]Paramètres!H141)","v":""},{"$f":"IF([2]Paramètres!I141=\"\",\"\",[2]Paramètres!I141)","v":""},{"$f":"IF([2]Paramètres!J141=\"\",\"\",[2]Paramètres!J141)","v":"The Yeast Bay - BRETTANOMYCES BRUXELLENSIS\nSTRAIN TYB207"},{"$f":"IF([2]Paramètres!K141=\"\",\"\",[2]Paramètres!K141)","v":"Liquide"},{"$f":"IF([2]Paramètres!L141=\"\",\"\",[2]Paramètres!L141)","v":0.8},{"$f":"IF([2]Paramètres!M141=\"\",\"\",[2]Paramètres!M141)","v":0.82},{"$f":"IF([2]Paramètres!N141=\"\",\"\",[2]Paramètres!N141)","v":0.81},{"$f":"IF([2]Paramètres!O141=\"\",\"\",[2]Paramètres!O141)","v":22.2},{"$f":"IF([2]Paramètres!P141=\"\",\"\",[2]Paramètres!P141)","v":27.8},{"$f":"IF([2]Paramètres!Q141=\"\",\"\",[2]Paramètres!Q141)","v":"Basse - Moyenne"},{"$f":"IF([2]Paramètres!R141=\"\",\"\",[2]Paramètres!R141)","v":""},{"$f":"IF([2]Paramètres!S141=\"\",\"\",[2]Paramètres!S141)","v":""},{"$f":"IF([2]Paramètres!T141=\"\",\"\",[2]Paramètres!T141)","v":""},{"$f":"IF([2]Paramètres!U141=\"\",\"\",[2]Paramètres!U141)","v":""},{"$f":"IF([2]Paramètres!V141=\"\",\"\",[2]Paramètres!V141)","v":""},{"$f":"IF([2]Paramètres!W141=\"\",\"\",[2]Paramètres!W141)","v":""},{"$f":"IF([2]Paramètres!X141=\"\",\"\",[2]Paramètres!X141)","v":""},{"$f":"IF([2]Paramètres!Y141=\"\",\"\",[2]Paramètres!Y141)","v":""},{"$f":"IF([2]Paramètres!Z141=\"\",\"\",[2]Paramètres!Z141)","v":""}]
[{"$f":"IF([2]Paramètres!A142=\"\",\"\",[2]Paramètres!A142)","v":""},{"$f":"IF([2]Paramètres!B142=\"\",\"\",[2]Paramètres!B142)","v":""},{"$f":"IF([2]Paramètres!C142=\"\",\"\",[2]Paramètres!C142)","v":""},{"$f":"IF([2]Paramètres!D142=\"\",\"\",[2]Paramètres!D142)","v":""},{"$f":"IF([2]Paramètres!E142=\"\",\"\",[2]Paramètres!E142)","v":""},{"$f":"IF([2]Paramètres!F142=\"\",\"\",[2]Paramètres!F142)","v":""},{"$f":"IF([2]Paramètres!G142=\"\",\"\",[2]Paramètres!G142)","v":""},{"$f":"IF([2]Paramètres!H142=\"\",\"\",[2]Paramètres!H142)","v":""},{"$f":"IF([2]Paramètres!I142=\"\",\"\",[2]Paramètres!I142)","v":""},{"$f":"IF([2]Paramètres!J142=\"\",\"\",[2]Paramètres!J142)","v":"The Yeast Bay - BRETTANOMYCES BRUXELLENSIS\nSTRAIN TYB261"},{"$f":"IF([2]Paramètres!K142=\"\",\"\",[2]Paramètres!K142)","v":"Liquide"},{"$f":"IF([2]Paramètres!L142=\"\",\"\",[2]Paramètres!L142)","v":0.8},{"$f":"IF([2]Paramètres!M142=\"\",\"\",[2]Paramètres!M142)","v":0.82},{"$f":"IF([2]Paramètres!N142=\"\",\"\",[2]Paramètres!N142)","v":0.81},{"$f":"IF([2]Paramètres!O142=\"\",\"\",[2]Paramètres!O142)","v":22.2},{"$f":"IF([2]Paramètres!P142=\"\",\"\",[2]Paramètres!P142)","v":27.8},{"$f":"IF([2]Paramètres!Q142=\"\",\"\",[2]Paramètres!Q142)","v":"Basse - Moyenne"},{"$f":"IF([2]Paramètres!R142=\"\",\"\",[2]Paramètres!R142)","v":""},{"$f":"IF([2]Paramètres!S142=\"\",\"\",[2]Paramètres!S142)","v":""},{"$f":"IF([2]Paramètres!T142=\"\",\"\",[2]Paramètres!T142)","v":""},{"$f":"IF([2]Paramètres!U142=\"\",\"\",[2]Paramètres!U142)","v":""},{"$f":"IF([2]Paramètres!V142=\"\",\"\",[2]Paramètres!V142)","v":""},{"$f":"IF([2]Paramètres!W142=\"\",\"\",[2]Paramètres!W142)","v":""},{"$f":"IF([2]Paramètres!X142=\"\",\"\",[2]Paramètres!X142)","v":""},{"$f":"IF([2]Paramètres!Y142=\"\",\"\",[2]Paramètres!Y142)","v":""},{"$f":"IF([2]Paramètres!Z142=\"\",\"\",[2]Paramètres!Z142)","v":""}]
[{"$f":"IF([2]Paramètres!A143=\"\",\"\",[2]Paramètres!A143)","v":""},{"$f":"IF([2]Paramètres!B143=\"\",\"\",[2]Paramètres!B143)","v":""},{"$f":"IF([2]Paramètres!C143=\"\",\"\",[2]Paramètres!C143)","v":""},{"$f":"IF([2]Paramètres!D143=\"\",\"\",[2]Paramètres!D143)","v":""},{"$f":"IF([2]Paramètres!E143=\"\",\"\",[2]Paramètres!E143)","v":""},{"$f":"IF([2]Paramètres!F143=\"\",\"\",[2]Paramètres!F143)","v":""},{"$f":"IF([2]Paramètres!G143=\"\",\"\",[2]Paramètres!G143)","v":""},{"$f":"IF([2]Paramètres!H143=\"\",\"\",[2]Paramètres!H143)","v":""},{"$f":"IF([2]Paramètres!I143=\"\",\"\",[2]Paramètres!I143)","v":""},{"$f":"IF([2]Paramètres!J143=\"\",\"\",[2]Paramètres!J143)","v":"The Yeast Bay - BRETTANOMYCES BRUXELLENSIS\nSTRAIN TYB307"},{"$f":"IF([2]Paramètres!K143=\"\",\"\",[2]Paramètres!K143)","v":"Liquide"},{"$f":"IF([2]Paramètres!L143=\"\",\"\",[2]Paramètres!L143)","v":0.8},{"$f":"IF([2]Paramètres!M143=\"\",\"\",[2]Paramètres!M143)","v":0.84},{"$f":"IF([2]Paramètres!N143=\"\",\"\",[2]Paramètres!N143)","v":0.82000000000000006},{"$f":"IF([2]Paramètres!O143=\"\",\"\",[2]Paramètres!O143)","v":21.1},{"$f":"IF([2]Paramètres!P143=\"\",\"\",[2]Paramètres!P143)","v":26.7},{"$f":"IF([2]Paramètres!Q143=\"\",\"\",[2]Paramètres!Q143)","v":"Basse"},{"$f":"IF([2]Paramètres!R143=\"\",\"\",[2]Paramètres!R143)","v":""},{"$f":"IF([2]Paramètres!S143=\"\",\"\",[2]Paramètres!S143)","v":""},{"$f":"IF([2]Paramètres!T143=\"\",\"\",[2]Paramètres!T143)","v":""},{"$f":"IF([2]Paramètres!U143=\"\",\"\",[2]Paramètres!U143)","v":""},{"$f":"IF([2]Paramètres!V143=\"\",\"\",[2]Paramètres!V143)","v":""},{"$f":"IF([2]Paramètres!W143=\"\",\"\",[2]Paramètres!W143)","v":""},{"$f":"IF([2]Paramètres!X143=\"\",\"\",[2]Paramètres!X143)","v":""},{"$f":"IF([2]Paramètres!Y143=\"\",\"\",[2]Paramètres!Y143)","v":""},{"$f":"IF([2]Paramètres!Z143=\"\",\"\",[2]Paramètres!Z143)","v":""}]
[{"$f":"IF([2]Paramètres!A144=\"\",\"\",[2]Paramètres!A144)","v":""},{"$f":"IF([2]Paramètres!B144=\"\",\"\",[2]Paramètres!B144)","v":""},{"$f":"IF([2]Paramètres!C144=\"\",\"\",[2]Paramètres!C144)","v":""},{"$f":"IF([2]Paramètres!D144=\"\",\"\",[2]Paramètres!D144)","v":""},{"$f":"IF([2]Paramètres!E144=\"\",\"\",[2]Paramètres!E144)","v":""},{"$f":"IF([2]Paramètres!F144=\"\",\"\",[2]Paramètres!F144)","v":""},{"$f":"IF([2]Paramètres!G144=\"\",\"\",[2]Paramètres!G144)","v":""},{"$f":"IF([2]Paramètres!H144=\"\",\"\",[2]Paramètres!H144)","v":""},{"$f":"IF([2]Paramètres!I144=\"\",\"\",[2]Paramètres!I144)","v":""},{"$f":"IF([2]Paramètres!J144=\"\",\"\",[2]Paramètres!J144)","v":"The Yeast Bay - BRETTANOMYCES BRUXELLENSIS\nSTRAIN TYB415"},{"$f":"IF([2]Paramètres!K144=\"\",\"\",[2]Paramètres!K144)","v":"Liquide"},{"$f":"IF([2]Paramètres!L144=\"\",\"\",[2]Paramètres!L144)","v":0.82},{"$f":"IF([2]Paramètres!M144=\"\",\"\",[2]Paramètres!M144)","v":0.86},{"$f":"IF([2]Paramètres!N144=\"\",\"\",[2]Paramètres!N144)","v":0.84},{"$f":"IF([2]Paramètres!O144=\"\",\"\",[2]Paramètres!O144)","v":21.1},{"$f":"IF([2]Paramètres!P144=\"\",\"\",[2]Paramètres!P144)","v":26.7},{"$f":"IF([2]Paramètres!Q144=\"\",\"\",[2]Paramètres!Q144)","v":"Basse"},{"$f":"IF([2]Paramètres!R144=\"\",\"\",[2]Paramètres!R144)","v":""},{"$f":"IF([2]Paramètres!S144=\"\",\"\",[2]Paramètres!S144)","v":""},{"$f":"IF([2]Paramètres!T144=\"\",\"\",[2]Paramètres!T144)","v":""},{"$f":"IF([2]Paramètres!U144=\"\",\"\",[2]Paramètres!U144)","v":""},{"$f":"IF([2]Paramètres!V144=\"\",\"\",[2]Paramètres!V144)","v":""},{"$f":"IF([2]Paramètres!W144=\"\",\"\",[2]Paramètres!W144)","v":""},{"$f":"IF([2]Paramètres!X144=\"\",\"\",[2]Paramètres!X144)","v":""},{"$f":"IF([2]Paramètres!Y144=\"\",\"\",[2]Paramètres!Y144)","v":""},{"$f":"IF([2]Paramètres!Z144=\"\",\"\",[2]Paramètres!Z144)","v":""}]
[{"$f":"IF([2]Paramètres!A145=\"\",\"\",[2]Paramètres!A145)","v":""},{"$f":"IF([2]Paramètres!B145=\"\",\"\",[2]Paramètres!B145)","v":""},{"$f":"IF([2]Paramètres!C145=\"\",\"\",[2]Paramètres!C145)","v":""},{"$f":"IF([2]Paramètres!D145=\"\",\"\",[2]Paramètres!D145)","v":""},{"$f":"IF([2]Paramètres!E145=\"\",\"\",[2]Paramètres!E145)","v":""},{"$f":"IF([2]Paramètres!F145=\"\",\"\",[2]Paramètres!F145)","v":""},{"$f":"IF([2]Paramètres!G145=\"\",\"\",[2]Paramètres!G145)","v":""},{"$f":"IF([2]Paramètres!H145=\"\",\"\",[2]Paramètres!H145)","v":""},{"$f":"IF([2]Paramètres!I145=\"\",\"\",[2]Paramètres!I145)","v":""},{"$f":"IF([2]Paramètres!J145=\"\",\"\",[2]Paramètres!J145)","v":"The Yeast Bay - BRUSSELS BRETTANOMYCES\nBLEND"},{"$f":"IF([2]Paramètres!K145=\"\",\"\",[2]Paramètres!K145)","v":"Liquide"},{"$f":"IF([2]Paramètres!L145=\"\",\"\",[2]Paramètres!L145)","v":0.8},{"$f":"IF([2]Paramètres!M145=\"\",\"\",[2]Paramètres!M145)","v":0.9},{"$f":"IF([2]Paramètres!N145=\"\",\"\",[2]Paramètres!N145)","v":0.85000000000000009},{"$f":"IF([2]Paramètres!O145=\"\",\"\",[2]Paramètres!O145)","v":21.1},{"$f":"IF([2]Paramètres!P145=\"\",\"\",[2]Paramètres!P145)","v":26.7},{"$f":"IF([2]Paramètres!Q145=\"\",\"\",[2]Paramètres!Q145)","v":"Basse - Moyenne"},{"$f":"IF([2]Paramètres!R145=\"\",\"\",[2]Paramètres!R145)","v":""},{"$f":"IF([2]Paramètres!S145=\"\",\"\",[2]Paramètres!S145)","v":""},{"$f":"IF([2]Paramètres!T145=\"\",\"\",[2]Paramètres!T145)","v":""},{"$f":"IF([2]Paramètres!U145=\"\",\"\",[2]Paramètres!U145)","v":""},{"$f":"IF([2]Paramètres!V145=\"\",\"\",[2]Paramètres!V145)","v":""},{"$f":"IF([2]Paramètres!W145=\"\",\"\",[2]Paramètres!W145)","v":""},{"$f":"IF([2]Paramètres!X145=\"\",\"\",[2]Paramètres!X145)","v":""},{"$f":"IF([2]Paramètres!Y145=\"\",\"\",[2]Paramètres!Y145)","v":""},{"$f":"IF([2]Paramètres!Z145=\"\",\"\",[2]Paramètres!Z145)","v":""}]
[{"$f":"IF([2]Paramètres!A146=\"\",\"\",[2]Paramètres!A146)","v":""},{"$f":"IF([2]Paramètres!B146=\"\",\"\",[2]Paramètres!B146)","v":""},{"$f":"IF([2]Paramètres!C146=\"\",\"\",[2]Paramètres!C146)","v":""},{"$f":"IF([2]Paramètres!D146=\"\",\"\",[2]Paramètres!D146)","v":""},{"$f":"IF([2]Paramètres!E146=\"\",\"\",[2]Paramètres!E146)","v":""},{"$f":"IF([2]Paramètres!F146=\"\",\"\",[2]Paramètres!F146)","v":""},{"$f":"IF([2]Paramètres!G146=\"\",\"\",[2]Paramètres!G146)","v":""},{"$f":"IF([2]Paramètres!H146=\"\",\"\",[2]Paramètres!H146)","v":""},{"$f":"IF([2]Paramètres!I146=\"\",\"\",[2]Paramètres!I146)","v":""},{"$f":"IF([2]Paramètres!J146=\"\",\"\",[2]Paramètres!J146)","v":"The Yeast Bay - DRY BELGIAN ALE"},{"$f":"IF([2]Paramètres!K146=\"\",\"\",[2]Paramètres!K146)","v":"Liquide"},{"$f":"IF([2]Paramètres!L146=\"\",\"\",[2]Paramètres!L146)","v":0.85},{"$f":"IF([2]Paramètres!M146=\"\",\"\",[2]Paramètres!M146)","v":1},{"$f":"IF([2]Paramètres!N146=\"\",\"\",[2]Paramètres!N146)","v":0.92500000000000004},{"$f":"IF([2]Paramètres!O146=\"\",\"\",[2]Paramètres!O146)","v":20},{"$f":"IF([2]Paramètres!P146=\"\",\"\",[2]Paramètres!P146)","v":23.3},{"$f":"IF([2]Paramètres!Q146=\"\",\"\",[2]Paramètres!Q146)","v":"Moyenne - Haute"},{"$f":"IF([2]Paramètres!R146=\"\",\"\",[2]Paramètres!R146)","v":""},{"$f":"IF([2]Paramètres!S146=\"\",\"\",[2]Paramètres!S146)","v":""},{"$f":"IF([2]Paramètres!T146=\"\",\"\",[2]Paramètres!T146)","v":""},{"$f":"IF([2]Paramètres!U146=\"\",\"\",[2]Paramètres!U146)","v":""},{"$f":"IF([2]Paramètres!V146=\"\",\"\",[2]Paramètres!V146)","v":""},{"$f":"IF([2]Paramètres!W146=\"\",\"\",[2]Paramètres!W146)","v":""},{"$f":"IF([2]Paramètres!X146=\"\",\"\",[2]Paramètres!X146)","v":""},{"$f":"IF([2]Paramètres!Y146=\"\",\"\",[2]Paramètres!Y146)","v":""},{"$f":"IF([2]Paramètres!Z146=\"\",\"\",[2]Paramètres!Z146)","v":""}]
[{"$f":"IF([2]Paramètres!A147=\"\",\"\",[2]Paramètres!A147)","v":""},{"$f":"IF([2]Paramètres!B147=\"\",\"\",[2]Paramètres!B147)","v":""},{"$f":"IF([2]Paramètres!C147=\"\",\"\",[2]Paramètres!C147)","v":""},{"$f":"IF([2]Paramètres!D147=\"\",\"\",[2]Paramètres!D147)","v":""},{"$f":"IF([2]Paramètres!E147=\"\",\"\",[2]Paramètres!E147)","v":""},{"$f":"IF([2]Paramètres!F147=\"\",\"\",[2]Paramètres!F147)","v":""},{"$f":"IF([2]Paramètres!G147=\"\",\"\",[2]Paramètres!G147)","v":""},{"$f":"IF([2]Paramètres!H147=\"\",\"\",[2]Paramètres!H147)","v":""},{"$f":"IF([2]Paramètres!I147=\"\",\"\",[2]Paramètres!I147)","v":""},{"$f":"IF([2]Paramètres!J147=\"\",\"\",[2]Paramètres!J147)","v":"The Yeast Bay - FARMHOUSE SOUR ALE"},{"$f":"IF([2]Paramètres!K147=\"\",\"\",[2]Paramètres!K147)","v":"Liquide"},{"$f":"IF([2]Paramètres!L147=\"\",\"\",[2]Paramètres!L147)","v":0.8},{"$f":"IF([2]Paramètres!M147=\"\",\"\",[2]Paramètres!M147)","v":1},{"$f":"IF([2]Paramètres!N147=\"\",\"\",[2]Paramètres!N147)","v":0.9},{"$f":"IF([2]Paramètres!O147=\"\",\"\",[2]Paramètres!O147)","v":21.1},{"$f":"IF([2]Paramètres!P147=\"\",\"\",[2]Paramètres!P147)","v":25.6},{"$f":"IF([2]Paramètres!Q147=\"\",\"\",[2]Paramètres!Q147)","v":"Basse - Moyenne"},{"$f":"IF([2]Paramètres!R147=\"\",\"\",[2]Paramètres!R147)","v":""},{"$f":"IF([2]Paramètres!S147=\"\",\"\",[2]Paramètres!S147)","v":""},{"$f":"IF([2]Paramètres!T147=\"\",\"\",[2]Paramètres!T147)","v":""},{"$f":"IF([2]Paramètres!U147=\"\",\"\",[2]Paramètres!U147)","v":""},{"$f":"IF([2]Paramètres!V147=\"\",\"\",[2]Paramètres!V147)","v":""},{"$f":"IF([2]Paramètres!W147=\"\",\"\",[2]Paramètres!W147)","v":""},{"$f":"IF([2]Paramètres!X147=\"\",\"\",[2]Paramètres!X147)","v":""},{"$f":"IF([2]Paramètres!Y147=\"\",\"\",[2]Paramètres!Y147)","v":""},{"$f":"IF([2]Paramètres!Z147=\"\",\"\",[2]Paramètres!Z147)","v":""}]
[{"$f":"IF([2]Paramètres!A148=\"\",\"\",[2]Paramètres!A148)","v":""},{"$f":"IF([2]Paramètres!B148=\"\",\"\",[2]Paramètres!B148)","v":""},{"$f":"IF([2]Paramètres!C148=\"\",\"\",[2]Paramètres!C148)","v":""},{"$f":"IF([2]Paramètres!D148=\"\",\"\",[2]Paramètres!D148)","v":""},{"$f":"IF([2]Paramètres!E148=\"\",\"\",[2]Paramètres!E148)","v":""},{"$f":"IF([2]Paramètres!F148=\"\",\"\",[2]Paramètres!F148)","v":""},{"$f":"IF([2]Paramètres!G148=\"\",\"\",[2]Paramètres!G148)","v":""},{"$f":"IF([2]Paramètres!H148=\"\",\"\",[2]Paramètres!H148)","v":""},{"$f":"IF([2]Paramètres!I148=\"\",\"\",[2]Paramètres!I148)","v":""},{"$f":"IF([2]Paramètres!J148=\"\",\"\",[2]Paramètres!J148)","v":"The Yeast Bay - FLANDERS SPECIALTY ALE"},{"$f":"IF([2]Paramètres!K148=\"\",\"\",[2]Paramètres!K148)","v":"Liquide"},{"$f":"IF([2]Paramètres!L148=\"\",\"\",[2]Paramètres!L148)","v":0.78},{"$f":"IF([2]Paramètres!M148=\"\",\"\",[2]Paramètres!M148)","v":0.82},{"$f":"IF([2]Paramètres!N148=\"\",\"\",[2]Paramètres!N148)","v":0.8},{"$f":"IF([2]Paramètres!O148=\"\",\"\",[2]Paramètres!O148)","v":20},{"$f":"IF([2]Paramètres!P148=\"\",\"\",[2]Paramètres!P148)","v":26.7},{"$f":"IF([2]Paramètres!Q148=\"\",\"\",[2]Paramètres!Q148)","v":"Moyenne"},{"$f":"IF([2]Paramètres!R148=\"\",\"\",[2]Paramètres!R148)","v":""},{"$f":"IF([2]Paramètres!S148=\"\",\"\",[2]Paramètres!S148)","v":""},{"$f":"IF([2]Paramètres!T148=\"\",\"\",[2]Paramètres!T148)","v":""},{"$f":"IF([2]Paramètres!U148=\"\",\"\",[2]Paramètres!U148)","v":""},{"$f":"IF([2]Paramètres!V148=\"\",\"\",[2]Paramètres!V148)","v":""},{"$f":"IF([2]Paramètres!W148=\"\",\"\",[2]Paramètres!W148)","v":""},{"$f":"IF([2]Paramètres!X148=\"\",\"\",[2]Paramètres!X148)","v":""},{"$f":"IF([2]Paramètres!Y148=\"\",\"\",[2]Paramètres!Y148)","v":""},{"$f":"IF([2]Paramètres!Z148=\"\",\"\",[2]Paramètres!Z148)","v":""}]
[{"$f":"IF([2]Paramètres!A149=\"\",\"\",[2]Paramètres!A149)","v":""},{"$f":"IF([2]Paramètres!B149=\"\",\"\",[2]Paramètres!B149)","v":""},{"$f":"IF([2]Paramètres!C149=\"\",\"\",[2]Paramètres!C149)","v":""},{"$f":"IF([2]Paramètres!D149=\"\",\"\",[2]Paramètres!D149)","v":""},{"$f":"IF([2]Paramètres!E149=\"\",\"\",[2]Paramètres!E149)","v":""},{"$f":"IF([2]Paramètres!F149=\"\",\"\",[2]Paramètres!F149)","v":""},{"$f":"IF([2]Paramètres!G149=\"\",\"\",[2]Paramètres!G149)","v":""},{"$f":"IF([2]Paramètres!H149=\"\",\"\",[2]Paramètres!H149)","v":""},{"$f":"IF([2]Paramètres!I149=\"\",\"\",[2]Paramètres!I149)","v":""},{"$f":"IF([2]Paramètres!J149=\"\",\"\",[2]Paramètres!J149)","v":"The Yeast Bay - FRANCONIAN DARK LAGER"},{"$f":"IF([2]Paramètres!K149=\"\",\"\",[2]Paramètres!K149)","v":"Liquide"},{"$f":"IF([2]Paramètres!L149=\"\",\"\",[2]Paramètres!L149)","v":0.74},{"$f":"IF([2]Paramètres!M149=\"\",\"\",[2]Paramètres!M149)","v":0.78},{"$f":"IF([2]Paramètres!N149=\"\",\"\",[2]Paramètres!N149)","v":0.76},{"$f":"IF([2]Paramètres!O149=\"\",\"\",[2]Paramètres!O149)","v":8.9},{"$f":"IF([2]Paramètres!P149=\"\",\"\",[2]Paramètres!P149)","v":10.6},{"$f":"IF([2]Paramètres!Q149=\"\",\"\",[2]Paramètres!Q149)","v":"Basse - Moyenne"},{"$f":"IF([2]Paramètres!R149=\"\",\"\",[2]Paramètres!R149)","v":""},{"$f":"IF([2]Paramètres!S149=\"\",\"\",[2]Paramètres!S149)","v":""},{"$f":"IF([2]Paramètres!T149=\"\",\"\",[2]Paramètres!T149)","v":""},{"$f":"IF([2]Paramètres!U149=\"\",\"\",[2]Paramètres!U149)","v":""},{"$f":"IF([2]Paramètres!V149=\"\",\"\",[2]Paramètres!V149)","v":""},{"$f":"IF([2]Paramètres!W149=\"\",\"\",[2]Paramètres!W149)","v":""},{"$f":"IF([2]Paramètres!X149=\"\",\"\",[2]Paramètres!X149)","v":""},{"$f":"IF([2]Paramètres!Y149=\"\",\"\",[2]Paramètres!Y149)","v":""},{"$f":"IF([2]Paramètres!Z149=\"\",\"\",[2]Paramètres!Z149)","v":""}]
[{"$f":"IF([2]Paramètres!A150=\"\",\"\",[2]Paramètres!A150)","v":""},{"$f":"IF([2]Paramètres!B150=\"\",\"\",[2]Paramètres!B150)","v":""},{"$f":"IF([2]Paramètres!C150=\"\",\"\",[2]Paramètres!C150)","v":""},{"$f":"IF([2]Paramètres!D150=\"\",\"\",[2]Paramètres!D150)","v":""},{"$f":"IF([2]Paramètres!E150=\"\",\"\",[2]Paramètres!E150)","v":""},{"$f":"IF([2]Paramètres!F150=\"\",\"\",[2]Paramètres!F150)","v":""},{"$f":"IF([2]Paramètres!G150=\"\",\"\",[2]Paramètres!G150)","v":""},{"$f":"IF([2]Paramètres!H150=\"\",\"\",[2]Paramètres!H150)","v":""},{"$f":"IF([2]Paramètres!I150=\"\",\"\",[2]Paramètres!I150)","v":""},{"$f":"IF([2]Paramètres!J150=\"\",\"\",[2]Paramètres!J150)","v":"The Yeast Bay - FUNKTOWN PALE ALE"},{"$f":"IF([2]Paramètres!K150=\"\",\"\",[2]Paramètres!K150)","v":"Liquide"},{"$f":"IF([2]Paramètres!L150=\"\",\"\",[2]Paramètres!L150)","v":0.78},{"$f":"IF([2]Paramètres!M150=\"\",\"\",[2]Paramètres!M150)","v":0.95},{"$f":"IF([2]Paramètres!N150=\"\",\"\",[2]Paramètres!N150)","v":0.86499999999999999},{"$f":"IF([2]Paramètres!O150=\"\",\"\",[2]Paramètres!O150)","v":20},{"$f":"IF([2]Paramètres!P150=\"\",\"\",[2]Paramètres!P150)","v":23.3},{"$f":"IF([2]Paramètres!Q150=\"\",\"\",[2]Paramètres!Q150)","v":"Basse - Moyenne"},{"$f":"IF([2]Paramètres!R150=\"\",\"\",[2]Paramètres!R150)","v":""},{"$f":"IF([2]Paramètres!S150=\"\",\"\",[2]Paramètres!S150)","v":""},{"$f":"IF([2]Paramètres!T150=\"\",\"\",[2]Paramètres!T150)","v":""},{"$f":"IF([2]Paramètres!U150=\"\",\"\",[2]Paramètres!U150)","v":""},{"$f":"IF([2]Paramètres!V150=\"\",\"\",[2]Paramètres!V150)","v":""},{"$f":"IF([2]Paramètres!W150=\"\",\"\",[2]Paramètres!W150)","v":""},{"$f":"IF([2]Paramètres!X150=\"\",\"\",[2]Paramètres!X150)","v":""},{"$f":"IF([2]Paramètres!Y150=\"\",\"\",[2]Paramètres!Y150)","v":""},{"$f":"IF([2]Paramètres!Z150=\"\",\"\",[2]Paramètres!Z150)","v":""}]
[{"$f":"IF([2]Paramètres!A151=\"\",\"\",[2]Paramètres!A151)","v":""},{"$f":"IF([2]Paramètres!B151=\"\",\"\",[2]Paramètres!B151)","v":""},{"$f":"IF([2]Paramètres!C151=\"\",\"\",[2]Paramètres!C151)","v":""},{"$f":"IF([2]Paramètres!D151=\"\",\"\",[2]Paramètres!D151)","v":""},{"$f":"IF([2]Paramètres!E151=\"\",\"\",[2]Paramètres!E151)","v":""},{"$f":"IF([2]Paramètres!F151=\"\",\"\",[2]Paramètres!F151)","v":""},{"$f":"IF([2]Paramètres!G151=\"\",\"\",[2]Paramètres!G151)","v":""},{"$f":"IF([2]Paramètres!H151=\"\",\"\",[2]Paramètres!H151)","v":""},{"$f":"IF([2]Paramètres!I151=\"\",\"\",[2]Paramètres!I151)","v":""},{"$f":"IF([2]Paramètres!J151=\"\",\"\",[2]Paramètres!J151)","v":"The Yeast Bay - HAZY DAZE"},{"$f":"IF([2]Paramètres!K151=\"\",\"\",[2]Paramètres!K151)","v":"Liquide"},{"$f":"IF([2]Paramètres!L151=\"\",\"\",[2]Paramètres!L151)","v":0.79},{"$f":"IF([2]Paramètres!M151=\"\",\"\",[2]Paramètres!M151)","v":0.83},{"$f":"IF([2]Paramètres!N151=\"\",\"\",[2]Paramètres!N151)","v":0.81},{"$f":"IF([2]Paramètres!O151=\"\",\"\",[2]Paramètres!O151)","v":17.8},{"$f":"IF([2]Paramètres!P151=\"\",\"\",[2]Paramètres!P151)","v":21.1},{"$f":"IF([2]Paramètres!Q151=\"\",\"\",[2]Paramètres!Q151)","v":"Basse - Moyenne"},{"$f":"IF([2]Paramètres!R151=\"\",\"\",[2]Paramètres!R151)","v":""},{"$f":"IF([2]Paramètres!S151=\"\",\"\",[2]Paramètres!S151)","v":""},{"$f":"IF([2]Paramètres!T151=\"\",\"\",[2]Paramètres!T151)","v":""},{"$f":"IF([2]Paramètres!U151=\"\",\"\",[2]Paramètres!U151)","v":""},{"$f":"IF([2]Paramètres!V151=\"\",\"\",[2]Paramètres!V151)","v":""},{"$f":"IF([2]Paramètres!W151=\"\",\"\",[2]Paramètres!W151)","v":""},{"$f":"IF([2]Paramètres!X151=\"\",\"\",[2]Paramètres!X151)","v":""},{"$f":"IF([2]Paramètres!Y151=\"\",\"\",[2]Paramètres!Y151)","v":""},{"$f":"IF([2]Paramètres!Z151=\"\",\"\",[2]Paramètres!Z151)","v":""}]
[{"$f":"IF([2]Paramètres!A152=\"\",\"\",[2]Paramètres!A152)","v":""},{"$f":"IF([2]Paramètres!B152=\"\",\"\",[2]Paramètres!B152)","v":""},{"$f":"IF([2]Paramètres!C152=\"\",\"\",[2]Paramètres!C152)","v":""},{"$f":"IF([2]Paramètres!D152=\"\",\"\",[2]Paramètres!D152)","v":""},{"$f":"IF([2]Paramètres!E152=\"\",\"\",[2]Paramètres!E152)","v":""},{"$f":"IF([2]Paramètres!F152=\"\",\"\",[2]Paramètres!F152)","v":""},{"$f":"IF([2]Paramètres!G152=\"\",\"\",[2]Paramètres!G152)","v":""},{"$f":"IF([2]Paramètres!H152=\"\",\"\",[2]Paramètres!H152)","v":""},{"$f":"IF([2]Paramètres!I152=\"\",\"\",[2]Paramètres!I152)","v":""},{"$f":"IF([2]Paramètres!J152=\"\",\"\",[2]Paramètres!J152)","v":"The Yeast Bay - HAZY DAZE II "},{"$f":"IF([2]Paramètres!K152=\"\",\"\",[2]Paramètres!K152)","v":"Liquide"},{"$f":"IF([2]Paramètres!L152=\"\",\"\",[2]Paramètres!L152)","v":0.81},{"$f":"IF([2]Paramètres!M152=\"\",\"\",[2]Paramètres!M152)","v":0.85},{"$f":"IF([2]Paramètres!N152=\"\",\"\",[2]Paramètres!N152)","v":0.83000000000000007},{"$f":"IF([2]Paramètres!O152=\"\",\"\",[2]Paramètres!O152)","v":18.899999999999999},{"$f":"IF([2]Paramètres!P152=\"\",\"\",[2]Paramètres!P152)","v":22.2},{"$f":"IF([2]Paramètres!Q152=\"\",\"\",[2]Paramètres!Q152)","v":"Basse - Moyenne"},{"$f":"IF([2]Paramètres!R152=\"\",\"\",[2]Paramètres!R152)","v":""},{"$f":"IF([2]Paramètres!S152=\"\",\"\",[2]Paramètres!S152)","v":""},{"$f":"IF([2]Paramètres!T152=\"\",\"\",[2]Paramètres!T152)","v":""},{"$f":"IF([2]Paramètres!U152=\"\",\"\",[2]Paramètres!U152)","v":""},{"$f":"IF([2]Paramètres!V152=\"\",\"\",[2]Paramètres!V152)","v":""},{"$f":"IF([2]Paramètres!W152=\"\",\"\",[2]Paramètres!W152)","v":""},{"$f":"IF([2]Paramètres!X152=\"\",\"\",[2]Paramètres!X152)","v":""},{"$f":"IF([2]Paramètres!Y152=\"\",\"\",[2]Paramètres!Y152)","v":""},{"$f":"IF([2]Paramètres!Z152=\"\",\"\",[2]Paramètres!Z152)","v":""}]
[{"$f":"IF([2]Paramètres!A153=\"\",\"\",[2]Paramètres!A153)","v":""},{"$f":"IF([2]Paramètres!B153=\"\",\"\",[2]Paramètres!B153)","v":""},{"$f":"IF([2]Paramètres!C153=\"\",\"\",[2]Paramètres!C153)","v":""},{"$f":"IF([2]Paramètres!D153=\"\",\"\",[2]Paramètres!D153)","v":""},{"$f":"IF([2]Paramètres!E153=\"\",\"\",[2]Paramètres!E153)","v":""},{"$f":"IF([2]Paramètres!F153=\"\",\"\",[2]Paramètres!F153)","v":""},{"$f":"IF([2]Paramètres!G153=\"\",\"\",[2]Paramètres!G153)","v":""},{"$f":"IF([2]Paramètres!H153=\"\",\"\",[2]Paramètres!H153)","v":""},{"$f":"IF([2]Paramètres!I153=\"\",\"\",[2]Paramètres!I153)","v":""},{"$f":"IF([2]Paramètres!J153=\"\",\"\",[2]Paramètres!J153)","v":"The Yeast Bay - HESSIAN PILS"},{"$f":"IF([2]Paramètres!K153=\"\",\"\",[2]Paramètres!K153)","v":"Liquide"},{"$f":"IF([2]Paramètres!L153=\"\",\"\",[2]Paramètres!L153)","v":0.73},{"$f":"IF([2]Paramètres!M153=\"\",\"\",[2]Paramètres!M153)","v":0.76},{"$f":"IF([2]Paramètres!N153=\"\",\"\",[2]Paramètres!N153)","v":0.745},{"$f":"IF([2]Paramètres!O153=\"\",\"\",[2]Paramètres!O153)","v":7.2},{"$f":"IF([2]Paramètres!P153=\"\",\"\",[2]Paramètres!P153)","v":8.9},{"$f":"IF([2]Paramètres!Q153=\"\",\"\",[2]Paramètres!Q153)","v":"Basse - Moyenne"},{"$f":"IF([2]Paramètres!R153=\"\",\"\",[2]Paramètres!R153)","v":""},{"$f":"IF([2]Paramètres!S153=\"\",\"\",[2]Paramètres!S153)","v":""},{"$f":"IF([2]Paramètres!T153=\"\",\"\",[2]Paramètres!T153)","v":""},{"$f":"IF([2]Paramètres!U153=\"\",\"\",[2]Paramètres!U153)","v":""},{"$f":"IF([2]Paramètres!V153=\"\",\"\",[2]Paramètres!V153)","v":""},{"$f":"IF([2]Paramètres!W153=\"\",\"\",[2]Paramètres!W153)","v":""},{"$f":"IF([2]Paramètres!X153=\"\",\"\",[2]Paramètres!X153)","v":""},{"$f":"IF([2]Paramètres!Y153=\"\",\"\",[2]Paramètres!Y153)","v":""},{"$f":"IF([2]Paramètres!Z153=\"\",\"\",[2]Paramètres!Z153)","v":""}]
[{"$f":"IF([2]Paramètres!A154=\"\",\"\",[2]Paramètres!A154)","v":""},{"$f":"IF([2]Paramètres!B154=\"\",\"\",[2]Paramètres!B154)","v":""},{"$f":"IF([2]Paramètres!C154=\"\",\"\",[2]Paramètres!C154)","v":""},{"$f":"IF([2]Paramètres!D154=\"\",\"\",[2]Paramètres!D154)","v":""},{"$f":"IF([2]Paramètres!E154=\"\",\"\",[2]Paramètres!E154)","v":""},{"$f":"IF([2]Paramètres!F154=\"\",\"\",[2]Paramètres!F154)","v":""},{"$f":"IF([2]Paramètres!G154=\"\",\"\",[2]Paramètres!G154)","v":""},{"$f":"IF([2]Paramètres!H154=\"\",\"\",[2]Paramètres!H154)","v":""},{"$f":"IF([2]Paramètres!I154=\"\",\"\",[2]Paramètres!I154)","v":""},{"$f":"IF([2]Paramètres!J154=\"\",\"\",[2]Paramètres!J154)","v":"The Yeast Bay - KVEIK'N HILLS"},{"$f":"IF([2]Paramètres!K154=\"\",\"\",[2]Paramètres!K154)","v":"Liquide"},{"$f":"IF([2]Paramètres!L154=\"\",\"\",[2]Paramètres!L154)","v":0.78},{"$f":"IF([2]Paramètres!M154=\"\",\"\",[2]Paramètres!M154)","v":0.83},{"$f":"IF([2]Paramètres!N154=\"\",\"\",[2]Paramètres!N154)","v":0.80499999999999994},{"$f":"IF([2]Paramètres!O154=\"\",\"\",[2]Paramètres!O154)","v":21.1},{"$f":"IF([2]Paramètres!P154=\"\",\"\",[2]Paramètres!P154)","v":37.799999999999997},{"$f":"IF([2]Paramètres!Q154=\"\",\"\",[2]Paramètres!Q154)","v":"Moyenne - Haute"},{"$f":"IF([2]Paramètres!R154=\"\",\"\",[2]Paramètres!R154)","v":""},{"$f":"IF([2]Paramètres!S154=\"\",\"\",[2]Paramètres!S154)","v":""},{"$f":"IF([2]Paramètres!T154=\"\",\"\",[2]Paramètres!T154)","v":""},{"$f":"IF([2]Paramètres!U154=\"\",\"\",[2]Paramètres!U154)","v":""},{"$f":"IF([2]Paramètres!V154=\"\",\"\",[2]Paramètres!V154)","v":""},{"$f":"IF([2]Paramètres!W154=\"\",\"\",[2]Paramètres!W154)","v":""},{"$f":"IF([2]Paramètres!X154=\"\",\"\",[2]Paramètres!X154)","v":""},{"$f":"IF([2]Paramètres!Y154=\"\",\"\",[2]Paramètres!Y154)","v":""},{"$f":"IF([2]Paramètres!Z154=\"\",\"\",[2]Paramètres!Z154)","v":""}]
[{"$f":"IF([2]Paramètres!A155=\"\",\"\",[2]Paramètres!A155)","v":""},{"$f":"IF([2]Paramètres!B155=\"\",\"\",[2]Paramètres!B155)","v":""},{"$f":"IF([2]Paramètres!C155=\"\",\"\",[2]Paramètres!C155)","v":""},{"$f":"IF([2]Paramètres!D155=\"\",\"\",[2]Paramètres!D155)","v":""},{"$f":"IF([2]Paramètres!E155=\"\",\"\",[2]Paramètres!E155)","v":""},{"$f":"IF([2]Paramètres!F155=\"\",\"\",[2]Paramètres!F155)","v":""},{"$f":"IF([2]Paramètres!G155=\"\",\"\",[2]Paramètres!G155)","v":""},{"$f":"IF([2]Paramètres!H155=\"\",\"\",[2]Paramètres!H155)","v":""},{"$f":"IF([2]Paramètres!I155=\"\",\"\",[2]Paramètres!I155)","v":""},{"$f":"IF([2]Paramètres!J155=\"\",\"\",[2]Paramètres!J155)","v":"The Yeast Bay - LACTOBACILLUS BLEND"},{"$f":"IF([2]Paramètres!K155=\"\",\"\",[2]Paramètres!K155)","v":"Liquide"},{"$f":"IF([2]Paramètres!L155=\"\",\"\",[2]Paramètres!L155)","v":0.05},{"$f":"IF([2]Paramètres!M155=\"\",\"\",[2]Paramètres!M155)","v":0.05},{"$f":"IF([2]Paramètres!N155=\"\",\"\",[2]Paramètres!N155)","v":0.05},{"$f":"IF([2]Paramètres!O155=\"\",\"\",[2]Paramètres!O155)","v":21.1},{"$f":"IF([2]Paramètres!P155=\"\",\"\",[2]Paramètres!P155)","v":32.200000000000003},{"$f":"IF([2]Paramètres!Q155=\"\",\"\",[2]Paramètres!Q155)","v":"N/A"},{"$f":"IF([2]Paramètres!R155=\"\",\"\",[2]Paramètres!R155)","v":""},{"$f":"IF([2]Paramètres!S155=\"\",\"\",[2]Paramètres!S155)","v":""},{"$f":"IF([2]Paramètres!T155=\"\",\"\",[2]Paramètres!T155)","v":""},{"$f":"IF([2]Paramètres!U155=\"\",\"\",[2]Paramètres!U155)","v":""},{"$f":"IF([2]Paramètres!V155=\"\",\"\",[2]Paramètres!V155)","v":""},{"$f":"IF([2]Paramètres!W155=\"\",\"\",[2]Paramètres!W155)","v":""},{"$f":"IF([2]Paramètres!X155=\"\",\"\",[2]Paramètres!X155)","v":""},{"$f":"IF([2]Paramètres!Y155=\"\",\"\",[2]Paramètres!Y155)","v":""},{"$f":"IF([2]Paramètres!Z155=\"\",\"\",[2]Paramètres!Z155)","v":""}]
[{"$f":"IF([2]Paramètres!A156=\"\",\"\",[2]Paramètres!A156)","v":""},{"$f":"IF([2]Paramètres!B156=\"\",\"\",[2]Paramètres!B156)","v":""},{"$f":"IF([2]Paramètres!C156=\"\",\"\",[2]Paramètres!C156)","v":""},{"$f":"IF([2]Paramètres!D156=\"\",\"\",[2]Paramètres!D156)","v":""},{"$f":"IF([2]Paramètres!E156=\"\",\"\",[2]Paramètres!E156)","v":""},{"$f":"IF([2]Paramètres!F156=\"\",\"\",[2]Paramètres!F156)","v":""},{"$f":"IF([2]Paramètres!G156=\"\",\"\",[2]Paramètres!G156)","v":""},{"$f":"IF([2]Paramètres!H156=\"\",\"\",[2]Paramètres!H156)","v":""},{"$f":"IF([2]Paramètres!I156=\"\",\"\",[2]Paramètres!I156)","v":""},{"$f":"IF([2]Paramètres!J156=\"\",\"\",[2]Paramètres!J156)","v":"The Yeast Bay - LACTOBACILLUS BREVIS\nSTRAIN TYB282"},{"$f":"IF([2]Paramètres!K156=\"\",\"\",[2]Paramètres!K156)","v":"Liquide"},{"$f":"IF([2]Paramètres!L156=\"\",\"\",[2]Paramètres!L156)","v":0.05},{"$f":"IF([2]Paramètres!M156=\"\",\"\",[2]Paramètres!M156)","v":0.05},{"$f":"IF([2]Paramètres!N156=\"\",\"\",[2]Paramètres!N156)","v":0.05},{"$f":"IF([2]Paramètres!O156=\"\",\"\",[2]Paramètres!O156)","v":21.1},{"$f":"IF([2]Paramètres!P156=\"\",\"\",[2]Paramètres!P156)","v":32.200000000000003},{"$f":"IF([2]Paramètres!Q156=\"\",\"\",[2]Paramètres!Q156)","v":"N/A"},{"$f":"IF([2]Paramètres!R156=\"\",\"\",[2]Paramètres!R156)","v":""},{"$f":"IF([2]Paramètres!S156=\"\",\"\",[2]Paramètres!S156)","v":""},{"$f":"IF([2]Paramètres!T156=\"\",\"\",[2]Paramètres!T156)","v":""},{"$f":"IF([2]Paramètres!U156=\"\",\"\",[2]Paramètres!U156)","v":""},{"$f":"IF([2]Paramètres!V156=\"\",\"\",[2]Paramètres!V156)","v":""},{"$f":"IF([2]Paramètres!W156=\"\",\"\",[2]Paramètres!W156)","v":""},{"$f":"IF([2]Paramètres!X156=\"\",\"\",[2]Paramètres!X156)","v":""},{"$f":"IF([2]Paramètres!Y156=\"\",\"\",[2]Paramètres!Y156)","v":""},{"$f":"IF([2]Paramètres!Z156=\"\",\"\",[2]Paramètres!Z156)","v":""}]
[{"$f":"IF([2]Paramètres!A157=\"\",\"\",[2]Paramètres!A157)","v":""},{"$f":"IF([2]Paramètres!B157=\"\",\"\",[2]Paramètres!B157)","v":""},{"$f":"IF([2]Paramètres!C157=\"\",\"\",[2]Paramètres!C157)","v":""},{"$f":"IF([2]Paramètres!D157=\"\",\"\",[2]Paramètres!D157)","v":""},{"$f":"IF([2]Paramètres!E157=\"\",\"\",[2]Paramètres!E157)","v":""},{"$f":"IF([2]Paramètres!F157=\"\",\"\",[2]Paramètres!F157)","v":""},{"$f":"IF([2]Paramètres!G157=\"\",\"\",[2]Paramètres!G157)","v":""},{"$f":"IF([2]Paramètres!H157=\"\",\"\",[2]Paramètres!H157)","v":""},{"$f":"IF([2]Paramètres!I157=\"\",\"\",[2]Paramètres!I157)","v":""},{"$f":"IF([2]Paramètres!J157=\"\",\"\",[2]Paramètres!J157)","v":"The Yeast Bay - LITHUANIA'N HILLS"},{"$f":"IF([2]Paramètres!K157=\"\",\"\",[2]Paramètres!K157)","v":"Liquide"},{"$f":"IF([2]Paramètres!L157=\"\",\"\",[2]Paramètres!L157)","v":0.76},{"$f":"IF([2]Paramètres!M157=\"\",\"\",[2]Paramètres!M157)","v":0.82},{"$f":"IF([2]Paramètres!N157=\"\",\"\",[2]Paramètres!N157)","v":0.79},{"$f":"IF([2]Paramètres!O157=\"\",\"\",[2]Paramètres!O157)","v":23.9},{"$f":"IF([2]Paramètres!P157=\"\",\"\",[2]Paramètres!P157)","v":35},{"$f":"IF([2]Paramètres!Q157=\"\",\"\",[2]Paramètres!Q157)","v":"Moyenne - Haute"},{"$f":"IF([2]Paramètres!R157=\"\",\"\",[2]Paramètres!R157)","v":""},{"$f":"IF([2]Paramètres!S157=\"\",\"\",[2]Paramètres!S157)","v":""},{"$f":"IF([2]Paramètres!T157=\"\",\"\",[2]Paramètres!T157)","v":""},{"$f":"IF([2]Paramètres!U157=\"\",\"\",[2]Paramètres!U157)","v":""},{"$f":"IF([2]Paramètres!V157=\"\",\"\",[2]Paramètres!V157)","v":""},{"$f":"IF([2]Paramètres!W157=\"\",\"\",[2]Paramètres!W157)","v":""},{"$f":"IF([2]Paramètres!X157=\"\",\"\",[2]Paramètres!X157)","v":""},{"$f":"IF([2]Paramètres!Y157=\"\",\"\",[2]Paramètres!Y157)","v":""},{"$f":"IF([2]Paramètres!Z157=\"\",\"\",[2]Paramètres!Z157)","v":""}]
[{"$f":"IF([2]Paramètres!A158=\"\",\"\",[2]Paramètres!A158)","v":""},{"$f":"IF([2]Paramètres!B158=\"\",\"\",[2]Paramètres!B158)","v":""},{"$f":"IF([2]Paramètres!C158=\"\",\"\",[2]Paramètres!C158)","v":""},{"$f":"IF([2]Paramètres!D158=\"\",\"\",[2]Paramètres!D158)","v":""},{"$f":"IF([2]Paramètres!E158=\"\",\"\",[2]Paramètres!E158)","v":""},{"$f":"IF([2]Paramètres!F158=\"\",\"\",[2]Paramètres!F158)","v":""},{"$f":"IF([2]Paramètres!G158=\"\",\"\",[2]Paramètres!G158)","v":""},{"$f":"IF([2]Paramètres!H158=\"\",\"\",[2]Paramètres!H158)","v":""},{"$f":"IF([2]Paramètres!I158=\"\",\"\",[2]Paramètres!I158)","v":""},{"$f":"IF([2]Paramètres!J158=\"\",\"\",[2]Paramètres!J158)","v":"The Yeast Bay - LOCHRISTI BRETTANOMYCES\nBLEND"},{"$f":"IF([2]Paramètres!K158=\"\",\"\",[2]Paramètres!K158)","v":"Liquide"},{"$f":"IF([2]Paramètres!L158=\"\",\"\",[2]Paramètres!L158)","v":0.8},{"$f":"IF([2]Paramètres!M158=\"\",\"\",[2]Paramètres!M158)","v":0.88},{"$f":"IF([2]Paramètres!N158=\"\",\"\",[2]Paramètres!N158)","v":0.84000000000000008},{"$f":"IF([2]Paramètres!O158=\"\",\"\",[2]Paramètres!O158)","v":21.1},{"$f":"IF([2]Paramètres!P158=\"\",\"\",[2]Paramètres!P158)","v":26.7},{"$f":"IF([2]Paramètres!Q158=\"\",\"\",[2]Paramètres!Q158)","v":"Basse - Moyenne"},{"$f":"IF([2]Paramètres!R158=\"\",\"\",[2]Paramètres!R158)","v":""},{"$f":"IF([2]Paramètres!S158=\"\",\"\",[2]Paramètres!S158)","v":""},{"$f":"IF([2]Paramètres!T158=\"\",\"\",[2]Paramètres!T158)","v":""},{"$f":"IF([2]Paramètres!U158=\"\",\"\",[2]Paramètres!U158)","v":""},{"$f":"IF([2]Paramètres!V158=\"\",\"\",[2]Paramètres!V158)","v":""},{"$f":"IF([2]Paramètres!W158=\"\",\"\",[2]Paramètres!W158)","v":""},{"$f":"IF([2]Paramètres!X158=\"\",\"\",[2]Paramètres!X158)","v":""},{"$f":"IF([2]Paramètres!Y158=\"\",\"\",[2]Paramètres!Y158)","v":""},{"$f":"IF([2]Paramètres!Z158=\"\",\"\",[2]Paramètres!Z158)","v":""}]
[{"$f":"IF([2]Paramètres!A159=\"\",\"\",[2]Paramètres!A159)","v":""},{"$f":"IF([2]Paramètres!B159=\"\",\"\",[2]Paramètres!B159)","v":""},{"$f":"IF([2]Paramètres!C159=\"\",\"\",[2]Paramètres!C159)","v":""},{"$f":"IF([2]Paramètres!D159=\"\",\"\",[2]Paramètres!D159)","v":""},{"$f":"IF([2]Paramètres!E159=\"\",\"\",[2]Paramètres!E159)","v":""},{"$f":"IF([2]Paramètres!F159=\"\",\"\",[2]Paramètres!F159)","v":""},{"$f":"IF([2]Paramètres!G159=\"\",\"\",[2]Paramètres!G159)","v":""},{"$f":"IF([2]Paramètres!H159=\"\",\"\",[2]Paramètres!H159)","v":""},{"$f":"IF([2]Paramètres!I159=\"\",\"\",[2]Paramètres!I159)","v":""},{"$f":"IF([2]Paramètres!J159=\"\",\"\",[2]Paramètres!J159)","v":"The Yeast Bay - MÉLANGE"},{"$f":"IF([2]Paramètres!K159=\"\",\"\",[2]Paramètres!K159)","v":"Liquide"},{"$f":"IF([2]Paramètres!L159=\"\",\"\",[2]Paramètres!L159)","v":0.85},{"$f":"IF([2]Paramètres!M159=\"\",\"\",[2]Paramètres!M159)","v":1},{"$f":"IF([2]Paramètres!N159=\"\",\"\",[2]Paramètres!N159)","v":0.92500000000000004},{"$f":"IF([2]Paramètres!O159=\"\",\"\",[2]Paramètres!O159)","v":20},{"$f":"IF([2]Paramètres!P159=\"\",\"\",[2]Paramètres!P159)","v":25.6},{"$f":"IF([2]Paramètres!Q159=\"\",\"\",[2]Paramètres!Q159)","v":"Basse - Moyenne"},{"$f":"IF([2]Paramètres!R159=\"\",\"\",[2]Paramètres!R159)","v":""},{"$f":"IF([2]Paramètres!S159=\"\",\"\",[2]Paramètres!S159)","v":""},{"$f":"IF([2]Paramètres!T159=\"\",\"\",[2]Paramètres!T159)","v":""},{"$f":"IF([2]Paramètres!U159=\"\",\"\",[2]Paramètres!U159)","v":""},{"$f":"IF([2]Paramètres!V159=\"\",\"\",[2]Paramètres!V159)","v":""},{"$f":"IF([2]Paramètres!W159=\"\",\"\",[2]Paramètres!W159)","v":""},{"$f":"IF([2]Paramètres!X159=\"\",\"\",[2]Paramètres!X159)","v":""},{"$f":"IF([2]Paramètres!Y159=\"\",\"\",[2]Paramètres!Y159)","v":""},{"$f":"IF([2]Paramètres!Z159=\"\",\"\",[2]Paramètres!Z159)","v":""}]
[{"$f":"IF([2]Paramètres!A160=\"\",\"\",[2]Paramètres!A160)","v":""},{"$f":"IF([2]Paramètres!B160=\"\",\"\",[2]Paramètres!B160)","v":""},{"$f":"IF([2]Paramètres!C160=\"\",\"\",[2]Paramètres!C160)","v":""},{"$f":"IF([2]Paramètres!D160=\"\",\"\",[2]Paramètres!D160)","v":""},{"$f":"IF([2]Paramètres!E160=\"\",\"\",[2]Paramètres!E160)","v":""},{"$f":"IF([2]Paramètres!F160=\"\",\"\",[2]Paramètres!F160)","v":""},{"$f":"IF([2]Paramètres!G160=\"\",\"\",[2]Paramètres!G160)","v":""},{"$f":"IF([2]Paramètres!H160=\"\",\"\",[2]Paramètres!H160)","v":""},{"$f":"IF([2]Paramètres!I160=\"\",\"\",[2]Paramètres!I160)","v":""},{"$f":"IF([2]Paramètres!J160=\"\",\"\",[2]Paramètres!J160)","v":"The Yeast Bay - METSCHNIKOWIA REUKAUFII"},{"$f":"IF([2]Paramètres!K160=\"\",\"\",[2]Paramètres!K160)","v":"Sèche"},{"$f":"IF([2]Paramètres!L160=\"\",\"\",[2]Paramètres!L160)","v":0.2},{"$f":"IF([2]Paramètres!M160=\"\",\"\",[2]Paramètres!M160)","v":0.25},{"$f":"IF([2]Paramètres!N160=\"\",\"\",[2]Paramètres!N160)","v":0.22500000000000001},{"$f":"IF([2]Paramètres!O160=\"\",\"\",[2]Paramètres!O160)","v":15.6},{"$f":"IF([2]Paramètres!P160=\"\",\"\",[2]Paramètres!P160)","v":32.200000000000003},{"$f":"IF([2]Paramètres!Q160=\"\",\"\",[2]Paramètres!Q160)","v":"Basse"},{"$f":"IF([2]Paramètres!R160=\"\",\"\",[2]Paramètres!R160)","v":""},{"$f":"IF([2]Paramètres!S160=\"\",\"\",[2]Paramètres!S160)","v":""},{"$f":"IF([2]Paramètres!T160=\"\",\"\",[2]Paramètres!T160)","v":""},{"$f":"IF([2]Paramètres!U160=\"\",\"\",[2]Paramètres!U160)","v":""},{"$f":"IF([2]Paramètres!V160=\"\",\"\",[2]Paramètres!V160)","v":""},{"$f":"IF([2]Paramètres!W160=\"\",\"\",[2]Paramètres!W160)","v":""},{"$f":"IF([2]Paramètres!X160=\"\",\"\",[2]Paramètres!X160)","v":""},{"$f":"IF([2]Paramètres!Y160=\"\",\"\",[2]Paramètres!Y160)","v":""},{"$f":"IF([2]Paramètres!Z160=\"\",\"\",[2]Paramètres!Z160)","v":""}]
[{"$f":"IF([2]Paramètres!A161=\"\",\"\",[2]Paramètres!A161)","v":""},{"$f":"IF([2]Paramètres!B161=\"\",\"\",[2]Paramètres!B161)","v":""},{"$f":"IF([2]Paramètres!C161=\"\",\"\",[2]Paramètres!C161)","v":""},{"$f":"IF([2]Paramètres!D161=\"\",\"\",[2]Paramètres!D161)","v":""},{"$f":"IF([2]Paramètres!E161=\"\",\"\",[2]Paramètres!E161)","v":""},{"$f":"IF([2]Paramètres!F161=\"\",\"\",[2]Paramètres!F161)","v":""},{"$f":"IF([2]Paramètres!G161=\"\",\"\",[2]Paramètres!G161)","v":""},{"$f":"IF([2]Paramètres!H161=\"\",\"\",[2]Paramètres!H161)","v":""},{"$f":"IF([2]Paramètres!I161=\"\",\"\",[2]Paramètres!I161)","v":""},{"$f":"IF([2]Paramètres!J161=\"\",\"\",[2]Paramètres!J161)","v":"The Yeast Bay - MIDWESTERN ALE"},{"$f":"IF([2]Paramètres!K161=\"\",\"\",[2]Paramètres!K161)","v":"Liquide"},{"$f":"IF([2]Paramètres!L161=\"\",\"\",[2]Paramètres!L161)","v":0.76},{"$f":"IF([2]Paramètres!M161=\"\",\"\",[2]Paramètres!M161)","v":0.8},{"$f":"IF([2]Paramètres!N161=\"\",\"\",[2]Paramètres!N161)","v":0.78},{"$f":"IF([2]Paramètres!O161=\"\",\"\",[2]Paramètres!O161)","v":17.8},{"$f":"IF([2]Paramètres!P161=\"\",\"\",[2]Paramètres!P161)","v":22.2},{"$f":"IF([2]Paramètres!Q161=\"\",\"\",[2]Paramètres!Q161)","v":"Moyenne"},{"$f":"IF([2]Paramètres!R161=\"\",\"\",[2]Paramètres!R161)","v":""},{"$f":"IF([2]Paramètres!S161=\"\",\"\",[2]Paramètres!S161)","v":""},{"$f":"IF([2]Paramètres!T161=\"\",\"\",[2]Paramètres!T161)","v":""},{"$f":"IF([2]Paramètres!U161=\"\",\"\",[2]Paramètres!U161)","v":""},{"$f":"IF([2]Paramètres!V161=\"\",\"\",[2]Paramètres!V161)","v":""},{"$f":"IF([2]Paramètres!W161=\"\",\"\",[2]Paramètres!W161)","v":""},{"$f":"IF([2]Paramètres!X161=\"\",\"\",[2]Paramètres!X161)","v":""},{"$f":"IF([2]Paramètres!Y161=\"\",\"\",[2]Paramètres!Y161)","v":""},{"$f":"IF([2]Paramètres!Z161=\"\",\"\",[2]Paramètres!Z161)","v":""}]
[{"$f":"IF([2]Paramètres!A162=\"\",\"\",[2]Paramètres!A162)","v":""},{"$f":"IF([2]Paramètres!B162=\"\",\"\",[2]Paramètres!B162)","v":""},{"$f":"IF([2]Paramètres!C162=\"\",\"\",[2]Paramètres!C162)","v":""},{"$f":"IF([2]Paramètres!D162=\"\",\"\",[2]Paramètres!D162)","v":""},{"$f":"IF([2]Paramètres!E162=\"\",\"\",[2]Paramètres!E162)","v":""},{"$f":"IF([2]Paramètres!F162=\"\",\"\",[2]Paramètres!F162)","v":""},{"$f":"IF([2]Paramètres!G162=\"\",\"\",[2]Paramètres!G162)","v":""},{"$f":"IF([2]Paramètres!H162=\"\",\"\",[2]Paramètres!H162)","v":""},{"$f":"IF([2]Paramètres!I162=\"\",\"\",[2]Paramètres!I162)","v":""},{"$f":"IF([2]Paramètres!J162=\"\",\"\",[2]Paramètres!J162)","v":"The Yeast Bay - NORTHEASTERN ABBEY"},{"$f":"IF([2]Paramètres!K162=\"\",\"\",[2]Paramètres!K162)","v":"Liquide"},{"$f":"IF([2]Paramètres!L162=\"\",\"\",[2]Paramètres!L162)","v":0.77},{"$f":"IF([2]Paramètres!M162=\"\",\"\",[2]Paramètres!M162)","v":0.81},{"$f":"IF([2]Paramètres!N162=\"\",\"\",[2]Paramètres!N162)","v":0.79},{"$f":"IF([2]Paramètres!O162=\"\",\"\",[2]Paramètres!O162)","v":20},{"$f":"IF([2]Paramètres!P162=\"\",\"\",[2]Paramètres!P162)","v":23.9},{"$f":"IF([2]Paramètres!Q162=\"\",\"\",[2]Paramètres!Q162)","v":"Basse - Moyenne"},{"$f":"IF([2]Paramètres!R162=\"\",\"\",[2]Paramètres!R162)","v":""},{"$f":"IF([2]Paramètres!S162=\"\",\"\",[2]Paramètres!S162)","v":""},{"$f":"IF([2]Paramètres!T162=\"\",\"\",[2]Paramètres!T162)","v":""},{"$f":"IF([2]Paramètres!U162=\"\",\"\",[2]Paramètres!U162)","v":""},{"$f":"IF([2]Paramètres!V162=\"\",\"\",[2]Paramètres!V162)","v":""},{"$f":"IF([2]Paramètres!W162=\"\",\"\",[2]Paramètres!W162)","v":""},{"$f":"IF([2]Paramètres!X162=\"\",\"\",[2]Paramètres!X162)","v":""},{"$f":"IF([2]Paramètres!Y162=\"\",\"\",[2]Paramètres!Y162)","v":""},{"$f":"IF([2]Paramètres!Z162=\"\",\"\",[2]Paramètres!Z162)","v":""}]
[{"$f":"IF([2]Paramètres!A163=\"\",\"\",[2]Paramètres!A163)","v":""},{"$f":"IF([2]Paramètres!B163=\"\",\"\",[2]Paramètres!B163)","v":""},{"$f":"IF([2]Paramètres!C163=\"\",\"\",[2]Paramètres!C163)","v":""},{"$f":"IF([2]Paramètres!D163=\"\",\"\",[2]Paramètres!D163)","v":""},{"$f":"IF([2]Paramètres!E163=\"\",\"\",[2]Paramètres!E163)","v":""},{"$f":"IF([2]Paramètres!F163=\"\",\"\",[2]Paramètres!F163)","v":""},{"$f":"IF([2]Paramètres!G163=\"\",\"\",[2]Paramètres!G163)","v":""},{"$f":"IF([2]Paramètres!H163=\"\",\"\",[2]Paramètres!H163)","v":""},{"$f":"IF([2]Paramètres!I163=\"\",\"\",[2]Paramètres!I163)","v":""},{"$f":"IF([2]Paramètres!J163=\"\",\"\",[2]Paramètres!J163)","v":"The Yeast Bay - SAISON BLEND I"},{"$f":"IF([2]Paramètres!K163=\"\",\"\",[2]Paramètres!K163)","v":"Liquide"},{"$f":"IF([2]Paramètres!L163=\"\",\"\",[2]Paramètres!L163)","v":0.78},{"$f":"IF([2]Paramètres!M163=\"\",\"\",[2]Paramètres!M163)","v":0.8},{"$f":"IF([2]Paramètres!N163=\"\",\"\",[2]Paramètres!N163)","v":0.79},{"$f":"IF([2]Paramètres!O163=\"\",\"\",[2]Paramètres!O163)","v":20},{"$f":"IF([2]Paramètres!P163=\"\",\"\",[2]Paramètres!P163)","v":26.7},{"$f":"IF([2]Paramètres!Q163=\"\",\"\",[2]Paramètres!Q163)","v":"Basse - Moyenne"},{"$f":"IF([2]Paramètres!R163=\"\",\"\",[2]Paramètres!R163)","v":""},{"$f":"IF([2]Paramètres!S163=\"\",\"\",[2]Paramètres!S163)","v":""},{"$f":"IF([2]Paramètres!T163=\"\",\"\",[2]Paramètres!T163)","v":""},{"$f":"IF([2]Paramètres!U163=\"\",\"\",[2]Paramètres!U163)","v":""},{"$f":"IF([2]Paramètres!V163=\"\",\"\",[2]Paramètres!V163)","v":""},{"$f":"IF([2]Paramètres!W163=\"\",\"\",[2]Paramètres!W163)","v":""},{"$f":"IF([2]Paramètres!X163=\"\",\"\",[2]Paramètres!X163)","v":""},{"$f":"IF([2]Paramètres!Y163=\"\",\"\",[2]Paramètres!Y163)","v":""},{"$f":"IF([2]Paramètres!Z163=\"\",\"\",[2]Paramètres!Z163)","v":""}]
[{"$f":"IF([2]Paramètres!A164=\"\",\"\",[2]Paramètres!A164)","v":""},{"$f":"IF([2]Paramètres!B164=\"\",\"\",[2]Paramètres!B164)","v":""},{"$f":"IF([2]Paramètres!C164=\"\",\"\",[2]Paramètres!C164)","v":""},{"$f":"IF([2]Paramètres!D164=\"\",\"\",[2]Paramètres!D164)","v":""},{"$f":"IF([2]Paramètres!E164=\"\",\"\",[2]Paramètres!E164)","v":""},{"$f":"IF([2]Paramètres!F164=\"\",\"\",[2]Paramètres!F164)","v":""},{"$f":"IF([2]Paramètres!G164=\"\",\"\",[2]Paramètres!G164)","v":""},{"$f":"IF([2]Paramètres!H164=\"\",\"\",[2]Paramètres!H164)","v":""},{"$f":"IF([2]Paramètres!I164=\"\",\"\",[2]Paramètres!I164)","v":""},{"$f":"IF([2]Paramètres!J164=\"\",\"\",[2]Paramètres!J164)","v":"The Yeast Bay - SAISON BLEND II"},{"$f":"IF([2]Paramètres!K164=\"\",\"\",[2]Paramètres!K164)","v":"Liquide"},{"$f":"IF([2]Paramètres!L164=\"\",\"\",[2]Paramètres!L164)","v":0.85},{"$f":"IF([2]Paramètres!M164=\"\",\"\",[2]Paramètres!M164)","v":1},{"$f":"IF([2]Paramètres!N164=\"\",\"\",[2]Paramètres!N164)","v":0.92500000000000004},{"$f":"IF([2]Paramètres!O164=\"\",\"\",[2]Paramètres!O164)","v":20},{"$f":"IF([2]Paramètres!P164=\"\",\"\",[2]Paramètres!P164)","v":26.7},{"$f":"IF([2]Paramètres!Q164=\"\",\"\",[2]Paramètres!Q164)","v":"Moyenne"},{"$f":"IF([2]Paramètres!R164=\"\",\"\",[2]Paramètres!R164)","v":""},{"$f":"IF([2]Paramètres!S164=\"\",\"\",[2]Paramètres!S164)","v":""},{"$f":"IF([2]Paramètres!T164=\"\",\"\",[2]Paramètres!T164)","v":""},{"$f":"IF([2]Paramètres!U164=\"\",\"\",[2]Paramètres!U164)","v":""},{"$f":"IF([2]Paramètres!V164=\"\",\"\",[2]Paramètres!V164)","v":""},{"$f":"IF([2]Paramètres!W164=\"\",\"\",[2]Paramètres!W164)","v":""},{"$f":"IF([2]Paramètres!X164=\"\",\"\",[2]Paramètres!X164)","v":""},{"$f":"IF([2]Paramètres!Y164=\"\",\"\",[2]Paramètres!Y164)","v":""},{"$f":"IF([2]Paramètres!Z164=\"\",\"\",[2]Paramètres!Z164)","v":""}]
[{"$f":"IF([2]Paramètres!A165=\"\",\"\",[2]Paramètres!A165)","v":""},{"$f":"IF([2]Paramètres!B165=\"\",\"\",[2]Paramètres!B165)","v":""},{"$f":"IF([2]Paramètres!C165=\"\",\"\",[2]Paramètres!C165)","v":""},{"$f":"IF([2]Paramètres!D165=\"\",\"\",[2]Paramètres!D165)","v":""},{"$f":"IF([2]Paramètres!E165=\"\",\"\",[2]Paramètres!E165)","v":""},{"$f":"IF([2]Paramètres!F165=\"\",\"\",[2]Paramètres!F165)","v":""},{"$f":"IF([2]Paramètres!G165=\"\",\"\",[2]Paramètres!G165)","v":""},{"$f":"IF([2]Paramètres!H165=\"\",\"\",[2]Paramètres!H165)","v":""},{"$f":"IF([2]Paramètres!I165=\"\",\"\",[2]Paramètres!I165)","v":""},{"$f":"IF([2]Paramètres!J165=\"\",\"\",[2]Paramètres!J165)","v":"The Yeast Bay - SAISON/BRETTANOMYCES\nBLEND I"},{"$f":"IF([2]Paramètres!K165=\"\",\"\",[2]Paramètres!K165)","v":"Liquide"},{"$f":"IF([2]Paramètres!L165=\"\",\"\",[2]Paramètres!L165)","v":0.8},{"$f":"IF([2]Paramètres!M165=\"\",\"\",[2]Paramètres!M165)","v":0.8},{"$f":"IF([2]Paramètres!N165=\"\",\"\",[2]Paramètres!N165)","v":0.8},{"$f":"IF([2]Paramètres!O165=\"\",\"\",[2]Paramètres!O165)","v":21.1},{"$f":"IF([2]Paramètres!P165=\"\",\"\",[2]Paramètres!P165)","v":25.6},{"$f":"IF([2]Paramètres!Q165=\"\",\"\",[2]Paramètres!Q165)","v":"Basse - Moyenne"},{"$f":"IF([2]Paramètres!R165=\"\",\"\",[2]Paramètres!R165)","v":""},{"$f":"IF([2]Paramètres!S165=\"\",\"\",[2]Paramètres!S165)","v":""},{"$f":"IF([2]Paramètres!T165=\"\",\"\",[2]Paramètres!T165)","v":""},{"$f":"IF([2]Paramètres!U165=\"\",\"\",[2]Paramètres!U165)","v":""},{"$f":"IF([2]Paramètres!V165=\"\",\"\",[2]Paramètres!V165)","v":""},{"$f":"IF([2]Paramètres!W165=\"\",\"\",[2]Paramètres!W165)","v":""},{"$f":"IF([2]Paramètres!X165=\"\",\"\",[2]Paramètres!X165)","v":""},{"$f":"IF([2]Paramètres!Y165=\"\",\"\",[2]Paramètres!Y165)","v":""},{"$f":"IF([2]Paramètres!Z165=\"\",\"\",[2]Paramètres!Z165)","v":""}]
[{"$f":"IF([2]Paramètres!A166=\"\",\"\",[2]Paramètres!A166)","v":""},{"$f":"IF([2]Paramètres!B166=\"\",\"\",[2]Paramètres!B166)","v":""},{"$f":"IF([2]Paramètres!C166=\"\",\"\",[2]Paramètres!C166)","v":""},{"$f":"IF([2]Paramètres!D166=\"\",\"\",[2]Paramètres!D166)","v":""},{"$f":"IF([2]Paramètres!E166=\"\",\"\",[2]Paramètres!E166)","v":""},{"$f":"IF([2]Paramètres!F166=\"\",\"\",[2]Paramètres!F166)","v":""},{"$f":"IF([2]Paramètres!G166=\"\",\"\",[2]Paramètres!G166)","v":""},{"$f":"IF([2]Paramètres!H166=\"\",\"\",[2]Paramètres!H166)","v":""},{"$f":"IF([2]Paramètres!I166=\"\",\"\",[2]Paramètres!I166)","v":""},{"$f":"IF([2]Paramètres!J166=\"\",\"\",[2]Paramètres!J166)","v":"The Yeast Bay - SAISON/BRETTANOMYCES\nBLEND II"},{"$f":"IF([2]Paramètres!K166=\"\",\"\",[2]Paramètres!K166)","v":"Liquide"},{"$f":"IF([2]Paramètres!L166=\"\",\"\",[2]Paramètres!L166)","v":0.82},{"$f":"IF([2]Paramètres!M166=\"\",\"\",[2]Paramètres!M166)","v":0.85},{"$f":"IF([2]Paramètres!N166=\"\",\"\",[2]Paramètres!N166)","v":0.83499999999999996},{"$f":"IF([2]Paramètres!O166=\"\",\"\",[2]Paramètres!O166)","v":22.2},{"$f":"IF([2]Paramètres!P166=\"\",\"\",[2]Paramètres!P166)","v":26.7},{"$f":"IF([2]Paramètres!Q166=\"\",\"\",[2]Paramètres!Q166)","v":"Basse - Moyenne"},{"$f":"IF([2]Paramètres!R166=\"\",\"\",[2]Paramètres!R166)","v":""},{"$f":"IF([2]Paramètres!S166=\"\",\"\",[2]Paramètres!S166)","v":""},{"$f":"IF([2]Paramètres!T166=\"\",\"\",[2]Paramètres!T166)","v":""},{"$f":"IF([2]Paramètres!U166=\"\",\"\",[2]Paramètres!U166)","v":""},{"$f":"IF([2]Paramètres!V166=\"\",\"\",[2]Paramètres!V166)","v":""},{"$f":"IF([2]Paramètres!W166=\"\",\"\",[2]Paramètres!W166)","v":""},{"$f":"IF([2]Paramètres!X166=\"\",\"\",[2]Paramètres!X166)","v":""},{"$f":"IF([2]Paramètres!Y166=\"\",\"\",[2]Paramètres!Y166)","v":""},{"$f":"IF([2]Paramètres!Z166=\"\",\"\",[2]Paramètres!Z166)","v":""}]
[{"$f":"IF([2]Paramètres!A167=\"\",\"\",[2]Paramètres!A167)","v":""},{"$f":"IF([2]Paramètres!B167=\"\",\"\",[2]Paramètres!B167)","v":""},{"$f":"IF([2]Paramètres!C167=\"\",\"\",[2]Paramètres!C167)","v":""},{"$f":"IF([2]Paramètres!D167=\"\",\"\",[2]Paramètres!D167)","v":""},{"$f":"IF([2]Paramètres!E167=\"\",\"\",[2]Paramètres!E167)","v":""},{"$f":"IF([2]Paramètres!F167=\"\",\"\",[2]Paramètres!F167)","v":""},{"$f":"IF([2]Paramètres!G167=\"\",\"\",[2]Paramètres!G167)","v":""},{"$f":"IF([2]Paramètres!H167=\"\",\"\",[2]Paramètres!H167)","v":""},{"$f":"IF([2]Paramètres!I167=\"\",\"\",[2]Paramètres!I167)","v":""},{"$f":"IF([2]Paramètres!J167=\"\",\"\",[2]Paramètres!J167)","v":"The Yeast Bay - SIGMUND'S VOSS KVEIK"},{"$f":"IF([2]Paramètres!K167=\"\",\"\",[2]Paramètres!K167)","v":"Liquide"},{"$f":"IF([2]Paramètres!L167=\"\",\"\",[2]Paramètres!L167)","v":0.78},{"$f":"IF([2]Paramètres!M167=\"\",\"\",[2]Paramètres!M167)","v":0.83},{"$f":"IF([2]Paramètres!N167=\"\",\"\",[2]Paramètres!N167)","v":0.80499999999999994},{"$f":"IF([2]Paramètres!O167=\"\",\"\",[2]Paramètres!O167)","v":21.1},{"$f":"IF([2]Paramètres!P167=\"\",\"\",[2]Paramètres!P167)","v":37.799999999999997},{"$f":"IF([2]Paramètres!Q167=\"\",\"\",[2]Paramètres!Q167)","v":"Haute"},{"$f":"IF([2]Paramètres!R167=\"\",\"\",[2]Paramètres!R167)","v":""},{"$f":"IF([2]Paramètres!S167=\"\",\"\",[2]Paramètres!S167)","v":""},{"$f":"IF([2]Paramètres!T167=\"\",\"\",[2]Paramètres!T167)","v":""},{"$f":"IF([2]Paramètres!U167=\"\",\"\",[2]Paramètres!U167)","v":""},{"$f":"IF([2]Paramètres!V167=\"\",\"\",[2]Paramètres!V167)","v":""},{"$f":"IF([2]Paramètres!W167=\"\",\"\",[2]Paramètres!W167)","v":""},{"$f":"IF([2]Paramètres!X167=\"\",\"\",[2]Paramètres!X167)","v":""},{"$f":"IF([2]Paramètres!Y167=\"\",\"\",[2]Paramètres!Y167)","v":""},{"$f":"IF([2]Paramètres!Z167=\"\",\"\",[2]Paramètres!Z167)","v":""}]
[{"$f":"IF([2]Paramètres!A168=\"\",\"\",[2]Paramètres!A168)","v":""},{"$f":"IF([2]Paramètres!B168=\"\",\"\",[2]Paramètres!B168)","v":""},{"$f":"IF([2]Paramètres!C168=\"\",\"\",[2]Paramètres!C168)","v":""},{"$f":"IF([2]Paramètres!D168=\"\",\"\",[2]Paramètres!D168)","v":""},{"$f":"IF([2]Paramètres!E168=\"\",\"\",[2]Paramètres!E168)","v":""},{"$f":"IF([2]Paramètres!F168=\"\",\"\",[2]Paramètres!F168)","v":""},{"$f":"IF([2]Paramètres!G168=\"\",\"\",[2]Paramètres!G168)","v":""},{"$f":"IF([2]Paramètres!H168=\"\",\"\",[2]Paramètres!H168)","v":""},{"$f":"IF([2]Paramètres!I168=\"\",\"\",[2]Paramètres!I168)","v":""},{"$f":"IF([2]Paramètres!J168=\"\",\"\",[2]Paramètres!J168)","v":"The Yeast Bay - SIMONAITIS LITHUANIAN\nFARMHOUSE YEAST"},{"$f":"IF([2]Paramètres!K168=\"\",\"\",[2]Paramètres!K168)","v":"Liquide"},{"$f":"IF([2]Paramètres!L168=\"\",\"\",[2]Paramètres!L168)","v":0.76},{"$f":"IF([2]Paramètres!M168=\"\",\"\",[2]Paramètres!M168)","v":0.82},{"$f":"IF([2]Paramètres!N168=\"\",\"\",[2]Paramètres!N168)","v":0.79},{"$f":"IF([2]Paramètres!O168=\"\",\"\",[2]Paramètres!O168)","v":23.9},{"$f":"IF([2]Paramètres!P168=\"\",\"\",[2]Paramètres!P168)","v":35},{"$f":"IF([2]Paramètres!Q168=\"\",\"\",[2]Paramètres!Q168)","v":"Haute"},{"$f":"IF([2]Paramètres!R168=\"\",\"\",[2]Paramètres!R168)","v":""},{"$f":"IF([2]Paramètres!S168=\"\",\"\",[2]Paramètres!S168)","v":""},{"$f":"IF([2]Paramètres!T168=\"\",\"\",[2]Paramètres!T168)","v":""},{"$f":"IF([2]Paramètres!U168=\"\",\"\",[2]Paramètres!U168)","v":""},{"$f":"IF([2]Paramètres!V168=\"\",\"\",[2]Paramètres!V168)","v":""},{"$f":"IF([2]Paramètres!W168=\"\",\"\",[2]Paramètres!W168)","v":""},{"$f":"IF([2]Paramètres!X168=\"\",\"\",[2]Paramètres!X168)","v":""},{"$f":"IF([2]Paramètres!Y168=\"\",\"\",[2]Paramètres!Y168)","v":""},{"$f":"IF([2]Paramètres!Z168=\"\",\"\",[2]Paramètres!Z168)","v":""}]
[{"$f":"IF([2]Paramètres!A169=\"\",\"\",[2]Paramètres!A169)","v":""},{"$f":"IF([2]Paramètres!B169=\"\",\"\",[2]Paramètres!B169)","v":""},{"$f":"IF([2]Paramètres!C169=\"\",\"\",[2]Paramètres!C169)","v":""},{"$f":"IF([2]Paramètres!D169=\"\",\"\",[2]Paramètres!D169)","v":""},{"$f":"IF([2]Paramètres!E169=\"\",\"\",[2]Paramètres!E169)","v":""},{"$f":"IF([2]Paramètres!F169=\"\",\"\",[2]Paramètres!F169)","v":""},{"$f":"IF([2]Paramètres!G169=\"\",\"\",[2]Paramètres!G169)","v":""},{"$f":"IF([2]Paramètres!H169=\"\",\"\",[2]Paramètres!H169)","v":""},{"$f":"IF([2]Paramètres!I169=\"\",\"\",[2]Paramètres!I169)","v":""},{"$f":"IF([2]Paramètres!J169=\"\",\"\",[2]Paramètres!J169)","v":"The Yeast Bay - TYB HOUSE SOUR\nBLEND"},{"$f":"IF([2]Paramètres!K169=\"\",\"\",[2]Paramètres!K169)","v":"Liquide"},{"$f":"IF([2]Paramètres!L169=\"\",\"\",[2]Paramètres!L169)","v":0.85},{"$f":"IF([2]Paramètres!M169=\"\",\"\",[2]Paramètres!M169)","v":1},{"$f":"IF([2]Paramètres!N169=\"\",\"\",[2]Paramètres!N169)","v":0.92500000000000004},{"$f":"IF([2]Paramètres!O169=\"\",\"\",[2]Paramètres!O169)","v":20},{"$f":"IF([2]Paramètres!P169=\"\",\"\",[2]Paramètres!P169)","v":25.6},{"$f":"IF([2]Paramètres!Q169=\"\",\"\",[2]Paramètres!Q169)","v":"Basse - Moyenne"},{"$f":"IF([2]Paramètres!R169=\"\",\"\",[2]Paramètres!R169)","v":""},{"$f":"IF([2]Paramètres!S169=\"\",\"\",[2]Paramètres!S169)","v":""},{"$f":"IF([2]Paramètres!T169=\"\",\"\",[2]Paramètres!T169)","v":""},{"$f":"IF([2]Paramètres!U169=\"\",\"\",[2]Paramètres!U169)","v":""},{"$f":"IF([2]Paramètres!V169=\"\",\"\",[2]Paramètres!V169)","v":""},{"$f":"IF([2]Paramètres!W169=\"\",\"\",[2]Paramètres!W169)","v":""},{"$f":"IF([2]Paramètres!X169=\"\",\"\",[2]Paramètres!X169)","v":""},{"$f":"IF([2]Paramètres!Y169=\"\",\"\",[2]Paramètres!Y169)","v":""},{"$f":"IF([2]Paramètres!Z169=\"\",\"\",[2]Paramètres!Z169)","v":""}]
[{"$f":"IF([2]Paramètres!A170=\"\",\"\",[2]Paramètres!A170)","v":""},{"$f":"IF([2]Paramètres!B170=\"\",\"\",[2]Paramètres!B170)","v":""},{"$f":"IF([2]Paramètres!C170=\"\",\"\",[2]Paramètres!C170)","v":""},{"$f":"IF([2]Paramètres!D170=\"\",\"\",[2]Paramètres!D170)","v":""},{"$f":"IF([2]Paramètres!E170=\"\",\"\",[2]Paramètres!E170)","v":""},{"$f":"IF([2]Paramètres!F170=\"\",\"\",[2]Paramètres!F170)","v":""},{"$f":"IF([2]Paramètres!G170=\"\",\"\",[2]Paramètres!G170)","v":""},{"$f":"IF([2]Paramètres!H170=\"\",\"\",[2]Paramètres!H170)","v":""},{"$f":"IF([2]Paramètres!I170=\"\",\"\",[2]Paramètres!I170)","v":""},{"$f":"IF([2]Paramètres!J170=\"\",\"\",[2]Paramètres!J170)","v":"The Yeast Bay - VERMONT ALE"},{"$f":"IF([2]Paramètres!K170=\"\",\"\",[2]Paramètres!K170)","v":"Liquide"},{"$f":"IF([2]Paramètres!L170=\"\",\"\",[2]Paramètres!L170)","v":0.78},{"$f":"IF([2]Paramètres!M170=\"\",\"\",[2]Paramètres!M170)","v":0.82},{"$f":"IF([2]Paramètres!N170=\"\",\"\",[2]Paramètres!N170)","v":0.8},{"$f":"IF([2]Paramètres!O170=\"\",\"\",[2]Paramètres!O170)","v":17.8},{"$f":"IF([2]Paramètres!P170=\"\",\"\",[2]Paramètres!P170)","v":22.2},{"$f":"IF([2]Paramètres!Q170=\"\",\"\",[2]Paramètres!Q170)","v":"Basse - Moyenne"},{"$f":"IF([2]Paramètres!R170=\"\",\"\",[2]Paramètres!R170)","v":""},{"$f":"IF([2]Paramètres!S170=\"\",\"\",[2]Paramètres!S170)","v":""},{"$f":"IF([2]Paramètres!T170=\"\",\"\",[2]Paramètres!T170)","v":""},{"$f":"IF([2]Paramètres!U170=\"\",\"\",[2]Paramètres!U170)","v":""},{"$f":"IF([2]Paramètres!V170=\"\",\"\",[2]Paramètres!V170)","v":""},{"$f":"IF([2]Paramètres!W170=\"\",\"\",[2]Paramètres!W170)","v":""},{"$f":"IF([2]Paramètres!X170=\"\",\"\",[2]Paramètres!X170)","v":""},{"$f":"IF([2]Paramètres!Y170=\"\",\"\",[2]Paramètres!Y170)","v":""},{"$f":"IF([2]Paramètres!Z170=\"\",\"\",[2]Paramètres!Z170)","v":""}]
[{"$f":"IF([2]Paramètres!A171=\"\",\"\",[2]Paramètres!A171)","v":""},{"$f":"IF([2]Paramètres!B171=\"\",\"\",[2]Paramètres!B171)","v":""},{"$f":"IF([2]Paramètres!C171=\"\",\"\",[2]Paramètres!C171)","v":""},{"$f":"IF([2]Paramètres!D171=\"\",\"\",[2]Paramètres!D171)","v":""},{"$f":"IF([2]Paramètres!E171=\"\",\"\",[2]Paramètres!E171)","v":""},{"$f":"IF([2]Paramètres!F171=\"\",\"\",[2]Paramètres!F171)","v":""},{"$f":"IF([2]Paramètres!G171=\"\",\"\",[2]Paramètres!G171)","v":""},{"$f":"IF([2]Paramètres!H171=\"\",\"\",[2]Paramètres!H171)","v":""},{"$f":"IF([2]Paramètres!I171=\"\",\"\",[2]Paramètres!I171)","v":""},{"$f":"IF([2]Paramètres!J171=\"\",\"\",[2]Paramètres!J171)","v":"The Yeast Bay - WALLONIAN FARMHOUSE I "},{"$f":"IF([2]Paramètres!K171=\"\",\"\",[2]Paramètres!K171)","v":"Liquide"},{"$f":"IF([2]Paramètres!L171=\"\",\"\",[2]Paramètres!L171)","v":0.81},{"$f":"IF([2]Paramètres!M171=\"\",\"\",[2]Paramètres!M171)","v":1},{"$f":"IF([2]Paramètres!N171=\"\",\"\",[2]Paramètres!N171)","v":0.90500000000000003},{"$f":"IF([2]Paramètres!O171=\"\",\"\",[2]Paramètres!O171)","v":22.2},{"$f":"IF([2]Paramètres!P171=\"\",\"\",[2]Paramètres!P171)","v":26.7},{"$f":"IF([2]Paramètres!Q171=\"\",\"\",[2]Paramètres!Q171)","v":"Moyenne"},{"$f":"IF([2]Paramètres!R171=\"\",\"\",[2]Paramètres!R171)","v":""},{"$f":"IF([2]Paramètres!S171=\"\",\"\",[2]Paramètres!S171)","v":""},{"$f":"IF([2]Paramètres!T171=\"\",\"\",[2]Paramètres!T171)","v":""},{"$f":"IF([2]Paramètres!U171=\"\",\"\",[2]Paramètres!U171)","v":""},{"$f":"IF([2]Paramètres!V171=\"\",\"\",[2]Paramètres!V171)","v":""},{"$f":"IF([2]Paramètres!W171=\"\",\"\",[2]Paramètres!W171)","v":""},{"$f":"IF([2]Paramètres!X171=\"\",\"\",[2]Paramètres!X171)","v":""},{"$f":"IF([2]Paramètres!Y171=\"\",\"\",[2]Paramètres!Y171)","v":""},{"$f":"IF([2]Paramètres!Z171=\"\",\"\",[2]Paramètres!Z171)","v":""}]
[{"$f":"IF([2]Paramètres!A172=\"\",\"\",[2]Paramètres!A172)","v":""},{"$f":"IF([2]Paramètres!B172=\"\",\"\",[2]Paramètres!B172)","v":""},{"$f":"IF([2]Paramètres!C172=\"\",\"\",[2]Paramètres!C172)","v":""},{"$f":"IF([2]Paramètres!D172=\"\",\"\",[2]Paramètres!D172)","v":""},{"$f":"IF([2]Paramètres!E172=\"\",\"\",[2]Paramètres!E172)","v":""},{"$f":"IF([2]Paramètres!F172=\"\",\"\",[2]Paramètres!F172)","v":""},{"$f":"IF([2]Paramètres!G172=\"\",\"\",[2]Paramètres!G172)","v":""},{"$f":"IF([2]Paramètres!H172=\"\",\"\",[2]Paramètres!H172)","v":""},{"$f":"IF([2]Paramètres!I172=\"\",\"\",[2]Paramètres!I172)","v":""},{"$f":"IF([2]Paramètres!J172=\"\",\"\",[2]Paramètres!J172)","v":"The Yeast Bay - WALLONIAN FARMHOUSE II"},{"$f":"IF([2]Paramètres!K172=\"\",\"\",[2]Paramètres!K172)","v":"Liquide"},{"$f":"IF([2]Paramètres!L172=\"\",\"\",[2]Paramètres!L172)","v":0.8},{"$f":"IF([2]Paramètres!M172=\"\",\"\",[2]Paramètres!M172)","v":0.82},{"$f":"IF([2]Paramètres!N172=\"\",\"\",[2]Paramètres!N172)","v":0.81},{"$f":"IF([2]Paramètres!O172=\"\",\"\",[2]Paramètres!O172)","v":20},{"$f":"IF([2]Paramètres!P172=\"\",\"\",[2]Paramètres!P172)","v":26.7},{"$f":"IF([2]Paramètres!Q172=\"\",\"\",[2]Paramètres!Q172)","v":"Basse - Moyenne"},{"$f":"IF([2]Paramètres!R172=\"\",\"\",[2]Paramètres!R172)","v":""},{"$f":"IF([2]Paramètres!S172=\"\",\"\",[2]Paramètres!S172)","v":""},{"$f":"IF([2]Paramètres!T172=\"\",\"\",[2]Paramètres!T172)","v":""},{"$f":"IF([2]Paramètres!U172=\"\",\"\",[2]Paramètres!U172)","v":""},{"$f":"IF([2]Paramètres!V172=\"\",\"\",[2]Paramètres!V172)","v":""},{"$f":"IF([2]Paramètres!W172=\"\",\"\",[2]Paramètres!W172)","v":""},{"$f":"IF([2]Paramètres!X172=\"\",\"\",[2]Paramètres!X172)","v":""},{"$f":"IF([2]Paramètres!Y172=\"\",\"\",[2]Paramètres!Y172)","v":""},{"$f":"IF([2]Paramètres!Z172=\"\",\"\",[2]Paramètres!Z172)","v":""}]
[{"$f":"IF([2]Paramètres!A173=\"\",\"\",[2]Paramètres!A173)","v":""},{"$f":"IF([2]Paramètres!B173=\"\",\"\",[2]Paramètres!B173)","v":""},{"$f":"IF([2]Paramètres!C173=\"\",\"\",[2]Paramètres!C173)","v":""},{"$f":"IF([2]Paramètres!D173=\"\",\"\",[2]Paramètres!D173)","v":""},{"$f":"IF([2]Paramètres!E173=\"\",\"\",[2]Paramètres!E173)","v":""},{"$f":"IF([2]Paramètres!F173=\"\",\"\",[2]Paramètres!F173)","v":""},{"$f":"IF([2]Paramètres!G173=\"\",\"\",[2]Paramètres!G173)","v":""},{"$f":"IF([2]Paramètres!H173=\"\",\"\",[2]Paramètres!H173)","v":""},{"$f":"IF([2]Paramètres!I173=\"\",\"\",[2]Paramètres!I173)","v":""},{"$f":"IF([2]Paramètres!J173=\"\",\"\",[2]Paramètres!J173)","v":"The Yeast Bay - WALLONIAN FARMHOUSE III "},{"$f":"IF([2]Paramètres!K173=\"\",\"\",[2]Paramètres!K173)","v":"Liquide"},{"$f":"IF([2]Paramètres!L173=\"\",\"\",[2]Paramètres!L173)","v":0.82},{"$f":"IF([2]Paramètres!M173=\"\",\"\",[2]Paramètres!M173)","v":0.84},{"$f":"IF([2]Paramètres!N173=\"\",\"\",[2]Paramètres!N173)","v":0.83},{"$f":"IF([2]Paramètres!O173=\"\",\"\",[2]Paramètres!O173)","v":20},{"$f":"IF([2]Paramètres!P173=\"\",\"\",[2]Paramètres!P173)","v":26.7},{"$f":"IF([2]Paramètres!Q173=\"\",\"\",[2]Paramètres!Q173)","v":"Basse - Moyenne"},{"$f":"IF([2]Paramètres!R173=\"\",\"\",[2]Paramètres!R173)","v":""},{"$f":"IF([2]Paramètres!S173=\"\",\"\",[2]Paramètres!S173)","v":""},{"$f":"IF([2]Paramètres!T173=\"\",\"\",[2]Paramètres!T173)","v":""},{"$f":"IF([2]Paramètres!U173=\"\",\"\",[2]Paramètres!U173)","v":""},{"$f":"IF([2]Paramètres!V173=\"\",\"\",[2]Paramètres!V173)","v":""},{"$f":"IF([2]Paramètres!W173=\"\",\"\",[2]Paramètres!W173)","v":""},{"$f":"IF([2]Paramètres!X173=\"\",\"\",[2]Paramètres!X173)","v":""},{"$f":"IF([2]Paramètres!Y173=\"\",\"\",[2]Paramètres!Y173)","v":""},{"$f":"IF([2]Paramètres!Z173=\"\",\"\",[2]Paramètres!Z173)","v":""}]
[{"$f":"IF([2]Paramètres!A174=\"\",\"\",[2]Paramètres!A174)","v":""},{"$f":"IF([2]Paramètres!B174=\"\",\"\",[2]Paramètres!B174)","v":""},{"$f":"IF([2]Paramètres!C174=\"\",\"\",[2]Paramètres!C174)","v":""},{"$f":"IF([2]Paramètres!D174=\"\",\"\",[2]Paramètres!D174)","v":""},{"$f":"IF([2]Paramètres!E174=\"\",\"\",[2]Paramètres!E174)","v":""},{"$f":"IF([2]Paramètres!F174=\"\",\"\",[2]Paramètres!F174)","v":""},{"$f":"IF([2]Paramètres!G174=\"\",\"\",[2]Paramètres!G174)","v":""},{"$f":"IF([2]Paramètres!H174=\"\",\"\",[2]Paramètres!H174)","v":""},{"$f":"IF([2]Paramètres!I174=\"\",\"\",[2]Paramètres!I174)","v":""},{"$f":"IF([2]Paramètres!J174=\"\",\"\",[2]Paramètres!J174)","v":"Whitelabs - WLP001 California Ale Yeast"},{"$f":"IF([2]Paramètres!K174=\"\",\"\",[2]Paramètres!K174)","v":"Liquide"},{"$f":"IF([2]Paramètres!L174=\"\",\"\",[2]Paramètres!L174)","v":0.73},{"$f":"IF([2]Paramètres!M174=\"\",\"\",[2]Paramètres!M174)","v":0.8},{"$f":"IF([2]Paramètres!N174=\"\",\"\",[2]Paramètres!N174)","v":0.76500000000000001},{"$f":"IF([2]Paramètres!O174=\"\",\"\",[2]Paramètres!O174)","v":20},{"$f":"IF([2]Paramètres!P174=\"\",\"\",[2]Paramètres!P174)","v":22.8},{"$f":"IF([2]Paramètres!Q174=\"\",\"\",[2]Paramètres!Q174)","v":"Moyenne"},{"$f":"IF([2]Paramètres!R174=\"\",\"\",[2]Paramètres!R174)","v":""},{"$f":"IF([2]Paramètres!S174=\"\",\"\",[2]Paramètres!S174)","v":""},{"$f":"IF([2]Paramètres!T174=\"\",\"\",[2]Paramètres!T174)","v":""},{"$f":"IF([2]Paramètres!U174=\"\",\"\",[2]Paramètres!U174)","v":""},{"$f":"IF([2]Paramètres!V174=\"\",\"\",[2]Paramètres!V174)","v":""},{"$f":"IF([2]Paramètres!W174=\"\",\"\",[2]Paramètres!W174)","v":""},{"$f":"IF([2]Paramètres!X174=\"\",\"\",[2]Paramètres!X174)","v":""},{"$f":"IF([2]Paramètres!Y174=\"\",\"\",[2]Paramètres!Y174)","v":""},{"$f":"IF([2]Paramètres!Z174=\"\",\"\",[2]Paramètres!Z174)","v":""}]
[{"$f":"IF([2]Paramètres!A175=\"\",\"\",[2]Paramètres!A175)","v":""},{"$f":"IF([2]Paramètres!B175=\"\",\"\",[2]Paramètres!B175)","v":""},{"$f":"IF([2]Paramètres!C175=\"\",\"\",[2]Paramètres!C175)","v":""},{"$f":"IF([2]Paramètres!D175=\"\",\"\",[2]Paramètres!D175)","v":""},{"$f":"IF([2]Paramètres!E175=\"\",\"\",[2]Paramètres!E175)","v":""},{"$f":"IF([2]Paramètres!F175=\"\",\"\",[2]Paramètres!F175)","v":""},{"$f":"IF([2]Paramètres!G175=\"\",\"\",[2]Paramètres!G175)","v":""},{"$f":"IF([2]Paramètres!H175=\"\",\"\",[2]Paramètres!H175)","v":""},{"$f":"IF([2]Paramètres!I175=\"\",\"\",[2]Paramètres!I175)","v":""},{"$f":"IF([2]Paramètres!J175=\"\",\"\",[2]Paramètres!J175)","v":"Whitelabs - WLP002 - English Ale"},{"$f":"IF([2]Paramètres!K175=\"\",\"\",[2]Paramètres!K175)","v":"Liquide"},{"$f":"IF([2]Paramètres!L175=\"\",\"\",[2]Paramètres!L175)","v":0.63},{"$f":"IF([2]Paramètres!M175=\"\",\"\",[2]Paramètres!M175)","v":0.7},{"$f":"IF([2]Paramètres!N175=\"\",\"\",[2]Paramètres!N175)","v":0.66500000000000004},{"$f":"IF([2]Paramètres!O175=\"\",\"\",[2]Paramètres!O175)","v":18.3},{"$f":"IF([2]Paramètres!P175=\"\",\"\",[2]Paramètres!P175)","v":20},{"$f":"IF([2]Paramètres!Q175=\"\",\"\",[2]Paramètres!Q175)","v":"Très forte"},{"$f":"IF([2]Paramètres!R175=\"\",\"\",[2]Paramètres!R175)","v":""},{"$f":"IF([2]Paramètres!S175=\"\",\"\",[2]Paramètres!S175)","v":""},{"$f":"IF([2]Paramètres!T175=\"\",\"\",[2]Paramètres!T175)","v":""},{"$f":"IF([2]Paramètres!U175=\"\",\"\",[2]Paramètres!U175)","v":""},{"$f":"IF([2]Paramètres!V175=\"\",\"\",[2]Paramètres!V175)","v":""},{"$f":"IF([2]Paramètres!W175=\"\",\"\",[2]Paramètres!W175)","v":""},{"$f":"IF([2]Paramètres!X175=\"\",\"\",[2]Paramètres!X175)","v":""},{"$f":"IF([2]Paramètres!Y175=\"\",\"\",[2]Paramètres!Y175)","v":""},{"$f":"IF([2]Paramètres!Z175=\"\",\"\",[2]Paramètres!Z175)","v":""}]
[{"$f":"IF([2]Paramètres!A176=\"\",\"\",[2]Paramètres!A176)","v":""},{"$f":"IF([2]Paramètres!B176=\"\",\"\",[2]Paramètres!B176)","v":""},{"$f":"IF([2]Paramètres!C176=\"\",\"\",[2]Paramètres!C176)","v":""},{"$f":"IF([2]Paramètres!D176=\"\",\"\",[2]Paramètres!D176)","v":""},{"$f":"IF([2]Paramètres!E176=\"\",\"\",[2]Paramètres!E176)","v":""},{"$f":"IF([2]Paramètres!F176=\"\",\"\",[2]Paramètres!F176)","v":""},{"$f":"IF([2]Paramètres!G176=\"\",\"\",[2]Paramètres!G176)","v":""},{"$f":"IF([2]Paramètres!H176=\"\",\"\",[2]Paramètres!H176)","v":""},{"$f":"IF([2]Paramètres!I176=\"\",\"\",[2]Paramètres!I176)","v":""},{"$f":"IF([2]Paramètres!J176=\"\",\"\",[2]Paramètres!J176)","v":"Whitelabs - WLP002 English Ale Yeast"},{"$f":"IF([2]Paramètres!K176=\"\",\"\",[2]Paramètres!K176)","v":"Liquide"},{"$f":"IF([2]Paramètres!L176=\"\",\"\",[2]Paramètres!L176)","v":0.63},{"$f":"IF([2]Paramètres!M176=\"\",\"\",[2]Paramètres!M176)","v":0.68},{"$f":"IF([2]Paramètres!N176=\"\",\"\",[2]Paramètres!N176)","v":0.65500000000000003},{"$f":"IF([2]Paramètres!O176=\"\",\"\",[2]Paramètres!O176)","v":18.3},{"$f":"IF([2]Paramètres!P176=\"\",\"\",[2]Paramètres!P176)","v":20},{"$f":"IF([2]Paramètres!Q176=\"\",\"\",[2]Paramètres!Q176)","v":"Très  Haute"},{"$f":"IF([2]Paramètres!R176=\"\",\"\",[2]Paramètres!R176)","v":""},{"$f":"IF([2]Paramètres!S176=\"\",\"\",[2]Paramètres!S176)","v":""},{"$f":"IF([2]Paramètres!T176=\"\",\"\",[2]Paramètres!T176)","v":""},{"$f":"IF([2]Paramètres!U176=\"\",\"\",[2]Paramètres!U176)","v":""},{"$f":"IF([2]Paramètres!V176=\"\",\"\",[2]Paramètres!V176)","v":""},{"$f":"IF([2]Paramètres!W176=\"\",\"\",[2]Paramètres!W176)","v":""},{"$f":"IF([2]Paramètres!X176=\"\",\"\",[2]Paramètres!X176)","v":""},{"$f":"IF([2]Paramètres!Y176=\"\",\"\",[2]Paramètres!Y176)","v":""},{"$f":"IF([2]Paramètres!Z176=\"\",\"\",[2]Paramètres!Z176)","v":""}]
[{"$f":"IF([2]Paramètres!A177=\"\",\"\",[2]Paramètres!A177)","v":""},{"$f":"IF([2]Paramètres!B177=\"\",\"\",[2]Paramètres!B177)","v":""},{"$f":"IF([2]Paramètres!C177=\"\",\"\",[2]Paramètres!C177)","v":""},{"$f":"IF([2]Paramètres!D177=\"\",\"\",[2]Paramètres!D177)","v":""},{"$f":"IF([2]Paramètres!E177=\"\",\"\",[2]Paramètres!E177)","v":""},{"$f":"IF([2]Paramètres!F177=\"\",\"\",[2]Paramètres!F177)","v":""},{"$f":"IF([2]Paramètres!G177=\"\",\"\",[2]Paramètres!G177)","v":""},{"$f":"IF([2]Paramètres!H177=\"\",\"\",[2]Paramètres!H177)","v":""},{"$f":"IF([2]Paramètres!I177=\"\",\"\",[2]Paramètres!I177)","v":""},{"$f":"IF([2]Paramètres!J177=\"\",\"\",[2]Paramètres!J177)","v":"Whitelabs - WLP003 German Ale II Yeast"},{"$f":"IF([2]Paramètres!K177=\"\",\"\",[2]Paramètres!K177)","v":"Liquide"},{"$f":"IF([2]Paramètres!L177=\"\",\"\",[2]Paramètres!L177)","v":0.73},{"$f":"IF([2]Paramètres!M177=\"\",\"\",[2]Paramètres!M177)","v":0.8},{"$f":"IF([2]Paramètres!N177=\"\",\"\",[2]Paramètres!N177)","v":0.76500000000000001},{"$f":"IF([2]Paramètres!O177=\"\",\"\",[2]Paramètres!O177)","v":18.3},{"$f":"IF([2]Paramètres!P177=\"\",\"\",[2]Paramètres!P177)","v":21.1},{"$f":"IF([2]Paramètres!Q177=\"\",\"\",[2]Paramètres!Q177)","v":"Moyenne"},{"$f":"IF([2]Paramètres!R177=\"\",\"\",[2]Paramètres!R177)","v":""},{"$f":"IF([2]Paramètres!S177=\"\",\"\",[2]Paramètres!S177)","v":""},{"$f":"IF([2]Paramètres!T177=\"\",\"\",[2]Paramètres!T177)","v":""},{"$f":"IF([2]Paramètres!U177=\"\",\"\",[2]Paramètres!U177)","v":""},{"$f":"IF([2]Paramètres!V177=\"\",\"\",[2]Paramètres!V177)","v":""},{"$f":"IF([2]Paramètres!W177=\"\",\"\",[2]Paramètres!W177)","v":""},{"$f":"IF([2]Paramètres!X177=\"\",\"\",[2]Paramètres!X177)","v":""},{"$f":"IF([2]Paramètres!Y177=\"\",\"\",[2]Paramètres!Y177)","v":""},{"$f":"IF([2]Paramètres!Z177=\"\",\"\",[2]Paramètres!Z177)","v":""}]
[{"$f":"IF([2]Paramètres!A178=\"\",\"\",[2]Paramètres!A178)","v":""},{"$f":"IF([2]Paramètres!B178=\"\",\"\",[2]Paramètres!B178)","v":""},{"$f":"IF([2]Paramètres!C178=\"\",\"\",[2]Paramètres!C178)","v":""},{"$f":"IF([2]Paramètres!D178=\"\",\"\",[2]Paramètres!D178)","v":""},{"$f":"IF([2]Paramètres!E178=\"\",\"\",[2]Paramètres!E178)","v":""},{"$f":"IF([2]Paramètres!F178=\"\",\"\",[2]Paramètres!F178)","v":""},{"$f":"IF([2]Paramètres!G178=\"\",\"\",[2]Paramètres!G178)","v":""},{"$f":"IF([2]Paramètres!H178=\"\",\"\",[2]Paramètres!H178)","v":""},{"$f":"IF([2]Paramètres!I178=\"\",\"\",[2]Paramètres!I178)","v":""},{"$f":"IF([2]Paramètres!J178=\"\",\"\",[2]Paramètres!J178)","v":"Whitelabs - WLP004 Irish Ale Yeast"},{"$f":"IF([2]Paramètres!K178=\"\",\"\",[2]Paramètres!K178)","v":"Liquide"},{"$f":"IF([2]Paramètres!L178=\"\",\"\",[2]Paramètres!L178)","v":0.69},{"$f":"IF([2]Paramètres!M178=\"\",\"\",[2]Paramètres!M178)","v":0.74},{"$f":"IF([2]Paramètres!N178=\"\",\"\",[2]Paramètres!N178)","v":0.71499999999999997},{"$f":"IF([2]Paramètres!O178=\"\",\"\",[2]Paramètres!O178)","v":18.3},{"$f":"IF([2]Paramètres!P178=\"\",\"\",[2]Paramètres!P178)","v":20},{"$f":"IF([2]Paramètres!Q178=\"\",\"\",[2]Paramètres!Q178)","v":"Moyenne  -  Haute"},{"$f":"IF([2]Paramètres!R178=\"\",\"\",[2]Paramètres!R178)","v":""},{"$f":"IF([2]Paramètres!S178=\"\",\"\",[2]Paramètres!S178)","v":""},{"$f":"IF([2]Paramètres!T178=\"\",\"\",[2]Paramètres!T178)","v":""},{"$f":"IF([2]Paramètres!U178=\"\",\"\",[2]Paramètres!U178)","v":""},{"$f":"IF([2]Paramètres!V178=\"\",\"\",[2]Paramètres!V178)","v":""},{"$f":"IF([2]Paramètres!W178=\"\",\"\",[2]Paramètres!W178)","v":""},{"$f":"IF([2]Paramètres!X178=\"\",\"\",[2]Paramètres!X178)","v":""},{"$f":"IF([2]Paramètres!Y178=\"\",\"\",[2]Paramètres!Y178)","v":""},{"$f":"IF([2]Paramètres!Z178=\"\",\"\",[2]Paramètres!Z178)","v":""}]
[{"$f":"IF([2]Paramètres!A179=\"\",\"\",[2]Paramètres!A179)","v":""},{"$f":"IF([2]Paramètres!B179=\"\",\"\",[2]Paramètres!B179)","v":""},{"$f":"IF([2]Paramètres!C179=\"\",\"\",[2]Paramètres!C179)","v":""},{"$f":"IF([2]Paramètres!D179=\"\",\"\",[2]Paramètres!D179)","v":""},{"$f":"IF([2]Paramètres!E179=\"\",\"\",[2]Paramètres!E179)","v":""},{"$f":"IF([2]Paramètres!F179=\"\",\"\",[2]Paramètres!F179)","v":""},{"$f":"IF([2]Paramètres!G179=\"\",\"\",[2]Paramètres!G179)","v":""},{"$f":"IF([2]Paramètres!H179=\"\",\"\",[2]Paramètres!H179)","v":""},{"$f":"IF([2]Paramètres!I179=\"\",\"\",[2]Paramètres!I179)","v":""},{"$f":"IF([2]Paramètres!J179=\"\",\"\",[2]Paramètres!J179)","v":"Whitelabs - WLP005 British Ale Yeast"},{"$f":"IF([2]Paramètres!K179=\"\",\"\",[2]Paramètres!K179)","v":"Liquide"},{"$f":"IF([2]Paramètres!L179=\"\",\"\",[2]Paramètres!L179)","v":0.67},{"$f":"IF([2]Paramètres!M179=\"\",\"\",[2]Paramètres!M179)","v":0.74},{"$f":"IF([2]Paramètres!N179=\"\",\"\",[2]Paramètres!N179)","v":0.70500000000000007},{"$f":"IF([2]Paramètres!O179=\"\",\"\",[2]Paramètres!O179)","v":18.3},{"$f":"IF([2]Paramètres!P179=\"\",\"\",[2]Paramètres!P179)","v":21.1},{"$f":"IF([2]Paramètres!Q179=\"\",\"\",[2]Paramètres!Q179)","v":"Haute"},{"$f":"IF([2]Paramètres!R179=\"\",\"\",[2]Paramètres!R179)","v":""},{"$f":"IF([2]Paramètres!S179=\"\",\"\",[2]Paramètres!S179)","v":""},{"$f":"IF([2]Paramètres!T179=\"\",\"\",[2]Paramètres!T179)","v":""},{"$f":"IF([2]Paramètres!U179=\"\",\"\",[2]Paramètres!U179)","v":""},{"$f":"IF([2]Paramètres!V179=\"\",\"\",[2]Paramètres!V179)","v":""},{"$f":"IF([2]Paramètres!W179=\"\",\"\",[2]Paramètres!W179)","v":""},{"$f":"IF([2]Paramètres!X179=\"\",\"\",[2]Paramètres!X179)","v":""},{"$f":"IF([2]Paramètres!Y179=\"\",\"\",[2]Paramètres!Y179)","v":""},{"$f":"IF([2]Paramètres!Z179=\"\",\"\",[2]Paramètres!Z179)","v":""}]
[{"$f":"IF([2]Paramètres!A180=\"\",\"\",[2]Paramètres!A180)","v":""},{"$f":"IF([2]Paramètres!B180=\"\",\"\",[2]Paramètres!B180)","v":""},{"$f":"IF([2]Paramètres!C180=\"\",\"\",[2]Paramètres!C180)","v":""},{"$f":"IF([2]Paramètres!D180=\"\",\"\",[2]Paramètres!D180)","v":""},{"$f":"IF([2]Paramètres!E180=\"\",\"\",[2]Paramètres!E180)","v":""},{"$f":"IF([2]Paramètres!F180=\"\",\"\",[2]Paramètres!F180)","v":""},{"$f":"IF([2]Paramètres!G180=\"\",\"\",[2]Paramètres!G180)","v":""},{"$f":"IF([2]Paramètres!H180=\"\",\"\",[2]Paramètres!H180)","v":""},{"$f":"IF([2]Paramètres!I180=\"\",\"\",[2]Paramètres!I180)","v":""},{"$f":"IF([2]Paramètres!J180=\"\",\"\",[2]Paramètres!J180)","v":"Whitelabs - WLP006 Bedford British Ale Yeast"},{"$f":"IF([2]Paramètres!K180=\"\",\"\",[2]Paramètres!K180)","v":"Liquide"},{"$f":"IF([2]Paramètres!L180=\"\",\"\",[2]Paramètres!L180)","v":0.72},{"$f":"IF([2]Paramètres!M180=\"\",\"\",[2]Paramètres!M180)","v":0.8},{"$f":"IF([2]Paramètres!N180=\"\",\"\",[2]Paramètres!N180)","v":0.76},{"$f":"IF([2]Paramètres!O180=\"\",\"\",[2]Paramètres!O180)","v":18.3},{"$f":"IF([2]Paramètres!P180=\"\",\"\",[2]Paramètres!P180)","v":21.1},{"$f":"IF([2]Paramètres!Q180=\"\",\"\",[2]Paramètres!Q180)","v":"Moyenne  -  Haute"},{"$f":"IF([2]Paramètres!R180=\"\",\"\",[2]Paramètres!R180)","v":""},{"$f":"IF([2]Paramètres!S180=\"\",\"\",[2]Paramètres!S180)","v":""},{"$f":"IF([2]Paramètres!T180=\"\",\"\",[2]Paramètres!T180)","v":""},{"$f":"IF([2]Paramètres!U180=\"\",\"\",[2]Paramètres!U180)","v":""},{"$f":"IF([2]Paramètres!V180=\"\",\"\",[2]Paramètres!V180)","v":""},{"$f":"IF([2]Paramètres!W180=\"\",\"\",[2]Paramètres!W180)","v":""},{"$f":"IF([2]Paramètres!X180=\"\",\"\",[2]Paramètres!X180)","v":""},{"$f":"IF([2]Paramètres!Y180=\"\",\"\",[2]Paramètres!Y180)","v":""},{"$f":"IF([2]Paramètres!Z180=\"\",\"\",[2]Paramètres!Z180)","v":""}]
[{"$f":"IF([2]Paramètres!A181=\"\",\"\",[2]Paramètres!A181)","v":""},{"$f":"IF([2]Paramètres!B181=\"\",\"\",[2]Paramètres!B181)","v":""},{"$f":"IF([2]Paramètres!C181=\"\",\"\",[2]Paramètres!C181)","v":""},{"$f":"IF([2]Paramètres!D181=\"\",\"\",[2]Paramètres!D181)","v":""},{"$f":"IF([2]Paramètres!E181=\"\",\"\",[2]Paramètres!E181)","v":""},{"$f":"IF([2]Paramètres!F181=\"\",\"\",[2]Paramètres!F181)","v":""},{"$f":"IF([2]Paramètres!G181=\"\",\"\",[2]Paramètres!G181)","v":""},{"$f":"IF([2]Paramètres!H181=\"\",\"\",[2]Paramètres!H181)","v":""},{"$f":"IF([2]Paramètres!I181=\"\",\"\",[2]Paramètres!I181)","v":""},{"$f":"IF([2]Paramètres!J181=\"\",\"\",[2]Paramètres!J181)","v":"Whitelabs - WLP007 Dry English Ale Yeast"},{"$f":"IF([2]Paramètres!K181=\"\",\"\",[2]Paramètres!K181)","v":"Liquide"},{"$f":"IF([2]Paramètres!L181=\"\",\"\",[2]Paramètres!L181)","v":0.7},{"$f":"IF([2]Paramètres!M181=\"\",\"\",[2]Paramètres!M181)","v":0.8},{"$f":"IF([2]Paramètres!N181=\"\",\"\",[2]Paramètres!N181)","v":0.75},{"$f":"IF([2]Paramètres!O181=\"\",\"\",[2]Paramètres!O181)","v":18.3},{"$f":"IF([2]Paramètres!P181=\"\",\"\",[2]Paramètres!P181)","v":21.1},{"$f":"IF([2]Paramètres!Q181=\"\",\"\",[2]Paramètres!Q181)","v":"Moyenne  -  Haute"},{"$f":"IF([2]Paramètres!R181=\"\",\"\",[2]Paramètres!R181)","v":""},{"$f":"IF([2]Paramètres!S181=\"\",\"\",[2]Paramètres!S181)","v":""},{"$f":"IF([2]Paramètres!T181=\"\",\"\",[2]Paramètres!T181)","v":""},{"$f":"IF([2]Paramètres!U181=\"\",\"\",[2]Paramètres!U181)","v":""},{"$f":"IF([2]Paramètres!V181=\"\",\"\",[2]Paramètres!V181)","v":""},{"$f":"IF([2]Paramètres!W181=\"\",\"\",[2]Paramètres!W181)","v":""},{"$f":"IF([2]Paramètres!X181=\"\",\"\",[2]Paramètres!X181)","v":""},{"$f":"IF([2]Paramètres!Y181=\"\",\"\",[2]Paramètres!Y181)","v":""},{"$f":"IF([2]Paramètres!Z181=\"\",\"\",[2]Paramètres!Z181)","v":""}]
[{"$f":"IF([2]Paramètres!A182=\"\",\"\",[2]Paramètres!A182)","v":""},{"$f":"IF([2]Paramètres!B182=\"\",\"\",[2]Paramètres!B182)","v":""},{"$f":"IF([2]Paramètres!C182=\"\",\"\",[2]Paramètres!C182)","v":""},{"$f":"IF([2]Paramètres!D182=\"\",\"\",[2]Paramètres!D182)","v":""},{"$f":"IF([2]Paramètres!E182=\"\",\"\",[2]Paramètres!E182)","v":""},{"$f":"IF([2]Paramètres!F182=\"\",\"\",[2]Paramètres!F182)","v":""},{"$f":"IF([2]Paramètres!G182=\"\",\"\",[2]Paramètres!G182)","v":""},{"$f":"IF([2]Paramètres!H182=\"\",\"\",[2]Paramètres!H182)","v":""},{"$f":"IF([2]Paramètres!I182=\"\",\"\",[2]Paramètres!I182)","v":""},{"$f":"IF([2]Paramètres!J182=\"\",\"\",[2]Paramètres!J182)","v":"Whitelabs - WLP008 East Coast Ale Yeast"},{"$f":"IF([2]Paramètres!K182=\"\",\"\",[2]Paramètres!K182)","v":"Liquide"},{"$f":"IF([2]Paramètres!L182=\"\",\"\",[2]Paramètres!L182)","v":0.7},{"$f":"IF([2]Paramètres!M182=\"\",\"\",[2]Paramètres!M182)","v":0.75},{"$f":"IF([2]Paramètres!N182=\"\",\"\",[2]Paramètres!N182)","v":0.72499999999999998},{"$f":"IF([2]Paramètres!O182=\"\",\"\",[2]Paramètres!O182)","v":20},{"$f":"IF([2]Paramètres!P182=\"\",\"\",[2]Paramètres!P182)","v":22.8},{"$f":"IF([2]Paramètres!Q182=\"\",\"\",[2]Paramètres!Q182)","v":"Basse  -  Moyenne"},{"$f":"IF([2]Paramètres!R182=\"\",\"\",[2]Paramètres!R182)","v":""},{"$f":"IF([2]Paramètres!S182=\"\",\"\",[2]Paramètres!S182)","v":""},{"$f":"IF([2]Paramètres!T182=\"\",\"\",[2]Paramètres!T182)","v":""},{"$f":"IF([2]Paramètres!U182=\"\",\"\",[2]Paramètres!U182)","v":""},{"$f":"IF([2]Paramètres!V182=\"\",\"\",[2]Paramètres!V182)","v":""},{"$f":"IF([2]Paramètres!W182=\"\",\"\",[2]Paramètres!W182)","v":""},{"$f":"IF([2]Paramètres!X182=\"\",\"\",[2]Paramètres!X182)","v":""},{"$f":"IF([2]Paramètres!Y182=\"\",\"\",[2]Paramètres!Y182)","v":""},{"$f":"IF([2]Paramètres!Z182=\"\",\"\",[2]Paramètres!Z182)","v":""}]
[{"$f":"IF([2]Paramètres!A183=\"\",\"\",[2]Paramètres!A183)","v":""},{"$f":"IF([2]Paramètres!B183=\"\",\"\",[2]Paramètres!B183)","v":""},{"$f":"IF([2]Paramètres!C183=\"\",\"\",[2]Paramètres!C183)","v":""},{"$f":"IF([2]Paramètres!D183=\"\",\"\",[2]Paramètres!D183)","v":""},{"$f":"IF([2]Paramètres!E183=\"\",\"\",[2]Paramètres!E183)","v":""},{"$f":"IF([2]Paramètres!F183=\"\",\"\",[2]Paramètres!F183)","v":""},{"$f":"IF([2]Paramètres!G183=\"\",\"\",[2]Paramètres!G183)","v":""},{"$f":"IF([2]Paramètres!H183=\"\",\"\",[2]Paramètres!H183)","v":""},{"$f":"IF([2]Paramètres!I183=\"\",\"\",[2]Paramètres!I183)","v":""},{"$f":"IF([2]Paramètres!J183=\"\",\"\",[2]Paramètres!J183)","v":"Whitelabs - WLP009 Australian Ale Yeast"},{"$f":"IF([2]Paramètres!K183=\"\",\"\",[2]Paramètres!K183)","v":"Liquide"},{"$f":"IF([2]Paramètres!L183=\"\",\"\",[2]Paramètres!L183)","v":0.7},{"$f":"IF([2]Paramètres!M183=\"\",\"\",[2]Paramètres!M183)","v":0.75},{"$f":"IF([2]Paramètres!N183=\"\",\"\",[2]Paramètres!N183)","v":0.72499999999999998},{"$f":"IF([2]Paramètres!O183=\"\",\"\",[2]Paramètres!O183)","v":18.3},{"$f":"IF([2]Paramètres!P183=\"\",\"\",[2]Paramètres!P183)","v":21.1},{"$f":"IF([2]Paramètres!Q183=\"\",\"\",[2]Paramètres!Q183)","v":"Haute"},{"$f":"IF([2]Paramètres!R183=\"\",\"\",[2]Paramètres!R183)","v":""},{"$f":"IF([2]Paramètres!S183=\"\",\"\",[2]Paramètres!S183)","v":""},{"$f":"IF([2]Paramètres!T183=\"\",\"\",[2]Paramètres!T183)","v":""},{"$f":"IF([2]Paramètres!U183=\"\",\"\",[2]Paramètres!U183)","v":""},{"$f":"IF([2]Paramètres!V183=\"\",\"\",[2]Paramètres!V183)","v":""},{"$f":"IF([2]Paramètres!W183=\"\",\"\",[2]Paramètres!W183)","v":""},{"$f":"IF([2]Paramètres!X183=\"\",\"\",[2]Paramètres!X183)","v":""},{"$f":"IF([2]Paramètres!Y183=\"\",\"\",[2]Paramètres!Y183)","v":""},{"$f":"IF([2]Paramètres!Z183=\"\",\"\",[2]Paramètres!Z183)","v":""}]
[{"$f":"IF([2]Paramètres!A184=\"\",\"\",[2]Paramètres!A184)","v":""},{"$f":"IF([2]Paramètres!B184=\"\",\"\",[2]Paramètres!B184)","v":""},{"$f":"IF([2]Paramètres!C184=\"\",\"\",[2]Paramètres!C184)","v":""},{"$f":"IF([2]Paramètres!D184=\"\",\"\",[2]Paramètres!D184)","v":""},{"$f":"IF([2]Paramètres!E184=\"\",\"\",[2]Paramètres!E184)","v":""},{"$f":"IF([2]Paramètres!F184=\"\",\"\",[2]Paramètres!F184)","v":""},{"$f":"IF([2]Paramètres!G184=\"\",\"\",[2]Paramètres!G184)","v":""},{"$f":"IF([2]Paramètres!H184=\"\",\"\",[2]Paramètres!H184)","v":""},{"$f":"IF([2]Paramètres!I184=\"\",\"\",[2]Paramètres!I184)","v":""},{"$f":"IF([2]Paramètres!J184=\"\",\"\",[2]Paramètres!J184)","v":"Whitelabs - WLP011 European Ale Yeast"},{"$f":"IF([2]Paramètres!K184=\"\",\"\",[2]Paramètres!K184)","v":"Liquide"},{"$f":"IF([2]Paramètres!L184=\"\",\"\",[2]Paramètres!L184)","v":0.65},{"$f":"IF([2]Paramètres!M184=\"\",\"\",[2]Paramètres!M184)","v":0.7},{"$f":"IF([2]Paramètres!N184=\"\",\"\",[2]Paramètres!N184)","v":0.67500000000000004},{"$f":"IF([2]Paramètres!O184=\"\",\"\",[2]Paramètres!O184)","v":18.3},{"$f":"IF([2]Paramètres!P184=\"\",\"\",[2]Paramètres!P184)","v":21.1},{"$f":"IF([2]Paramètres!Q184=\"\",\"\",[2]Paramètres!Q184)","v":"Moyenne"},{"$f":"IF([2]Paramètres!R184=\"\",\"\",[2]Paramètres!R184)","v":""},{"$f":"IF([2]Paramètres!S184=\"\",\"\",[2]Paramètres!S184)","v":""},{"$f":"IF([2]Paramètres!T184=\"\",\"\",[2]Paramètres!T184)","v":""},{"$f":"IF([2]Paramètres!U184=\"\",\"\",[2]Paramètres!U184)","v":""},{"$f":"IF([2]Paramètres!V184=\"\",\"\",[2]Paramètres!V184)","v":""},{"$f":"IF([2]Paramètres!W184=\"\",\"\",[2]Paramètres!W184)","v":""},{"$f":"IF([2]Paramètres!X184=\"\",\"\",[2]Paramètres!X184)","v":""},{"$f":"IF([2]Paramètres!Y184=\"\",\"\",[2]Paramètres!Y184)","v":""},{"$f":"IF([2]Paramètres!Z184=\"\",\"\",[2]Paramètres!Z184)","v":""}]
[{"$f":"IF([2]Paramètres!A185=\"\",\"\",[2]Paramètres!A185)","v":""},{"$f":"IF([2]Paramètres!B185=\"\",\"\",[2]Paramètres!B185)","v":""},{"$f":"IF([2]Paramètres!C185=\"\",\"\",[2]Paramètres!C185)","v":""},{"$f":"IF([2]Paramètres!D185=\"\",\"\",[2]Paramètres!D185)","v":""},{"$f":"IF([2]Paramètres!E185=\"\",\"\",[2]Paramètres!E185)","v":""},{"$f":"IF([2]Paramètres!F185=\"\",\"\",[2]Paramètres!F185)","v":""},{"$f":"IF([2]Paramètres!G185=\"\",\"\",[2]Paramètres!G185)","v":""},{"$f":"IF([2]Paramètres!H185=\"\",\"\",[2]Paramètres!H185)","v":""},{"$f":"IF([2]Paramètres!I185=\"\",\"\",[2]Paramètres!I185)","v":""},{"$f":"IF([2]Paramètres!J185=\"\",\"\",[2]Paramètres!J185)","v":"Whitelabs - WLP013 London Ale Yeast"},{"$f":"IF([2]Paramètres!K185=\"\",\"\",[2]Paramètres!K185)","v":"Liquide"},{"$f":"IF([2]Paramètres!L185=\"\",\"\",[2]Paramètres!L185)","v":0.67},{"$f":"IF([2]Paramètres!M185=\"\",\"\",[2]Paramètres!M185)","v":0.75},{"$f":"IF([2]Paramètres!N185=\"\",\"\",[2]Paramètres!N185)","v":0.71},{"$f":"IF([2]Paramètres!O185=\"\",\"\",[2]Paramètres!O185)","v":18.899999999999999},{"$f":"IF([2]Paramètres!P185=\"\",\"\",[2]Paramètres!P185)","v":21.7},{"$f":"IF([2]Paramètres!Q185=\"\",\"\",[2]Paramètres!Q185)","v":"Moyenne"},{"$f":"IF([2]Paramètres!R185=\"\",\"\",[2]Paramètres!R185)","v":""},{"$f":"IF([2]Paramètres!S185=\"\",\"\",[2]Paramètres!S185)","v":""},{"$f":"IF([2]Paramètres!T185=\"\",\"\",[2]Paramètres!T185)","v":""},{"$f":"IF([2]Paramètres!U185=\"\",\"\",[2]Paramètres!U185)","v":""},{"$f":"IF([2]Paramètres!V185=\"\",\"\",[2]Paramètres!V185)","v":""},{"$f":"IF([2]Paramètres!W185=\"\",\"\",[2]Paramètres!W185)","v":""},{"$f":"IF([2]Paramètres!X185=\"\",\"\",[2]Paramètres!X185)","v":""},{"$f":"IF([2]Paramètres!Y185=\"\",\"\",[2]Paramètres!Y185)","v":""},{"$f":"IF([2]Paramètres!Z185=\"\",\"\",[2]Paramètres!Z185)","v":""}]
[{"$f":"IF([2]Paramètres!A186=\"\",\"\",[2]Paramètres!A186)","v":""},{"$f":"IF([2]Paramètres!B186=\"\",\"\",[2]Paramètres!B186)","v":""},{"$f":"IF([2]Paramètres!C186=\"\",\"\",[2]Paramètres!C186)","v":""},{"$f":"IF([2]Paramètres!D186=\"\",\"\",[2]Paramètres!D186)","v":""},{"$f":"IF([2]Paramètres!E186=\"\",\"\",[2]Paramètres!E186)","v":""},{"$f":"IF([2]Paramètres!F186=\"\",\"\",[2]Paramètres!F186)","v":""},{"$f":"IF([2]Paramètres!G186=\"\",\"\",[2]Paramètres!G186)","v":""},{"$f":"IF([2]Paramètres!H186=\"\",\"\",[2]Paramètres!H186)","v":""},{"$f":"IF([2]Paramètres!I186=\"\",\"\",[2]Paramètres!I186)","v":""},{"$f":"IF([2]Paramètres!J186=\"\",\"\",[2]Paramètres!J186)","v":"Whitelabs - WLP017 Whitbread II Ale Yeast"},{"$f":"IF([2]Paramètres!K186=\"\",\"\",[2]Paramètres!K186)","v":"Liquide"},{"$f":"IF([2]Paramètres!L186=\"\",\"\",[2]Paramètres!L186)","v":0.67},{"$f":"IF([2]Paramètres!M186=\"\",\"\",[2]Paramètres!M186)","v":0.73},{"$f":"IF([2]Paramètres!N186=\"\",\"\",[2]Paramètres!N186)","v":0.7},{"$f":"IF([2]Paramètres!O186=\"\",\"\",[2]Paramètres!O186)","v":18.899999999999999},{"$f":"IF([2]Paramètres!P186=\"\",\"\",[2]Paramètres!P186)","v":21.1},{"$f":"IF([2]Paramètres!Q186=\"\",\"\",[2]Paramètres!Q186)","v":"Haute"},{"$f":"IF([2]Paramètres!R186=\"\",\"\",[2]Paramètres!R186)","v":""},{"$f":"IF([2]Paramètres!S186=\"\",\"\",[2]Paramètres!S186)","v":""},{"$f":"IF([2]Paramètres!T186=\"\",\"\",[2]Paramètres!T186)","v":""},{"$f":"IF([2]Paramètres!U186=\"\",\"\",[2]Paramètres!U186)","v":""},{"$f":"IF([2]Paramètres!V186=\"\",\"\",[2]Paramètres!V186)","v":""},{"$f":"IF([2]Paramètres!W186=\"\",\"\",[2]Paramètres!W186)","v":""},{"$f":"IF([2]Paramètres!X186=\"\",\"\",[2]Paramètres!X186)","v":""},{"$f":"IF([2]Paramètres!Y186=\"\",\"\",[2]Paramètres!Y186)","v":""},{"$f":"IF([2]Paramètres!Z186=\"\",\"\",[2]Paramètres!Z186)","v":""}]
[{"$f":"IF([2]Paramètres!A187=\"\",\"\",[2]Paramètres!A187)","v":""},{"$f":"IF([2]Paramètres!B187=\"\",\"\",[2]Paramètres!B187)","v":""},{"$f":"IF([2]Paramètres!C187=\"\",\"\",[2]Paramètres!C187)","v":""},{"$f":"IF([2]Paramètres!D187=\"\",\"\",[2]Paramètres!D187)","v":""},{"$f":"IF([2]Paramètres!E187=\"\",\"\",[2]Paramètres!E187)","v":""},{"$f":"IF([2]Paramètres!F187=\"\",\"\",[2]Paramètres!F187)","v":""},{"$f":"IF([2]Paramètres!G187=\"\",\"\",[2]Paramètres!G187)","v":""},{"$f":"IF([2]Paramètres!H187=\"\",\"\",[2]Paramètres!H187)","v":""},{"$f":"IF([2]Paramètres!I187=\"\",\"\",[2]Paramètres!I187)","v":""},{"$f":"IF([2]Paramètres!J187=\"\",\"\",[2]Paramètres!J187)","v":"Whitelabs - WLP022 Essex Ale Yeast"},{"$f":"IF([2]Paramètres!K187=\"\",\"\",[2]Paramètres!K187)","v":"Liquide"},{"$f":"IF([2]Paramètres!L187=\"\",\"\",[2]Paramètres!L187)","v":0.71},{"$f":"IF([2]Paramètres!M187=\"\",\"\",[2]Paramètres!M187)","v":0.76},{"$f":"IF([2]Paramètres!N187=\"\",\"\",[2]Paramètres!N187)","v":0.73499999999999999},{"$f":"IF([2]Paramètres!O187=\"\",\"\",[2]Paramètres!O187)","v":18.899999999999999},{"$f":"IF([2]Paramètres!P187=\"\",\"\",[2]Paramètres!P187)","v":21.1},{"$f":"IF([2]Paramètres!Q187=\"\",\"\",[2]Paramètres!Q187)","v":"Moyenne  -  Haute"},{"$f":"IF([2]Paramètres!R187=\"\",\"\",[2]Paramètres!R187)","v":""},{"$f":"IF([2]Paramètres!S187=\"\",\"\",[2]Paramètres!S187)","v":""},{"$f":"IF([2]Paramètres!T187=\"\",\"\",[2]Paramètres!T187)","v":""},{"$f":"IF([2]Paramètres!U187=\"\",\"\",[2]Paramètres!U187)","v":""},{"$f":"IF([2]Paramètres!V187=\"\",\"\",[2]Paramètres!V187)","v":""},{"$f":"IF([2]Paramètres!W187=\"\",\"\",[2]Paramètres!W187)","v":""},{"$f":"IF([2]Paramètres!X187=\"\",\"\",[2]Paramètres!X187)","v":""},{"$f":"IF([2]Paramètres!Y187=\"\",\"\",[2]Paramètres!Y187)","v":""},{"$f":"IF([2]Paramètres!Z187=\"\",\"\",[2]Paramètres!Z187)","v":""}]
[{"$f":"IF([2]Paramètres!A188=\"\",\"\",[2]Paramètres!A188)","v":""},{"$f":"IF([2]Paramètres!B188=\"\",\"\",[2]Paramètres!B188)","v":""},{"$f":"IF([2]Paramètres!C188=\"\",\"\",[2]Paramètres!C188)","v":""},{"$f":"IF([2]Paramètres!D188=\"\",\"\",[2]Paramètres!D188)","v":""},{"$f":"IF([2]Paramètres!E188=\"\",\"\",[2]Paramètres!E188)","v":""},{"$f":"IF([2]Paramètres!F188=\"\",\"\",[2]Paramètres!F188)","v":""},{"$f":"IF([2]Paramètres!G188=\"\",\"\",[2]Paramètres!G188)","v":""},{"$f":"IF([2]Paramètres!H188=\"\",\"\",[2]Paramètres!H188)","v":""},{"$f":"IF([2]Paramètres!I188=\"\",\"\",[2]Paramètres!I188)","v":""},{"$f":"IF([2]Paramètres!J188=\"\",\"\",[2]Paramètres!J188)","v":"Whitelabs - WLP023 Burton Ale Yeast"},{"$f":"IF([2]Paramètres!K188=\"\",\"\",[2]Paramètres!K188)","v":"Liquide"},{"$f":"IF([2]Paramètres!L188=\"\",\"\",[2]Paramètres!L188)","v":0.69},{"$f":"IF([2]Paramètres!M188=\"\",\"\",[2]Paramètres!M188)","v":0.75},{"$f":"IF([2]Paramètres!N188=\"\",\"\",[2]Paramètres!N188)","v":0.72},{"$f":"IF([2]Paramètres!O188=\"\",\"\",[2]Paramètres!O188)","v":20},{"$f":"IF([2]Paramètres!P188=\"\",\"\",[2]Paramètres!P188)","v":22.8},{"$f":"IF([2]Paramètres!Q188=\"\",\"\",[2]Paramètres!Q188)","v":"Moyenne"},{"$f":"IF([2]Paramètres!R188=\"\",\"\",[2]Paramètres!R188)","v":""},{"$f":"IF([2]Paramètres!S188=\"\",\"\",[2]Paramètres!S188)","v":""},{"$f":"IF([2]Paramètres!T188=\"\",\"\",[2]Paramètres!T188)","v":""},{"$f":"IF([2]Paramètres!U188=\"\",\"\",[2]Paramètres!U188)","v":""},{"$f":"IF([2]Paramètres!V188=\"\",\"\",[2]Paramètres!V188)","v":""},{"$f":"IF([2]Paramètres!W188=\"\",\"\",[2]Paramètres!W188)","v":""},{"$f":"IF([2]Paramètres!X188=\"\",\"\",[2]Paramètres!X188)","v":""},{"$f":"IF([2]Paramètres!Y188=\"\",\"\",[2]Paramètres!Y188)","v":""},{"$f":"IF([2]Paramètres!Z188=\"\",\"\",[2]Paramètres!Z188)","v":""}]
[{"$f":"IF([2]Paramètres!A189=\"\",\"\",[2]Paramètres!A189)","v":""},{"$f":"IF([2]Paramètres!B189=\"\",\"\",[2]Paramètres!B189)","v":""},{"$f":"IF([2]Paramètres!C189=\"\",\"\",[2]Paramètres!C189)","v":""},{"$f":"IF([2]Paramètres!D189=\"\",\"\",[2]Paramètres!D189)","v":""},{"$f":"IF([2]Paramètres!E189=\"\",\"\",[2]Paramètres!E189)","v":""},{"$f":"IF([2]Paramètres!F189=\"\",\"\",[2]Paramètres!F189)","v":""},{"$f":"IF([2]Paramètres!G189=\"\",\"\",[2]Paramètres!G189)","v":""},{"$f":"IF([2]Paramètres!H189=\"\",\"\",[2]Paramètres!H189)","v":""},{"$f":"IF([2]Paramètres!I189=\"\",\"\",[2]Paramètres!I189)","v":""},{"$f":"IF([2]Paramètres!J189=\"\",\"\",[2]Paramètres!J189)","v":"Whitelabs - WLP025 Southwold Ale Yeast"},{"$f":"IF([2]Paramètres!K189=\"\",\"\",[2]Paramètres!K189)","v":"Liquide"},{"$f":"IF([2]Paramètres!L189=\"\",\"\",[2]Paramètres!L189)","v":0.68},{"$f":"IF([2]Paramètres!M189=\"\",\"\",[2]Paramètres!M189)","v":0.75},{"$f":"IF([2]Paramètres!N189=\"\",\"\",[2]Paramètres!N189)","v":0.71500000000000008},{"$f":"IF([2]Paramètres!O189=\"\",\"\",[2]Paramètres!O189)","v":18.899999999999999},{"$f":"IF([2]Paramètres!P189=\"\",\"\",[2]Paramètres!P189)","v":20.6},{"$f":"IF([2]Paramètres!Q189=\"\",\"\",[2]Paramètres!Q189)","v":"Moyenne"},{"$f":"IF([2]Paramètres!R189=\"\",\"\",[2]Paramètres!R189)","v":""},{"$f":"IF([2]Paramètres!S189=\"\",\"\",[2]Paramètres!S189)","v":""},{"$f":"IF([2]Paramètres!T189=\"\",\"\",[2]Paramètres!T189)","v":""},{"$f":"IF([2]Paramètres!U189=\"\",\"\",[2]Paramètres!U189)","v":""},{"$f":"IF([2]Paramètres!V189=\"\",\"\",[2]Paramètres!V189)","v":""},{"$f":"IF([2]Paramètres!W189=\"\",\"\",[2]Paramètres!W189)","v":""},{"$f":"IF([2]Paramètres!X189=\"\",\"\",[2]Paramètres!X189)","v":""},{"$f":"IF([2]Paramètres!Y189=\"\",\"\",[2]Paramètres!Y189)","v":""},{"$f":"IF([2]Paramètres!Z189=\"\",\"\",[2]Paramètres!Z189)","v":""}]
[{"$f":"IF([2]Paramètres!A190=\"\",\"\",[2]Paramètres!A190)","v":""},{"$f":"IF([2]Paramètres!B190=\"\",\"\",[2]Paramètres!B190)","v":""},{"$f":"IF([2]Paramètres!C190=\"\",\"\",[2]Paramètres!C190)","v":""},{"$f":"IF([2]Paramètres!D190=\"\",\"\",[2]Paramètres!D190)","v":""},{"$f":"IF([2]Paramètres!E190=\"\",\"\",[2]Paramètres!E190)","v":""},{"$f":"IF([2]Paramètres!F190=\"\",\"\",[2]Paramètres!F190)","v":""},{"$f":"IF([2]Paramètres!G190=\"\",\"\",[2]Paramètres!G190)","v":""},{"$f":"IF([2]Paramètres!H190=\"\",\"\",[2]Paramètres!H190)","v":""},{"$f":"IF([2]Paramètres!I190=\"\",\"\",[2]Paramètres!I190)","v":""},{"$f":"IF([2]Paramètres!J190=\"\",\"\",[2]Paramètres!J190)","v":"Whitelabs - WLP026 Premium Bitter Ale Yeast"},{"$f":"IF([2]Paramètres!K190=\"\",\"\",[2]Paramètres!K190)","v":"Liquide"},{"$f":"IF([2]Paramètres!L190=\"\",\"\",[2]Paramètres!L190)","v":0.7},{"$f":"IF([2]Paramètres!M190=\"\",\"\",[2]Paramètres!M190)","v":0.75},{"$f":"IF([2]Paramètres!N190=\"\",\"\",[2]Paramètres!N190)","v":0.72499999999999998},{"$f":"IF([2]Paramètres!O190=\"\",\"\",[2]Paramètres!O190)","v":19.399999999999999},{"$f":"IF([2]Paramètres!P190=\"\",\"\",[2]Paramètres!P190)","v":21.1},{"$f":"IF([2]Paramètres!Q190=\"\",\"\",[2]Paramètres!Q190)","v":"Moyenne"},{"$f":"IF([2]Paramètres!R190=\"\",\"\",[2]Paramètres!R190)","v":""},{"$f":"IF([2]Paramètres!S190=\"\",\"\",[2]Paramètres!S190)","v":""},{"$f":"IF([2]Paramètres!T190=\"\",\"\",[2]Paramètres!T190)","v":""},{"$f":"IF([2]Paramètres!U190=\"\",\"\",[2]Paramètres!U190)","v":""},{"$f":"IF([2]Paramètres!V190=\"\",\"\",[2]Paramètres!V190)","v":""},{"$f":"IF([2]Paramètres!W190=\"\",\"\",[2]Paramètres!W190)","v":""},{"$f":"IF([2]Paramètres!X190=\"\",\"\",[2]Paramètres!X190)","v":""},{"$f":"IF([2]Paramètres!Y190=\"\",\"\",[2]Paramètres!Y190)","v":""},{"$f":"IF([2]Paramètres!Z190=\"\",\"\",[2]Paramètres!Z190)","v":""}]
[{"$f":"IF([2]Paramètres!A191=\"\",\"\",[2]Paramètres!A191)","v":""},{"$f":"IF([2]Paramètres!B191=\"\",\"\",[2]Paramètres!B191)","v":""},{"$f":"IF([2]Paramètres!C191=\"\",\"\",[2]Paramètres!C191)","v":""},{"$f":"IF([2]Paramètres!D191=\"\",\"\",[2]Paramètres!D191)","v":""},{"$f":"IF([2]Paramètres!E191=\"\",\"\",[2]Paramètres!E191)","v":""},{"$f":"IF([2]Paramètres!F191=\"\",\"\",[2]Paramètres!F191)","v":""},{"$f":"IF([2]Paramètres!G191=\"\",\"\",[2]Paramètres!G191)","v":""},{"$f":"IF([2]Paramètres!H191=\"\",\"\",[2]Paramètres!H191)","v":""},{"$f":"IF([2]Paramètres!I191=\"\",\"\",[2]Paramètres!I191)","v":""},{"$f":"IF([2]Paramètres!J191=\"\",\"\",[2]Paramètres!J191)","v":"Whitelabs - WLP028 Edinburgh Scottish Ale Yeast"},{"$f":"IF([2]Paramètres!K191=\"\",\"\",[2]Paramètres!K191)","v":"Liquide"},{"$f":"IF([2]Paramètres!L191=\"\",\"\",[2]Paramètres!L191)","v":0.7},{"$f":"IF([2]Paramètres!M191=\"\",\"\",[2]Paramètres!M191)","v":0.75},{"$f":"IF([2]Paramètres!N191=\"\",\"\",[2]Paramètres!N191)","v":0.72499999999999998},{"$f":"IF([2]Paramètres!O191=\"\",\"\",[2]Paramètres!O191)","v":18.3},{"$f":"IF([2]Paramètres!P191=\"\",\"\",[2]Paramètres!P191)","v":21.1},{"$f":"IF([2]Paramètres!Q191=\"\",\"\",[2]Paramètres!Q191)","v":"Moyenne"},{"$f":"IF([2]Paramètres!R191=\"\",\"\",[2]Paramètres!R191)","v":""},{"$f":"IF([2]Paramètres!S191=\"\",\"\",[2]Paramètres!S191)","v":""},{"$f":"IF([2]Paramètres!T191=\"\",\"\",[2]Paramètres!T191)","v":""},{"$f":"IF([2]Paramètres!U191=\"\",\"\",[2]Paramètres!U191)","v":""},{"$f":"IF([2]Paramètres!V191=\"\",\"\",[2]Paramètres!V191)","v":""},{"$f":"IF([2]Paramètres!W191=\"\",\"\",[2]Paramètres!W191)","v":""},{"$f":"IF([2]Paramètres!X191=\"\",\"\",[2]Paramètres!X191)","v":""},{"$f":"IF([2]Paramètres!Y191=\"\",\"\",[2]Paramètres!Y191)","v":""},{"$f":"IF([2]Paramètres!Z191=\"\",\"\",[2]Paramètres!Z191)","v":""}]
[{"$f":"IF([2]Paramètres!A192=\"\",\"\",[2]Paramètres!A192)","v":""},{"$f":"IF([2]Paramètres!B192=\"\",\"\",[2]Paramètres!B192)","v":""},{"$f":"IF([2]Paramètres!C192=\"\",\"\",[2]Paramètres!C192)","v":""},{"$f":"IF([2]Paramètres!D192=\"\",\"\",[2]Paramètres!D192)","v":""},{"$f":"IF([2]Paramètres!E192=\"\",\"\",[2]Paramètres!E192)","v":""},{"$f":"IF([2]Paramètres!F192=\"\",\"\",[2]Paramètres!F192)","v":""},{"$f":"IF([2]Paramètres!G192=\"\",\"\",[2]Paramètres!G192)","v":""},{"$f":"IF([2]Paramètres!H192=\"\",\"\",[2]Paramètres!H192)","v":""},{"$f":"IF([2]Paramètres!I192=\"\",\"\",[2]Paramètres!I192)","v":""},{"$f":"IF([2]Paramètres!J192=\"\",\"\",[2]Paramètres!J192)","v":"Whitelabs - WLP028 Edinburgh Scottish Ale Yeast"},{"$f":"IF([2]Paramètres!K192=\"\",\"\",[2]Paramètres!K192)","v":"Liquide"},{"$f":"IF([2]Paramètres!L192=\"\",\"\",[2]Paramètres!L192)","v":0.7},{"$f":"IF([2]Paramètres!M192=\"\",\"\",[2]Paramètres!M192)","v":0.75},{"$f":"IF([2]Paramètres!N192=\"\",\"\",[2]Paramètres!N192)","v":0.72499999999999998},{"$f":"IF([2]Paramètres!O192=\"\",\"\",[2]Paramètres!O192)","v":18.3},{"$f":"IF([2]Paramètres!P192=\"\",\"\",[2]Paramètres!P192)","v":21.1},{"$f":"IF([2]Paramètres!Q192=\"\",\"\",[2]Paramètres!Q192)","v":"Moyenne"},{"$f":"IF([2]Paramètres!R192=\"\",\"\",[2]Paramètres!R192)","v":""},{"$f":"IF([2]Paramètres!S192=\"\",\"\",[2]Paramètres!S192)","v":""},{"$f":"IF([2]Paramètres!T192=\"\",\"\",[2]Paramètres!T192)","v":""},{"$f":"IF([2]Paramètres!U192=\"\",\"\",[2]Paramètres!U192)","v":""},{"$f":"IF([2]Paramètres!V192=\"\",\"\",[2]Paramètres!V192)","v":""},{"$f":"IF([2]Paramètres!W192=\"\",\"\",[2]Paramètres!W192)","v":""},{"$f":"IF([2]Paramètres!X192=\"\",\"\",[2]Paramètres!X192)","v":""},{"$f":"IF([2]Paramètres!Y192=\"\",\"\",[2]Paramètres!Y192)","v":""},{"$f":"IF([2]Paramètres!Z192=\"\",\"\",[2]Paramètres!Z192)","v":""}]
[{"$f":"IF([2]Paramètres!A193=\"\",\"\",[2]Paramètres!A193)","v":""},{"$f":"IF([2]Paramètres!B193=\"\",\"\",[2]Paramètres!B193)","v":""},{"$f":"IF([2]Paramètres!C193=\"\",\"\",[2]Paramètres!C193)","v":""},{"$f":"IF([2]Paramètres!D193=\"\",\"\",[2]Paramètres!D193)","v":""},{"$f":"IF([2]Paramètres!E193=\"\",\"\",[2]Paramètres!E193)","v":""},{"$f":"IF([2]Paramètres!F193=\"\",\"\",[2]Paramètres!F193)","v":""},{"$f":"IF([2]Paramètres!G193=\"\",\"\",[2]Paramètres!G193)","v":""},{"$f":"IF([2]Paramètres!H193=\"\",\"\",[2]Paramètres!H193)","v":""},{"$f":"IF([2]Paramètres!I193=\"\",\"\",[2]Paramètres!I193)","v":""},{"$f":"IF([2]Paramètres!J193=\"\",\"\",[2]Paramètres!J193)","v":"Whitelabs - WLP029 German Ale/ Kölsch Yeast"},{"$f":"IF([2]Paramètres!K193=\"\",\"\",[2]Paramètres!K193)","v":"Liquide"},{"$f":"IF([2]Paramètres!L193=\"\",\"\",[2]Paramètres!L193)","v":0.72},{"$f":"IF([2]Paramètres!M193=\"\",\"\",[2]Paramètres!M193)","v":0.78},{"$f":"IF([2]Paramètres!N193=\"\",\"\",[2]Paramètres!N193)","v":0.75},{"$f":"IF([2]Paramètres!O193=\"\",\"\",[2]Paramètres!O193)","v":18.3},{"$f":"IF([2]Paramètres!P193=\"\",\"\",[2]Paramètres!P193)","v":20.6},{"$f":"IF([2]Paramètres!Q193=\"\",\"\",[2]Paramètres!Q193)","v":"Moyenne"},{"$f":"IF([2]Paramètres!R193=\"\",\"\",[2]Paramètres!R193)","v":""},{"$f":"IF([2]Paramètres!S193=\"\",\"\",[2]Paramètres!S193)","v":""},{"$f":"IF([2]Paramètres!T193=\"\",\"\",[2]Paramètres!T193)","v":""},{"$f":"IF([2]Paramètres!U193=\"\",\"\",[2]Paramètres!U193)","v":""},{"$f":"IF([2]Paramètres!V193=\"\",\"\",[2]Paramètres!V193)","v":""},{"$f":"IF([2]Paramètres!W193=\"\",\"\",[2]Paramètres!W193)","v":""},{"$f":"IF([2]Paramètres!X193=\"\",\"\",[2]Paramètres!X193)","v":""},{"$f":"IF([2]Paramètres!Y193=\"\",\"\",[2]Paramètres!Y193)","v":""},{"$f":"IF([2]Paramètres!Z193=\"\",\"\",[2]Paramètres!Z193)","v":""}]
[{"$f":"IF([2]Paramètres!A194=\"\",\"\",[2]Paramètres!A194)","v":""},{"$f":"IF([2]Paramètres!B194=\"\",\"\",[2]Paramètres!B194)","v":""},{"$f":"IF([2]Paramètres!C194=\"\",\"\",[2]Paramètres!C194)","v":""},{"$f":"IF([2]Paramètres!D194=\"\",\"\",[2]Paramètres!D194)","v":""},{"$f":"IF([2]Paramètres!E194=\"\",\"\",[2]Paramètres!E194)","v":""},{"$f":"IF([2]Paramètres!F194=\"\",\"\",[2]Paramètres!F194)","v":""},{"$f":"IF([2]Paramètres!G194=\"\",\"\",[2]Paramètres!G194)","v":""},{"$f":"IF([2]Paramètres!H194=\"\",\"\",[2]Paramètres!H194)","v":""},{"$f":"IF([2]Paramètres!I194=\"\",\"\",[2]Paramètres!I194)","v":""},{"$f":"IF([2]Paramètres!J194=\"\",\"\",[2]Paramètres!J194)","v":"Whitelabs - WLP033 Klassic Ale Yeast"},{"$f":"IF([2]Paramètres!K194=\"\",\"\",[2]Paramètres!K194)","v":"Liquide"},{"$f":"IF([2]Paramètres!L194=\"\",\"\",[2]Paramètres!L194)","v":0.66},{"$f":"IF([2]Paramètres!M194=\"\",\"\",[2]Paramètres!M194)","v":0.74},{"$f":"IF([2]Paramètres!N194=\"\",\"\",[2]Paramètres!N194)","v":0.7},{"$f":"IF([2]Paramètres!O194=\"\",\"\",[2]Paramètres!O194)","v":18.899999999999999},{"$f":"IF([2]Paramètres!P194=\"\",\"\",[2]Paramètres!P194)","v":21.1},{"$f":"IF([2]Paramètres!Q194=\"\",\"\",[2]Paramètres!Q194)","v":"Moyenne"},{"$f":"IF([2]Paramètres!R194=\"\",\"\",[2]Paramètres!R194)","v":""},{"$f":"IF([2]Paramètres!S194=\"\",\"\",[2]Paramètres!S194)","v":""},{"$f":"IF([2]Paramètres!T194=\"\",\"\",[2]Paramètres!T194)","v":""},{"$f":"IF([2]Paramètres!U194=\"\",\"\",[2]Paramètres!U194)","v":""},{"$f":"IF([2]Paramètres!V194=\"\",\"\",[2]Paramètres!V194)","v":""},{"$f":"IF([2]Paramètres!W194=\"\",\"\",[2]Paramètres!W194)","v":""},{"$f":"IF([2]Paramètres!X194=\"\",\"\",[2]Paramètres!X194)","v":""},{"$f":"IF([2]Paramètres!Y194=\"\",\"\",[2]Paramètres!Y194)","v":""},{"$f":"IF([2]Paramètres!Z194=\"\",\"\",[2]Paramètres!Z194)","v":""}]
[{"$f":"IF([2]Paramètres!A195=\"\",\"\",[2]Paramètres!A195)","v":""},{"$f":"IF([2]Paramètres!B195=\"\",\"\",[2]Paramètres!B195)","v":""},{"$f":"IF([2]Paramètres!C195=\"\",\"\",[2]Paramètres!C195)","v":""},{"$f":"IF([2]Paramètres!D195=\"\",\"\",[2]Paramètres!D195)","v":""},{"$f":"IF([2]Paramètres!E195=\"\",\"\",[2]Paramètres!E195)","v":""},{"$f":"IF([2]Paramètres!F195=\"\",\"\",[2]Paramètres!F195)","v":""},{"$f":"IF([2]Paramètres!G195=\"\",\"\",[2]Paramètres!G195)","v":""},{"$f":"IF([2]Paramètres!H195=\"\",\"\",[2]Paramètres!H195)","v":""},{"$f":"IF([2]Paramètres!I195=\"\",\"\",[2]Paramètres!I195)","v":""},{"$f":"IF([2]Paramètres!J195=\"\",\"\",[2]Paramètres!J195)","v":"Whitelabs - WLP036 Düsseldorf Alt Ale Yeast"},{"$f":"IF([2]Paramètres!K195=\"\",\"\",[2]Paramètres!K195)","v":"Liquide"},{"$f":"IF([2]Paramètres!L195=\"\",\"\",[2]Paramètres!L195)","v":0.65},{"$f":"IF([2]Paramètres!M195=\"\",\"\",[2]Paramètres!M195)","v":0.72},{"$f":"IF([2]Paramètres!N195=\"\",\"\",[2]Paramètres!N195)","v":0.68500000000000005},{"$f":"IF([2]Paramètres!O195=\"\",\"\",[2]Paramètres!O195)","v":18.3},{"$f":"IF([2]Paramètres!P195=\"\",\"\",[2]Paramètres!P195)","v":20.6},{"$f":"IF([2]Paramètres!Q195=\"\",\"\",[2]Paramètres!Q195)","v":"Moyenne"},{"$f":"IF([2]Paramètres!R195=\"\",\"\",[2]Paramètres!R195)","v":""},{"$f":"IF([2]Paramètres!S195=\"\",\"\",[2]Paramètres!S195)","v":""},{"$f":"IF([2]Paramètres!T195=\"\",\"\",[2]Paramètres!T195)","v":""},{"$f":"IF([2]Paramètres!U195=\"\",\"\",[2]Paramètres!U195)","v":""},{"$f":"IF([2]Paramètres!V195=\"\",\"\",[2]Paramètres!V195)","v":""},{"$f":"IF([2]Paramètres!W195=\"\",\"\",[2]Paramètres!W195)","v":""},{"$f":"IF([2]Paramètres!X195=\"\",\"\",[2]Paramètres!X195)","v":""},{"$f":"IF([2]Paramètres!Y195=\"\",\"\",[2]Paramètres!Y195)","v":""},{"$f":"IF([2]Paramètres!Z195=\"\",\"\",[2]Paramètres!Z195)","v":""}]
[{"$f":"IF([2]Paramètres!A196=\"\",\"\",[2]Paramètres!A196)","v":""},{"$f":"IF([2]Paramètres!B196=\"\",\"\",[2]Paramètres!B196)","v":""},{"$f":"IF([2]Paramètres!C196=\"\",\"\",[2]Paramètres!C196)","v":""},{"$f":"IF([2]Paramètres!D196=\"\",\"\",[2]Paramètres!D196)","v":""},{"$f":"IF([2]Paramètres!E196=\"\",\"\",[2]Paramètres!E196)","v":""},{"$f":"IF([2]Paramètres!F196=\"\",\"\",[2]Paramètres!F196)","v":""},{"$f":"IF([2]Paramètres!G196=\"\",\"\",[2]Paramètres!G196)","v":""},{"$f":"IF([2]Paramètres!H196=\"\",\"\",[2]Paramètres!H196)","v":""},{"$f":"IF([2]Paramètres!I196=\"\",\"\",[2]Paramètres!I196)","v":""},{"$f":"IF([2]Paramètres!J196=\"\",\"\",[2]Paramètres!J196)","v":"Whitelabs - WLP037 Yorkshire Square Ale Yeast"},{"$f":"IF([2]Paramètres!K196=\"\",\"\",[2]Paramètres!K196)","v":"Liquide"},{"$f":"IF([2]Paramètres!L196=\"\",\"\",[2]Paramètres!L196)","v":0.68},{"$f":"IF([2]Paramètres!M196=\"\",\"\",[2]Paramètres!M196)","v":0.72},{"$f":"IF([2]Paramètres!N196=\"\",\"\",[2]Paramètres!N196)","v":0.7},{"$f":"IF([2]Paramètres!O196=\"\",\"\",[2]Paramètres!O196)","v":18.3},{"$f":"IF([2]Paramètres!P196=\"\",\"\",[2]Paramètres!P196)","v":21.1},{"$f":"IF([2]Paramètres!Q196=\"\",\"\",[2]Paramètres!Q196)","v":"Haute"},{"$f":"IF([2]Paramètres!R196=\"\",\"\",[2]Paramètres!R196)","v":""},{"$f":"IF([2]Paramètres!S196=\"\",\"\",[2]Paramètres!S196)","v":""},{"$f":"IF([2]Paramètres!T196=\"\",\"\",[2]Paramètres!T196)","v":""},{"$f":"IF([2]Paramètres!U196=\"\",\"\",[2]Paramètres!U196)","v":""},{"$f":"IF([2]Paramètres!V196=\"\",\"\",[2]Paramètres!V196)","v":""},{"$f":"IF([2]Paramètres!W196=\"\",\"\",[2]Paramètres!W196)","v":""},{"$f":"IF([2]Paramètres!X196=\"\",\"\",[2]Paramètres!X196)","v":""},{"$f":"IF([2]Paramètres!Y196=\"\",\"\",[2]Paramètres!Y196)","v":""},{"$f":"IF([2]Paramètres!Z196=\"\",\"\",[2]Paramètres!Z196)","v":""}]
[{"$f":"IF([2]Paramètres!A197=\"\",\"\",[2]Paramètres!A197)","v":""},{"$f":"IF([2]Paramètres!B197=\"\",\"\",[2]Paramètres!B197)","v":""},{"$f":"IF([2]Paramètres!C197=\"\",\"\",[2]Paramètres!C197)","v":""},{"$f":"IF([2]Paramètres!D197=\"\",\"\",[2]Paramètres!D197)","v":""},{"$f":"IF([2]Paramètres!E197=\"\",\"\",[2]Paramètres!E197)","v":""},{"$f":"IF([2]Paramètres!F197=\"\",\"\",[2]Paramètres!F197)","v":""},{"$f":"IF([2]Paramètres!G197=\"\",\"\",[2]Paramètres!G197)","v":""},{"$f":"IF([2]Paramètres!H197=\"\",\"\",[2]Paramètres!H197)","v":""},{"$f":"IF([2]Paramètres!I197=\"\",\"\",[2]Paramètres!I197)","v":""},{"$f":"IF([2]Paramètres!J197=\"\",\"\",[2]Paramètres!J197)","v":"Whitelabs - WLP038 Manchester Ale Yeast"},{"$f":"IF([2]Paramètres!K197=\"\",\"\",[2]Paramètres!K197)","v":"Liquide"},{"$f":"IF([2]Paramètres!L197=\"\",\"\",[2]Paramètres!L197)","v":0.7},{"$f":"IF([2]Paramètres!M197=\"\",\"\",[2]Paramètres!M197)","v":0.74},{"$f":"IF([2]Paramètres!N197=\"\",\"\",[2]Paramètres!N197)","v":0.72},{"$f":"IF([2]Paramètres!O197=\"\",\"\",[2]Paramètres!O197)","v":18.3},{"$f":"IF([2]Paramètres!P197=\"\",\"\",[2]Paramètres!P197)","v":21.1},{"$f":"IF([2]Paramètres!Q197=\"\",\"\",[2]Paramètres!Q197)","v":"Moyenne  -  Haute"},{"$f":"IF([2]Paramètres!R197=\"\",\"\",[2]Paramètres!R197)","v":""},{"$f":"IF([2]Paramètres!S197=\"\",\"\",[2]Paramètres!S197)","v":""},{"$f":"IF([2]Paramètres!T197=\"\",\"\",[2]Paramètres!T197)","v":""},{"$f":"IF([2]Paramètres!U197=\"\",\"\",[2]Paramètres!U197)","v":""},{"$f":"IF([2]Paramètres!V197=\"\",\"\",[2]Paramètres!V197)","v":""},{"$f":"IF([2]Paramètres!W197=\"\",\"\",[2]Paramètres!W197)","v":""},{"$f":"IF([2]Paramètres!X197=\"\",\"\",[2]Paramètres!X197)","v":""},{"$f":"IF([2]Paramètres!Y197=\"\",\"\",[2]Paramètres!Y197)","v":""},{"$f":"IF([2]Paramètres!Z197=\"\",\"\",[2]Paramètres!Z197)","v":""}]
[{"$f":"IF([2]Paramètres!A198=\"\",\"\",[2]Paramètres!A198)","v":""},{"$f":"IF([2]Paramètres!B198=\"\",\"\",[2]Paramètres!B198)","v":""},{"$f":"IF([2]Paramètres!C198=\"\",\"\",[2]Paramètres!C198)","v":""},{"$f":"IF([2]Paramètres!D198=\"\",\"\",[2]Paramètres!D198)","v":""},{"$f":"IF([2]Paramètres!E198=\"\",\"\",[2]Paramètres!E198)","v":""},{"$f":"IF([2]Paramètres!F198=\"\",\"\",[2]Paramètres!F198)","v":""},{"$f":"IF([2]Paramètres!G198=\"\",\"\",[2]Paramètres!G198)","v":""},{"$f":"IF([2]Paramètres!H198=\"\",\"\",[2]Paramètres!H198)","v":""},{"$f":"IF([2]Paramètres!I198=\"\",\"\",[2]Paramètres!I198)","v":""},{"$f":"IF([2]Paramètres!J198=\"\",\"\",[2]Paramètres!J198)","v":"Whitelabs - WLP039 East Midlands Ale Yeast"},{"$f":"IF([2]Paramètres!K198=\"\",\"\",[2]Paramètres!K198)","v":"Liquide"},{"$f":"IF([2]Paramètres!L198=\"\",\"\",[2]Paramètres!L198)","v":0.73},{"$f":"IF([2]Paramètres!M198=\"\",\"\",[2]Paramètres!M198)","v":0.82},{"$f":"IF([2]Paramètres!N198=\"\",\"\",[2]Paramètres!N198)","v":0.77499999999999991},{"$f":"IF([2]Paramètres!O198=\"\",\"\",[2]Paramètres!O198)","v":18.899999999999999},{"$f":"IF([2]Paramètres!P198=\"\",\"\",[2]Paramètres!P198)","v":21.1},{"$f":"IF([2]Paramètres!Q198=\"\",\"\",[2]Paramètres!Q198)","v":"Moyenne  -  Haute"},{"$f":"IF([2]Paramètres!R198=\"\",\"\",[2]Paramètres!R198)","v":""},{"$f":"IF([2]Paramètres!S198=\"\",\"\",[2]Paramètres!S198)","v":""},{"$f":"IF([2]Paramètres!T198=\"\",\"\",[2]Paramètres!T198)","v":""},{"$f":"IF([2]Paramètres!U198=\"\",\"\",[2]Paramètres!U198)","v":""},{"$f":"IF([2]Paramètres!V198=\"\",\"\",[2]Paramètres!V198)","v":""},{"$f":"IF([2]Paramètres!W198=\"\",\"\",[2]Paramètres!W198)","v":""},{"$f":"IF([2]Paramètres!X198=\"\",\"\",[2]Paramètres!X198)","v":""},{"$f":"IF([2]Paramètres!Y198=\"\",\"\",[2]Paramètres!Y198)","v":""},{"$f":"IF([2]Paramètres!Z198=\"\",\"\",[2]Paramètres!Z198)","v":""}]
[{"$f":"IF([2]Paramètres!A199=\"\",\"\",[2]Paramètres!A199)","v":""},{"$f":"IF([2]Paramètres!B199=\"\",\"\",[2]Paramètres!B199)","v":""},{"$f":"IF([2]Paramètres!C199=\"\",\"\",[2]Paramètres!C199)","v":""},{"$f":"IF([2]Paramètres!D199=\"\",\"\",[2]Paramètres!D199)","v":""},{"$f":"IF([2]Paramètres!E199=\"\",\"\",[2]Paramètres!E199)","v":""},{"$f":"IF([2]Paramètres!F199=\"\",\"\",[2]Paramètres!F199)","v":""},{"$f":"IF([2]Paramètres!G199=\"\",\"\",[2]Paramètres!G199)","v":""},{"$f":"IF([2]Paramètres!H199=\"\",\"\",[2]Paramètres!H199)","v":""},{"$f":"IF([2]Paramètres!I199=\"\",\"\",[2]Paramètres!I199)","v":""},{"$f":"IF([2]Paramètres!J199=\"\",\"\",[2]Paramètres!J199)","v":"Whitelabs - WLP041 Pacific Ale Yeast"},{"$f":"IF([2]Paramètres!K199=\"\",\"\",[2]Paramètres!K199)","v":"Liquide"},{"$f":"IF([2]Paramètres!L199=\"\",\"\",[2]Paramètres!L199)","v":0.65},{"$f":"IF([2]Paramètres!M199=\"\",\"\",[2]Paramètres!M199)","v":0.7},{"$f":"IF([2]Paramètres!N199=\"\",\"\",[2]Paramètres!N199)","v":0.67500000000000004},{"$f":"IF([2]Paramètres!O199=\"\",\"\",[2]Paramètres!O199)","v":18.3},{"$f":"IF([2]Paramètres!P199=\"\",\"\",[2]Paramètres!P199)","v":20},{"$f":"IF([2]Paramètres!Q199=\"\",\"\",[2]Paramètres!Q199)","v":"Haute"},{"$f":"IF([2]Paramètres!R199=\"\",\"\",[2]Paramètres!R199)","v":""},{"$f":"IF([2]Paramètres!S199=\"\",\"\",[2]Paramètres!S199)","v":""},{"$f":"IF([2]Paramètres!T199=\"\",\"\",[2]Paramètres!T199)","v":""},{"$f":"IF([2]Paramètres!U199=\"\",\"\",[2]Paramètres!U199)","v":""},{"$f":"IF([2]Paramètres!V199=\"\",\"\",[2]Paramètres!V199)","v":""},{"$f":"IF([2]Paramètres!W199=\"\",\"\",[2]Paramètres!W199)","v":""},{"$f":"IF([2]Paramètres!X199=\"\",\"\",[2]Paramètres!X199)","v":""},{"$f":"IF([2]Paramètres!Y199=\"\",\"\",[2]Paramètres!Y199)","v":""},{"$f":"IF([2]Paramètres!Z199=\"\",\"\",[2]Paramètres!Z199)","v":""}]
[{"$f":"IF([2]Paramètres!A200=\"\",\"\",[2]Paramètres!A200)","v":""},{"$f":"IF([2]Paramètres!B200=\"\",\"\",[2]Paramètres!B200)","v":""},{"$f":"IF([2]Paramètres!C200=\"\",\"\",[2]Paramètres!C200)","v":""},{"$f":"IF([2]Paramètres!D200=\"\",\"\",[2]Paramètres!D200)","v":""},{"$f":"IF([2]Paramètres!E200=\"\",\"\",[2]Paramètres!E200)","v":""},{"$f":"IF([2]Paramètres!F200=\"\",\"\",[2]Paramètres!F200)","v":""},{"$f":"IF([2]Paramètres!G200=\"\",\"\",[2]Paramètres!G200)","v":""},{"$f":"IF([2]Paramètres!H200=\"\",\"\",[2]Paramètres!H200)","v":""},{"$f":"IF([2]Paramètres!I200=\"\",\"\",[2]Paramètres!I200)","v":""},{"$f":"IF([2]Paramètres!J200=\"\",\"\",[2]Paramètres!J200)","v":"Whitelabs - WLP051 California V Ale Yeast"},{"$f":"IF([2]Paramètres!K200=\"\",\"\",[2]Paramètres!K200)","v":"Liquide"},{"$f":"IF([2]Paramètres!L200=\"\",\"\",[2]Paramètres!L200)","v":0.7},{"$f":"IF([2]Paramètres!M200=\"\",\"\",[2]Paramètres!M200)","v":0.75},{"$f":"IF([2]Paramètres!N200=\"\",\"\",[2]Paramètres!N200)","v":0.72499999999999998},{"$f":"IF([2]Paramètres!O200=\"\",\"\",[2]Paramètres!O200)","v":18.899999999999999},{"$f":"IF([2]Paramètres!P200=\"\",\"\",[2]Paramètres!P200)","v":21.1},{"$f":"IF([2]Paramètres!Q200=\"\",\"\",[2]Paramètres!Q200)","v":"Moyenne  -  Haute"},{"$f":"IF([2]Paramètres!R200=\"\",\"\",[2]Paramètres!R200)","v":""},{"$f":"IF([2]Paramètres!S200=\"\",\"\",[2]Paramètres!S200)","v":""},{"$f":"IF([2]Paramètres!T200=\"\",\"\",[2]Paramètres!T200)","v":""},{"$f":"IF([2]Paramètres!U200=\"\",\"\",[2]Paramètres!U200)","v":""},{"$f":"IF([2]Paramètres!V200=\"\",\"\",[2]Paramètres!V200)","v":""},{"$f":"IF([2]Paramètres!W200=\"\",\"\",[2]Paramètres!W200)","v":""},{"$f":"IF([2]Paramètres!X200=\"\",\"\",[2]Paramètres!X200)","v":""},{"$f":"IF([2]Paramètres!Y200=\"\",\"\",[2]Paramètres!Y200)","v":""},{"$f":"IF([2]Paramètres!Z200=\"\",\"\",[2]Paramètres!Z200)","v":""}]
[{"$f":"IF([2]Paramètres!A201=\"\",\"\",[2]Paramètres!A201)","v":""},{"$f":"IF([2]Paramètres!B201=\"\",\"\",[2]Paramètres!B201)","v":""},{"$f":"IF([2]Paramètres!C201=\"\",\"\",[2]Paramètres!C201)","v":""},{"$f":"IF([2]Paramètres!D201=\"\",\"\",[2]Paramètres!D201)","v":""},{"$f":"IF([2]Paramètres!E201=\"\",\"\",[2]Paramètres!E201)","v":""},{"$f":"IF([2]Paramètres!F201=\"\",\"\",[2]Paramètres!F201)","v":""},{"$f":"IF([2]Paramètres!G201=\"\",\"\",[2]Paramètres!G201)","v":""},{"$f":"IF([2]Paramètres!H201=\"\",\"\",[2]Paramètres!H201)","v":""},{"$f":"IF([2]Paramètres!I201=\"\",\"\",[2]Paramètres!I201)","v":""},{"$f":"IF([2]Paramètres!J201=\"\",\"\",[2]Paramètres!J201)","v":"Whitelabs - WLP059 Melbourne Ale Yeast"},{"$f":"IF([2]Paramètres!K201=\"\",\"\",[2]Paramètres!K201)","v":"Liquide"},{"$f":"IF([2]Paramètres!L201=\"\",\"\",[2]Paramètres!L201)","v":0.74},{"$f":"IF([2]Paramètres!M201=\"\",\"\",[2]Paramètres!M201)","v":0.78},{"$f":"IF([2]Paramètres!N201=\"\",\"\",[2]Paramètres!N201)","v":0.76},{"$f":"IF([2]Paramètres!O201=\"\",\"\",[2]Paramètres!O201)","v":18},{"$f":"IF([2]Paramètres!P201=\"\",\"\",[2]Paramètres!P201)","v":23},{"$f":"IF([2]Paramètres!Q201=\"\",\"\",[2]Paramètres!Q201)","v":"Moyenne"},{"$f":"IF([2]Paramètres!R201=\"\",\"\",[2]Paramètres!R201)","v":""},{"$f":"IF([2]Paramètres!S201=\"\",\"\",[2]Paramètres!S201)","v":""},{"$f":"IF([2]Paramètres!T201=\"\",\"\",[2]Paramètres!T201)","v":""},{"$f":"IF([2]Paramètres!U201=\"\",\"\",[2]Paramètres!U201)","v":""},{"$f":"IF([2]Paramètres!V201=\"\",\"\",[2]Paramètres!V201)","v":""},{"$f":"IF([2]Paramètres!W201=\"\",\"\",[2]Paramètres!W201)","v":""},{"$f":"IF([2]Paramètres!X201=\"\",\"\",[2]Paramètres!X201)","v":""},{"$f":"IF([2]Paramètres!Y201=\"\",\"\",[2]Paramètres!Y201)","v":""},{"$f":"IF([2]Paramètres!Z201=\"\",\"\",[2]Paramètres!Z201)","v":""}]
[{"$f":"IF([2]Paramètres!A202=\"\",\"\",[2]Paramètres!A202)","v":""},{"$f":"IF([2]Paramètres!B202=\"\",\"\",[2]Paramètres!B202)","v":""},{"$f":"IF([2]Paramètres!C202=\"\",\"\",[2]Paramètres!C202)","v":""},{"$f":"IF([2]Paramètres!D202=\"\",\"\",[2]Paramètres!D202)","v":""},{"$f":"IF([2]Paramètres!E202=\"\",\"\",[2]Paramètres!E202)","v":""},{"$f":"IF([2]Paramètres!F202=\"\",\"\",[2]Paramètres!F202)","v":""},{"$f":"IF([2]Paramètres!G202=\"\",\"\",[2]Paramètres!G202)","v":""},{"$f":"IF([2]Paramètres!H202=\"\",\"\",[2]Paramètres!H202)","v":""},{"$f":"IF([2]Paramètres!I202=\"\",\"\",[2]Paramètres!I202)","v":""},{"$f":"IF([2]Paramètres!J202=\"\",\"\",[2]Paramètres!J202)","v":"Whitelabs - WLP060 American Ale Yeast Blend"},{"$f":"IF([2]Paramètres!K202=\"\",\"\",[2]Paramètres!K202)","v":"Liquide"},{"$f":"IF([2]Paramètres!L202=\"\",\"\",[2]Paramètres!L202)","v":0.72},{"$f":"IF([2]Paramètres!M202=\"\",\"\",[2]Paramètres!M202)","v":0.8},{"$f":"IF([2]Paramètres!N202=\"\",\"\",[2]Paramètres!N202)","v":0.76},{"$f":"IF([2]Paramètres!O202=\"\",\"\",[2]Paramètres!O202)","v":20},{"$f":"IF([2]Paramètres!P202=\"\",\"\",[2]Paramètres!P202)","v":22.2},{"$f":"IF([2]Paramètres!Q202=\"\",\"\",[2]Paramètres!Q202)","v":"Moyenne"},{"$f":"IF([2]Paramètres!R202=\"\",\"\",[2]Paramètres!R202)","v":""},{"$f":"IF([2]Paramètres!S202=\"\",\"\",[2]Paramètres!S202)","v":""},{"$f":"IF([2]Paramètres!T202=\"\",\"\",[2]Paramètres!T202)","v":""},{"$f":"IF([2]Paramètres!U202=\"\",\"\",[2]Paramètres!U202)","v":""},{"$f":"IF([2]Paramètres!V202=\"\",\"\",[2]Paramètres!V202)","v":""},{"$f":"IF([2]Paramètres!W202=\"\",\"\",[2]Paramètres!W202)","v":""},{"$f":"IF([2]Paramètres!X202=\"\",\"\",[2]Paramètres!X202)","v":""},{"$f":"IF([2]Paramètres!Y202=\"\",\"\",[2]Paramètres!Y202)","v":""},{"$f":"IF([2]Paramètres!Z202=\"\",\"\",[2]Paramètres!Z202)","v":""}]
[{"$f":"IF([2]Paramètres!A203=\"\",\"\",[2]Paramètres!A203)","v":""},{"$f":"IF([2]Paramètres!B203=\"\",\"\",[2]Paramètres!B203)","v":""},{"$f":"IF([2]Paramètres!C203=\"\",\"\",[2]Paramètres!C203)","v":""},{"$f":"IF([2]Paramètres!D203=\"\",\"\",[2]Paramètres!D203)","v":""},{"$f":"IF([2]Paramètres!E203=\"\",\"\",[2]Paramètres!E203)","v":""},{"$f":"IF([2]Paramètres!F203=\"\",\"\",[2]Paramètres!F203)","v":""},{"$f":"IF([2]Paramètres!G203=\"\",\"\",[2]Paramètres!G203)","v":""},{"$f":"IF([2]Paramètres!H203=\"\",\"\",[2]Paramètres!H203)","v":""},{"$f":"IF([2]Paramètres!I203=\"\",\"\",[2]Paramètres!I203)","v":""},{"$f":"IF([2]Paramètres!J203=\"\",\"\",[2]Paramètres!J203)","v":"Whitelabs - WLP060 American Ale Yeast Blend"},{"$f":"IF([2]Paramètres!K203=\"\",\"\",[2]Paramètres!K203)","v":"Liquide"},{"$f":"IF([2]Paramètres!L203=\"\",\"\",[2]Paramètres!L203)","v":0.72},{"$f":"IF([2]Paramètres!M203=\"\",\"\",[2]Paramètres!M203)","v":0.8},{"$f":"IF([2]Paramètres!N203=\"\",\"\",[2]Paramètres!N203)","v":0.76},{"$f":"IF([2]Paramètres!O203=\"\",\"\",[2]Paramètres!O203)","v":20},{"$f":"IF([2]Paramètres!P203=\"\",\"\",[2]Paramètres!P203)","v":22.2},{"$f":"IF([2]Paramètres!Q203=\"\",\"\",[2]Paramètres!Q203)","v":"Moyenne"},{"$f":"IF([2]Paramètres!R203=\"\",\"\",[2]Paramètres!R203)","v":""},{"$f":"IF([2]Paramètres!S203=\"\",\"\",[2]Paramètres!S203)","v":""},{"$f":"IF([2]Paramètres!T203=\"\",\"\",[2]Paramètres!T203)","v":""},{"$f":"IF([2]Paramètres!U203=\"\",\"\",[2]Paramètres!U203)","v":""},{"$f":"IF([2]Paramètres!V203=\"\",\"\",[2]Paramètres!V203)","v":""},{"$f":"IF([2]Paramètres!W203=\"\",\"\",[2]Paramètres!W203)","v":""},{"$f":"IF([2]Paramètres!X203=\"\",\"\",[2]Paramètres!X203)","v":""},{"$f":"IF([2]Paramètres!Y203=\"\",\"\",[2]Paramètres!Y203)","v":""},{"$f":"IF([2]Paramètres!Z203=\"\",\"\",[2]Paramètres!Z203)","v":""}]
[{"$f":"IF([2]Paramètres!A204=\"\",\"\",[2]Paramètres!A204)","v":""},{"$f":"IF([2]Paramètres!B204=\"\",\"\",[2]Paramètres!B204)","v":""},{"$f":"IF([2]Paramètres!C204=\"\",\"\",[2]Paramètres!C204)","v":""},{"$f":"IF([2]Paramètres!D204=\"\",\"\",[2]Paramètres!D204)","v":""},{"$f":"IF([2]Paramètres!E204=\"\",\"\",[2]Paramètres!E204)","v":""},{"$f":"IF([2]Paramètres!F204=\"\",\"\",[2]Paramètres!F204)","v":""},{"$f":"IF([2]Paramètres!G204=\"\",\"\",[2]Paramètres!G204)","v":""},{"$f":"IF([2]Paramètres!H204=\"\",\"\",[2]Paramètres!H204)","v":""},{"$f":"IF([2]Paramètres!I204=\"\",\"\",[2]Paramètres!I204)","v":""},{"$f":"IF([2]Paramètres!J204=\"\",\"\",[2]Paramètres!J204)","v":"Whitelabs - WLP064 Buchner Ale Yeast Blend"},{"$f":"IF([2]Paramètres!K204=\"\",\"\",[2]Paramètres!K204)","v":"Liquide"},{"$f":"IF([2]Paramètres!L204=\"\",\"\",[2]Paramètres!L204)","v":0.72},{"$f":"IF([2]Paramètres!M204=\"\",\"\",[2]Paramètres!M204)","v":0.78},{"$f":"IF([2]Paramètres!N204=\"\",\"\",[2]Paramètres!N204)","v":0.75},{"$f":"IF([2]Paramètres!O204=\"\",\"\",[2]Paramètres!O204)","v":19.399999999999999},{"$f":"IF([2]Paramètres!P204=\"\",\"\",[2]Paramètres!P204)","v":22.2},{"$f":"IF([2]Paramètres!Q204=\"\",\"\",[2]Paramètres!Q204)","v":"Moyenne"},{"$f":"IF([2]Paramètres!R204=\"\",\"\",[2]Paramètres!R204)","v":""},{"$f":"IF([2]Paramètres!S204=\"\",\"\",[2]Paramètres!S204)","v":""},{"$f":"IF([2]Paramètres!T204=\"\",\"\",[2]Paramètres!T204)","v":""},{"$f":"IF([2]Paramètres!U204=\"\",\"\",[2]Paramètres!U204)","v":""},{"$f":"IF([2]Paramètres!V204=\"\",\"\",[2]Paramètres!V204)","v":""},{"$f":"IF([2]Paramètres!W204=\"\",\"\",[2]Paramètres!W204)","v":""},{"$f":"IF([2]Paramètres!X204=\"\",\"\",[2]Paramètres!X204)","v":""},{"$f":"IF([2]Paramètres!Y204=\"\",\"\",[2]Paramètres!Y204)","v":""},{"$f":"IF([2]Paramètres!Z204=\"\",\"\",[2]Paramètres!Z204)","v":""}]
[{"$f":"IF([2]Paramètres!A205=\"\",\"\",[2]Paramètres!A205)","v":""},{"$f":"IF([2]Paramètres!B205=\"\",\"\",[2]Paramètres!B205)","v":""},{"$f":"IF([2]Paramètres!C205=\"\",\"\",[2]Paramètres!C205)","v":""},{"$f":"IF([2]Paramètres!D205=\"\",\"\",[2]Paramètres!D205)","v":""},{"$f":"IF([2]Paramètres!E205=\"\",\"\",[2]Paramètres!E205)","v":""},{"$f":"IF([2]Paramètres!F205=\"\",\"\",[2]Paramètres!F205)","v":""},{"$f":"IF([2]Paramètres!G205=\"\",\"\",[2]Paramètres!G205)","v":""},{"$f":"IF([2]Paramètres!H205=\"\",\"\",[2]Paramètres!H205)","v":""},{"$f":"IF([2]Paramètres!I205=\"\",\"\",[2]Paramètres!I205)","v":""},{"$f":"IF([2]Paramètres!J205=\"\",\"\",[2]Paramètres!J205)","v":"Whitelabs - WLP066 London Fog Ale Yeast"},{"$f":"IF([2]Paramètres!K205=\"\",\"\",[2]Paramètres!K205)","v":"Liquide"},{"$f":"IF([2]Paramètres!L205=\"\",\"\",[2]Paramètres!L205)","v":0.75},{"$f":"IF([2]Paramètres!M205=\"\",\"\",[2]Paramètres!M205)","v":0.82},{"$f":"IF([2]Paramètres!N205=\"\",\"\",[2]Paramètres!N205)","v":0.78499999999999992},{"$f":"IF([2]Paramètres!O205=\"\",\"\",[2]Paramètres!O205)","v":17.8},{"$f":"IF([2]Paramètres!P205=\"\",\"\",[2]Paramètres!P205)","v":22.2},{"$f":"IF([2]Paramètres!Q205=\"\",\"\",[2]Paramètres!Q205)","v":"Basse  -  Moyenne"},{"$f":"IF([2]Paramètres!R205=\"\",\"\",[2]Paramètres!R205)","v":""},{"$f":"IF([2]Paramètres!S205=\"\",\"\",[2]Paramètres!S205)","v":""},{"$f":"IF([2]Paramètres!T205=\"\",\"\",[2]Paramètres!T205)","v":""},{"$f":"IF([2]Paramètres!U205=\"\",\"\",[2]Paramètres!U205)","v":""},{"$f":"IF([2]Paramètres!V205=\"\",\"\",[2]Paramètres!V205)","v":""},{"$f":"IF([2]Paramètres!W205=\"\",\"\",[2]Paramètres!W205)","v":""},{"$f":"IF([2]Paramètres!X205=\"\",\"\",[2]Paramètres!X205)","v":""},{"$f":"IF([2]Paramètres!Y205=\"\",\"\",[2]Paramètres!Y205)","v":""},{"$f":"IF([2]Paramètres!Z205=\"\",\"\",[2]Paramètres!Z205)","v":""}]
[{"$f":"IF([2]Paramètres!A206=\"\",\"\",[2]Paramètres!A206)","v":""},{"$f":"IF([2]Paramètres!B206=\"\",\"\",[2]Paramètres!B206)","v":""},{"$f":"IF([2]Paramètres!C206=\"\",\"\",[2]Paramètres!C206)","v":""},{"$f":"IF([2]Paramètres!D206=\"\",\"\",[2]Paramètres!D206)","v":""},{"$f":"IF([2]Paramètres!E206=\"\",\"\",[2]Paramètres!E206)","v":""},{"$f":"IF([2]Paramètres!F206=\"\",\"\",[2]Paramètres!F206)","v":""},{"$f":"IF([2]Paramètres!G206=\"\",\"\",[2]Paramètres!G206)","v":""},{"$f":"IF([2]Paramètres!H206=\"\",\"\",[2]Paramètres!H206)","v":""},{"$f":"IF([2]Paramètres!I206=\"\",\"\",[2]Paramètres!I206)","v":""},{"$f":"IF([2]Paramètres!J206=\"\",\"\",[2]Paramètres!J206)","v":"Whitelabs - WLP067 Coastal Haze Ale Yeast Blend"},{"$f":"IF([2]Paramètres!K206=\"\",\"\",[2]Paramètres!K206)","v":"Liquide"},{"$f":"IF([2]Paramètres!L206=\"\",\"\",[2]Paramètres!L206)","v":0.7},{"$f":"IF([2]Paramètres!M206=\"\",\"\",[2]Paramètres!M206)","v":0.75},{"$f":"IF([2]Paramètres!N206=\"\",\"\",[2]Paramètres!N206)","v":0.72499999999999998},{"$f":"IF([2]Paramètres!O206=\"\",\"\",[2]Paramètres!O206)","v":20},{"$f":"IF([2]Paramètres!P206=\"\",\"\",[2]Paramètres!P206)","v":22.2},{"$f":"IF([2]Paramètres!Q206=\"\",\"\",[2]Paramètres!Q206)","v":"Basse  -  Moyenne"},{"$f":"IF([2]Paramètres!R206=\"\",\"\",[2]Paramètres!R206)","v":""},{"$f":"IF([2]Paramètres!S206=\"\",\"\",[2]Paramètres!S206)","v":""},{"$f":"IF([2]Paramètres!T206=\"\",\"\",[2]Paramètres!T206)","v":""},{"$f":"IF([2]Paramètres!U206=\"\",\"\",[2]Paramètres!U206)","v":""},{"$f":"IF([2]Paramètres!V206=\"\",\"\",[2]Paramètres!V206)","v":""},{"$f":"IF([2]Paramètres!W206=\"\",\"\",[2]Paramètres!W206)","v":""},{"$f":"IF([2]Paramètres!X206=\"\",\"\",[2]Paramètres!X206)","v":""},{"$f":"IF([2]Paramètres!Y206=\"\",\"\",[2]Paramètres!Y206)","v":""},{"$f":"IF([2]Paramètres!Z206=\"\",\"\",[2]Paramètres!Z206)","v":""}]
[{"$f":"IF([2]Paramètres!A207=\"\",\"\",[2]Paramètres!A207)","v":""},{"$f":"IF([2]Paramètres!B207=\"\",\"\",[2]Paramètres!B207)","v":""},{"$f":"IF([2]Paramètres!C207=\"\",\"\",[2]Paramètres!C207)","v":""},{"$f":"IF([2]Paramètres!D207=\"\",\"\",[2]Paramètres!D207)","v":""},{"$f":"IF([2]Paramètres!E207=\"\",\"\",[2]Paramètres!E207)","v":""},{"$f":"IF([2]Paramètres!F207=\"\",\"\",[2]Paramètres!F207)","v":""},{"$f":"IF([2]Paramètres!G207=\"\",\"\",[2]Paramètres!G207)","v":""},{"$f":"IF([2]Paramètres!H207=\"\",\"\",[2]Paramètres!H207)","v":""},{"$f":"IF([2]Paramètres!I207=\"\",\"\",[2]Paramètres!I207)","v":""},{"$f":"IF([2]Paramètres!J207=\"\",\"\",[2]Paramètres!J207)","v":"Whitelabs - WLP072 French Ale Yeast"},{"$f":"IF([2]Paramètres!K207=\"\",\"\",[2]Paramètres!K207)","v":"Liquide"},{"$f":"IF([2]Paramètres!L207=\"\",\"\",[2]Paramètres!L207)","v":0.68},{"$f":"IF([2]Paramètres!M207=\"\",\"\",[2]Paramètres!M207)","v":0.75},{"$f":"IF([2]Paramètres!N207=\"\",\"\",[2]Paramètres!N207)","v":0.71500000000000008},{"$f":"IF([2]Paramètres!O207=\"\",\"\",[2]Paramètres!O207)","v":17.2},{"$f":"IF([2]Paramètres!P207=\"\",\"\",[2]Paramètres!P207)","v":22.8},{"$f":"IF([2]Paramètres!Q207=\"\",\"\",[2]Paramètres!Q207)","v":"Moyenne  -  Haute"},{"$f":"IF([2]Paramètres!R207=\"\",\"\",[2]Paramètres!R207)","v":""},{"$f":"IF([2]Paramètres!S207=\"\",\"\",[2]Paramètres!S207)","v":""},{"$f":"IF([2]Paramètres!T207=\"\",\"\",[2]Paramètres!T207)","v":""},{"$f":"IF([2]Paramètres!U207=\"\",\"\",[2]Paramètres!U207)","v":""},{"$f":"IF([2]Paramètres!V207=\"\",\"\",[2]Paramètres!V207)","v":""},{"$f":"IF([2]Paramètres!W207=\"\",\"\",[2]Paramètres!W207)","v":""},{"$f":"IF([2]Paramètres!X207=\"\",\"\",[2]Paramètres!X207)","v":""},{"$f":"IF([2]Paramètres!Y207=\"\",\"\",[2]Paramètres!Y207)","v":""},{"$f":"IF([2]Paramètres!Z207=\"\",\"\",[2]Paramètres!Z207)","v":""}]
[{"$f":"IF([2]Paramètres!A208=\"\",\"\",[2]Paramètres!A208)","v":""},{"$f":"IF([2]Paramètres!B208=\"\",\"\",[2]Paramètres!B208)","v":""},{"$f":"IF([2]Paramètres!C208=\"\",\"\",[2]Paramètres!C208)","v":""},{"$f":"IF([2]Paramètres!D208=\"\",\"\",[2]Paramètres!D208)","v":""},{"$f":"IF([2]Paramètres!E208=\"\",\"\",[2]Paramètres!E208)","v":""},{"$f":"IF([2]Paramètres!F208=\"\",\"\",[2]Paramètres!F208)","v":""},{"$f":"IF([2]Paramètres!G208=\"\",\"\",[2]Paramètres!G208)","v":""},{"$f":"IF([2]Paramètres!H208=\"\",\"\",[2]Paramètres!H208)","v":""},{"$f":"IF([2]Paramètres!I208=\"\",\"\",[2]Paramètres!I208)","v":""},{"$f":"IF([2]Paramètres!J208=\"\",\"\",[2]Paramètres!J208)","v":"Whitelabs - WLP073 Artisanal Country Ale Yeast"},{"$f":"IF([2]Paramètres!K208=\"\",\"\",[2]Paramètres!K208)","v":"Liquide"},{"$f":"IF([2]Paramètres!L208=\"\",\"\",[2]Paramètres!L208)","v":0.75},{"$f":"IF([2]Paramètres!M208=\"\",\"\",[2]Paramètres!M208)","v":0.8},{"$f":"IF([2]Paramètres!N208=\"\",\"\",[2]Paramètres!N208)","v":0.77500000000000002},{"$f":"IF([2]Paramètres!O208=\"\",\"\",[2]Paramètres!O208)","v":21.1},{"$f":"IF([2]Paramètres!P208=\"\",\"\",[2]Paramètres!P208)","v":27.8},{"$f":"IF([2]Paramètres!Q208=\"\",\"\",[2]Paramètres!Q208)","v":"Basse  -  Moyenne"},{"$f":"IF([2]Paramètres!R208=\"\",\"\",[2]Paramètres!R208)","v":""},{"$f":"IF([2]Paramètres!S208=\"\",\"\",[2]Paramètres!S208)","v":""},{"$f":"IF([2]Paramètres!T208=\"\",\"\",[2]Paramètres!T208)","v":""},{"$f":"IF([2]Paramètres!U208=\"\",\"\",[2]Paramètres!U208)","v":""},{"$f":"IF([2]Paramètres!V208=\"\",\"\",[2]Paramètres!V208)","v":""},{"$f":"IF([2]Paramètres!W208=\"\",\"\",[2]Paramètres!W208)","v":""},{"$f":"IF([2]Paramètres!X208=\"\",\"\",[2]Paramètres!X208)","v":""},{"$f":"IF([2]Paramètres!Y208=\"\",\"\",[2]Paramètres!Y208)","v":""},{"$f":"IF([2]Paramètres!Z208=\"\",\"\",[2]Paramètres!Z208)","v":""}]
[{"$f":"IF([2]Paramètres!A209=\"\",\"\",[2]Paramètres!A209)","v":""},{"$f":"IF([2]Paramètres!B209=\"\",\"\",[2]Paramètres!B209)","v":""},{"$f":"IF([2]Paramètres!C209=\"\",\"\",[2]Paramètres!C209)","v":""},{"$f":"IF([2]Paramètres!D209=\"\",\"\",[2]Paramètres!D209)","v":""},{"$f":"IF([2]Paramètres!E209=\"\",\"\",[2]Paramètres!E209)","v":""},{"$f":"IF([2]Paramètres!F209=\"\",\"\",[2]Paramètres!F209)","v":""},{"$f":"IF([2]Paramètres!G209=\"\",\"\",[2]Paramètres!G209)","v":""},{"$f":"IF([2]Paramètres!H209=\"\",\"\",[2]Paramètres!H209)","v":""},{"$f":"IF([2]Paramètres!I209=\"\",\"\",[2]Paramètres!I209)","v":""},{"$f":"IF([2]Paramètres!J209=\"\",\"\",[2]Paramètres!J209)","v":"Whitelabs - WLP075 Hansen Ale Yeast Blend"},{"$f":"IF([2]Paramètres!K209=\"\",\"\",[2]Paramètres!K209)","v":"Liquide"},{"$f":"IF([2]Paramètres!L209=\"\",\"\",[2]Paramètres!L209)","v":0.75},{"$f":"IF([2]Paramètres!M209=\"\",\"\",[2]Paramètres!M209)","v":0.8},{"$f":"IF([2]Paramètres!N209=\"\",\"\",[2]Paramètres!N209)","v":0.77500000000000002},{"$f":"IF([2]Paramètres!O209=\"\",\"\",[2]Paramètres!O209)","v":18.899999999999999},{"$f":"IF([2]Paramètres!P209=\"\",\"\",[2]Paramètres!P209)","v":21.1},{"$f":"IF([2]Paramètres!Q209=\"\",\"\",[2]Paramètres!Q209)","v":"Moyenne  -  Haute"},{"$f":"IF([2]Paramètres!R209=\"\",\"\",[2]Paramètres!R209)","v":""},{"$f":"IF([2]Paramètres!S209=\"\",\"\",[2]Paramètres!S209)","v":""},{"$f":"IF([2]Paramètres!T209=\"\",\"\",[2]Paramètres!T209)","v":""},{"$f":"IF([2]Paramètres!U209=\"\",\"\",[2]Paramètres!U209)","v":""},{"$f":"IF([2]Paramètres!V209=\"\",\"\",[2]Paramètres!V209)","v":""},{"$f":"IF([2]Paramètres!W209=\"\",\"\",[2]Paramètres!W209)","v":""},{"$f":"IF([2]Paramètres!X209=\"\",\"\",[2]Paramètres!X209)","v":""},{"$f":"IF([2]Paramètres!Y209=\"\",\"\",[2]Paramètres!Y209)","v":""},{"$f":"IF([2]Paramètres!Z209=\"\",\"\",[2]Paramètres!Z209)","v":""}]
[{"$f":"IF([2]Paramètres!A210=\"\",\"\",[2]Paramètres!A210)","v":""},{"$f":"IF([2]Paramètres!B210=\"\",\"\",[2]Paramètres!B210)","v":""},{"$f":"IF([2]Paramètres!C210=\"\",\"\",[2]Paramètres!C210)","v":""},{"$f":"IF([2]Paramètres!D210=\"\",\"\",[2]Paramètres!D210)","v":""},{"$f":"IF([2]Paramètres!E210=\"\",\"\",[2]Paramètres!E210)","v":""},{"$f":"IF([2]Paramètres!F210=\"\",\"\",[2]Paramètres!F210)","v":""},{"$f":"IF([2]Paramètres!G210=\"\",\"\",[2]Paramètres!G210)","v":""},{"$f":"IF([2]Paramètres!H210=\"\",\"\",[2]Paramètres!H210)","v":""},{"$f":"IF([2]Paramètres!I210=\"\",\"\",[2]Paramètres!I210)","v":""},{"$f":"IF([2]Paramètres!J210=\"\",\"\",[2]Paramètres!J210)","v":"Whitelabs - WLP076 Old Sonoma Ale Yeast"},{"$f":"IF([2]Paramètres!K210=\"\",\"\",[2]Paramètres!K210)","v":"Liquide"},{"$f":"IF([2]Paramètres!L210=\"\",\"\",[2]Paramètres!L210)","v":0.7},{"$f":"IF([2]Paramètres!M210=\"\",\"\",[2]Paramètres!M210)","v":0.74},{"$f":"IF([2]Paramètres!N210=\"\",\"\",[2]Paramètres!N210)","v":0.72},{"$f":"IF([2]Paramètres!O210=\"\",\"\",[2]Paramètres!O210)","v":18.899999999999999},{"$f":"IF([2]Paramètres!P210=\"\",\"\",[2]Paramètres!P210)","v":21.1},{"$f":"IF([2]Paramètres!Q210=\"\",\"\",[2]Paramètres!Q210)","v":"Moyenne"},{"$f":"IF([2]Paramètres!R210=\"\",\"\",[2]Paramètres!R210)","v":""},{"$f":"IF([2]Paramètres!S210=\"\",\"\",[2]Paramètres!S210)","v":""},{"$f":"IF([2]Paramètres!T210=\"\",\"\",[2]Paramètres!T210)","v":""},{"$f":"IF([2]Paramètres!U210=\"\",\"\",[2]Paramètres!U210)","v":""},{"$f":"IF([2]Paramètres!V210=\"\",\"\",[2]Paramètres!V210)","v":""},{"$f":"IF([2]Paramètres!W210=\"\",\"\",[2]Paramètres!W210)","v":""},{"$f":"IF([2]Paramètres!X210=\"\",\"\",[2]Paramètres!X210)","v":""},{"$f":"IF([2]Paramètres!Y210=\"\",\"\",[2]Paramètres!Y210)","v":""},{"$f":"IF([2]Paramètres!Z210=\"\",\"\",[2]Paramètres!Z210)","v":""}]
[{"$f":"IF([2]Paramètres!A211=\"\",\"\",[2]Paramètres!A211)","v":""},{"$f":"IF([2]Paramètres!B211=\"\",\"\",[2]Paramètres!B211)","v":""},{"$f":"IF([2]Paramètres!C211=\"\",\"\",[2]Paramètres!C211)","v":""},{"$f":"IF([2]Paramètres!D211=\"\",\"\",[2]Paramètres!D211)","v":""},{"$f":"IF([2]Paramètres!E211=\"\",\"\",[2]Paramètres!E211)","v":""},{"$f":"IF([2]Paramètres!F211=\"\",\"\",[2]Paramètres!F211)","v":""},{"$f":"IF([2]Paramètres!G211=\"\",\"\",[2]Paramètres!G211)","v":""},{"$f":"IF([2]Paramètres!H211=\"\",\"\",[2]Paramètres!H211)","v":""},{"$f":"IF([2]Paramètres!I211=\"\",\"\",[2]Paramètres!I211)","v":""},{"$f":"IF([2]Paramètres!J211=\"\",\"\",[2]Paramètres!J211)","v":"Whitelabs - WLP080 Cream Ale Yeast Blend"},{"$f":"IF([2]Paramètres!K211=\"\",\"\",[2]Paramètres!K211)","v":"Liquide"},{"$f":"IF([2]Paramètres!L211=\"\",\"\",[2]Paramètres!L211)","v":0.75},{"$f":"IF([2]Paramètres!M211=\"\",\"\",[2]Paramètres!M211)","v":0.8},{"$f":"IF([2]Paramètres!N211=\"\",\"\",[2]Paramètres!N211)","v":0.77500000000000002},{"$f":"IF([2]Paramètres!O211=\"\",\"\",[2]Paramètres!O211)","v":18.3},{"$f":"IF([2]Paramètres!P211=\"\",\"\",[2]Paramètres!P211)","v":21.1},{"$f":"IF([2]Paramètres!Q211=\"\",\"\",[2]Paramètres!Q211)","v":"Moyenne"},{"$f":"IF([2]Paramètres!R211=\"\",\"\",[2]Paramètres!R211)","v":""},{"$f":"IF([2]Paramètres!S211=\"\",\"\",[2]Paramètres!S211)","v":""},{"$f":"IF([2]Paramètres!T211=\"\",\"\",[2]Paramètres!T211)","v":""},{"$f":"IF([2]Paramètres!U211=\"\",\"\",[2]Paramètres!U211)","v":""},{"$f":"IF([2]Paramètres!V211=\"\",\"\",[2]Paramètres!V211)","v":""},{"$f":"IF([2]Paramètres!W211=\"\",\"\",[2]Paramètres!W211)","v":""},{"$f":"IF([2]Paramètres!X211=\"\",\"\",[2]Paramètres!X211)","v":""},{"$f":"IF([2]Paramètres!Y211=\"\",\"\",[2]Paramètres!Y211)","v":""},{"$f":"IF([2]Paramètres!Z211=\"\",\"\",[2]Paramètres!Z211)","v":""}]
[{"$f":"IF([2]Paramètres!A212=\"\",\"\",[2]Paramètres!A212)","v":""},{"$f":"IF([2]Paramètres!B212=\"\",\"\",[2]Paramètres!B212)","v":""},{"$f":"IF([2]Paramètres!C212=\"\",\"\",[2]Paramètres!C212)","v":""},{"$f":"IF([2]Paramètres!D212=\"\",\"\",[2]Paramètres!D212)","v":""},{"$f":"IF([2]Paramètres!E212=\"\",\"\",[2]Paramètres!E212)","v":""},{"$f":"IF([2]Paramètres!F212=\"\",\"\",[2]Paramètres!F212)","v":""},{"$f":"IF([2]Paramètres!G212=\"\",\"\",[2]Paramètres!G212)","v":""},{"$f":"IF([2]Paramètres!H212=\"\",\"\",[2]Paramètres!H212)","v":""},{"$f":"IF([2]Paramètres!I212=\"\",\"\",[2]Paramètres!I212)","v":""},{"$f":"IF([2]Paramètres!J212=\"\",\"\",[2]Paramètres!J212)","v":"Whitelabs - WLP085 English Ale Yeast Blend"},{"$f":"IF([2]Paramètres!K212=\"\",\"\",[2]Paramètres!K212)","v":"Liquide"},{"$f":"IF([2]Paramètres!L212=\"\",\"\",[2]Paramètres!L212)","v":0.69},{"$f":"IF([2]Paramètres!M212=\"\",\"\",[2]Paramètres!M212)","v":0.76},{"$f":"IF([2]Paramètres!N212=\"\",\"\",[2]Paramètres!N212)","v":0.72499999999999998},{"$f":"IF([2]Paramètres!O212=\"\",\"\",[2]Paramètres!O212)","v":20},{"$f":"IF([2]Paramètres!P212=\"\",\"\",[2]Paramètres!P212)","v":22.2},{"$f":"IF([2]Paramètres!Q212=\"\",\"\",[2]Paramètres!Q212)","v":"Moyenne  -  Haute"},{"$f":"IF([2]Paramètres!R212=\"\",\"\",[2]Paramètres!R212)","v":""},{"$f":"IF([2]Paramètres!S212=\"\",\"\",[2]Paramètres!S212)","v":""},{"$f":"IF([2]Paramètres!T212=\"\",\"\",[2]Paramètres!T212)","v":""},{"$f":"IF([2]Paramètres!U212=\"\",\"\",[2]Paramètres!U212)","v":""},{"$f":"IF([2]Paramètres!V212=\"\",\"\",[2]Paramètres!V212)","v":""},{"$f":"IF([2]Paramètres!W212=\"\",\"\",[2]Paramètres!W212)","v":""},{"$f":"IF([2]Paramètres!X212=\"\",\"\",[2]Paramètres!X212)","v":""},{"$f":"IF([2]Paramètres!Y212=\"\",\"\",[2]Paramètres!Y212)","v":""},{"$f":"IF([2]Paramètres!Z212=\"\",\"\",[2]Paramètres!Z212)","v":""}]
[{"$f":"IF([2]Paramètres!A213=\"\",\"\",[2]Paramètres!A213)","v":""},{"$f":"IF([2]Paramètres!B213=\"\",\"\",[2]Paramètres!B213)","v":""},{"$f":"IF([2]Paramètres!C213=\"\",\"\",[2]Paramètres!C213)","v":""},{"$f":"IF([2]Paramètres!D213=\"\",\"\",[2]Paramètres!D213)","v":""},{"$f":"IF([2]Paramètres!E213=\"\",\"\",[2]Paramètres!E213)","v":""},{"$f":"IF([2]Paramètres!F213=\"\",\"\",[2]Paramètres!F213)","v":""},{"$f":"IF([2]Paramètres!G213=\"\",\"\",[2]Paramètres!G213)","v":""},{"$f":"IF([2]Paramètres!H213=\"\",\"\",[2]Paramètres!H213)","v":""},{"$f":"IF([2]Paramètres!I213=\"\",\"\",[2]Paramètres!I213)","v":""},{"$f":"IF([2]Paramètres!J213=\"\",\"\",[2]Paramètres!J213)","v":"Whitelabs - WLP090 San Diego Super Yeast"},{"$f":"IF([2]Paramètres!K213=\"\",\"\",[2]Paramètres!K213)","v":"Liquide"},{"$f":"IF([2]Paramètres!L213=\"\",\"\",[2]Paramètres!L213)","v":0.76},{"$f":"IF([2]Paramètres!M213=\"\",\"\",[2]Paramètres!M213)","v":0.83},{"$f":"IF([2]Paramètres!N213=\"\",\"\",[2]Paramètres!N213)","v":0.79499999999999993},{"$f":"IF([2]Paramètres!O213=\"\",\"\",[2]Paramètres!O213)","v":18.3},{"$f":"IF([2]Paramètres!P213=\"\",\"\",[2]Paramètres!P213)","v":20},{"$f":"IF([2]Paramètres!Q213=\"\",\"\",[2]Paramètres!Q213)","v":"Moyenne  -  Haute"},{"$f":"IF([2]Paramètres!R213=\"\",\"\",[2]Paramètres!R213)","v":""},{"$f":"IF([2]Paramètres!S213=\"\",\"\",[2]Paramètres!S213)","v":""},{"$f":"IF([2]Paramètres!T213=\"\",\"\",[2]Paramètres!T213)","v":""},{"$f":"IF([2]Paramètres!U213=\"\",\"\",[2]Paramètres!U213)","v":""},{"$f":"IF([2]Paramètres!V213=\"\",\"\",[2]Paramètres!V213)","v":""},{"$f":"IF([2]Paramètres!W213=\"\",\"\",[2]Paramètres!W213)","v":""},{"$f":"IF([2]Paramètres!X213=\"\",\"\",[2]Paramètres!X213)","v":""},{"$f":"IF([2]Paramètres!Y213=\"\",\"\",[2]Paramètres!Y213)","v":""},{"$f":"IF([2]Paramètres!Z213=\"\",\"\",[2]Paramètres!Z213)","v":""}]
[{"$f":"IF([2]Paramètres!A214=\"\",\"\",[2]Paramètres!A214)","v":""},{"$f":"IF([2]Paramètres!B214=\"\",\"\",[2]Paramètres!B214)","v":""},{"$f":"IF([2]Paramètres!C214=\"\",\"\",[2]Paramètres!C214)","v":""},{"$f":"IF([2]Paramètres!D214=\"\",\"\",[2]Paramètres!D214)","v":""},{"$f":"IF([2]Paramètres!E214=\"\",\"\",[2]Paramètres!E214)","v":""},{"$f":"IF([2]Paramètres!F214=\"\",\"\",[2]Paramètres!F214)","v":""},{"$f":"IF([2]Paramètres!G214=\"\",\"\",[2]Paramètres!G214)","v":""},{"$f":"IF([2]Paramètres!H214=\"\",\"\",[2]Paramètres!H214)","v":""},{"$f":"IF([2]Paramètres!I214=\"\",\"\",[2]Paramètres!I214)","v":""},{"$f":"IF([2]Paramètres!J214=\"\",\"\",[2]Paramètres!J214)","v":"Whitelabs - WLP095 Burlington Ale Yeast"},{"$f":"IF([2]Paramètres!K214=\"\",\"\",[2]Paramètres!K214)","v":"Liquide"},{"$f":"IF([2]Paramètres!L214=\"\",\"\",[2]Paramètres!L214)","v":0.72},{"$f":"IF([2]Paramètres!M214=\"\",\"\",[2]Paramètres!M214)","v":0.78},{"$f":"IF([2]Paramètres!N214=\"\",\"\",[2]Paramètres!N214)","v":0.75},{"$f":"IF([2]Paramètres!O214=\"\",\"\",[2]Paramètres!O214)","v":19.399999999999999},{"$f":"IF([2]Paramètres!P214=\"\",\"\",[2]Paramètres!P214)","v":21.1},{"$f":"IF([2]Paramètres!Q214=\"\",\"\",[2]Paramètres!Q214)","v":"Moyenne"},{"$f":"IF([2]Paramètres!R214=\"\",\"\",[2]Paramètres!R214)","v":""},{"$f":"IF([2]Paramètres!S214=\"\",\"\",[2]Paramètres!S214)","v":""},{"$f":"IF([2]Paramètres!T214=\"\",\"\",[2]Paramètres!T214)","v":""},{"$f":"IF([2]Paramètres!U214=\"\",\"\",[2]Paramètres!U214)","v":""},{"$f":"IF([2]Paramètres!V214=\"\",\"\",[2]Paramètres!V214)","v":""},{"$f":"IF([2]Paramètres!W214=\"\",\"\",[2]Paramètres!W214)","v":""},{"$f":"IF([2]Paramètres!X214=\"\",\"\",[2]Paramètres!X214)","v":""},{"$f":"IF([2]Paramètres!Y214=\"\",\"\",[2]Paramètres!Y214)","v":""},{"$f":"IF([2]Paramètres!Z214=\"\",\"\",[2]Paramètres!Z214)","v":""}]
[{"$f":"IF([2]Paramètres!A215=\"\",\"\",[2]Paramètres!A215)","v":""},{"$f":"IF([2]Paramètres!B215=\"\",\"\",[2]Paramètres!B215)","v":""},{"$f":"IF([2]Paramètres!C215=\"\",\"\",[2]Paramètres!C215)","v":""},{"$f":"IF([2]Paramètres!D215=\"\",\"\",[2]Paramètres!D215)","v":""},{"$f":"IF([2]Paramètres!E215=\"\",\"\",[2]Paramètres!E215)","v":""},{"$f":"IF([2]Paramètres!F215=\"\",\"\",[2]Paramètres!F215)","v":""},{"$f":"IF([2]Paramètres!G215=\"\",\"\",[2]Paramètres!G215)","v":""},{"$f":"IF([2]Paramètres!H215=\"\",\"\",[2]Paramètres!H215)","v":""},{"$f":"IF([2]Paramètres!I215=\"\",\"\",[2]Paramètres!I215)","v":""},{"$f":"IF([2]Paramètres!J215=\"\",\"\",[2]Paramètres!J215)","v":"Whitelabs - WLP099 Super High Gravity Ale Yeast"},{"$f":"IF([2]Paramètres!K215=\"\",\"\",[2]Paramètres!K215)","v":"Liquide"},{"$f":"IF([2]Paramètres!L215=\"\",\"\",[2]Paramètres!L215)","v":0.8},{"$f":"IF([2]Paramètres!M215=\"\",\"\",[2]Paramètres!M215)","v":1},{"$f":"IF([2]Paramètres!N215=\"\",\"\",[2]Paramètres!N215)","v":0.9},{"$f":"IF([2]Paramètres!O215=\"\",\"\",[2]Paramètres!O215)","v":18.3},{"$f":"IF([2]Paramètres!P215=\"\",\"\",[2]Paramètres!P215)","v":20.6},{"$f":"IF([2]Paramètres!Q215=\"\",\"\",[2]Paramètres!Q215)","v":"Moyenne"},{"$f":"IF([2]Paramètres!R215=\"\",\"\",[2]Paramètres!R215)","v":""},{"$f":"IF([2]Paramètres!S215=\"\",\"\",[2]Paramètres!S215)","v":""},{"$f":"IF([2]Paramètres!T215=\"\",\"\",[2]Paramètres!T215)","v":""},{"$f":"IF([2]Paramètres!U215=\"\",\"\",[2]Paramètres!U215)","v":""},{"$f":"IF([2]Paramètres!V215=\"\",\"\",[2]Paramètres!V215)","v":""},{"$f":"IF([2]Paramètres!W215=\"\",\"\",[2]Paramètres!W215)","v":""},{"$f":"IF([2]Paramètres!X215=\"\",\"\",[2]Paramètres!X215)","v":""},{"$f":"IF([2]Paramètres!Y215=\"\",\"\",[2]Paramètres!Y215)","v":""},{"$f":"IF([2]Paramètres!Z215=\"\",\"\",[2]Paramètres!Z215)","v":""}]
[{"$f":"IF([2]Paramètres!A216=\"\",\"\",[2]Paramètres!A216)","v":""},{"$f":"IF([2]Paramètres!B216=\"\",\"\",[2]Paramètres!B216)","v":""},{"$f":"IF([2]Paramètres!C216=\"\",\"\",[2]Paramètres!C216)","v":""},{"$f":"IF([2]Paramètres!D216=\"\",\"\",[2]Paramètres!D216)","v":""},{"$f":"IF([2]Paramètres!E216=\"\",\"\",[2]Paramètres!E216)","v":""},{"$f":"IF([2]Paramètres!F216=\"\",\"\",[2]Paramètres!F216)","v":""},{"$f":"IF([2]Paramètres!G216=\"\",\"\",[2]Paramètres!G216)","v":""},{"$f":"IF([2]Paramètres!H216=\"\",\"\",[2]Paramètres!H216)","v":""},{"$f":"IF([2]Paramètres!I216=\"\",\"\",[2]Paramètres!I216)","v":""},{"$f":"IF([2]Paramètres!J216=\"\",\"\",[2]Paramètres!J216)","v":"Whitelabs - WLP1983 Charlie's Fist Bump Yeast"},{"$f":"IF([2]Paramètres!K216=\"\",\"\",[2]Paramètres!K216)","v":"Liquide"},{"$f":"IF([2]Paramètres!L216=\"\",\"\",[2]Paramètres!L216)","v":0.66},{"$f":"IF([2]Paramètres!M216=\"\",\"\",[2]Paramètres!M216)","v":0.7},{"$f":"IF([2]Paramètres!N216=\"\",\"\",[2]Paramètres!N216)","v":0.67999999999999994},{"$f":"IF([2]Paramètres!O216=\"\",\"\",[2]Paramètres!O216)","v":12.8},{"$f":"IF([2]Paramètres!P216=\"\",\"\",[2]Paramètres!P216)","v":22.8},{"$f":"IF([2]Paramètres!Q216=\"\",\"\",[2]Paramètres!Q216)","v":"Basse"},{"$f":"IF([2]Paramètres!R216=\"\",\"\",[2]Paramètres!R216)","v":""},{"$f":"IF([2]Paramètres!S216=\"\",\"\",[2]Paramètres!S216)","v":""},{"$f":"IF([2]Paramètres!T216=\"\",\"\",[2]Paramètres!T216)","v":""},{"$f":"IF([2]Paramètres!U216=\"\",\"\",[2]Paramètres!U216)","v":""},{"$f":"IF([2]Paramètres!V216=\"\",\"\",[2]Paramètres!V216)","v":""},{"$f":"IF([2]Paramètres!W216=\"\",\"\",[2]Paramètres!W216)","v":""},{"$f":"IF([2]Paramètres!X216=\"\",\"\",[2]Paramètres!X216)","v":""},{"$f":"IF([2]Paramètres!Y216=\"\",\"\",[2]Paramètres!Y216)","v":""},{"$f":"IF([2]Paramètres!Z216=\"\",\"\",[2]Paramètres!Z216)","v":""}]
[{"$f":"IF([2]Paramètres!A217=\"\",\"\",[2]Paramètres!A217)","v":""},{"$f":"IF([2]Paramètres!B217=\"\",\"\",[2]Paramètres!B217)","v":""},{"$f":"IF([2]Paramètres!C217=\"\",\"\",[2]Paramètres!C217)","v":""},{"$f":"IF([2]Paramètres!D217=\"\",\"\",[2]Paramètres!D217)","v":""},{"$f":"IF([2]Paramètres!E217=\"\",\"\",[2]Paramètres!E217)","v":""},{"$f":"IF([2]Paramètres!F217=\"\",\"\",[2]Paramètres!F217)","v":""},{"$f":"IF([2]Paramètres!G217=\"\",\"\",[2]Paramètres!G217)","v":""},{"$f":"IF([2]Paramètres!H217=\"\",\"\",[2]Paramètres!H217)","v":""},{"$f":"IF([2]Paramètres!I217=\"\",\"\",[2]Paramètres!I217)","v":""},{"$f":"IF([2]Paramètres!J217=\"\",\"\",[2]Paramètres!J217)","v":"Whitelabs - WLP380 - Hefeweizen Ale IV"},{"$f":"IF([2]Paramètres!K217=\"\",\"\",[2]Paramètres!K217)","v":"Liquide"},{"$f":"IF([2]Paramètres!L217=\"\",\"\",[2]Paramètres!L217)","v":0.73},{"$f":"IF([2]Paramètres!M217=\"\",\"\",[2]Paramètres!M217)","v":0.8},{"$f":"IF([2]Paramètres!N217=\"\",\"\",[2]Paramètres!N217)","v":0.76500000000000001},{"$f":"IF([2]Paramètres!O217=\"\",\"\",[2]Paramètres!O217)","v":19},{"$f":"IF([2]Paramètres!P217=\"\",\"\",[2]Paramètres!P217)","v":21},{"$f":"IF([2]Paramètres!Q217=\"\",\"\",[2]Paramètres!Q217)","v":"Basse"},{"$f":"IF([2]Paramètres!R217=\"\",\"\",[2]Paramètres!R217)","v":""},{"$f":"IF([2]Paramètres!S217=\"\",\"\",[2]Paramètres!S217)","v":""},{"$f":"IF([2]Paramètres!T217=\"\",\"\",[2]Paramètres!T217)","v":""},{"$f":"IF([2]Paramètres!U217=\"\",\"\",[2]Paramètres!U217)","v":""},{"$f":"IF([2]Paramètres!V217=\"\",\"\",[2]Paramètres!V217)","v":""},{"$f":"IF([2]Paramètres!W217=\"\",\"\",[2]Paramètres!W217)","v":""},{"$f":"IF([2]Paramètres!X217=\"\",\"\",[2]Paramètres!X217)","v":""},{"$f":"IF([2]Paramètres!Y217=\"\",\"\",[2]Paramètres!Y217)","v":""},{"$f":"IF([2]Paramètres!Z217=\"\",\"\",[2]Paramètres!Z217)","v":""}]
[{"$f":"IF([2]Paramètres!A218=\"\",\"\",[2]Paramètres!A218)","v":""},{"$f":"IF([2]Paramètres!B218=\"\",\"\",[2]Paramètres!B218)","v":""},{"$f":"IF([2]Paramètres!C218=\"\",\"\",[2]Paramètres!C218)","v":""},{"$f":"IF([2]Paramètres!D218=\"\",\"\",[2]Paramètres!D218)","v":""},{"$f":"IF([2]Paramètres!E218=\"\",\"\",[2]Paramètres!E218)","v":""},{"$f":"IF([2]Paramètres!F218=\"\",\"\",[2]Paramètres!F218)","v":""},{"$f":"IF([2]Paramètres!G218=\"\",\"\",[2]Paramètres!G218)","v":""},{"$f":"IF([2]Paramètres!H218=\"\",\"\",[2]Paramètres!H218)","v":""},{"$f":"IF([2]Paramètres!I218=\"\",\"\",[2]Paramètres!I218)","v":""},{"$f":"IF([2]Paramètres!J218=\"\",\"\",[2]Paramètres!J218)","v":"Whitelabs - WLP380 Hefeweizen Ale IV"},{"$f":"IF([2]Paramètres!K218=\"\",\"\",[2]Paramètres!K218)","v":"Liquide"},{"$f":"IF([2]Paramètres!L218=\"\",\"\",[2]Paramètres!L218)","v":0.73},{"$f":"IF([2]Paramètres!M218=\"\",\"\",[2]Paramètres!M218)","v":0.8},{"$f":"IF([2]Paramètres!N218=\"\",\"\",[2]Paramètres!N218)","v":0.76500000000000001},{"$f":"IF([2]Paramètres!O218=\"\",\"\",[2]Paramètres!O218)","v":19},{"$f":"IF([2]Paramètres!P218=\"\",\"\",[2]Paramètres!P218)","v":21},{"$f":"IF([2]Paramètres!Q218=\"\",\"\",[2]Paramètres!Q218)","v":"Basse"},{"$f":"IF([2]Paramètres!R218=\"\",\"\",[2]Paramètres!R218)","v":""},{"$f":"IF([2]Paramètres!S218=\"\",\"\",[2]Paramètres!S218)","v":""},{"$f":"IF([2]Paramètres!T218=\"\",\"\",[2]Paramètres!T218)","v":""},{"$f":"IF([2]Paramètres!U218=\"\",\"\",[2]Paramètres!U218)","v":""},{"$f":"IF([2]Paramètres!V218=\"\",\"\",[2]Paramètres!V218)","v":""},{"$f":"IF([2]Paramètres!W218=\"\",\"\",[2]Paramètres!W218)","v":""},{"$f":"IF([2]Paramètres!X218=\"\",\"\",[2]Paramètres!X218)","v":""},{"$f":"IF([2]Paramètres!Y218=\"\",\"\",[2]Paramètres!Y218)","v":""},{"$f":"IF([2]Paramètres!Z218=\"\",\"\",[2]Paramètres!Z218)","v":""}]
[{"$f":"IF([2]Paramètres!A219=\"\",\"\",[2]Paramètres!A219)","v":""},{"$f":"IF([2]Paramètres!B219=\"\",\"\",[2]Paramètres!B219)","v":""},{"$f":"IF([2]Paramètres!C219=\"\",\"\",[2]Paramètres!C219)","v":""},{"$f":"IF([2]Paramètres!D219=\"\",\"\",[2]Paramètres!D219)","v":""},{"$f":"IF([2]Paramètres!E219=\"\",\"\",[2]Paramètres!E219)","v":""},{"$f":"IF([2]Paramètres!F219=\"\",\"\",[2]Paramètres!F219)","v":""},{"$f":"IF([2]Paramètres!G219=\"\",\"\",[2]Paramètres!G219)","v":""},{"$f":"IF([2]Paramètres!H219=\"\",\"\",[2]Paramètres!H219)","v":""},{"$f":"IF([2]Paramètres!I219=\"\",\"\",[2]Paramètres!I219)","v":""},{"$f":"IF([2]Paramètres!J219=\"\",\"\",[2]Paramètres!J219)","v":"Whitelabs - WLP4042 - Hazy Daze "},{"$f":"IF([2]Paramètres!K219=\"\",\"\",[2]Paramètres!K219)","v":"Liquide"},{"$f":"IF([2]Paramètres!L219=\"\",\"\",[2]Paramètres!L219)","v":0.79},{"$f":"IF([2]Paramètres!M219=\"\",\"\",[2]Paramètres!M219)","v":0.83},{"$f":"IF([2]Paramètres!N219=\"\",\"\",[2]Paramètres!N219)","v":0.81},{"$f":"IF([2]Paramètres!O219=\"\",\"\",[2]Paramètres!O219)","v":17.7},{"$f":"IF([2]Paramètres!P219=\"\",\"\",[2]Paramètres!P219)","v":22},{"$f":"IF([2]Paramètres!Q219=\"\",\"\",[2]Paramètres!Q219)","v":"Moyenne"},{"$f":"IF([2]Paramètres!R219=\"\",\"\",[2]Paramètres!R219)","v":""},{"$f":"IF([2]Paramètres!S219=\"\",\"\",[2]Paramètres!S219)","v":""},{"$f":"IF([2]Paramètres!T219=\"\",\"\",[2]Paramètres!T219)","v":""},{"$f":"IF([2]Paramètres!U219=\"\",\"\",[2]Paramètres!U219)","v":""},{"$f":"IF([2]Paramètres!V219=\"\",\"\",[2]Paramètres!V219)","v":""},{"$f":"IF([2]Paramètres!W219=\"\",\"\",[2]Paramètres!W219)","v":""},{"$f":"IF([2]Paramètres!X219=\"\",\"\",[2]Paramètres!X219)","v":""},{"$f":"IF([2]Paramètres!Y219=\"\",\"\",[2]Paramètres!Y219)","v":""},{"$f":"IF([2]Paramètres!Z219=\"\",\"\",[2]Paramètres!Z219)","v":""}]
[{"$f":"IF([2]Paramètres!A220=\"\",\"\",[2]Paramètres!A220)","v":""},{"$f":"IF([2]Paramètres!B220=\"\",\"\",[2]Paramètres!B220)","v":""},{"$f":"IF([2]Paramètres!C220=\"\",\"\",[2]Paramètres!C220)","v":""},{"$f":"IF([2]Paramètres!D220=\"\",\"\",[2]Paramètres!D220)","v":""},{"$f":"IF([2]Paramètres!E220=\"\",\"\",[2]Paramètres!E220)","v":""},{"$f":"IF([2]Paramètres!F220=\"\",\"\",[2]Paramètres!F220)","v":""},{"$f":"IF([2]Paramètres!G220=\"\",\"\",[2]Paramètres!G220)","v":""},{"$f":"IF([2]Paramètres!H220=\"\",\"\",[2]Paramètres!H220)","v":""},{"$f":"IF([2]Paramètres!I220=\"\",\"\",[2]Paramètres!I220)","v":""},{"$f":"IF([2]Paramètres!J220=\"\",\"\",[2]Paramètres!J220)","v":"Whitelabs - WLP4046 - Simonaitis Lithuanian Farmhouse"},{"$f":"IF([2]Paramètres!K220=\"\",\"\",[2]Paramètres!K220)","v":"Liquide"},{"$f":"IF([2]Paramètres!L220=\"\",\"\",[2]Paramètres!L220)","v":0.76},{"$f":"IF([2]Paramètres!M220=\"\",\"\",[2]Paramètres!M220)","v":0.82},{"$f":"IF([2]Paramètres!N220=\"\",\"\",[2]Paramètres!N220)","v":0.79},{"$f":"IF([2]Paramètres!O220=\"\",\"\",[2]Paramètres!O220)","v":24},{"$f":"IF([2]Paramètres!P220=\"\",\"\",[2]Paramètres!P220)","v":35},{"$f":"IF([2]Paramètres!Q220=\"\",\"\",[2]Paramètres!Q220)","v":"Forte"},{"$f":"IF([2]Paramètres!R220=\"\",\"\",[2]Paramètres!R220)","v":""},{"$f":"IF([2]Paramètres!S220=\"\",\"\",[2]Paramètres!S220)","v":""},{"$f":"IF([2]Paramètres!T220=\"\",\"\",[2]Paramètres!T220)","v":""},{"$f":"IF([2]Paramètres!U220=\"\",\"\",[2]Paramètres!U220)","v":""},{"$f":"IF([2]Paramètres!V220=\"\",\"\",[2]Paramètres!V220)","v":""},{"$f":"IF([2]Paramètres!W220=\"\",\"\",[2]Paramètres!W220)","v":""},{"$f":"IF([2]Paramètres!X220=\"\",\"\",[2]Paramètres!X220)","v":""},{"$f":"IF([2]Paramètres!Y220=\"\",\"\",[2]Paramètres!Y220)","v":""},{"$f":"IF([2]Paramètres!Z220=\"\",\"\",[2]Paramètres!Z220)","v":""}]
[{"$f":"IF([2]Paramètres!A221=\"\",\"\",[2]Paramètres!A221)","v":""},{"$f":"IF([2]Paramètres!B221=\"\",\"\",[2]Paramètres!B221)","v":""},{"$f":"IF([2]Paramètres!C221=\"\",\"\",[2]Paramètres!C221)","v":""},{"$f":"IF([2]Paramètres!D221=\"\",\"\",[2]Paramètres!D221)","v":""},{"$f":"IF([2]Paramètres!E221=\"\",\"\",[2]Paramètres!E221)","v":""},{"$f":"IF([2]Paramètres!F221=\"\",\"\",[2]Paramètres!F221)","v":""},{"$f":"IF([2]Paramètres!G221=\"\",\"\",[2]Paramètres!G221)","v":""},{"$f":"IF([2]Paramètres!H221=\"\",\"\",[2]Paramètres!H221)","v":""},{"$f":"IF([2]Paramètres!I221=\"\",\"\",[2]Paramètres!I221)","v":""},{"$f":"IF([2]Paramètres!J221=\"\",\"\",[2]Paramètres!J221)","v":"Whitelabs - WLP518 Opshaug Kveik Ale Yeast"},{"$f":"IF([2]Paramètres!K221=\"\",\"\",[2]Paramètres!K221)","v":"Liquide"},{"$f":"IF([2]Paramètres!L221=\"\",\"\",[2]Paramètres!L221)","v":0.7},{"$f":"IF([2]Paramètres!M221=\"\",\"\",[2]Paramètres!M221)","v":0.8},{"$f":"IF([2]Paramètres!N221=\"\",\"\",[2]Paramètres!N221)","v":0.75},{"$f":"IF([2]Paramètres!O221=\"\",\"\",[2]Paramètres!O221)","v":25},{"$f":"IF([2]Paramètres!P221=\"\",\"\",[2]Paramètres!P221)","v":30},{"$f":"IF([2]Paramètres!Q221=\"\",\"\",[2]Paramètres!Q221)","v":"Moyenne  -  Haute"},{"$f":"IF([2]Paramètres!R221=\"\",\"\",[2]Paramètres!R221)","v":""},{"$f":"IF([2]Paramètres!S221=\"\",\"\",[2]Paramètres!S221)","v":""},{"$f":"IF([2]Paramètres!T221=\"\",\"\",[2]Paramètres!T221)","v":""},{"$f":"IF([2]Paramètres!U221=\"\",\"\",[2]Paramètres!U221)","v":""},{"$f":"IF([2]Paramètres!V221=\"\",\"\",[2]Paramètres!V221)","v":""},{"$f":"IF([2]Paramètres!W221=\"\",\"\",[2]Paramètres!W221)","v":""},{"$f":"IF([2]Paramètres!X221=\"\",\"\",[2]Paramètres!X221)","v":""},{"$f":"IF([2]Paramètres!Y221=\"\",\"\",[2]Paramètres!Y221)","v":""},{"$f":"IF([2]Paramètres!Z221=\"\",\"\",[2]Paramètres!Z221)","v":""}]
[{"$f":"IF([2]Paramètres!A222=\"\",\"\",[2]Paramètres!A222)","v":""},{"$f":"IF([2]Paramètres!B222=\"\",\"\",[2]Paramètres!B222)","v":""},{"$f":"IF([2]Paramètres!C222=\"\",\"\",[2]Paramètres!C222)","v":""},{"$f":"IF([2]Paramètres!D222=\"\",\"\",[2]Paramètres!D222)","v":""},{"$f":"IF([2]Paramètres!E222=\"\",\"\",[2]Paramètres!E222)","v":""},{"$f":"IF([2]Paramètres!F222=\"\",\"\",[2]Paramètres!F222)","v":""},{"$f":"IF([2]Paramètres!G222=\"\",\"\",[2]Paramètres!G222)","v":""},{"$f":"IF([2]Paramètres!H222=\"\",\"\",[2]Paramètres!H222)","v":""},{"$f":"IF([2]Paramètres!I222=\"\",\"\",[2]Paramètres!I222)","v":""},{"$f":"IF([2]Paramètres!J222=\"\",\"\",[2]Paramètres!J222)","v":"Whitelabs - WLP564 Leeuwenhoek Saison Yeast Blend"},{"$f":"IF([2]Paramètres!K222=\"\",\"\",[2]Paramètres!K222)","v":"Liquide"},{"$f":"IF([2]Paramètres!L222=\"\",\"\",[2]Paramètres!L222)","v":0.76},{"$f":"IF([2]Paramètres!M222=\"\",\"\",[2]Paramètres!M222)","v":0.82},{"$f":"IF([2]Paramètres!N222=\"\",\"\",[2]Paramètres!N222)","v":0.79},{"$f":"IF([2]Paramètres!O222=\"\",\"\",[2]Paramètres!O222)","v":18.899999999999999},{"$f":"IF([2]Paramètres!P222=\"\",\"\",[2]Paramètres!P222)","v":23.9},{"$f":"IF([2]Paramètres!Q222=\"\",\"\",[2]Paramètres!Q222)","v":"Basse"},{"$f":"IF([2]Paramètres!R222=\"\",\"\",[2]Paramètres!R222)","v":""},{"$f":"IF([2]Paramètres!S222=\"\",\"\",[2]Paramètres!S222)","v":""},{"$f":"IF([2]Paramètres!T222=\"\",\"\",[2]Paramètres!T222)","v":""},{"$f":"IF([2]Paramètres!U222=\"\",\"\",[2]Paramètres!U222)","v":""},{"$f":"IF([2]Paramètres!V222=\"\",\"\",[2]Paramètres!V222)","v":""},{"$f":"IF([2]Paramètres!W222=\"\",\"\",[2]Paramètres!W222)","v":""},{"$f":"IF([2]Paramètres!X222=\"\",\"\",[2]Paramètres!X222)","v":""},{"$f":"IF([2]Paramètres!Y222=\"\",\"\",[2]Paramètres!Y222)","v":""},{"$f":"IF([2]Paramètres!Z222=\"\",\"\",[2]Paramètres!Z222)","v":""}]
[{"$f":"IF([2]Paramètres!A223=\"\",\"\",[2]Paramètres!A223)","v":""},{"$f":"IF([2]Paramètres!B223=\"\",\"\",[2]Paramètres!B223)","v":""},{"$f":"IF([2]Paramètres!C223=\"\",\"\",[2]Paramètres!C223)","v":""},{"$f":"IF([2]Paramètres!D223=\"\",\"\",[2]Paramètres!D223)","v":""},{"$f":"IF([2]Paramètres!E223=\"\",\"\",[2]Paramètres!E223)","v":""},{"$f":"IF([2]Paramètres!F223=\"\",\"\",[2]Paramètres!F223)","v":""},{"$f":"IF([2]Paramètres!G223=\"\",\"\",[2]Paramètres!G223)","v":""},{"$f":"IF([2]Paramètres!H223=\"\",\"\",[2]Paramètres!H223)","v":""},{"$f":"IF([2]Paramètres!I223=\"\",\"\",[2]Paramètres!I223)","v":""},{"$f":"IF([2]Paramètres!J223=\"\",\"\",[2]Paramètres!J223)","v":"Whitelabs - WLP565 Belgian Saison I Yeast"},{"$f":"IF([2]Paramètres!K223=\"\",\"\",[2]Paramètres!K223)","v":"Liquide"},{"$f":"IF([2]Paramètres!L223=\"\",\"\",[2]Paramètres!L223)","v":0.65},{"$f":"IF([2]Paramètres!M223=\"\",\"\",[2]Paramètres!M223)","v":0.75},{"$f":"IF([2]Paramètres!N223=\"\",\"\",[2]Paramètres!N223)","v":0.7},{"$f":"IF([2]Paramètres!O223=\"\",\"\",[2]Paramètres!O223)","v":20},{"$f":"IF([2]Paramètres!P223=\"\",\"\",[2]Paramètres!P223)","v":23.9},{"$f":"IF([2]Paramètres!Q223=\"\",\"\",[2]Paramètres!Q223)","v":"Moyenne"},{"$f":"IF([2]Paramètres!R223=\"\",\"\",[2]Paramètres!R223)","v":""},{"$f":"IF([2]Paramètres!S223=\"\",\"\",[2]Paramètres!S223)","v":""},{"$f":"IF([2]Paramètres!T223=\"\",\"\",[2]Paramètres!T223)","v":""},{"$f":"IF([2]Paramètres!U223=\"\",\"\",[2]Paramètres!U223)","v":""},{"$f":"IF([2]Paramètres!V223=\"\",\"\",[2]Paramètres!V223)","v":""},{"$f":"IF([2]Paramètres!W223=\"\",\"\",[2]Paramètres!W223)","v":""},{"$f":"IF([2]Paramètres!X223=\"\",\"\",[2]Paramètres!X223)","v":""},{"$f":"IF([2]Paramètres!Y223=\"\",\"\",[2]Paramètres!Y223)","v":""},{"$f":"IF([2]Paramètres!Z223=\"\",\"\",[2]Paramètres!Z223)","v":""}]
[{"$f":"IF([2]Paramètres!A224=\"\",\"\",[2]Paramètres!A224)","v":""},{"$f":"IF([2]Paramètres!B224=\"\",\"\",[2]Paramètres!B224)","v":""},{"$f":"IF([2]Paramètres!C224=\"\",\"\",[2]Paramètres!C224)","v":""},{"$f":"IF([2]Paramètres!D224=\"\",\"\",[2]Paramètres!D224)","v":""},{"$f":"IF([2]Paramètres!E224=\"\",\"\",[2]Paramètres!E224)","v":""},{"$f":"IF([2]Paramètres!F224=\"\",\"\",[2]Paramètres!F224)","v":""},{"$f":"IF([2]Paramètres!G224=\"\",\"\",[2]Paramètres!G224)","v":""},{"$f":"IF([2]Paramètres!H224=\"\",\"\",[2]Paramètres!H224)","v":""},{"$f":"IF([2]Paramètres!I224=\"\",\"\",[2]Paramètres!I224)","v":""},{"$f":"IF([2]Paramètres!J224=\"\",\"\",[2]Paramètres!J224)","v":"Whitelabs - WLP566 Belgian Saison II Ale Yeast"},{"$f":"IF([2]Paramètres!K224=\"\",\"\",[2]Paramètres!K224)","v":"Liquide"},{"$f":"IF([2]Paramètres!L224=\"\",\"\",[2]Paramètres!L224)","v":0.78},{"$f":"IF([2]Paramètres!M224=\"\",\"\",[2]Paramètres!M224)","v":0.85},{"$f":"IF([2]Paramètres!N224=\"\",\"\",[2]Paramètres!N224)","v":0.81499999999999995},{"$f":"IF([2]Paramètres!O224=\"\",\"\",[2]Paramètres!O224)","v":20},{"$f":"IF([2]Paramètres!P224=\"\",\"\",[2]Paramètres!P224)","v":25.6},{"$f":"IF([2]Paramètres!Q224=\"\",\"\",[2]Paramètres!Q224)","v":"Moyenne"},{"$f":"IF([2]Paramètres!R224=\"\",\"\",[2]Paramètres!R224)","v":""},{"$f":"IF([2]Paramètres!S224=\"\",\"\",[2]Paramètres!S224)","v":""},{"$f":"IF([2]Paramètres!T224=\"\",\"\",[2]Paramètres!T224)","v":""},{"$f":"IF([2]Paramètres!U224=\"\",\"\",[2]Paramètres!U224)","v":""},{"$f":"IF([2]Paramètres!V224=\"\",\"\",[2]Paramètres!V224)","v":""},{"$f":"IF([2]Paramètres!W224=\"\",\"\",[2]Paramètres!W224)","v":""},{"$f":"IF([2]Paramètres!X224=\"\",\"\",[2]Paramètres!X224)","v":""},{"$f":"IF([2]Paramètres!Y224=\"\",\"\",[2]Paramètres!Y224)","v":""},{"$f":"IF([2]Paramètres!Z224=\"\",\"\",[2]Paramètres!Z224)","v":""}]
[{"$f":"IF([2]Paramètres!A225=\"\",\"\",[2]Paramètres!A225)","v":""},{"$f":"IF([2]Paramètres!B225=\"\",\"\",[2]Paramètres!B225)","v":""},{"$f":"IF([2]Paramètres!C225=\"\",\"\",[2]Paramètres!C225)","v":""},{"$f":"IF([2]Paramètres!D225=\"\",\"\",[2]Paramètres!D225)","v":""},{"$f":"IF([2]Paramètres!E225=\"\",\"\",[2]Paramètres!E225)","v":""},{"$f":"IF([2]Paramètres!F225=\"\",\"\",[2]Paramètres!F225)","v":""},{"$f":"IF([2]Paramètres!G225=\"\",\"\",[2]Paramètres!G225)","v":""},{"$f":"IF([2]Paramètres!H225=\"\",\"\",[2]Paramètres!H225)","v":""},{"$f":"IF([2]Paramètres!I225=\"\",\"\",[2]Paramètres!I225)","v":""},{"$f":"IF([2]Paramètres!J225=\"\",\"\",[2]Paramètres!J225)","v":"Whitelabs - WLP568 Belgian Style Saison Ale Yeast Blend"},{"$f":"IF([2]Paramètres!K225=\"\",\"\",[2]Paramètres!K225)","v":"Liquide"},{"$f":"IF([2]Paramètres!L225=\"\",\"\",[2]Paramètres!L225)","v":0.7},{"$f":"IF([2]Paramètres!M225=\"\",\"\",[2]Paramètres!M225)","v":0.8},{"$f":"IF([2]Paramètres!N225=\"\",\"\",[2]Paramètres!N225)","v":0.75},{"$f":"IF([2]Paramètres!O225=\"\",\"\",[2]Paramètres!O225)","v":21.1},{"$f":"IF([2]Paramètres!P225=\"\",\"\",[2]Paramètres!P225)","v":26.7},{"$f":"IF([2]Paramètres!Q225=\"\",\"\",[2]Paramètres!Q225)","v":"Moyenne"},{"$f":"IF([2]Paramètres!R225=\"\",\"\",[2]Paramètres!R225)","v":""},{"$f":"IF([2]Paramètres!S225=\"\",\"\",[2]Paramètres!S225)","v":""},{"$f":"IF([2]Paramètres!T225=\"\",\"\",[2]Paramètres!T225)","v":""},{"$f":"IF([2]Paramètres!U225=\"\",\"\",[2]Paramètres!U225)","v":""},{"$f":"IF([2]Paramètres!V225=\"\",\"\",[2]Paramètres!V225)","v":""},{"$f":"IF([2]Paramètres!W225=\"\",\"\",[2]Paramètres!W225)","v":""},{"$f":"IF([2]Paramètres!X225=\"\",\"\",[2]Paramètres!X225)","v":""},{"$f":"IF([2]Paramètres!Y225=\"\",\"\",[2]Paramètres!Y225)","v":""},{"$f":"IF([2]Paramètres!Z225=\"\",\"\",[2]Paramètres!Z225)","v":""}]
[{"$f":"IF([2]Paramètres!A226=\"\",\"\",[2]Paramètres!A226)","v":""},{"$f":"IF([2]Paramètres!B226=\"\",\"\",[2]Paramètres!B226)","v":""},{"$f":"IF([2]Paramètres!C226=\"\",\"\",[2]Paramètres!C226)","v":""},{"$f":"IF([2]Paramètres!D226=\"\",\"\",[2]Paramètres!D226)","v":""},{"$f":"IF([2]Paramètres!E226=\"\",\"\",[2]Paramètres!E226)","v":""},{"$f":"IF([2]Paramètres!F226=\"\",\"\",[2]Paramètres!F226)","v":""},{"$f":"IF([2]Paramètres!G226=\"\",\"\",[2]Paramètres!G226)","v":""},{"$f":"IF([2]Paramètres!H226=\"\",\"\",[2]Paramètres!H226)","v":""},{"$f":"IF([2]Paramètres!I226=\"\",\"\",[2]Paramètres!I226)","v":""},{"$f":"IF([2]Paramètres!J226=\"\",\"\",[2]Paramètres!J226)","v":"Whitelabs - WLP590 French Saison Ale Yeast"},{"$f":"IF([2]Paramètres!K226=\"\",\"\",[2]Paramètres!K226)","v":"Liquide"},{"$f":"IF([2]Paramètres!L226=\"\",\"\",[2]Paramètres!L226)","v":0.73},{"$f":"IF([2]Paramètres!M226=\"\",\"\",[2]Paramètres!M226)","v":0.8},{"$f":"IF([2]Paramètres!N226=\"\",\"\",[2]Paramètres!N226)","v":0.76500000000000001},{"$f":"IF([2]Paramètres!O226=\"\",\"\",[2]Paramètres!O226)","v":20.6},{"$f":"IF([2]Paramètres!P226=\"\",\"\",[2]Paramètres!P226)","v":23.9},{"$f":"IF([2]Paramètres!Q226=\"\",\"\",[2]Paramètres!Q226)","v":"Moyenne"},{"$f":"IF([2]Paramètres!R226=\"\",\"\",[2]Paramètres!R226)","v":""},{"$f":"IF([2]Paramètres!S226=\"\",\"\",[2]Paramètres!S226)","v":""},{"$f":"IF([2]Paramètres!T226=\"\",\"\",[2]Paramètres!T226)","v":""},{"$f":"IF([2]Paramètres!U226=\"\",\"\",[2]Paramètres!U226)","v":""},{"$f":"IF([2]Paramètres!V226=\"\",\"\",[2]Paramètres!V226)","v":""},{"$f":"IF([2]Paramètres!W226=\"\",\"\",[2]Paramètres!W226)","v":""},{"$f":"IF([2]Paramètres!X226=\"\",\"\",[2]Paramètres!X226)","v":""},{"$f":"IF([2]Paramètres!Y226=\"\",\"\",[2]Paramètres!Y226)","v":""},{"$f":"IF([2]Paramètres!Z226=\"\",\"\",[2]Paramètres!Z226)","v":""}]
[{"$f":"IF([2]Paramètres!A227=\"\",\"\",[2]Paramètres!A227)","v":""},{"$f":"IF([2]Paramètres!B227=\"\",\"\",[2]Paramètres!B227)","v":""},{"$f":"IF([2]Paramètres!C227=\"\",\"\",[2]Paramètres!C227)","v":""},{"$f":"IF([2]Paramètres!D227=\"\",\"\",[2]Paramètres!D227)","v":""},{"$f":"IF([2]Paramètres!E227=\"\",\"\",[2]Paramètres!E227)","v":""},{"$f":"IF([2]Paramètres!F227=\"\",\"\",[2]Paramètres!F227)","v":""},{"$f":"IF([2]Paramètres!G227=\"\",\"\",[2]Paramètres!G227)","v":""},{"$f":"IF([2]Paramètres!H227=\"\",\"\",[2]Paramètres!H227)","v":""},{"$f":"IF([2]Paramètres!I227=\"\",\"\",[2]Paramètres!I227)","v":""},{"$f":"IF([2]Paramètres!J227=\"\",\"\",[2]Paramètres!J227)","v":"Whitelabs - WLP650 - Brettanomyces Bruxellensis"},{"$f":"IF([2]Paramètres!K227=\"\",\"\",[2]Paramètres!K227)","v":"Liquide"},{"$f":"IF([2]Paramètres!L227=\"\",\"\",[2]Paramètres!L227)","v":0.85},{"$f":"IF([2]Paramètres!M227=\"\",\"\",[2]Paramètres!M227)","v":0.85},{"$f":"IF([2]Paramètres!N227=\"\",\"\",[2]Paramètres!N227)","v":0.85},{"$f":"IF([2]Paramètres!O227=\"\",\"\",[2]Paramètres!O227)","v":21},{"$f":"IF([2]Paramètres!P227=\"\",\"\",[2]Paramètres!P227)","v":30},{"$f":"IF([2]Paramètres!Q227=\"\",\"\",[2]Paramètres!Q227)","v":"Moyenne"},{"$f":"IF([2]Paramètres!R227=\"\",\"\",[2]Paramètres!R227)","v":""},{"$f":"IF([2]Paramètres!S227=\"\",\"\",[2]Paramètres!S227)","v":""},{"$f":"IF([2]Paramètres!T227=\"\",\"\",[2]Paramètres!T227)","v":""},{"$f":"IF([2]Paramètres!U227=\"\",\"\",[2]Paramètres!U227)","v":""},{"$f":"IF([2]Paramètres!V227=\"\",\"\",[2]Paramètres!V227)","v":""},{"$f":"IF([2]Paramètres!W227=\"\",\"\",[2]Paramètres!W227)","v":""},{"$f":"IF([2]Paramètres!X227=\"\",\"\",[2]Paramètres!X227)","v":""},{"$f":"IF([2]Paramètres!Y227=\"\",\"\",[2]Paramètres!Y227)","v":""},{"$f":"IF([2]Paramètres!Z227=\"\",\"\",[2]Paramètres!Z227)","v":""}]
[{"$f":"IF([2]Paramètres!A228=\"\",\"\",[2]Paramètres!A228)","v":""},{"$f":"IF([2]Paramètres!B228=\"\",\"\",[2]Paramètres!B228)","v":""},{"$f":"IF([2]Paramètres!C228=\"\",\"\",[2]Paramètres!C228)","v":""},{"$f":"IF([2]Paramètres!D228=\"\",\"\",[2]Paramètres!D228)","v":""},{"$f":"IF([2]Paramètres!E228=\"\",\"\",[2]Paramètres!E228)","v":""},{"$f":"IF([2]Paramètres!F228=\"\",\"\",[2]Paramètres!F228)","v":""},{"$f":"IF([2]Paramètres!G228=\"\",\"\",[2]Paramètres!G228)","v":""},{"$f":"IF([2]Paramètres!H228=\"\",\"\",[2]Paramètres!H228)","v":""},{"$f":"IF([2]Paramètres!I228=\"\",\"\",[2]Paramètres!I228)","v":""},{"$f":"IF([2]Paramètres!J228=\"\",\"\",[2]Paramètres!J228)","v":"Whitelabs - WLP670 American Farmhouse Blend"},{"$f":"IF([2]Paramètres!K228=\"\",\"\",[2]Paramètres!K228)","v":"Liquide"},{"$f":"IF([2]Paramètres!L228=\"\",\"\",[2]Paramètres!L228)","v":0.75},{"$f":"IF([2]Paramètres!M228=\"\",\"\",[2]Paramètres!M228)","v":0.82},{"$f":"IF([2]Paramètres!N228=\"\",\"\",[2]Paramètres!N228)","v":0.78499999999999992},{"$f":"IF([2]Paramètres!O228=\"\",\"\",[2]Paramètres!O228)","v":20},{"$f":"IF([2]Paramètres!P228=\"\",\"\",[2]Paramètres!P228)","v":22.2},{"$f":"IF([2]Paramètres!Q228=\"\",\"\",[2]Paramètres!Q228)","v":"Moyenne"},{"$f":"IF([2]Paramètres!R228=\"\",\"\",[2]Paramètres!R228)","v":""},{"$f":"IF([2]Paramètres!S228=\"\",\"\",[2]Paramètres!S228)","v":""},{"$f":"IF([2]Paramètres!T228=\"\",\"\",[2]Paramètres!T228)","v":""},{"$f":"IF([2]Paramètres!U228=\"\",\"\",[2]Paramètres!U228)","v":""},{"$f":"IF([2]Paramètres!V228=\"\",\"\",[2]Paramètres!V228)","v":""},{"$f":"IF([2]Paramètres!W228=\"\",\"\",[2]Paramètres!W228)","v":""},{"$f":"IF([2]Paramètres!X228=\"\",\"\",[2]Paramètres!X228)","v":""},{"$f":"IF([2]Paramètres!Y228=\"\",\"\",[2]Paramètres!Y228)","v":""},{"$f":"IF([2]Paramètres!Z228=\"\",\"\",[2]Paramètres!Z228)","v":""}]
[{"$f":"IF([2]Paramètres!A229=\"\",\"\",[2]Paramètres!A229)","v":""},{"$f":"IF([2]Paramètres!B229=\"\",\"\",[2]Paramètres!B229)","v":""},{"$f":"IF([2]Paramètres!C229=\"\",\"\",[2]Paramètres!C229)","v":""},{"$f":"IF([2]Paramètres!D229=\"\",\"\",[2]Paramètres!D229)","v":""},{"$f":"IF([2]Paramètres!E229=\"\",\"\",[2]Paramètres!E229)","v":""},{"$f":"IF([2]Paramètres!F229=\"\",\"\",[2]Paramètres!F229)","v":""},{"$f":"IF([2]Paramètres!G229=\"\",\"\",[2]Paramètres!G229)","v":""},{"$f":"IF([2]Paramètres!H229=\"\",\"\",[2]Paramètres!H229)","v":""},{"$f":"IF([2]Paramètres!I229=\"\",\"\",[2]Paramètres!I229)","v":""},{"$f":"IF([2]Paramètres!J229=\"\",\"\",[2]Paramètres!J229)","v":"Whitelabs - WLP715 Champagne Yeast"},{"$f":"IF([2]Paramètres!K229=\"\",\"\",[2]Paramètres!K229)","v":"Liquide"},{"$f":"IF([2]Paramètres!L229=\"\",\"\",[2]Paramètres!L229)","v":0.75},{"$f":"IF([2]Paramètres!M229=\"\",\"\",[2]Paramètres!M229)","v":0.1},{"$f":"IF([2]Paramètres!N229=\"\",\"\",[2]Paramètres!N229)","v":0.42499999999999999},{"$f":"IF([2]Paramètres!O229=\"\",\"\",[2]Paramètres!O229)","v":21.1},{"$f":"IF([2]Paramètres!P229=\"\",\"\",[2]Paramètres!P229)","v":23.9},{"$f":"IF([2]Paramètres!Q229=\"\",\"\",[2]Paramètres!Q229)","v":"Basse"},{"$f":"IF([2]Paramètres!R229=\"\",\"\",[2]Paramètres!R229)","v":""},{"$f":"IF([2]Paramètres!S229=\"\",\"\",[2]Paramètres!S229)","v":""},{"$f":"IF([2]Paramètres!T229=\"\",\"\",[2]Paramètres!T229)","v":""},{"$f":"IF([2]Paramètres!U229=\"\",\"\",[2]Paramètres!U229)","v":""},{"$f":"IF([2]Paramètres!V229=\"\",\"\",[2]Paramètres!V229)","v":""},{"$f":"IF([2]Paramètres!W229=\"\",\"\",[2]Paramètres!W229)","v":""},{"$f":"IF([2]Paramètres!X229=\"\",\"\",[2]Paramètres!X229)","v":""},{"$f":"IF([2]Paramètres!Y229=\"\",\"\",[2]Paramètres!Y229)","v":""},{"$f":"IF([2]Paramètres!Z229=\"\",\"\",[2]Paramètres!Z229)","v":""}]
[{"$f":"IF([2]Paramètres!A230=\"\",\"\",[2]Paramètres!A230)","v":""},{"$f":"IF([2]Paramètres!B230=\"\",\"\",[2]Paramètres!B230)","v":""},{"$f":"IF([2]Paramètres!C230=\"\",\"\",[2]Paramètres!C230)","v":""},{"$f":"IF([2]Paramètres!D230=\"\",\"\",[2]Paramètres!D230)","v":""},{"$f":"IF([2]Paramètres!E230=\"\",\"\",[2]Paramètres!E230)","v":""},{"$f":"IF([2]Paramètres!F230=\"\",\"\",[2]Paramètres!F230)","v":""},{"$f":"IF([2]Paramètres!G230=\"\",\"\",[2]Paramètres!G230)","v":""},{"$f":"IF([2]Paramètres!H230=\"\",\"\",[2]Paramètres!H230)","v":""},{"$f":"IF([2]Paramètres!I230=\"\",\"\",[2]Paramètres!I230)","v":""},{"$f":"IF([2]Paramètres!J230=\"\",\"\",[2]Paramètres!J230)","v":"Whitelabs - WLP780 Thai Rice Chong Yeast"},{"$f":"IF([2]Paramètres!K230=\"\",\"\",[2]Paramètres!K230)","v":"Liquide"},{"$f":"IF([2]Paramètres!L230=\"\",\"\",[2]Paramètres!L230)","v":0.76},{"$f":"IF([2]Paramètres!M230=\"\",\"\",[2]Paramètres!M230)","v":0.76},{"$f":"IF([2]Paramètres!N230=\"\",\"\",[2]Paramètres!N230)","v":0.76},{"$f":"IF([2]Paramètres!O230=\"\",\"\",[2]Paramètres!O230)","v":21},{"$f":"IF([2]Paramètres!P230=\"\",\"\",[2]Paramètres!P230)","v":26},{"$f":"IF([2]Paramètres!Q230=\"\",\"\",[2]Paramètres!Q230)","v":"Moyenne"},{"$f":"IF([2]Paramètres!R230=\"\",\"\",[2]Paramètres!R230)","v":""},{"$f":"IF([2]Paramètres!S230=\"\",\"\",[2]Paramètres!S230)","v":""},{"$f":"IF([2]Paramètres!T230=\"\",\"\",[2]Paramètres!T230)","v":""},{"$f":"IF([2]Paramètres!U230=\"\",\"\",[2]Paramètres!U230)","v":""},{"$f":"IF([2]Paramètres!V230=\"\",\"\",[2]Paramètres!V230)","v":""},{"$f":"IF([2]Paramètres!W230=\"\",\"\",[2]Paramètres!W230)","v":""},{"$f":"IF([2]Paramètres!X230=\"\",\"\",[2]Paramètres!X230)","v":""},{"$f":"IF([2]Paramètres!Y230=\"\",\"\",[2]Paramètres!Y230)","v":""},{"$f":"IF([2]Paramètres!Z230=\"\",\"\",[2]Paramètres!Z230)","v":""}]
[{"$f":"IF([2]Paramètres!A231=\"\",\"\",[2]Paramètres!A231)","v":""},{"$f":"IF([2]Paramètres!B231=\"\",\"\",[2]Paramètres!B231)","v":""},{"$f":"IF([2]Paramètres!C231=\"\",\"\",[2]Paramètres!C231)","v":""},{"$f":"IF([2]Paramètres!D231=\"\",\"\",[2]Paramètres!D231)","v":""},{"$f":"IF([2]Paramètres!E231=\"\",\"\",[2]Paramètres!E231)","v":""},{"$f":"IF([2]Paramètres!F231=\"\",\"\",[2]Paramètres!F231)","v":""},{"$f":"IF([2]Paramètres!G231=\"\",\"\",[2]Paramètres!G231)","v":""},{"$f":"IF([2]Paramètres!H231=\"\",\"\",[2]Paramètres!H231)","v":""},{"$f":"IF([2]Paramètres!I231=\"\",\"\",[2]Paramètres!I231)","v":""},{"$f":"IF([2]Paramètres!J231=\"\",\"\",[2]Paramètres!J231)","v":"Whitelabs - WLP810 - San Fransisco Lager"},{"$f":"IF([2]Paramètres!K231=\"\",\"\",[2]Paramètres!K231)","v":"Liquide"},{"$f":"IF([2]Paramètres!L231=\"\",\"\",[2]Paramètres!L231)","v":0.65},{"$f":"IF([2]Paramètres!M231=\"\",\"\",[2]Paramètres!M231)","v":0.7},{"$f":"IF([2]Paramètres!N231=\"\",\"\",[2]Paramètres!N231)","v":0.67500000000000004},{"$f":"IF([2]Paramètres!O231=\"\",\"\",[2]Paramètres!O231)","v":14.4},{"$f":"IF([2]Paramètres!P231=\"\",\"\",[2]Paramètres!P231)","v":18.3},{"$f":"IF([2]Paramètres!Q231=\"\",\"\",[2]Paramètres!Q231)","v":"Forte"},{"$f":"IF([2]Paramètres!R231=\"\",\"\",[2]Paramètres!R231)","v":""},{"$f":"IF([2]Paramètres!S231=\"\",\"\",[2]Paramètres!S231)","v":""},{"$f":"IF([2]Paramètres!T231=\"\",\"\",[2]Paramètres!T231)","v":""},{"$f":"IF([2]Paramètres!U231=\"\",\"\",[2]Paramètres!U231)","v":""},{"$f":"IF([2]Paramètres!V231=\"\",\"\",[2]Paramètres!V231)","v":""},{"$f":"IF([2]Paramètres!W231=\"\",\"\",[2]Paramètres!W231)","v":""},{"$f":"IF([2]Paramètres!X231=\"\",\"\",[2]Paramètres!X231)","v":""},{"$f":"IF([2]Paramètres!Y231=\"\",\"\",[2]Paramètres!Y231)","v":""},{"$f":"IF([2]Paramètres!Z231=\"\",\"\",[2]Paramètres!Z231)","v":""}]
[{"$f":"IF([2]Paramètres!A232=\"\",\"\",[2]Paramètres!A232)","v":""},{"$f":"IF([2]Paramètres!B232=\"\",\"\",[2]Paramètres!B232)","v":""},{"$f":"IF([2]Paramètres!C232=\"\",\"\",[2]Paramètres!C232)","v":""},{"$f":"IF([2]Paramètres!D232=\"\",\"\",[2]Paramètres!D232)","v":""},{"$f":"IF([2]Paramètres!E232=\"\",\"\",[2]Paramètres!E232)","v":""},{"$f":"IF([2]Paramètres!F232=\"\",\"\",[2]Paramètres!F232)","v":""},{"$f":"IF([2]Paramètres!G232=\"\",\"\",[2]Paramètres!G232)","v":""},{"$f":"IF([2]Paramètres!H232=\"\",\"\",[2]Paramètres!H232)","v":""},{"$f":"IF([2]Paramètres!I232=\"\",\"\",[2]Paramètres!I232)","v":""},{"$f":"IF([2]Paramètres!J232=\"\",\"\",[2]Paramètres!J232)","v":"Whitelabs - WLP830 - German Lager"},{"$f":"IF([2]Paramètres!K232=\"\",\"\",[2]Paramètres!K232)","v":"Liquide"},{"$f":"IF([2]Paramètres!L232=\"\",\"\",[2]Paramètres!L232)","v":0.74},{"$f":"IF([2]Paramètres!M232=\"\",\"\",[2]Paramètres!M232)","v":0.79},{"$f":"IF([2]Paramètres!N232=\"\",\"\",[2]Paramètres!N232)","v":0.76500000000000001},{"$f":"IF([2]Paramètres!O232=\"\",\"\",[2]Paramètres!O232)","v":10},{"$f":"IF([2]Paramètres!P232=\"\",\"\",[2]Paramètres!P232)","v":13},{"$f":"IF([2]Paramètres!Q232=\"\",\"\",[2]Paramètres!Q232)","v":"Moyenne"},{"$f":"IF([2]Paramètres!R232=\"\",\"\",[2]Paramètres!R232)","v":""},{"$f":"IF([2]Paramètres!S232=\"\",\"\",[2]Paramètres!S232)","v":""},{"$f":"IF([2]Paramètres!T232=\"\",\"\",[2]Paramètres!T232)","v":""},{"$f":"IF([2]Paramètres!U232=\"\",\"\",[2]Paramètres!U232)","v":""},{"$f":"IF([2]Paramètres!V232=\"\",\"\",[2]Paramètres!V232)","v":""},{"$f":"IF([2]Paramètres!W232=\"\",\"\",[2]Paramètres!W232)","v":""},{"$f":"IF([2]Paramètres!X232=\"\",\"\",[2]Paramètres!X232)","v":""},{"$f":"IF([2]Paramètres!Y232=\"\",\"\",[2]Paramètres!Y232)","v":""},{"$f":"IF([2]Paramètres!Z232=\"\",\"\",[2]Paramètres!Z232)","v":""}]
[{"$f":"IF([2]Paramètres!A233=\"\",\"\",[2]Paramètres!A233)","v":""},{"$f":"IF([2]Paramètres!B233=\"\",\"\",[2]Paramètres!B233)","v":""},{"$f":"IF([2]Paramètres!C233=\"\",\"\",[2]Paramètres!C233)","v":""},{"$f":"IF([2]Paramètres!D233=\"\",\"\",[2]Paramètres!D233)","v":""},{"$f":"IF([2]Paramètres!E233=\"\",\"\",[2]Paramètres!E233)","v":""},{"$f":"IF([2]Paramètres!F233=\"\",\"\",[2]Paramètres!F233)","v":""},{"$f":"IF([2]Paramètres!G233=\"\",\"\",[2]Paramètres!G233)","v":""},{"$f":"IF([2]Paramètres!H233=\"\",\"\",[2]Paramètres!H233)","v":""},{"$f":"IF([2]Paramètres!I233=\"\",\"\",[2]Paramètres!I233)","v":""},{"$f":"IF([2]Paramètres!J233=\"\",\"\",[2]Paramètres!J233)","v":"Whitelabs - WLP833 - German Bock Lager"},{"$f":"IF([2]Paramètres!K233=\"\",\"\",[2]Paramètres!K233)","v":"Liquide"},{"$f":"IF([2]Paramètres!L233=\"\",\"\",[2]Paramètres!L233)","v":0.7},{"$f":"IF([2]Paramètres!M233=\"\",\"\",[2]Paramètres!M233)","v":0.76},{"$f":"IF([2]Paramètres!N233=\"\",\"\",[2]Paramètres!N233)","v":0.73},{"$f":"IF([2]Paramètres!O233=\"\",\"\",[2]Paramètres!O233)","v":9},{"$f":"IF([2]Paramètres!P233=\"\",\"\",[2]Paramètres!P233)","v":13},{"$f":"IF([2]Paramètres!Q233=\"\",\"\",[2]Paramètres!Q233)","v":"Moyenne"},{"$f":"IF([2]Paramètres!R233=\"\",\"\",[2]Paramètres!R233)","v":""},{"$f":"IF([2]Paramètres!S233=\"\",\"\",[2]Paramètres!S233)","v":""},{"$f":"IF([2]Paramètres!T233=\"\",\"\",[2]Paramètres!T233)","v":""},{"$f":"IF([2]Paramètres!U233=\"\",\"\",[2]Paramètres!U233)","v":""},{"$f":"IF([2]Paramètres!V233=\"\",\"\",[2]Paramètres!V233)","v":""},{"$f":"IF([2]Paramètres!W233=\"\",\"\",[2]Paramètres!W233)","v":""},{"$f":"IF([2]Paramètres!X233=\"\",\"\",[2]Paramètres!X233)","v":""},{"$f":"IF([2]Paramètres!Y233=\"\",\"\",[2]Paramètres!Y233)","v":""},{"$f":"IF([2]Paramètres!Z233=\"\",\"\",[2]Paramètres!Z233)","v":""}]
[{"$f":"IF([2]Paramètres!A234=\"\",\"\",[2]Paramètres!A234)","v":""},{"$f":"IF([2]Paramètres!B234=\"\",\"\",[2]Paramètres!B234)","v":""},{"$f":"IF([2]Paramètres!C234=\"\",\"\",[2]Paramètres!C234)","v":""},{"$f":"IF([2]Paramètres!D234=\"\",\"\",[2]Paramètres!D234)","v":""},{"$f":"IF([2]Paramètres!E234=\"\",\"\",[2]Paramètres!E234)","v":""},{"$f":"IF([2]Paramètres!F234=\"\",\"\",[2]Paramètres!F234)","v":""},{"$f":"IF([2]Paramètres!G234=\"\",\"\",[2]Paramètres!G234)","v":""},{"$f":"IF([2]Paramètres!H234=\"\",\"\",[2]Paramètres!H234)","v":""},{"$f":"IF([2]Paramètres!I234=\"\",\"\",[2]Paramètres!I234)","v":""},{"$f":"IF([2]Paramètres!J234=\"\",\"\",[2]Paramètres!J234)","v":"Whitelabs - WLP840 American Lager Yeast"},{"$f":"IF([2]Paramètres!K234=\"\",\"\",[2]Paramètres!K234)","v":"Liquide"},{"$f":"IF([2]Paramètres!L234=\"\",\"\",[2]Paramètres!L234)","v":0.78},{"$f":"IF([2]Paramètres!M234=\"\",\"\",[2]Paramètres!M234)","v":0.78},{"$f":"IF([2]Paramètres!N234=\"\",\"\",[2]Paramètres!N234)","v":0.78},{"$f":"IF([2]Paramètres!O234=\"\",\"\",[2]Paramètres!O234)","v":10},{"$f":"IF([2]Paramètres!P234=\"\",\"\",[2]Paramètres!P234)","v":14},{"$f":"IF([2]Paramètres!Q234=\"\",\"\",[2]Paramètres!Q234)","v":"Moyenne"},{"$f":"IF([2]Paramètres!R234=\"\",\"\",[2]Paramètres!R234)","v":""},{"$f":"IF([2]Paramètres!S234=\"\",\"\",[2]Paramètres!S234)","v":""},{"$f":"IF([2]Paramètres!T234=\"\",\"\",[2]Paramètres!T234)","v":""},{"$f":"IF([2]Paramètres!U234=\"\",\"\",[2]Paramètres!U234)","v":""},{"$f":"IF([2]Paramètres!V234=\"\",\"\",[2]Paramètres!V234)","v":""},{"$f":"IF([2]Paramètres!W234=\"\",\"\",[2]Paramètres!W234)","v":""},{"$f":"IF([2]Paramètres!X234=\"\",\"\",[2]Paramètres!X234)","v":""},{"$f":"IF([2]Paramètres!Y234=\"\",\"\",[2]Paramètres!Y234)","v":""},{"$f":"IF([2]Paramètres!Z234=\"\",\"\",[2]Paramètres!Z234)","v":""}]
[{"$f":"IF([2]Paramètres!A235=\"\",\"\",[2]Paramètres!A235)","v":""},{"$f":"IF([2]Paramètres!B235=\"\",\"\",[2]Paramètres!B235)","v":""},{"$f":"IF([2]Paramètres!C235=\"\",\"\",[2]Paramètres!C235)","v":""},{"$f":"IF([2]Paramètres!D235=\"\",\"\",[2]Paramètres!D235)","v":""},{"$f":"IF([2]Paramètres!E235=\"\",\"\",[2]Paramètres!E235)","v":""},{"$f":"IF([2]Paramètres!F235=\"\",\"\",[2]Paramètres!F235)","v":""},{"$f":"IF([2]Paramètres!G235=\"\",\"\",[2]Paramètres!G235)","v":""},{"$f":"IF([2]Paramètres!H235=\"\",\"\",[2]Paramètres!H235)","v":""},{"$f":"IF([2]Paramètres!I235=\"\",\"\",[2]Paramètres!I235)","v":""},{"$f":"IF([2]Paramètres!J235=\"\",\"\",[2]Paramètres!J235)","v":"Wyeast 1007 - German Ale"},{"$f":"IF([2]Paramètres!K235=\"\",\"\",[2]Paramètres!K235)","v":"Liquide"},{"$f":"IF([2]Paramètres!L235=\"\",\"\",[2]Paramètres!L235)","v":0.73},{"$f":"IF([2]Paramètres!M235=\"\",\"\",[2]Paramètres!M235)","v":0.77},{"$f":"IF([2]Paramètres!N235=\"\",\"\",[2]Paramètres!N235)","v":0.75},{"$f":"IF([2]Paramètres!O235=\"\",\"\",[2]Paramètres!O235)","v":12.8},{"$f":"IF([2]Paramètres!P235=\"\",\"\",[2]Paramètres!P235)","v":20},{"$f":"IF([2]Paramètres!Q235=\"\",\"\",[2]Paramètres!Q235)","v":"Basse"},{"$f":"IF([2]Paramètres!R235=\"\",\"\",[2]Paramètres!R235)","v":""},{"$f":"IF([2]Paramètres!S235=\"\",\"\",[2]Paramètres!S235)","v":""},{"$f":"IF([2]Paramètres!T235=\"\",\"\",[2]Paramètres!T235)","v":""},{"$f":"IF([2]Paramètres!U235=\"\",\"\",[2]Paramètres!U235)","v":""},{"$f":"IF([2]Paramètres!V235=\"\",\"\",[2]Paramètres!V235)","v":""},{"$f":"IF([2]Paramètres!W235=\"\",\"\",[2]Paramètres!W235)","v":""},{"$f":"IF([2]Paramètres!X235=\"\",\"\",[2]Paramètres!X235)","v":""},{"$f":"IF([2]Paramètres!Y235=\"\",\"\",[2]Paramètres!Y235)","v":""},{"$f":"IF([2]Paramètres!Z235=\"\",\"\",[2]Paramètres!Z235)","v":""}]
[{"$f":"IF([2]Paramètres!A236=\"\",\"\",[2]Paramètres!A236)","v":""},{"$f":"IF([2]Paramètres!B236=\"\",\"\",[2]Paramètres!B236)","v":""},{"$f":"IF([2]Paramètres!C236=\"\",\"\",[2]Paramètres!C236)","v":""},{"$f":"IF([2]Paramètres!D236=\"\",\"\",[2]Paramètres!D236)","v":""},{"$f":"IF([2]Paramètres!E236=\"\",\"\",[2]Paramètres!E236)","v":""},{"$f":"IF([2]Paramètres!F236=\"\",\"\",[2]Paramètres!F236)","v":""},{"$f":"IF([2]Paramètres!G236=\"\",\"\",[2]Paramètres!G236)","v":""},{"$f":"IF([2]Paramètres!H236=\"\",\"\",[2]Paramètres!H236)","v":""},{"$f":"IF([2]Paramètres!I236=\"\",\"\",[2]Paramètres!I236)","v":""},{"$f":"IF([2]Paramètres!J236=\"\",\"\",[2]Paramètres!J236)","v":"Wyeast 1028 - London Ale"},{"$f":"IF([2]Paramètres!K236=\"\",\"\",[2]Paramètres!K236)","v":"Liquide"},{"$f":"IF([2]Paramètres!L236=\"\",\"\",[2]Paramètres!L236)","v":0.73},{"$f":"IF([2]Paramètres!M236=\"\",\"\",[2]Paramètres!M236)","v":0.77},{"$f":"IF([2]Paramètres!N236=\"\",\"\",[2]Paramètres!N236)","v":0.75},{"$f":"IF([2]Paramètres!O236=\"\",\"\",[2]Paramètres!O236)","v":15.6},{"$f":"IF([2]Paramètres!P236=\"\",\"\",[2]Paramètres!P236)","v":22.2},{"$f":"IF([2]Paramètres!Q236=\"\",\"\",[2]Paramètres!Q236)","v":"Basse - Moyenne"},{"$f":"IF([2]Paramètres!R236=\"\",\"\",[2]Paramètres!R236)","v":""},{"$f":"IF([2]Paramètres!S236=\"\",\"\",[2]Paramètres!S236)","v":""},{"$f":"IF([2]Paramètres!T236=\"\",\"\",[2]Paramètres!T236)","v":""},{"$f":"IF([2]Paramètres!U236=\"\",\"\",[2]Paramètres!U236)","v":""},{"$f":"IF([2]Paramètres!V236=\"\",\"\",[2]Paramètres!V236)","v":""},{"$f":"IF([2]Paramètres!W236=\"\",\"\",[2]Paramètres!W236)","v":""},{"$f":"IF([2]Paramètres!X236=\"\",\"\",[2]Paramètres!X236)","v":""},{"$f":"IF([2]Paramètres!Y236=\"\",\"\",[2]Paramètres!Y236)","v":""},{"$f":"IF([2]Paramètres!Z236=\"\",\"\",[2]Paramètres!Z236)","v":""}]
[{"$f":"IF([2]Paramètres!A237=\"\",\"\",[2]Paramètres!A237)","v":""},{"$f":"IF([2]Paramètres!B237=\"\",\"\",[2]Paramètres!B237)","v":""},{"$f":"IF([2]Paramètres!C237=\"\",\"\",[2]Paramètres!C237)","v":""},{"$f":"IF([2]Paramètres!D237=\"\",\"\",[2]Paramètres!D237)","v":""},{"$f":"IF([2]Paramètres!E237=\"\",\"\",[2]Paramètres!E237)","v":""},{"$f":"IF([2]Paramètres!F237=\"\",\"\",[2]Paramètres!F237)","v":""},{"$f":"IF([2]Paramètres!G237=\"\",\"\",[2]Paramètres!G237)","v":""},{"$f":"IF([2]Paramètres!H237=\"\",\"\",[2]Paramètres!H237)","v":""},{"$f":"IF([2]Paramètres!I237=\"\",\"\",[2]Paramètres!I237)","v":""},{"$f":"IF([2]Paramètres!J237=\"\",\"\",[2]Paramètres!J237)","v":"Wyeast 1056 - American Ale II"},{"$f":"IF([2]Paramètres!K237=\"\",\"\",[2]Paramètres!K237)","v":"Liquide"},{"$f":"IF([2]Paramètres!L237=\"\",\"\",[2]Paramètres!L237)","v":0.73},{"$f":"IF([2]Paramètres!M237=\"\",\"\",[2]Paramètres!M237)","v":0.77},{"$f":"IF([2]Paramètres!N237=\"\",\"\",[2]Paramètres!N237)","v":0.75},{"$f":"IF([2]Paramètres!O237=\"\",\"\",[2]Paramètres!O237)","v":15.6},{"$f":"IF([2]Paramètres!P237=\"\",\"\",[2]Paramètres!P237)","v":22.2},{"$f":"IF([2]Paramètres!Q237=\"\",\"\",[2]Paramètres!Q237)","v":"Basse - Moyenne"},{"$f":"IF([2]Paramètres!R237=\"\",\"\",[2]Paramètres!R237)","v":""},{"$f":"IF([2]Paramètres!S237=\"\",\"\",[2]Paramètres!S237)","v":""},{"$f":"IF([2]Paramètres!T237=\"\",\"\",[2]Paramètres!T237)","v":""},{"$f":"IF([2]Paramètres!U237=\"\",\"\",[2]Paramètres!U237)","v":""},{"$f":"IF([2]Paramètres!V237=\"\",\"\",[2]Paramètres!V237)","v":""},{"$f":"IF([2]Paramètres!W237=\"\",\"\",[2]Paramètres!W237)","v":""},{"$f":"IF([2]Paramètres!X237=\"\",\"\",[2]Paramètres!X237)","v":""},{"$f":"IF([2]Paramètres!Y237=\"\",\"\",[2]Paramètres!Y237)","v":""},{"$f":"IF([2]Paramètres!Z237=\"\",\"\",[2]Paramètres!Z237)","v":""}]
[{"$f":"IF([2]Paramètres!A238=\"\",\"\",[2]Paramètres!A238)","v":""},{"$f":"IF([2]Paramètres!B238=\"\",\"\",[2]Paramètres!B238)","v":""},{"$f":"IF([2]Paramètres!C238=\"\",\"\",[2]Paramètres!C238)","v":""},{"$f":"IF([2]Paramètres!D238=\"\",\"\",[2]Paramètres!D238)","v":""},{"$f":"IF([2]Paramètres!E238=\"\",\"\",[2]Paramètres!E238)","v":""},{"$f":"IF([2]Paramètres!F238=\"\",\"\",[2]Paramètres!F238)","v":""},{"$f":"IF([2]Paramètres!G238=\"\",\"\",[2]Paramètres!G238)","v":""},{"$f":"IF([2]Paramètres!H238=\"\",\"\",[2]Paramètres!H238)","v":""},{"$f":"IF([2]Paramètres!I238=\"\",\"\",[2]Paramètres!I238)","v":""},{"$f":"IF([2]Paramètres!J238=\"\",\"\",[2]Paramètres!J238)","v":"Wyeast 1084 - Irish Ale"},{"$f":"IF([2]Paramètres!K238=\"\",\"\",[2]Paramètres!K238)","v":"Liquide"},{"$f":"IF([2]Paramètres!L238=\"\",\"\",[2]Paramètres!L238)","v":0.71},{"$f":"IF([2]Paramètres!M238=\"\",\"\",[2]Paramètres!M238)","v":0.75},{"$f":"IF([2]Paramètres!N238=\"\",\"\",[2]Paramètres!N238)","v":0.73},{"$f":"IF([2]Paramètres!O238=\"\",\"\",[2]Paramètres!O238)","v":16.7},{"$f":"IF([2]Paramètres!P238=\"\",\"\",[2]Paramètres!P238)","v":22.2},{"$f":"IF([2]Paramètres!Q238=\"\",\"\",[2]Paramètres!Q238)","v":"Moyenne"},{"$f":"IF([2]Paramètres!R238=\"\",\"\",[2]Paramètres!R238)","v":""},{"$f":"IF([2]Paramètres!S238=\"\",\"\",[2]Paramètres!S238)","v":""},{"$f":"IF([2]Paramètres!T238=\"\",\"\",[2]Paramètres!T238)","v":""},{"$f":"IF([2]Paramètres!U238=\"\",\"\",[2]Paramètres!U238)","v":""},{"$f":"IF([2]Paramètres!V238=\"\",\"\",[2]Paramètres!V238)","v":""},{"$f":"IF([2]Paramètres!W238=\"\",\"\",[2]Paramètres!W238)","v":""},{"$f":"IF([2]Paramètres!X238=\"\",\"\",[2]Paramètres!X238)","v":""},{"$f":"IF([2]Paramètres!Y238=\"\",\"\",[2]Paramètres!Y238)","v":""},{"$f":"IF([2]Paramètres!Z238=\"\",\"\",[2]Paramètres!Z238)","v":""}]
[{"$f":"IF([2]Paramètres!A239=\"\",\"\",[2]Paramètres!A239)","v":""},{"$f":"IF([2]Paramètres!B239=\"\",\"\",[2]Paramètres!B239)","v":""},{"$f":"IF([2]Paramètres!C239=\"\",\"\",[2]Paramètres!C239)","v":""},{"$f":"IF([2]Paramètres!D239=\"\",\"\",[2]Paramètres!D239)","v":""},{"$f":"IF([2]Paramètres!E239=\"\",\"\",[2]Paramètres!E239)","v":""},{"$f":"IF([2]Paramètres!F239=\"\",\"\",[2]Paramètres!F239)","v":""},{"$f":"IF([2]Paramètres!G239=\"\",\"\",[2]Paramètres!G239)","v":""},{"$f":"IF([2]Paramètres!H239=\"\",\"\",[2]Paramètres!H239)","v":""},{"$f":"IF([2]Paramètres!I239=\"\",\"\",[2]Paramètres!I239)","v":""},{"$f":"IF([2]Paramètres!J239=\"\",\"\",[2]Paramètres!J239)","v":"Wyeast 1098 - British Ale"},{"$f":"IF([2]Paramètres!K239=\"\",\"\",[2]Paramètres!K239)","v":"Liquide"},{"$f":"IF([2]Paramètres!L239=\"\",\"\",[2]Paramètres!L239)","v":0.73},{"$f":"IF([2]Paramètres!M239=\"\",\"\",[2]Paramètres!M239)","v":0.75},{"$f":"IF([2]Paramètres!N239=\"\",\"\",[2]Paramètres!N239)","v":0.74},{"$f":"IF([2]Paramètres!O239=\"\",\"\",[2]Paramètres!O239)","v":17.8},{"$f":"IF([2]Paramètres!P239=\"\",\"\",[2]Paramètres!P239)","v":22.2},{"$f":"IF([2]Paramètres!Q239=\"\",\"\",[2]Paramètres!Q239)","v":"Moyenne"},{"$f":"IF([2]Paramètres!R239=\"\",\"\",[2]Paramètres!R239)","v":""},{"$f":"IF([2]Paramètres!S239=\"\",\"\",[2]Paramètres!S239)","v":""},{"$f":"IF([2]Paramètres!T239=\"\",\"\",[2]Paramètres!T239)","v":""},{"$f":"IF([2]Paramètres!U239=\"\",\"\",[2]Paramètres!U239)","v":""},{"$f":"IF([2]Paramètres!V239=\"\",\"\",[2]Paramètres!V239)","v":""},{"$f":"IF([2]Paramètres!W239=\"\",\"\",[2]Paramètres!W239)","v":""},{"$f":"IF([2]Paramètres!X239=\"\",\"\",[2]Paramètres!X239)","v":""},{"$f":"IF([2]Paramètres!Y239=\"\",\"\",[2]Paramètres!Y239)","v":""},{"$f":"IF([2]Paramètres!Z239=\"\",\"\",[2]Paramètres!Z239)","v":""}]
[{"$f":"IF([2]Paramètres!A240=\"\",\"\",[2]Paramètres!A240)","v":""},{"$f":"IF([2]Paramètres!B240=\"\",\"\",[2]Paramètres!B240)","v":""},{"$f":"IF([2]Paramètres!C240=\"\",\"\",[2]Paramètres!C240)","v":""},{"$f":"IF([2]Paramètres!D240=\"\",\"\",[2]Paramètres!D240)","v":""},{"$f":"IF([2]Paramètres!E240=\"\",\"\",[2]Paramètres!E240)","v":""},{"$f":"IF([2]Paramètres!F240=\"\",\"\",[2]Paramètres!F240)","v":""},{"$f":"IF([2]Paramètres!G240=\"\",\"\",[2]Paramètres!G240)","v":""},{"$f":"IF([2]Paramètres!H240=\"\",\"\",[2]Paramètres!H240)","v":""},{"$f":"IF([2]Paramètres!I240=\"\",\"\",[2]Paramètres!I240)","v":""},{"$f":"IF([2]Paramètres!J240=\"\",\"\",[2]Paramètres!J240)","v":"Wyeast 1187 - Ringwood Ale"},{"$f":"IF([2]Paramètres!K240=\"\",\"\",[2]Paramètres!K240)","v":"Liquide"},{"$f":"IF([2]Paramètres!L240=\"\",\"\",[2]Paramètres!L240)","v":0.68},{"$f":"IF([2]Paramètres!M240=\"\",\"\",[2]Paramètres!M240)","v":0.72},{"$f":"IF([2]Paramètres!N240=\"\",\"\",[2]Paramètres!N240)","v":0.7},{"$f":"IF([2]Paramètres!O240=\"\",\"\",[2]Paramètres!O240)","v":17.8},{"$f":"IF([2]Paramètres!P240=\"\",\"\",[2]Paramètres!P240)","v":23.3},{"$f":"IF([2]Paramètres!Q240=\"\",\"\",[2]Paramètres!Q240)","v":"Haute"},{"$f":"IF([2]Paramètres!R240=\"\",\"\",[2]Paramètres!R240)","v":""},{"$f":"IF([2]Paramètres!S240=\"\",\"\",[2]Paramètres!S240)","v":""},{"$f":"IF([2]Paramètres!T240=\"\",\"\",[2]Paramètres!T240)","v":""},{"$f":"IF([2]Paramètres!U240=\"\",\"\",[2]Paramètres!U240)","v":""},{"$f":"IF([2]Paramètres!V240=\"\",\"\",[2]Paramètres!V240)","v":""},{"$f":"IF([2]Paramètres!W240=\"\",\"\",[2]Paramètres!W240)","v":""},{"$f":"IF([2]Paramètres!X240=\"\",\"\",[2]Paramètres!X240)","v":""},{"$f":"IF([2]Paramètres!Y240=\"\",\"\",[2]Paramètres!Y240)","v":""},{"$f":"IF([2]Paramètres!Z240=\"\",\"\",[2]Paramètres!Z240)","v":""}]
[{"$f":"IF([2]Paramètres!A241=\"\",\"\",[2]Paramètres!A241)","v":""},{"$f":"IF([2]Paramètres!B241=\"\",\"\",[2]Paramètres!B241)","v":""},{"$f":"IF([2]Paramètres!C241=\"\",\"\",[2]Paramètres!C241)","v":""},{"$f":"IF([2]Paramètres!D241=\"\",\"\",[2]Paramètres!D241)","v":""},{"$f":"IF([2]Paramètres!E241=\"\",\"\",[2]Paramètres!E241)","v":""},{"$f":"IF([2]Paramètres!F241=\"\",\"\",[2]Paramètres!F241)","v":""},{"$f":"IF([2]Paramètres!G241=\"\",\"\",[2]Paramètres!G241)","v":""},{"$f":"IF([2]Paramètres!H241=\"\",\"\",[2]Paramètres!H241)","v":""},{"$f":"IF([2]Paramètres!I241=\"\",\"\",[2]Paramètres!I241)","v":""},{"$f":"IF([2]Paramètres!J241=\"\",\"\",[2]Paramètres!J241)","v":"Wyeast 1214 - Belgian Abbey Style Ale"},{"$f":"IF([2]Paramètres!K241=\"\",\"\",[2]Paramètres!K241)","v":"Liquide"},{"$f":"IF([2]Paramètres!L241=\"\",\"\",[2]Paramètres!L241)","v":0.74},{"$f":"IF([2]Paramètres!M241=\"\",\"\",[2]Paramètres!M241)","v":0.78},{"$f":"IF([2]Paramètres!N241=\"\",\"\",[2]Paramètres!N241)","v":0.76},{"$f":"IF([2]Paramètres!O241=\"\",\"\",[2]Paramètres!O241)","v":20},{"$f":"IF([2]Paramètres!P241=\"\",\"\",[2]Paramètres!P241)","v":25.6},{"$f":"IF([2]Paramètres!Q241=\"\",\"\",[2]Paramètres!Q241)","v":"Basse - Moyenne"},{"$f":"IF([2]Paramètres!R241=\"\",\"\",[2]Paramètres!R241)","v":""},{"$f":"IF([2]Paramètres!S241=\"\",\"\",[2]Paramètres!S241)","v":""},{"$f":"IF([2]Paramètres!T241=\"\",\"\",[2]Paramètres!T241)","v":""},{"$f":"IF([2]Paramètres!U241=\"\",\"\",[2]Paramètres!U241)","v":""},{"$f":"IF([2]Paramètres!V241=\"\",\"\",[2]Paramètres!V241)","v":""},{"$f":"IF([2]Paramètres!W241=\"\",\"\",[2]Paramètres!W241)","v":""},{"$f":"IF([2]Paramètres!X241=\"\",\"\",[2]Paramètres!X241)","v":""},{"$f":"IF([2]Paramètres!Y241=\"\",\"\",[2]Paramètres!Y241)","v":""},{"$f":"IF([2]Paramètres!Z241=\"\",\"\",[2]Paramètres!Z241)","v":""}]
[{"$f":"IF([2]Paramètres!A242=\"\",\"\",[2]Paramètres!A242)","v":""},{"$f":"IF([2]Paramètres!B242=\"\",\"\",[2]Paramètres!B242)","v":""},{"$f":"IF([2]Paramètres!C242=\"\",\"\",[2]Paramètres!C242)","v":""},{"$f":"IF([2]Paramètres!D242=\"\",\"\",[2]Paramètres!D242)","v":""},{"$f":"IF([2]Paramètres!E242=\"\",\"\",[2]Paramètres!E242)","v":""},{"$f":"IF([2]Paramètres!F242=\"\",\"\",[2]Paramètres!F242)","v":""},{"$f":"IF([2]Paramètres!G242=\"\",\"\",[2]Paramètres!G242)","v":""},{"$f":"IF([2]Paramètres!H242=\"\",\"\",[2]Paramètres!H242)","v":""},{"$f":"IF([2]Paramètres!I242=\"\",\"\",[2]Paramètres!I242)","v":""},{"$f":"IF([2]Paramètres!J242=\"\",\"\",[2]Paramètres!J242)","v":"Wyeast 1272 - American Ale II"},{"$f":"IF([2]Paramètres!K242=\"\",\"\",[2]Paramètres!K242)","v":"Liquide"},{"$f":"IF([2]Paramètres!L242=\"\",\"\",[2]Paramètres!L242)","v":0.72},{"$f":"IF([2]Paramètres!M242=\"\",\"\",[2]Paramètres!M242)","v":0.76},{"$f":"IF([2]Paramètres!N242=\"\",\"\",[2]Paramètres!N242)","v":0.74},{"$f":"IF([2]Paramètres!O242=\"\",\"\",[2]Paramètres!O242)","v":15.6},{"$f":"IF([2]Paramètres!P242=\"\",\"\",[2]Paramètres!P242)","v":22.2},{"$f":"IF([2]Paramètres!Q242=\"\",\"\",[2]Paramètres!Q242)","v":"Moyenne"},{"$f":"IF([2]Paramètres!R242=\"\",\"\",[2]Paramètres!R242)","v":""},{"$f":"IF([2]Paramètres!S242=\"\",\"\",[2]Paramètres!S242)","v":""},{"$f":"IF([2]Paramètres!T242=\"\",\"\",[2]Paramètres!T242)","v":""},{"$f":"IF([2]Paramètres!U242=\"\",\"\",[2]Paramètres!U242)","v":""},{"$f":"IF([2]Paramètres!V242=\"\",\"\",[2]Paramètres!V242)","v":""},{"$f":"IF([2]Paramètres!W242=\"\",\"\",[2]Paramètres!W242)","v":""},{"$f":"IF([2]Paramètres!X242=\"\",\"\",[2]Paramètres!X242)","v":""},{"$f":"IF([2]Paramètres!Y242=\"\",\"\",[2]Paramètres!Y242)","v":""},{"$f":"IF([2]Paramètres!Z242=\"\",\"\",[2]Paramètres!Z242)","v":""}]
[{"$f":"IF([2]Paramètres!A243=\"\",\"\",[2]Paramètres!A243)","v":""},{"$f":"IF([2]Paramètres!B243=\"\",\"\",[2]Paramètres!B243)","v":""},{"$f":"IF([2]Paramètres!C243=\"\",\"\",[2]Paramètres!C243)","v":""},{"$f":"IF([2]Paramètres!D243=\"\",\"\",[2]Paramètres!D243)","v":""},{"$f":"IF([2]Paramètres!E243=\"\",\"\",[2]Paramètres!E243)","v":""},{"$f":"IF([2]Paramètres!F243=\"\",\"\",[2]Paramètres!F243)","v":""},{"$f":"IF([2]Paramètres!G243=\"\",\"\",[2]Paramètres!G243)","v":""},{"$f":"IF([2]Paramètres!H243=\"\",\"\",[2]Paramètres!H243)","v":""},{"$f":"IF([2]Paramètres!I243=\"\",\"\",[2]Paramètres!I243)","v":""},{"$f":"IF([2]Paramètres!J243=\"\",\"\",[2]Paramètres!J243)","v":"Wyeast 1275 - Thames Valley Ale"},{"$f":"IF([2]Paramètres!K243=\"\",\"\",[2]Paramètres!K243)","v":"Liquide"},{"$f":"IF([2]Paramètres!L243=\"\",\"\",[2]Paramètres!L243)","v":0.72},{"$f":"IF([2]Paramètres!M243=\"\",\"\",[2]Paramètres!M243)","v":0.76},{"$f":"IF([2]Paramètres!N243=\"\",\"\",[2]Paramètres!N243)","v":0.74},{"$f":"IF([2]Paramètres!O243=\"\",\"\",[2]Paramètres!O243)","v":16.7},{"$f":"IF([2]Paramètres!P243=\"\",\"\",[2]Paramètres!P243)","v":22.2},{"$f":"IF([2]Paramètres!Q243=\"\",\"\",[2]Paramètres!Q243)","v":"Basse - Moyenne"},{"$f":"IF([2]Paramètres!R243=\"\",\"\",[2]Paramètres!R243)","v":""},{"$f":"IF([2]Paramètres!S243=\"\",\"\",[2]Paramètres!S243)","v":""},{"$f":"IF([2]Paramètres!T243=\"\",\"\",[2]Paramètres!T243)","v":""},{"$f":"IF([2]Paramètres!U243=\"\",\"\",[2]Paramètres!U243)","v":""},{"$f":"IF([2]Paramètres!V243=\"\",\"\",[2]Paramètres!V243)","v":""},{"$f":"IF([2]Paramètres!W243=\"\",\"\",[2]Paramètres!W243)","v":""},{"$f":"IF([2]Paramètres!X243=\"\",\"\",[2]Paramètres!X243)","v":""},{"$f":"IF([2]Paramètres!Y243=\"\",\"\",[2]Paramètres!Y243)","v":""},{"$f":"IF([2]Paramètres!Z243=\"\",\"\",[2]Paramètres!Z243)","v":""}]
[{"$f":"IF([2]Paramètres!A244=\"\",\"\",[2]Paramètres!A244)","v":""},{"$f":"IF([2]Paramètres!B244=\"\",\"\",[2]Paramètres!B244)","v":""},{"$f":"IF([2]Paramètres!C244=\"\",\"\",[2]Paramètres!C244)","v":""},{"$f":"IF([2]Paramètres!D244=\"\",\"\",[2]Paramètres!D244)","v":""},{"$f":"IF([2]Paramètres!E244=\"\",\"\",[2]Paramètres!E244)","v":""},{"$f":"IF([2]Paramètres!F244=\"\",\"\",[2]Paramètres!F244)","v":""},{"$f":"IF([2]Paramètres!G244=\"\",\"\",[2]Paramètres!G244)","v":""},{"$f":"IF([2]Paramètres!H244=\"\",\"\",[2]Paramètres!H244)","v":""},{"$f":"IF([2]Paramètres!I244=\"\",\"\",[2]Paramètres!I244)","v":""},{"$f":"IF([2]Paramètres!J244=\"\",\"\",[2]Paramètres!J244)","v":"Wyeast 1335 - British Ale II"},{"$f":"IF([2]Paramètres!K244=\"\",\"\",[2]Paramètres!K244)","v":"Liquide"},{"$f":"IF([2]Paramètres!L244=\"\",\"\",[2]Paramètres!L244)","v":0.73},{"$f":"IF([2]Paramètres!M244=\"\",\"\",[2]Paramètres!M244)","v":0.76},{"$f":"IF([2]Paramètres!N244=\"\",\"\",[2]Paramètres!N244)","v":0.745},{"$f":"IF([2]Paramètres!O244=\"\",\"\",[2]Paramètres!O244)","v":22.8},{"$f":"IF([2]Paramètres!P244=\"\",\"\",[2]Paramètres!P244)","v":24.4},{"$f":"IF([2]Paramètres!Q244=\"\",\"\",[2]Paramètres!Q244)","v":"Haute"},{"$f":"IF([2]Paramètres!R244=\"\",\"\",[2]Paramètres!R244)","v":""},{"$f":"IF([2]Paramètres!S244=\"\",\"\",[2]Paramètres!S244)","v":""},{"$f":"IF([2]Paramètres!T244=\"\",\"\",[2]Paramètres!T244)","v":""},{"$f":"IF([2]Paramètres!U244=\"\",\"\",[2]Paramètres!U244)","v":""},{"$f":"IF([2]Paramètres!V244=\"\",\"\",[2]Paramètres!V244)","v":""},{"$f":"IF([2]Paramètres!W244=\"\",\"\",[2]Paramètres!W244)","v":""},{"$f":"IF([2]Paramètres!X244=\"\",\"\",[2]Paramètres!X244)","v":""},{"$f":"IF([2]Paramètres!Y244=\"\",\"\",[2]Paramètres!Y244)","v":""},{"$f":"IF([2]Paramètres!Z244=\"\",\"\",[2]Paramètres!Z244)","v":""}]
[{"$f":"IF([2]Paramètres!A245=\"\",\"\",[2]Paramètres!A245)","v":""},{"$f":"IF([2]Paramètres!B245=\"\",\"\",[2]Paramètres!B245)","v":""},{"$f":"IF([2]Paramètres!C245=\"\",\"\",[2]Paramètres!C245)","v":""},{"$f":"IF([2]Paramètres!D245=\"\",\"\",[2]Paramètres!D245)","v":""},{"$f":"IF([2]Paramètres!E245=\"\",\"\",[2]Paramètres!E245)","v":""},{"$f":"IF([2]Paramètres!F245=\"\",\"\",[2]Paramètres!F245)","v":""},{"$f":"IF([2]Paramètres!G245=\"\",\"\",[2]Paramètres!G245)","v":""},{"$f":"IF([2]Paramètres!H245=\"\",\"\",[2]Paramètres!H245)","v":""},{"$f":"IF([2]Paramètres!I245=\"\",\"\",[2]Paramètres!I245)","v":""},{"$f":"IF([2]Paramètres!J245=\"\",\"\",[2]Paramètres!J245)","v":"Wyeast 1388 - Belgian Strong Ale"},{"$f":"IF([2]Paramètres!K245=\"\",\"\",[2]Paramètres!K245)","v":"Liquide"},{"$f":"IF([2]Paramètres!L245=\"\",\"\",[2]Paramètres!L245)","v":0.74},{"$f":"IF([2]Paramètres!M245=\"\",\"\",[2]Paramètres!M245)","v":0.78},{"$f":"IF([2]Paramètres!N245=\"\",\"\",[2]Paramètres!N245)","v":0.76},{"$f":"IF([2]Paramètres!O245=\"\",\"\",[2]Paramètres!O245)","v":17.8},{"$f":"IF([2]Paramètres!P245=\"\",\"\",[2]Paramètres!P245)","v":26.7},{"$f":"IF([2]Paramètres!Q245=\"\",\"\",[2]Paramètres!Q245)","v":"Basse"},{"$f":"IF([2]Paramètres!R245=\"\",\"\",[2]Paramètres!R245)","v":""},{"$f":"IF([2]Paramètres!S245=\"\",\"\",[2]Paramètres!S245)","v":""},{"$f":"IF([2]Paramètres!T245=\"\",\"\",[2]Paramètres!T245)","v":""},{"$f":"IF([2]Paramètres!U245=\"\",\"\",[2]Paramètres!U245)","v":""},{"$f":"IF([2]Paramètres!V245=\"\",\"\",[2]Paramètres!V245)","v":""},{"$f":"IF([2]Paramètres!W245=\"\",\"\",[2]Paramètres!W245)","v":""},{"$f":"IF([2]Paramètres!X245=\"\",\"\",[2]Paramètres!X245)","v":""},{"$f":"IF([2]Paramètres!Y245=\"\",\"\",[2]Paramètres!Y245)","v":""},{"$f":"IF([2]Paramètres!Z245=\"\",\"\",[2]Paramètres!Z245)","v":""}]
[{"$f":"IF([2]Paramètres!A246=\"\",\"\",[2]Paramètres!A246)","v":""},{"$f":"IF([2]Paramètres!B246=\"\",\"\",[2]Paramètres!B246)","v":""},{"$f":"IF([2]Paramètres!C246=\"\",\"\",[2]Paramètres!C246)","v":""},{"$f":"IF([2]Paramètres!D246=\"\",\"\",[2]Paramètres!D246)","v":""},{"$f":"IF([2]Paramètres!E246=\"\",\"\",[2]Paramètres!E246)","v":""},{"$f":"IF([2]Paramètres!F246=\"\",\"\",[2]Paramètres!F246)","v":""},{"$f":"IF([2]Paramètres!G246=\"\",\"\",[2]Paramètres!G246)","v":""},{"$f":"IF([2]Paramètres!H246=\"\",\"\",[2]Paramètres!H246)","v":""},{"$f":"IF([2]Paramètres!I246=\"\",\"\",[2]Paramètres!I246)","v":""},{"$f":"IF([2]Paramètres!J246=\"\",\"\",[2]Paramètres!J246)","v":"Wyeast 1728 - Scottish Ale"},{"$f":"IF([2]Paramètres!K246=\"\",\"\",[2]Paramètres!K246)","v":"Liquide"},{"$f":"IF([2]Paramètres!L246=\"\",\"\",[2]Paramètres!L246)","v":0.69},{"$f":"IF([2]Paramètres!M246=\"\",\"\",[2]Paramètres!M246)","v":0.73},{"$f":"IF([2]Paramètres!N246=\"\",\"\",[2]Paramètres!N246)","v":0.71},{"$f":"IF([2]Paramètres!O246=\"\",\"\",[2]Paramètres!O246)","v":12.8},{"$f":"IF([2]Paramètres!P246=\"\",\"\",[2]Paramètres!P246)","v":23.9},{"$f":"IF([2]Paramètres!Q246=\"\",\"\",[2]Paramètres!Q246)","v":"Haute"},{"$f":"IF([2]Paramètres!R246=\"\",\"\",[2]Paramètres!R246)","v":""},{"$f":"IF([2]Paramètres!S246=\"\",\"\",[2]Paramètres!S246)","v":""},{"$f":"IF([2]Paramètres!T246=\"\",\"\",[2]Paramètres!T246)","v":""},{"$f":"IF([2]Paramètres!U246=\"\",\"\",[2]Paramètres!U246)","v":""},{"$f":"IF([2]Paramètres!V246=\"\",\"\",[2]Paramètres!V246)","v":""},{"$f":"IF([2]Paramètres!W246=\"\",\"\",[2]Paramètres!W246)","v":""},{"$f":"IF([2]Paramètres!X246=\"\",\"\",[2]Paramètres!X246)","v":""},{"$f":"IF([2]Paramètres!Y246=\"\",\"\",[2]Paramètres!Y246)","v":""},{"$f":"IF([2]Paramètres!Z246=\"\",\"\",[2]Paramètres!Z246)","v":""}]
[{"$f":"IF([2]Paramètres!A247=\"\",\"\",[2]Paramètres!A247)","v":""},{"$f":"IF([2]Paramètres!B247=\"\",\"\",[2]Paramètres!B247)","v":""},{"$f":"IF([2]Paramètres!C247=\"\",\"\",[2]Paramètres!C247)","v":""},{"$f":"IF([2]Paramètres!D247=\"\",\"\",[2]Paramètres!D247)","v":""},{"$f":"IF([2]Paramètres!E247=\"\",\"\",[2]Paramètres!E247)","v":""},{"$f":"IF([2]Paramètres!F247=\"\",\"\",[2]Paramètres!F247)","v":""},{"$f":"IF([2]Paramètres!G247=\"\",\"\",[2]Paramètres!G247)","v":""},{"$f":"IF([2]Paramètres!H247=\"\",\"\",[2]Paramètres!H247)","v":""},{"$f":"IF([2]Paramètres!I247=\"\",\"\",[2]Paramètres!I247)","v":""},{"$f":"IF([2]Paramètres!J247=\"\",\"\",[2]Paramètres!J247)","v":"Wyeast 1762 - Belgian Abbey Style Ale II"},{"$f":"IF([2]Paramètres!K247=\"\",\"\",[2]Paramètres!K247)","v":"Liquide"},{"$f":"IF([2]Paramètres!L247=\"\",\"\",[2]Paramètres!L247)","v":0.73},{"$f":"IF([2]Paramètres!M247=\"\",\"\",[2]Paramètres!M247)","v":0.77},{"$f":"IF([2]Paramètres!N247=\"\",\"\",[2]Paramètres!N247)","v":0.75},{"$f":"IF([2]Paramètres!O247=\"\",\"\",[2]Paramètres!O247)","v":18.3},{"$f":"IF([2]Paramètres!P247=\"\",\"\",[2]Paramètres!P247)","v":23.9},{"$f":"IF([2]Paramètres!Q247=\"\",\"\",[2]Paramètres!Q247)","v":"Moyenne"},{"$f":"IF([2]Paramètres!R247=\"\",\"\",[2]Paramètres!R247)","v":""},{"$f":"IF([2]Paramètres!S247=\"\",\"\",[2]Paramètres!S247)","v":""},{"$f":"IF([2]Paramètres!T247=\"\",\"\",[2]Paramètres!T247)","v":""},{"$f":"IF([2]Paramètres!U247=\"\",\"\",[2]Paramètres!U247)","v":""},{"$f":"IF([2]Paramètres!V247=\"\",\"\",[2]Paramètres!V247)","v":""},{"$f":"IF([2]Paramètres!W247=\"\",\"\",[2]Paramètres!W247)","v":""},{"$f":"IF([2]Paramètres!X247=\"\",\"\",[2]Paramètres!X247)","v":""},{"$f":"IF([2]Paramètres!Y247=\"\",\"\",[2]Paramètres!Y247)","v":""},{"$f":"IF([2]Paramètres!Z247=\"\",\"\",[2]Paramètres!Z247)","v":""}]
[{"$f":"IF([2]Paramètres!A248=\"\",\"\",[2]Paramètres!A248)","v":""},{"$f":"IF([2]Paramètres!B248=\"\",\"\",[2]Paramètres!B248)","v":""},{"$f":"IF([2]Paramètres!C248=\"\",\"\",[2]Paramètres!C248)","v":""},{"$f":"IF([2]Paramètres!D248=\"\",\"\",[2]Paramètres!D248)","v":""},{"$f":"IF([2]Paramètres!E248=\"\",\"\",[2]Paramètres!E248)","v":""},{"$f":"IF([2]Paramètres!F248=\"\",\"\",[2]Paramètres!F248)","v":""},{"$f":"IF([2]Paramètres!G248=\"\",\"\",[2]Paramètres!G248)","v":""},{"$f":"IF([2]Paramètres!H248=\"\",\"\",[2]Paramètres!H248)","v":""},{"$f":"IF([2]Paramètres!I248=\"\",\"\",[2]Paramètres!I248)","v":""},{"$f":"IF([2]Paramètres!J248=\"\",\"\",[2]Paramètres!J248)","v":"Wyeast 1968 - London ESB Ale"},{"$f":"IF([2]Paramètres!K248=\"\",\"\",[2]Paramètres!K248)","v":"Liquide"},{"$f":"IF([2]Paramètres!L248=\"\",\"\",[2]Paramètres!L248)","v":0.67},{"$f":"IF([2]Paramètres!M248=\"\",\"\",[2]Paramètres!M248)","v":0.71},{"$f":"IF([2]Paramètres!N248=\"\",\"\",[2]Paramètres!N248)","v":0.69},{"$f":"IF([2]Paramètres!O248=\"\",\"\",[2]Paramètres!O248)","v":17.8},{"$f":"IF([2]Paramètres!P248=\"\",\"\",[2]Paramètres!P248)","v":22.2},{"$f":"IF([2]Paramètres!Q248=\"\",\"\",[2]Paramètres!Q248)","v":"Haute"},{"$f":"IF([2]Paramètres!R248=\"\",\"\",[2]Paramètres!R248)","v":""},{"$f":"IF([2]Paramètres!S248=\"\",\"\",[2]Paramètres!S248)","v":""},{"$f":"IF([2]Paramètres!T248=\"\",\"\",[2]Paramètres!T248)","v":""},{"$f":"IF([2]Paramètres!U248=\"\",\"\",[2]Paramètres!U248)","v":""},{"$f":"IF([2]Paramètres!V248=\"\",\"\",[2]Paramètres!V248)","v":""},{"$f":"IF([2]Paramètres!W248=\"\",\"\",[2]Paramètres!W248)","v":""},{"$f":"IF([2]Paramètres!X248=\"\",\"\",[2]Paramètres!X248)","v":""},{"$f":"IF([2]Paramètres!Y248=\"\",\"\",[2]Paramètres!Y248)","v":""},{"$f":"IF([2]Paramètres!Z248=\"\",\"\",[2]Paramètres!Z248)","v":""}]
[{"$f":"IF([2]Paramètres!A249=\"\",\"\",[2]Paramètres!A249)","v":""},{"$f":"IF([2]Paramètres!B249=\"\",\"\",[2]Paramètres!B249)","v":""},{"$f":"IF([2]Paramètres!C249=\"\",\"\",[2]Paramètres!C249)","v":""},{"$f":"IF([2]Paramètres!D249=\"\",\"\",[2]Paramètres!D249)","v":""},{"$f":"IF([2]Paramètres!E249=\"\",\"\",[2]Paramètres!E249)","v":""},{"$f":"IF([2]Paramètres!F249=\"\",\"\",[2]Paramètres!F249)","v":""},{"$f":"IF([2]Paramètres!G249=\"\",\"\",[2]Paramètres!G249)","v":""},{"$f":"IF([2]Paramètres!H249=\"\",\"\",[2]Paramètres!H249)","v":""},{"$f":"IF([2]Paramètres!I249=\"\",\"\",[2]Paramètres!I249)","v":""},{"$f":"IF([2]Paramètres!J249=\"\",\"\",[2]Paramètres!J249)","v":"Wyeast 2001 - Pilsner Urquell H-Strain"},{"$f":"IF([2]Paramètres!K249=\"\",\"\",[2]Paramètres!K249)","v":"Liquide"},{"$f":"IF([2]Paramètres!L249=\"\",\"\",[2]Paramètres!L249)","v":0.72},{"$f":"IF([2]Paramètres!M249=\"\",\"\",[2]Paramètres!M249)","v":0.76},{"$f":"IF([2]Paramètres!N249=\"\",\"\",[2]Paramètres!N249)","v":0.74},{"$f":"IF([2]Paramètres!O249=\"\",\"\",[2]Paramètres!O249)","v":8.9},{"$f":"IF([2]Paramètres!P249=\"\",\"\",[2]Paramètres!P249)","v":13.3},{"$f":"IF([2]Paramètres!Q249=\"\",\"\",[2]Paramètres!Q249)","v":"Moyenne - Haute"},{"$f":"IF([2]Paramètres!R249=\"\",\"\",[2]Paramètres!R249)","v":""},{"$f":"IF([2]Paramètres!S249=\"\",\"\",[2]Paramètres!S249)","v":""},{"$f":"IF([2]Paramètres!T249=\"\",\"\",[2]Paramètres!T249)","v":""},{"$f":"IF([2]Paramètres!U249=\"\",\"\",[2]Paramètres!U249)","v":""},{"$f":"IF([2]Paramètres!V249=\"\",\"\",[2]Paramètres!V249)","v":""},{"$f":"IF([2]Paramètres!W249=\"\",\"\",[2]Paramètres!W249)","v":""},{"$f":"IF([2]Paramètres!X249=\"\",\"\",[2]Paramètres!X249)","v":""},{"$f":"IF([2]Paramètres!Y249=\"\",\"\",[2]Paramètres!Y249)","v":""},{"$f":"IF([2]Paramètres!Z249=\"\",\"\",[2]Paramètres!Z249)","v":""}]
[{"$f":"IF([2]Paramètres!A250=\"\",\"\",[2]Paramètres!A250)","v":""},{"$f":"IF([2]Paramètres!B250=\"\",\"\",[2]Paramètres!B250)","v":""},{"$f":"IF([2]Paramètres!C250=\"\",\"\",[2]Paramètres!C250)","v":""},{"$f":"IF([2]Paramètres!D250=\"\",\"\",[2]Paramètres!D250)","v":""},{"$f":"IF([2]Paramètres!E250=\"\",\"\",[2]Paramètres!E250)","v":""},{"$f":"IF([2]Paramètres!F250=\"\",\"\",[2]Paramètres!F250)","v":""},{"$f":"IF([2]Paramètres!G250=\"\",\"\",[2]Paramètres!G250)","v":""},{"$f":"IF([2]Paramètres!H250=\"\",\"\",[2]Paramètres!H250)","v":""},{"$f":"IF([2]Paramètres!I250=\"\",\"\",[2]Paramètres!I250)","v":""},{"$f":"IF([2]Paramètres!J250=\"\",\"\",[2]Paramètres!J250)","v":"Wyeast 2007 - Pilsen Lager"},{"$f":"IF([2]Paramètres!K250=\"\",\"\",[2]Paramètres!K250)","v":"Liquide"},{"$f":"IF([2]Paramètres!L250=\"\",\"\",[2]Paramètres!L250)","v":0.71},{"$f":"IF([2]Paramètres!M250=\"\",\"\",[2]Paramètres!M250)","v":0.75},{"$f":"IF([2]Paramètres!N250=\"\",\"\",[2]Paramètres!N250)","v":0.73},{"$f":"IF([2]Paramètres!O250=\"\",\"\",[2]Paramètres!O250)","v":9},{"$f":"IF([2]Paramètres!P250=\"\",\"\",[2]Paramètres!P250)","v":13},{"$f":"IF([2]Paramètres!Q250=\"\",\"\",[2]Paramètres!Q250)","v":"Moyenne"},{"$f":"IF([2]Paramètres!R250=\"\",\"\",[2]Paramètres!R250)","v":""},{"$f":"IF([2]Paramètres!S250=\"\",\"\",[2]Paramètres!S250)","v":""},{"$f":"IF([2]Paramètres!T250=\"\",\"\",[2]Paramètres!T250)","v":""},{"$f":"IF([2]Paramètres!U250=\"\",\"\",[2]Paramètres!U250)","v":""},{"$f":"IF([2]Paramètres!V250=\"\",\"\",[2]Paramètres!V250)","v":""},{"$f":"IF([2]Paramètres!W250=\"\",\"\",[2]Paramètres!W250)","v":""},{"$f":"IF([2]Paramètres!X250=\"\",\"\",[2]Paramètres!X250)","v":""},{"$f":"IF([2]Paramètres!Y250=\"\",\"\",[2]Paramètres!Y250)","v":""},{"$f":"IF([2]Paramètres!Z250=\"\",\"\",[2]Paramètres!Z250)","v":""}]
[{"$f":"IF([2]Paramètres!A251=\"\",\"\",[2]Paramètres!A251)","v":""},{"$f":"IF([2]Paramètres!B251=\"\",\"\",[2]Paramètres!B251)","v":""},{"$f":"IF([2]Paramètres!C251=\"\",\"\",[2]Paramètres!C251)","v":""},{"$f":"IF([2]Paramètres!D251=\"\",\"\",[2]Paramètres!D251)","v":""},{"$f":"IF([2]Paramètres!E251=\"\",\"\",[2]Paramètres!E251)","v":""},{"$f":"IF([2]Paramètres!F251=\"\",\"\",[2]Paramètres!F251)","v":""},{"$f":"IF([2]Paramètres!G251=\"\",\"\",[2]Paramètres!G251)","v":""},{"$f":"IF([2]Paramètres!H251=\"\",\"\",[2]Paramètres!H251)","v":""},{"$f":"IF([2]Paramètres!I251=\"\",\"\",[2]Paramètres!I251)","v":""},{"$f":"IF([2]Paramètres!J251=\"\",\"\",[2]Paramètres!J251)","v":"Wyeast 2112 - California Lager"},{"$f":"IF([2]Paramètres!K251=\"\",\"\",[2]Paramètres!K251)","v":"Liquide"},{"$f":"IF([2]Paramètres!L251=\"\",\"\",[2]Paramètres!L251)","v":0.67},{"$f":"IF([2]Paramètres!M251=\"\",\"\",[2]Paramètres!M251)","v":0.71},{"$f":"IF([2]Paramètres!N251=\"\",\"\",[2]Paramètres!N251)","v":0.69},{"$f":"IF([2]Paramètres!O251=\"\",\"\",[2]Paramètres!O251)","v":14},{"$f":"IF([2]Paramètres!P251=\"\",\"\",[2]Paramètres!P251)","v":20},{"$f":"IF([2]Paramètres!Q251=\"\",\"\",[2]Paramètres!Q251)","v":"Haute"},{"$f":"IF([2]Paramètres!R251=\"\",\"\",[2]Paramètres!R251)","v":""},{"$f":"IF([2]Paramètres!S251=\"\",\"\",[2]Paramètres!S251)","v":""},{"$f":"IF([2]Paramètres!T251=\"\",\"\",[2]Paramètres!T251)","v":""},{"$f":"IF([2]Paramètres!U251=\"\",\"\",[2]Paramètres!U251)","v":""},{"$f":"IF([2]Paramètres!V251=\"\",\"\",[2]Paramètres!V251)","v":""},{"$f":"IF([2]Paramètres!W251=\"\",\"\",[2]Paramètres!W251)","v":""},{"$f":"IF([2]Paramètres!X251=\"\",\"\",[2]Paramètres!X251)","v":""},{"$f":"IF([2]Paramètres!Y251=\"\",\"\",[2]Paramètres!Y251)","v":""},{"$f":"IF([2]Paramètres!Z251=\"\",\"\",[2]Paramètres!Z251)","v":""}]
[{"$f":"IF([2]Paramètres!A252=\"\",\"\",[2]Paramètres!A252)","v":""},{"$f":"IF([2]Paramètres!B252=\"\",\"\",[2]Paramètres!B252)","v":""},{"$f":"IF([2]Paramètres!C252=\"\",\"\",[2]Paramètres!C252)","v":""},{"$f":"IF([2]Paramètres!D252=\"\",\"\",[2]Paramètres!D252)","v":""},{"$f":"IF([2]Paramètres!E252=\"\",\"\",[2]Paramètres!E252)","v":""},{"$f":"IF([2]Paramètres!F252=\"\",\"\",[2]Paramètres!F252)","v":""},{"$f":"IF([2]Paramètres!G252=\"\",\"\",[2]Paramètres!G252)","v":""},{"$f":"IF([2]Paramètres!H252=\"\",\"\",[2]Paramètres!H252)","v":""},{"$f":"IF([2]Paramètres!I252=\"\",\"\",[2]Paramètres!I252)","v":""},{"$f":"IF([2]Paramètres!J252=\"\",\"\",[2]Paramètres!J252)","v":"Wyeast 2124 - Bohemian Lager"},{"$f":"IF([2]Paramètres!K252=\"\",\"\",[2]Paramètres!K252)","v":"Liquide"},{"$f":"IF([2]Paramètres!L252=\"\",\"\",[2]Paramètres!L252)","v":0.73},{"$f":"IF([2]Paramètres!M252=\"\",\"\",[2]Paramètres!M252)","v":0.77},{"$f":"IF([2]Paramètres!N252=\"\",\"\",[2]Paramètres!N252)","v":0.75},{"$f":"IF([2]Paramètres!O252=\"\",\"\",[2]Paramètres!O252)","v":8},{"$f":"IF([2]Paramètres!P252=\"\",\"\",[2]Paramètres!P252)","v":22},{"$f":"IF([2]Paramètres!Q252=\"\",\"\",[2]Paramètres!Q252)","v":"Basse-Moyenne"},{"$f":"IF([2]Paramètres!R252=\"\",\"\",[2]Paramètres!R252)","v":""},{"$f":"IF([2]Paramètres!S252=\"\",\"\",[2]Paramètres!S252)","v":""},{"$f":"IF([2]Paramètres!T252=\"\",\"\",[2]Paramètres!T252)","v":""},{"$f":"IF([2]Paramètres!U252=\"\",\"\",[2]Paramètres!U252)","v":""},{"$f":"IF([2]Paramètres!V252=\"\",\"\",[2]Paramètres!V252)","v":""},{"$f":"IF([2]Paramètres!W252=\"\",\"\",[2]Paramètres!W252)","v":""},{"$f":"IF([2]Paramètres!X252=\"\",\"\",[2]Paramètres!X252)","v":""},{"$f":"IF([2]Paramètres!Y252=\"\",\"\",[2]Paramètres!Y252)","v":""},{"$f":"IF([2]Paramètres!Z252=\"\",\"\",[2]Paramètres!Z252)","v":""}]
[{"$f":"IF([2]Paramètres!A253=\"\",\"\",[2]Paramètres!A253)","v":""},{"$f":"IF([2]Paramètres!B253=\"\",\"\",[2]Paramètres!B253)","v":""},{"$f":"IF([2]Paramètres!C253=\"\",\"\",[2]Paramètres!C253)","v":""},{"$f":"IF([2]Paramètres!D253=\"\",\"\",[2]Paramètres!D253)","v":""},{"$f":"IF([2]Paramètres!E253=\"\",\"\",[2]Paramètres!E253)","v":""},{"$f":"IF([2]Paramètres!F253=\"\",\"\",[2]Paramètres!F253)","v":""},{"$f":"IF([2]Paramètres!G253=\"\",\"\",[2]Paramètres!G253)","v":""},{"$f":"IF([2]Paramètres!H253=\"\",\"\",[2]Paramètres!H253)","v":""},{"$f":"IF([2]Paramètres!I253=\"\",\"\",[2]Paramètres!I253)","v":""},{"$f":"IF([2]Paramètres!J253=\"\",\"\",[2]Paramètres!J253)","v":"Wyeast 2206 - Bavarian Lager"},{"$f":"IF([2]Paramètres!K253=\"\",\"\",[2]Paramètres!K253)","v":"Liquide"},{"$f":"IF([2]Paramètres!L253=\"\",\"\",[2]Paramètres!L253)","v":0.73},{"$f":"IF([2]Paramètres!M253=\"\",\"\",[2]Paramètres!M253)","v":0.77},{"$f":"IF([2]Paramètres!N253=\"\",\"\",[2]Paramètres!N253)","v":0.75},{"$f":"IF([2]Paramètres!O253=\"\",\"\",[2]Paramètres!O253)","v":8},{"$f":"IF([2]Paramètres!P253=\"\",\"\",[2]Paramètres!P253)","v":14},{"$f":"IF([2]Paramètres!Q253=\"\",\"\",[2]Paramètres!Q253)","v":"Moyenne - Haute"},{"$f":"IF([2]Paramètres!R253=\"\",\"\",[2]Paramètres!R253)","v":""},{"$f":"IF([2]Paramètres!S253=\"\",\"\",[2]Paramètres!S253)","v":""},{"$f":"IF([2]Paramètres!T253=\"\",\"\",[2]Paramètres!T253)","v":""},{"$f":"IF([2]Paramètres!U253=\"\",\"\",[2]Paramètres!U253)","v":""},{"$f":"IF([2]Paramètres!V253=\"\",\"\",[2]Paramètres!V253)","v":""},{"$f":"IF([2]Paramètres!W253=\"\",\"\",[2]Paramètres!W253)","v":""},{"$f":"IF([2]Paramètres!X253=\"\",\"\",[2]Paramètres!X253)","v":""},{"$f":"IF([2]Paramètres!Y253=\"\",\"\",[2]Paramètres!Y253)","v":""},{"$f":"IF([2]Paramètres!Z253=\"\",\"\",[2]Paramètres!Z253)","v":""}]
[{"$f":"IF([2]Paramètres!A254=\"\",\"\",[2]Paramètres!A254)","v":""},{"$f":"IF([2]Paramètres!B254=\"\",\"\",[2]Paramètres!B254)","v":""},{"$f":"IF([2]Paramètres!C254=\"\",\"\",[2]Paramètres!C254)","v":""},{"$f":"IF([2]Paramètres!D254=\"\",\"\",[2]Paramètres!D254)","v":""},{"$f":"IF([2]Paramètres!E254=\"\",\"\",[2]Paramètres!E254)","v":""},{"$f":"IF([2]Paramètres!F254=\"\",\"\",[2]Paramètres!F254)","v":""},{"$f":"IF([2]Paramètres!G254=\"\",\"\",[2]Paramètres!G254)","v":""},{"$f":"IF([2]Paramètres!H254=\"\",\"\",[2]Paramètres!H254)","v":""},{"$f":"IF([2]Paramètres!I254=\"\",\"\",[2]Paramètres!I254)","v":""},{"$f":"IF([2]Paramètres!J254=\"\",\"\",[2]Paramètres!J254)","v":"Wyeast 2247 - European Lager"},{"$f":"IF([2]Paramètres!K254=\"\",\"\",[2]Paramètres!K254)","v":"Liquide"},{"$f":"IF([2]Paramètres!L254=\"\",\"\",[2]Paramètres!L254)","v":0.73},{"$f":"IF([2]Paramètres!M254=\"\",\"\",[2]Paramètres!M254)","v":0.77},{"$f":"IF([2]Paramètres!N254=\"\",\"\",[2]Paramètres!N254)","v":0.75},{"$f":"IF([2]Paramètres!O254=\"\",\"\",[2]Paramètres!O254)","v":8},{"$f":"IF([2]Paramètres!P254=\"\",\"\",[2]Paramètres!P254)","v":13},{"$f":"IF([2]Paramètres!Q254=\"\",\"\",[2]Paramètres!Q254)","v":"Basse"},{"$f":"IF([2]Paramètres!R254=\"\",\"\",[2]Paramètres!R254)","v":""},{"$f":"IF([2]Paramètres!S254=\"\",\"\",[2]Paramètres!S254)","v":""},{"$f":"IF([2]Paramètres!T254=\"\",\"\",[2]Paramètres!T254)","v":""},{"$f":"IF([2]Paramètres!U254=\"\",\"\",[2]Paramètres!U254)","v":""},{"$f":"IF([2]Paramètres!V254=\"\",\"\",[2]Paramètres!V254)","v":""},{"$f":"IF([2]Paramètres!W254=\"\",\"\",[2]Paramètres!W254)","v":""},{"$f":"IF([2]Paramètres!X254=\"\",\"\",[2]Paramètres!X254)","v":""},{"$f":"IF([2]Paramètres!Y254=\"\",\"\",[2]Paramètres!Y254)","v":""},{"$f":"IF([2]Paramètres!Z254=\"\",\"\",[2]Paramètres!Z254)","v":""}]
[{"$f":"IF([2]Paramètres!A255=\"\",\"\",[2]Paramètres!A255)","v":""},{"$f":"IF([2]Paramètres!B255=\"\",\"\",[2]Paramètres!B255)","v":""},{"$f":"IF([2]Paramètres!C255=\"\",\"\",[2]Paramètres!C255)","v":""},{"$f":"IF([2]Paramètres!D255=\"\",\"\",[2]Paramètres!D255)","v":""},{"$f":"IF([2]Paramètres!E255=\"\",\"\",[2]Paramètres!E255)","v":""},{"$f":"IF([2]Paramètres!F255=\"\",\"\",[2]Paramètres!F255)","v":""},{"$f":"IF([2]Paramètres!G255=\"\",\"\",[2]Paramètres!G255)","v":""},{"$f":"IF([2]Paramètres!H255=\"\",\"\",[2]Paramètres!H255)","v":""},{"$f":"IF([2]Paramètres!I255=\"\",\"\",[2]Paramètres!I255)","v":""},{"$f":"IF([2]Paramètres!J255=\"\",\"\",[2]Paramètres!J255)","v":"Wyeast 2272 - North American Lager"},{"$f":"IF([2]Paramètres!K255=\"\",\"\",[2]Paramètres!K255)","v":"Liquide"},{"$f":"IF([2]Paramètres!L255=\"\",\"\",[2]Paramètres!L255)","v":0.7},{"$f":"IF([2]Paramètres!M255=\"\",\"\",[2]Paramètres!M255)","v":0.76},{"$f":"IF([2]Paramètres!N255=\"\",\"\",[2]Paramètres!N255)","v":0.73},{"$f":"IF([2]Paramètres!O255=\"\",\"\",[2]Paramètres!O255)","v":11},{"$f":"IF([2]Paramètres!P255=\"\",\"\",[2]Paramètres!P255)","v":14},{"$f":"IF([2]Paramètres!Q255=\"\",\"\",[2]Paramètres!Q255)","v":"Haute"},{"$f":"IF([2]Paramètres!R255=\"\",\"\",[2]Paramètres!R255)","v":""},{"$f":"IF([2]Paramètres!S255=\"\",\"\",[2]Paramètres!S255)","v":""},{"$f":"IF([2]Paramètres!T255=\"\",\"\",[2]Paramètres!T255)","v":""},{"$f":"IF([2]Paramètres!U255=\"\",\"\",[2]Paramètres!U255)","v":""},{"$f":"IF([2]Paramètres!V255=\"\",\"\",[2]Paramètres!V255)","v":""},{"$f":"IF([2]Paramètres!W255=\"\",\"\",[2]Paramètres!W255)","v":""},{"$f":"IF([2]Paramètres!X255=\"\",\"\",[2]Paramètres!X255)","v":""},{"$f":"IF([2]Paramètres!Y255=\"\",\"\",[2]Paramètres!Y255)","v":""},{"$f":"IF([2]Paramètres!Z255=\"\",\"\",[2]Paramètres!Z255)","v":""}]
[{"$f":"IF([2]Paramètres!A256=\"\",\"\",[2]Paramètres!A256)","v":""},{"$f":"IF([2]Paramètres!B256=\"\",\"\",[2]Paramètres!B256)","v":""},{"$f":"IF([2]Paramètres!C256=\"\",\"\",[2]Paramètres!C256)","v":""},{"$f":"IF([2]Paramètres!D256=\"\",\"\",[2]Paramètres!D256)","v":""},{"$f":"IF([2]Paramètres!E256=\"\",\"\",[2]Paramètres!E256)","v":""},{"$f":"IF([2]Paramètres!F256=\"\",\"\",[2]Paramètres!F256)","v":""},{"$f":"IF([2]Paramètres!G256=\"\",\"\",[2]Paramètres!G256)","v":""},{"$f":"IF([2]Paramètres!H256=\"\",\"\",[2]Paramètres!H256)","v":""},{"$f":"IF([2]Paramètres!I256=\"\",\"\",[2]Paramètres!I256)","v":""},{"$f":"IF([2]Paramètres!J256=\"\",\"\",[2]Paramètres!J256)","v":"Wyeast 2308 - Munich Lager"},{"$f":"IF([2]Paramètres!K256=\"\",\"\",[2]Paramètres!K256)","v":"Liquide"},{"$f":"IF([2]Paramètres!L256=\"\",\"\",[2]Paramètres!L256)","v":0.7},{"$f":"IF([2]Paramètres!M256=\"\",\"\",[2]Paramètres!M256)","v":0.74},{"$f":"IF([2]Paramètres!N256=\"\",\"\",[2]Paramètres!N256)","v":0.72},{"$f":"IF([2]Paramètres!O256=\"\",\"\",[2]Paramètres!O256)","v":9},{"$f":"IF([2]Paramètres!P256=\"\",\"\",[2]Paramètres!P256)","v":13},{"$f":"IF([2]Paramètres!Q256=\"\",\"\",[2]Paramètres!Q256)","v":"Moyenne"},{"$f":"IF([2]Paramètres!R256=\"\",\"\",[2]Paramètres!R256)","v":""},{"$f":"IF([2]Paramètres!S256=\"\",\"\",[2]Paramètres!S256)","v":""},{"$f":"IF([2]Paramètres!T256=\"\",\"\",[2]Paramètres!T256)","v":""},{"$f":"IF([2]Paramètres!U256=\"\",\"\",[2]Paramètres!U256)","v":""},{"$f":"IF([2]Paramètres!V256=\"\",\"\",[2]Paramètres!V256)","v":""},{"$f":"IF([2]Paramètres!W256=\"\",\"\",[2]Paramètres!W256)","v":""},{"$f":"IF([2]Paramètres!X256=\"\",\"\",[2]Paramètres!X256)","v":""},{"$f":"IF([2]Paramètres!Y256=\"\",\"\",[2]Paramètres!Y256)","v":""},{"$f":"IF([2]Paramètres!Z256=\"\",\"\",[2]Paramètres!Z256)","v":""}]
[{"$f":"IF([2]Paramètres!A257=\"\",\"\",[2]Paramètres!A257)","v":""},{"$f":"IF([2]Paramètres!B257=\"\",\"\",[2]Paramètres!B257)","v":""},{"$f":"IF([2]Paramètres!C257=\"\",\"\",[2]Paramètres!C257)","v":""},{"$f":"IF([2]Paramètres!D257=\"\",\"\",[2]Paramètres!D257)","v":""},{"$f":"IF([2]Paramètres!E257=\"\",\"\",[2]Paramètres!E257)","v":""},{"$f":"IF([2]Paramètres!F257=\"\",\"\",[2]Paramètres!F257)","v":""},{"$f":"IF([2]Paramètres!G257=\"\",\"\",[2]Paramètres!G257)","v":""},{"$f":"IF([2]Paramètres!H257=\"\",\"\",[2]Paramètres!H257)","v":""},{"$f":"IF([2]Paramètres!I257=\"\",\"\",[2]Paramètres!I257)","v":""},{"$f":"IF([2]Paramètres!J257=\"\",\"\",[2]Paramètres!J257)","v":"Wyeast 2352 - Munich Lager II"},{"$f":"IF([2]Paramètres!K257=\"\",\"\",[2]Paramètres!K257)","v":"Liquide"},{"$f":"IF([2]Paramètres!L257=\"\",\"\",[2]Paramètres!L257)","v":0.72},{"$f":"IF([2]Paramètres!M257=\"\",\"\",[2]Paramètres!M257)","v":0.74},{"$f":"IF([2]Paramètres!N257=\"\",\"\",[2]Paramètres!N257)","v":0.73},{"$f":"IF([2]Paramètres!O257=\"\",\"\",[2]Paramètres!O257)","v":11},{"$f":"IF([2]Paramètres!P257=\"\",\"\",[2]Paramètres!P257)","v":16},{"$f":"IF([2]Paramètres!Q257=\"\",\"\",[2]Paramètres!Q257)","v":"Moyenne"},{"$f":"IF([2]Paramètres!R257=\"\",\"\",[2]Paramètres!R257)","v":""},{"$f":"IF([2]Paramètres!S257=\"\",\"\",[2]Paramètres!S257)","v":""},{"$f":"IF([2]Paramètres!T257=\"\",\"\",[2]Paramètres!T257)","v":""},{"$f":"IF([2]Paramètres!U257=\"\",\"\",[2]Paramètres!U257)","v":""},{"$f":"IF([2]Paramètres!V257=\"\",\"\",[2]Paramètres!V257)","v":""},{"$f":"IF([2]Paramètres!W257=\"\",\"\",[2]Paramètres!W257)","v":""},{"$f":"IF([2]Paramètres!X257=\"\",\"\",[2]Paramètres!X257)","v":""},{"$f":"IF([2]Paramètres!Y257=\"\",\"\",[2]Paramètres!Y257)","v":""},{"$f":"IF([2]Paramètres!Z257=\"\",\"\",[2]Paramètres!Z257)","v":""}]
[{"$f":"IF([2]Paramètres!A258=\"\",\"\",[2]Paramètres!A258)","v":""},{"$f":"IF([2]Paramètres!B258=\"\",\"\",[2]Paramètres!B258)","v":""},{"$f":"IF([2]Paramètres!C258=\"\",\"\",[2]Paramètres!C258)","v":""},{"$f":"IF([2]Paramètres!D258=\"\",\"\",[2]Paramètres!D258)","v":""},{"$f":"IF([2]Paramètres!E258=\"\",\"\",[2]Paramètres!E258)","v":""},{"$f":"IF([2]Paramètres!F258=\"\",\"\",[2]Paramètres!F258)","v":""},{"$f":"IF([2]Paramètres!G258=\"\",\"\",[2]Paramètres!G258)","v":""},{"$f":"IF([2]Paramètres!H258=\"\",\"\",[2]Paramètres!H258)","v":""},{"$f":"IF([2]Paramètres!I258=\"\",\"\",[2]Paramètres!I258)","v":""},{"$f":"IF([2]Paramètres!J258=\"\",\"\",[2]Paramètres!J258)","v":"Wyeast 2487 - Hella Bock Lager"},{"$f":"IF([2]Paramètres!K258=\"\",\"\",[2]Paramètres!K258)","v":"Liquide"},{"$f":"IF([2]Paramètres!L258=\"\",\"\",[2]Paramètres!L258)","v":0.7},{"$f":"IF([2]Paramètres!M258=\"\",\"\",[2]Paramètres!M258)","v":0.74},{"$f":"IF([2]Paramètres!N258=\"\",\"\",[2]Paramètres!N258)","v":0.72},{"$f":"IF([2]Paramètres!O258=\"\",\"\",[2]Paramètres!O258)","v":9},{"$f":"IF([2]Paramètres!P258=\"\",\"\",[2]Paramètres!P258)","v":13},{"$f":"IF([2]Paramètres!Q258=\"\",\"\",[2]Paramètres!Q258)","v":"Moyenne"},{"$f":"IF([2]Paramètres!R258=\"\",\"\",[2]Paramètres!R258)","v":""},{"$f":"IF([2]Paramètres!S258=\"\",\"\",[2]Paramètres!S258)","v":""},{"$f":"IF([2]Paramètres!T258=\"\",\"\",[2]Paramètres!T258)","v":""},{"$f":"IF([2]Paramètres!U258=\"\",\"\",[2]Paramètres!U258)","v":""},{"$f":"IF([2]Paramètres!V258=\"\",\"\",[2]Paramètres!V258)","v":""},{"$f":"IF([2]Paramètres!W258=\"\",\"\",[2]Paramètres!W258)","v":""},{"$f":"IF([2]Paramètres!X258=\"\",\"\",[2]Paramètres!X258)","v":""},{"$f":"IF([2]Paramètres!Y258=\"\",\"\",[2]Paramètres!Y258)","v":""},{"$f":"IF([2]Paramètres!Z258=\"\",\"\",[2]Paramètres!Z258)","v":""}]
[{"$f":"IF([2]Paramètres!A259=\"\",\"\",[2]Paramètres!A259)","v":""},{"$f":"IF([2]Paramètres!B259=\"\",\"\",[2]Paramètres!B259)","v":""},{"$f":"IF([2]Paramètres!C259=\"\",\"\",[2]Paramètres!C259)","v":""},{"$f":"IF([2]Paramètres!D259=\"\",\"\",[2]Paramètres!D259)","v":""},{"$f":"IF([2]Paramètres!E259=\"\",\"\",[2]Paramètres!E259)","v":""},{"$f":"IF([2]Paramètres!F259=\"\",\"\",[2]Paramètres!F259)","v":""},{"$f":"IF([2]Paramètres!G259=\"\",\"\",[2]Paramètres!G259)","v":""},{"$f":"IF([2]Paramètres!H259=\"\",\"\",[2]Paramètres!H259)","v":""},{"$f":"IF([2]Paramètres!I259=\"\",\"\",[2]Paramètres!I259)","v":""},{"$f":"IF([2]Paramètres!J259=\"\",\"\",[2]Paramètres!J259)","v":"Wyeast 3068 - Weihenstephan W"},{"$f":"IF([2]Paramètres!K259=\"\",\"\",[2]Paramètres!K259)","v":"Liquide"},{"$f":"IF([2]Paramètres!L259=\"\",\"\",[2]Paramètres!L259)","v":0.73},{"$f":"IF([2]Paramètres!M259=\"\",\"\",[2]Paramètres!M259)","v":0.77},{"$f":"IF([2]Paramètres!N259=\"\",\"\",[2]Paramètres!N259)","v":0.75},{"$f":"IF([2]Paramètres!O259=\"\",\"\",[2]Paramètres!O259)","v":18},{"$f":"IF([2]Paramètres!P259=\"\",\"\",[2]Paramètres!P259)","v":24},{"$f":"IF([2]Paramètres!Q259=\"\",\"\",[2]Paramètres!Q259)","v":"Basse"},{"$f":"IF([2]Paramètres!R259=\"\",\"\",[2]Paramètres!R259)","v":""},{"$f":"IF([2]Paramètres!S259=\"\",\"\",[2]Paramètres!S259)","v":""},{"$f":"IF([2]Paramètres!T259=\"\",\"\",[2]Paramètres!T259)","v":""},{"$f":"IF([2]Paramètres!U259=\"\",\"\",[2]Paramètres!U259)","v":""},{"$f":"IF([2]Paramètres!V259=\"\",\"\",[2]Paramètres!V259)","v":""},{"$f":"IF([2]Paramètres!W259=\"\",\"\",[2]Paramètres!W259)","v":""},{"$f":"IF([2]Paramètres!X259=\"\",\"\",[2]Paramètres!X259)","v":""},{"$f":"IF([2]Paramètres!Y259=\"\",\"\",[2]Paramètres!Y259)","v":""},{"$f":"IF([2]Paramètres!Z259=\"\",\"\",[2]Paramètres!Z259)","v":""}]
[{"$f":"IF([2]Paramètres!A260=\"\",\"\",[2]Paramètres!A260)","v":""},{"$f":"IF([2]Paramètres!B260=\"\",\"\",[2]Paramètres!B260)","v":""},{"$f":"IF([2]Paramètres!C260=\"\",\"\",[2]Paramètres!C260)","v":""},{"$f":"IF([2]Paramètres!D260=\"\",\"\",[2]Paramètres!D260)","v":""},{"$f":"IF([2]Paramètres!E260=\"\",\"\",[2]Paramètres!E260)","v":""},{"$f":"IF([2]Paramètres!F260=\"\",\"\",[2]Paramètres!F260)","v":""},{"$f":"IF([2]Paramètres!G260=\"\",\"\",[2]Paramètres!G260)","v":""},{"$f":"IF([2]Paramètres!H260=\"\",\"\",[2]Paramètres!H260)","v":""},{"$f":"IF([2]Paramètres!I260=\"\",\"\",[2]Paramètres!I260)","v":""},{"$f":"IF([2]Paramètres!J260=\"\",\"\",[2]Paramètres!J260)","v":"Wyeast 3333 - German Wheat"},{"$f":"IF([2]Paramètres!K260=\"\",\"\",[2]Paramètres!K260)","v":"Liquide"},{"$f":"IF([2]Paramètres!L260=\"\",\"\",[2]Paramètres!L260)","v":0.7},{"$f":"IF([2]Paramètres!M260=\"\",\"\",[2]Paramètres!M260)","v":0.76},{"$f":"IF([2]Paramètres!N260=\"\",\"\",[2]Paramètres!N260)","v":0.73},{"$f":"IF([2]Paramètres!O260=\"\",\"\",[2]Paramètres!O260)","v":17.2},{"$f":"IF([2]Paramètres!P260=\"\",\"\",[2]Paramètres!P260)","v":23.9},{"$f":"IF([2]Paramètres!Q260=\"\",\"\",[2]Paramètres!Q260)","v":"Haute"},{"$f":"IF([2]Paramètres!R260=\"\",\"\",[2]Paramètres!R260)","v":""},{"$f":"IF([2]Paramètres!S260=\"\",\"\",[2]Paramètres!S260)","v":""},{"$f":"IF([2]Paramètres!T260=\"\",\"\",[2]Paramètres!T260)","v":""},{"$f":"IF([2]Paramètres!U260=\"\",\"\",[2]Paramètres!U260)","v":""},{"$f":"IF([2]Paramètres!V260=\"\",\"\",[2]Paramètres!V260)","v":""},{"$f":"IF([2]Paramètres!W260=\"\",\"\",[2]Paramètres!W260)","v":""},{"$f":"IF([2]Paramètres!X260=\"\",\"\",[2]Paramètres!X260)","v":""},{"$f":"IF([2]Paramètres!Y260=\"\",\"\",[2]Paramètres!Y260)","v":""},{"$f":"IF([2]Paramètres!Z260=\"\",\"\",[2]Paramètres!Z260)","v":""}]
[{"$f":"IF([2]Paramètres!A261=\"\",\"\",[2]Paramètres!A261)","v":""},{"$f":"IF([2]Paramètres!B261=\"\",\"\",[2]Paramètres!B261)","v":""},{"$f":"IF([2]Paramètres!C261=\"\",\"\",[2]Paramètres!C261)","v":""},{"$f":"IF([2]Paramètres!D261=\"\",\"\",[2]Paramètres!D261)","v":""},{"$f":"IF([2]Paramètres!E261=\"\",\"\",[2]Paramètres!E261)","v":""},{"$f":"IF([2]Paramètres!F261=\"\",\"\",[2]Paramètres!F261)","v":""},{"$f":"IF([2]Paramètres!G261=\"\",\"\",[2]Paramètres!G261)","v":""},{"$f":"IF([2]Paramètres!H261=\"\",\"\",[2]Paramètres!H261)","v":""},{"$f":"IF([2]Paramètres!I261=\"\",\"\",[2]Paramètres!I261)","v":""},{"$f":"IF([2]Paramètres!J261=\"\",\"\",[2]Paramètres!J261)","v":"Wyeast 3463 - Forbidden Fruit"},{"$f":"IF([2]Paramètres!K261=\"\",\"\",[2]Paramètres!K261)","v":"Liquide"},{"$f":"IF([2]Paramètres!L261=\"\",\"\",[2]Paramètres!L261)","v":0.72},{"$f":"IF([2]Paramètres!M261=\"\",\"\",[2]Paramètres!M261)","v":0.76},{"$f":"IF([2]Paramètres!N261=\"\",\"\",[2]Paramètres!N261)","v":0.74},{"$f":"IF([2]Paramètres!O261=\"\",\"\",[2]Paramètres!O261)","v":17.2},{"$f":"IF([2]Paramètres!P261=\"\",\"\",[2]Paramètres!P261)","v":24.4},{"$f":"IF([2]Paramètres!Q261=\"\",\"\",[2]Paramètres!Q261)","v":"Basse"},{"$f":"IF([2]Paramètres!R261=\"\",\"\",[2]Paramètres!R261)","v":""},{"$f":"IF([2]Paramètres!S261=\"\",\"\",[2]Paramètres!S261)","v":""},{"$f":"IF([2]Paramètres!T261=\"\",\"\",[2]Paramètres!T261)","v":""},{"$f":"IF([2]Paramètres!U261=\"\",\"\",[2]Paramètres!U261)","v":""},{"$f":"IF([2]Paramètres!V261=\"\",\"\",[2]Paramètres!V261)","v":""},{"$f":"IF([2]Paramètres!W261=\"\",\"\",[2]Paramètres!W261)","v":""},{"$f":"IF([2]Paramètres!X261=\"\",\"\",[2]Paramètres!X261)","v":""},{"$f":"IF([2]Paramètres!Y261=\"\",\"\",[2]Paramètres!Y261)","v":""},{"$f":"IF([2]Paramètres!Z261=\"\",\"\",[2]Paramètres!Z261)","v":""}]
[{"$f":"IF([2]Paramètres!A262=\"\",\"\",[2]Paramètres!A262)","v":""},{"$f":"IF([2]Paramètres!B262=\"\",\"\",[2]Paramètres!B262)","v":""},{"$f":"IF([2]Paramètres!C262=\"\",\"\",[2]Paramètres!C262)","v":""},{"$f":"IF([2]Paramètres!D262=\"\",\"\",[2]Paramètres!D262)","v":""},{"$f":"IF([2]Paramètres!E262=\"\",\"\",[2]Paramètres!E262)","v":""},{"$f":"IF([2]Paramètres!F262=\"\",\"\",[2]Paramètres!F262)","v":""},{"$f":"IF([2]Paramètres!G262=\"\",\"\",[2]Paramètres!G262)","v":""},{"$f":"IF([2]Paramètres!H262=\"\",\"\",[2]Paramètres!H262)","v":""},{"$f":"IF([2]Paramètres!I262=\"\",\"\",[2]Paramètres!I262)","v":""},{"$f":"IF([2]Paramètres!J262=\"\",\"\",[2]Paramètres!J262)","v":"Wyeast 3522 - Belgian Ardennes"},{"$f":"IF([2]Paramètres!K262=\"\",\"\",[2]Paramètres!K262)","v":"Liquide"},{"$f":"IF([2]Paramètres!L262=\"\",\"\",[2]Paramètres!L262)","v":0.72},{"$f":"IF([2]Paramètres!M262=\"\",\"\",[2]Paramètres!M262)","v":0.76},{"$f":"IF([2]Paramètres!N262=\"\",\"\",[2]Paramètres!N262)","v":0.74},{"$f":"IF([2]Paramètres!O262=\"\",\"\",[2]Paramètres!O262)","v":18.3},{"$f":"IF([2]Paramètres!P262=\"\",\"\",[2]Paramètres!P262)","v":24.4},{"$f":"IF([2]Paramètres!Q262=\"\",\"\",[2]Paramètres!Q262)","v":"Haute"},{"$f":"IF([2]Paramètres!R262=\"\",\"\",[2]Paramètres!R262)","v":""},{"$f":"IF([2]Paramètres!S262=\"\",\"\",[2]Paramètres!S262)","v":""},{"$f":"IF([2]Paramètres!T262=\"\",\"\",[2]Paramètres!T262)","v":""},{"$f":"IF([2]Paramètres!U262=\"\",\"\",[2]Paramètres!U262)","v":""},{"$f":"IF([2]Paramètres!V262=\"\",\"\",[2]Paramètres!V262)","v":""},{"$f":"IF([2]Paramètres!W262=\"\",\"\",[2]Paramètres!W262)","v":""},{"$f":"IF([2]Paramètres!X262=\"\",\"\",[2]Paramètres!X262)","v":""},{"$f":"IF([2]Paramètres!Y262=\"\",\"\",[2]Paramètres!Y262)","v":""},{"$f":"IF([2]Paramètres!Z262=\"\",\"\",[2]Paramètres!Z262)","v":""}]
[{"$f":"IF([2]Paramètres!A263=\"\",\"\",[2]Paramètres!A263)","v":""},{"$f":"IF([2]Paramètres!B263=\"\",\"\",[2]Paramètres!B263)","v":""},{"$f":"IF([2]Paramètres!C263=\"\",\"\",[2]Paramètres!C263)","v":""},{"$f":"IF([2]Paramètres!D263=\"\",\"\",[2]Paramètres!D263)","v":""},{"$f":"IF([2]Paramètres!E263=\"\",\"\",[2]Paramètres!E263)","v":""},{"$f":"IF([2]Paramètres!F263=\"\",\"\",[2]Paramètres!F263)","v":""},{"$f":"IF([2]Paramètres!G263=\"\",\"\",[2]Paramètres!G263)","v":""},{"$f":"IF([2]Paramètres!H263=\"\",\"\",[2]Paramètres!H263)","v":""},{"$f":"IF([2]Paramètres!I263=\"\",\"\",[2]Paramètres!I263)","v":""},{"$f":"IF([2]Paramètres!J263=\"\",\"\",[2]Paramètres!J263)","v":"Wyeast 3638 - Bavarian Wheat"},{"$f":"IF([2]Paramètres!K263=\"\",\"\",[2]Paramètres!K263)","v":"Liquide"},{"$f":"IF([2]Paramètres!L263=\"\",\"\",[2]Paramètres!L263)","v":0.7},{"$f":"IF([2]Paramètres!M263=\"\",\"\",[2]Paramètres!M263)","v":0.76},{"$f":"IF([2]Paramètres!N263=\"\",\"\",[2]Paramètres!N263)","v":0.73},{"$f":"IF([2]Paramètres!O263=\"\",\"\",[2]Paramètres!O263)","v":17.8},{"$f":"IF([2]Paramètres!P263=\"\",\"\",[2]Paramètres!P263)","v":23.9},{"$f":"IF([2]Paramètres!Q263=\"\",\"\",[2]Paramètres!Q263)","v":"Basse"},{"$f":"IF([2]Paramètres!R263=\"\",\"\",[2]Paramètres!R263)","v":""},{"$f":"IF([2]Paramètres!S263=\"\",\"\",[2]Paramètres!S263)","v":""},{"$f":"IF([2]Paramètres!T263=\"\",\"\",[2]Paramètres!T263)","v":""},{"$f":"IF([2]Paramètres!U263=\"\",\"\",[2]Paramètres!U263)","v":""},{"$f":"IF([2]Paramètres!V263=\"\",\"\",[2]Paramètres!V263)","v":""},{"$f":"IF([2]Paramètres!W263=\"\",\"\",[2]Paramètres!W263)","v":""},{"$f":"IF([2]Paramètres!X263=\"\",\"\",[2]Paramètres!X263)","v":""},{"$f":"IF([2]Paramètres!Y263=\"\",\"\",[2]Paramètres!Y263)","v":""},{"$f":"IF([2]Paramètres!Z263=\"\",\"\",[2]Paramètres!Z263)","v":""}]
[{"$f":"IF([2]Paramètres!A264=\"\",\"\",[2]Paramètres!A264)","v":""},{"$f":"IF([2]Paramètres!B264=\"\",\"\",[2]Paramètres!B264)","v":""},{"$f":"IF([2]Paramètres!C264=\"\",\"\",[2]Paramètres!C264)","v":""},{"$f":"IF([2]Paramètres!D264=\"\",\"\",[2]Paramètres!D264)","v":""},{"$f":"IF([2]Paramètres!E264=\"\",\"\",[2]Paramètres!E264)","v":""},{"$f":"IF([2]Paramètres!F264=\"\",\"\",[2]Paramètres!F264)","v":""},{"$f":"IF([2]Paramètres!G264=\"\",\"\",[2]Paramètres!G264)","v":""},{"$f":"IF([2]Paramètres!H264=\"\",\"\",[2]Paramètres!H264)","v":""},{"$f":"IF([2]Paramètres!I264=\"\",\"\",[2]Paramètres!I264)","v":""},{"$f":"IF([2]Paramètres!J264=\"\",\"\",[2]Paramètres!J264)","v":"Wyeast 3724 - Belgian Saison"},{"$f":"IF([2]Paramètres!K264=\"\",\"\",[2]Paramètres!K264)","v":"Liquide"},{"$f":"IF([2]Paramètres!L264=\"\",\"\",[2]Paramètres!L264)","v":0.76},{"$f":"IF([2]Paramètres!M264=\"\",\"\",[2]Paramètres!M264)","v":0.8},{"$f":"IF([2]Paramètres!N264=\"\",\"\",[2]Paramètres!N264)","v":0.78},{"$f":"IF([2]Paramètres!O264=\"\",\"\",[2]Paramètres!O264)","v":21.1},{"$f":"IF([2]Paramètres!P264=\"\",\"\",[2]Paramètres!P264)","v":35},{"$f":"IF([2]Paramètres!Q264=\"\",\"\",[2]Paramètres!Q264)","v":"Basse"},{"$f":"IF([2]Paramètres!R264=\"\",\"\",[2]Paramètres!R264)","v":""},{"$f":"IF([2]Paramètres!S264=\"\",\"\",[2]Paramètres!S264)","v":""},{"$f":"IF([2]Paramètres!T264=\"\",\"\",[2]Paramètres!T264)","v":""},{"$f":"IF([2]Paramètres!U264=\"\",\"\",[2]Paramètres!U264)","v":""},{"$f":"IF([2]Paramètres!V264=\"\",\"\",[2]Paramètres!V264)","v":""},{"$f":"IF([2]Paramètres!W264=\"\",\"\",[2]Paramètres!W264)","v":""},{"$f":"IF([2]Paramètres!X264=\"\",\"\",[2]Paramètres!X264)","v":""},{"$f":"IF([2]Paramètres!Y264=\"\",\"\",[2]Paramètres!Y264)","v":""},{"$f":"IF([2]Paramètres!Z264=\"\",\"\",[2]Paramètres!Z264)","v":""}]
[{"$f":"IF([2]Paramètres!A265=\"\",\"\",[2]Paramètres!A265)","v":""},{"$f":"IF([2]Paramètres!B265=\"\",\"\",[2]Paramètres!B265)","v":""},{"$f":"IF([2]Paramètres!C265=\"\",\"\",[2]Paramètres!C265)","v":""},{"$f":"IF([2]Paramètres!D265=\"\",\"\",[2]Paramètres!D265)","v":""},{"$f":"IF([2]Paramètres!E265=\"\",\"\",[2]Paramètres!E265)","v":""},{"$f":"IF([2]Paramètres!F265=\"\",\"\",[2]Paramètres!F265)","v":""},{"$f":"IF([2]Paramètres!G265=\"\",\"\",[2]Paramètres!G265)","v":""},{"$f":"IF([2]Paramètres!H265=\"\",\"\",[2]Paramètres!H265)","v":""},{"$f":"IF([2]Paramètres!I265=\"\",\"\",[2]Paramètres!I265)","v":""},{"$f":"IF([2]Paramètres!J265=\"\",\"\",[2]Paramètres!J265)","v":"Wyeast 3787 - Trappist Style High Gravity"},{"$f":"IF([2]Paramètres!K265=\"\",\"\",[2]Paramètres!K265)","v":"Liquide"},{"$f":"IF([2]Paramètres!L265=\"\",\"\",[2]Paramètres!L265)","v":0.74},{"$f":"IF([2]Paramètres!M265=\"\",\"\",[2]Paramètres!M265)","v":0.78},{"$f":"IF([2]Paramètres!N265=\"\",\"\",[2]Paramètres!N265)","v":0.76},{"$f":"IF([2]Paramètres!O265=\"\",\"\",[2]Paramètres!O265)","v":17.8},{"$f":"IF([2]Paramètres!P265=\"\",\"\",[2]Paramètres!P265)","v":25.6},{"$f":"IF([2]Paramètres!Q265=\"\",\"\",[2]Paramètres!Q265)","v":"Moyenne"},{"$f":"IF([2]Paramètres!R265=\"\",\"\",[2]Paramètres!R265)","v":""},{"$f":"IF([2]Paramètres!S265=\"\",\"\",[2]Paramètres!S265)","v":""},{"$f":"IF([2]Paramètres!T265=\"\",\"\",[2]Paramètres!T265)","v":""},{"$f":"IF([2]Paramètres!U265=\"\",\"\",[2]Paramètres!U265)","v":""},{"$f":"IF([2]Paramètres!V265=\"\",\"\",[2]Paramètres!V265)","v":""},{"$f":"IF([2]Paramètres!W265=\"\",\"\",[2]Paramètres!W265)","v":""},{"$f":"IF([2]Paramètres!X265=\"\",\"\",[2]Paramètres!X265)","v":""},{"$f":"IF([2]Paramètres!Y265=\"\",\"\",[2]Paramètres!Y265)","v":""},{"$f":"IF([2]Paramètres!Z265=\"\",\"\",[2]Paramètres!Z265)","v":""}]
[{"$f":"IF([2]Paramètres!A266=\"\",\"\",[2]Paramètres!A266)","v":""},{"$f":"IF([2]Paramètres!B266=\"\",\"\",[2]Paramètres!B266)","v":""},{"$f":"IF([2]Paramètres!C266=\"\",\"\",[2]Paramètres!C266)","v":""},{"$f":"IF([2]Paramètres!D266=\"\",\"\",[2]Paramètres!D266)","v":""},{"$f":"IF([2]Paramètres!E266=\"\",\"\",[2]Paramètres!E266)","v":""},{"$f":"IF([2]Paramètres!F266=\"\",\"\",[2]Paramètres!F266)","v":""},{"$f":"IF([2]Paramètres!G266=\"\",\"\",[2]Paramètres!G266)","v":""},{"$f":"IF([2]Paramètres!H266=\"\",\"\",[2]Paramètres!H266)","v":""},{"$f":"IF([2]Paramètres!I266=\"\",\"\",[2]Paramètres!I266)","v":""},{"$f":"IF([2]Paramètres!J266=\"\",\"\",[2]Paramètres!J266)","v":"Wyeast 3864 - Canadian/Belgian Ale"},{"$f":"IF([2]Paramètres!K266=\"\",\"\",[2]Paramètres!K266)","v":"Liquide"},{"$f":"IF([2]Paramètres!L266=\"\",\"\",[2]Paramètres!L266)","v":0.75},{"$f":"IF([2]Paramètres!M266=\"\",\"\",[2]Paramètres!M266)","v":0.79},{"$f":"IF([2]Paramètres!N266=\"\",\"\",[2]Paramètres!N266)","v":0.77},{"$f":"IF([2]Paramètres!O266=\"\",\"\",[2]Paramètres!O266)","v":18.3},{"$f":"IF([2]Paramètres!P266=\"\",\"\",[2]Paramètres!P266)","v":26.7},{"$f":"IF([2]Paramètres!Q266=\"\",\"\",[2]Paramètres!Q266)","v":"Moyenne"},{"$f":"IF([2]Paramètres!R266=\"\",\"\",[2]Paramètres!R266)","v":""},{"$f":"IF([2]Paramètres!S266=\"\",\"\",[2]Paramètres!S266)","v":""},{"$f":"IF([2]Paramètres!T266=\"\",\"\",[2]Paramètres!T266)","v":""},{"$f":"IF([2]Paramètres!U266=\"\",\"\",[2]Paramètres!U266)","v":""},{"$f":"IF([2]Paramètres!V266=\"\",\"\",[2]Paramètres!V266)","v":""},{"$f":"IF([2]Paramètres!W266=\"\",\"\",[2]Paramètres!W266)","v":""},{"$f":"IF([2]Paramètres!X266=\"\",\"\",[2]Paramètres!X266)","v":""},{"$f":"IF([2]Paramètres!Y266=\"\",\"\",[2]Paramètres!Y266)","v":""},{"$f":"IF([2]Paramètres!Z266=\"\",\"\",[2]Paramètres!Z266)","v":""}]
[{"$f":"IF([2]Paramètres!A267=\"\",\"\",[2]Paramètres!A267)","v":""},{"$f":"IF([2]Paramètres!B267=\"\",\"\",[2]Paramètres!B267)","v":""},{"$f":"IF([2]Paramètres!C267=\"\",\"\",[2]Paramètres!C267)","v":""},{"$f":"IF([2]Paramètres!D267=\"\",\"\",[2]Paramètres!D267)","v":""},{"$f":"IF([2]Paramètres!E267=\"\",\"\",[2]Paramètres!E267)","v":""},{"$f":"IF([2]Paramètres!F267=\"\",\"\",[2]Paramètres!F267)","v":""},{"$f":"IF([2]Paramètres!G267=\"\",\"\",[2]Paramètres!G267)","v":""},{"$f":"IF([2]Paramètres!H267=\"\",\"\",[2]Paramètres!H267)","v":""},{"$f":"IF([2]Paramètres!I267=\"\",\"\",[2]Paramètres!I267)","v":""},{"$f":"IF([2]Paramètres!J267=\"\",\"\",[2]Paramètres!J267)","v":"Wyeast 3944 - Belgian Witbier"},{"$f":"IF([2]Paramètres!K267=\"\",\"\",[2]Paramètres!K267)","v":"Liquide"},{"$f":"IF([2]Paramètres!L267=\"\",\"\",[2]Paramètres!L267)","v":0.72},{"$f":"IF([2]Paramètres!M267=\"\",\"\",[2]Paramètres!M267)","v":0.76},{"$f":"IF([2]Paramètres!N267=\"\",\"\",[2]Paramètres!N267)","v":0.74},{"$f":"IF([2]Paramètres!O267=\"\",\"\",[2]Paramètres!O267)","v":16.7},{"$f":"IF([2]Paramètres!P267=\"\",\"\",[2]Paramètres!P267)","v":23.9},{"$f":"IF([2]Paramètres!Q267=\"\",\"\",[2]Paramètres!Q267)","v":"Moyenne"},{"$f":"IF([2]Paramètres!R267=\"\",\"\",[2]Paramètres!R267)","v":""},{"$f":"IF([2]Paramètres!S267=\"\",\"\",[2]Paramètres!S267)","v":""},{"$f":"IF([2]Paramètres!T267=\"\",\"\",[2]Paramètres!T267)","v":""},{"$f":"IF([2]Paramètres!U267=\"\",\"\",[2]Paramètres!U267)","v":""},{"$f":"IF([2]Paramètres!V267=\"\",\"\",[2]Paramètres!V267)","v":""},{"$f":"IF([2]Paramètres!W267=\"\",\"\",[2]Paramètres!W267)","v":""},{"$f":"IF([2]Paramètres!X267=\"\",\"\",[2]Paramètres!X267)","v":""},{"$f":"IF([2]Paramètres!Y267=\"\",\"\",[2]Paramètres!Y267)","v":""},{"$f":"IF([2]Paramètres!Z267=\"\",\"\",[2]Paramètres!Z267)","v":""}]
[{"$f":"IF([2]Paramètres!A268=\"\",\"\",[2]Paramètres!A268)","v":""},{"$f":"IF([2]Paramètres!B268=\"\",\"\",[2]Paramètres!B268)","v":""},{"$f":"IF([2]Paramètres!C268=\"\",\"\",[2]Paramètres!C268)","v":""},{"$f":"IF([2]Paramètres!D268=\"\",\"\",[2]Paramètres!D268)","v":""},{"$f":"IF([2]Paramètres!E268=\"\",\"\",[2]Paramètres!E268)","v":""},{"$f":"IF([2]Paramètres!F268=\"\",\"\",[2]Paramètres!F268)","v":""},{"$f":"IF([2]Paramètres!G268=\"\",\"\",[2]Paramètres!G268)","v":""},{"$f":"IF([2]Paramètres!H268=\"\",\"\",[2]Paramètres!H268)","v":""},{"$f":"IF([2]Paramètres!I268=\"\",\"\",[2]Paramètres!I268)","v":""},{"$f":"IF([2]Paramètres!J268=\"\",\"\",[2]Paramètres!J268)","v":"Wyeast 5 PC - Kölsch II 25"},{"$f":"IF([2]Paramètres!K268=\"\",\"\",[2]Paramètres!K268)","v":"Liquide"},{"$f":"IF([2]Paramètres!L268=\"\",\"\",[2]Paramètres!L268)","v":0.73},{"$f":"IF([2]Paramètres!M268=\"\",\"\",[2]Paramètres!M268)","v":0.77},{"$f":"IF([2]Paramètres!N268=\"\",\"\",[2]Paramètres!N268)","v":0.75},{"$f":"IF([2]Paramètres!O268=\"\",\"\",[2]Paramètres!O268)","v":12.8},{"$f":"IF([2]Paramètres!P268=\"\",\"\",[2]Paramètres!P268)","v":21.1},{"$f":"IF([2]Paramètres!Q268=\"\",\"\",[2]Paramètres!Q268)","v":"Basse"},{"$f":"IF([2]Paramètres!R268=\"\",\"\",[2]Paramètres!R268)","v":""},{"$f":"IF([2]Paramètres!S268=\"\",\"\",[2]Paramètres!S268)","v":""},{"$f":"IF([2]Paramètres!T268=\"\",\"\",[2]Paramètres!T268)","v":""},{"$f":"IF([2]Paramètres!U268=\"\",\"\",[2]Paramètres!U268)","v":""},{"$f":"IF([2]Paramètres!V268=\"\",\"\",[2]Paramètres!V268)","v":""},{"$f":"IF([2]Paramètres!W268=\"\",\"\",[2]Paramètres!W268)","v":""},{"$f":"IF([2]Paramètres!X268=\"\",\"\",[2]Paramètres!X268)","v":""},{"$f":"IF([2]Paramètres!Y268=\"\",\"\",[2]Paramètres!Y268)","v":""},{"$f":"IF([2]Paramètres!Z268=\"\",\"\",[2]Paramètres!Z268)","v":""}]
[{"$f":"IF([2]Paramètres!A269=\"\",\"\",[2]Paramètres!A269)","v":""},{"$f":"IF([2]Paramètres!B269=\"\",\"\",[2]Paramètres!B269)","v":""},{"$f":"IF([2]Paramètres!C269=\"\",\"\",[2]Paramètres!C269)","v":""},{"$f":"IF([2]Paramètres!D269=\"\",\"\",[2]Paramètres!D269)","v":""},{"$f":"IF([2]Paramètres!E269=\"\",\"\",[2]Paramètres!E269)","v":""},{"$f":"IF([2]Paramètres!F269=\"\",\"\",[2]Paramètres!F269)","v":""},{"$f":"IF([2]Paramètres!G269=\"\",\"\",[2]Paramètres!G269)","v":""},{"$f":"IF([2]Paramètres!H269=\"\",\"\",[2]Paramètres!H269)","v":""},{"$f":"IF([2]Paramètres!I269=\"\",\"\",[2]Paramètres!I269)","v":""},{"$f":"IF([2]Paramètres!J269=\"\",\"\",[2]Paramètres!J269)","v":""},{"$f":"IF([2]Paramètres!K269=\"\",\"\",[2]Paramètres!K269)","v":""},{"$f":"IF([2]Paramètres!L269=\"\",\"\",[2]Paramètres!L269)","v":""},{"$f":"IF([2]Paramètres!M269=\"\",\"\",[2]Paramètres!M269)","v":""},{"$f":"IF([2]Paramètres!N269=\"\",\"\",[2]Paramètres!N269)","v":""},{"$f":"IF([2]Paramètres!O269=\"\",\"\",[2]Paramètres!O269)","v":""},{"$f":"IF([2]Paramètres!P269=\"\",\"\",[2]Paramètres!P269)","v":""},{"$f":"IF([2]Paramètres!Q269=\"\",\"\",[2]Paramètres!Q269)","v":""},{"$f":"IF([2]Paramètres!R269=\"\",\"\",[2]Paramètres!R269)","v":""},{"$f":"IF([2]Paramètres!S269=\"\",\"\",[2]Paramètres!S269)","v":""},{"$f":"IF([2]Paramètres!T269=\"\",\"\",[2]Paramètres!T269)","v":""},{"$f":"IF([2]Paramètres!U269=\"\",\"\",[2]Paramètres!U269)","v":""},{"$f":"IF([2]Paramètres!V269=\"\",\"\",[2]Paramètres!V269)","v":""},{"$f":"IF([2]Paramètres!W269=\"\",\"\",[2]Paramètres!W269)","v":""},{"$f":"IF([2]Paramètres!X269=\"\",\"\",[2]Paramètres!X269)","v":""},{"$f":"IF([2]Paramètres!Y269=\"\",\"\",[2]Paramètres!Y269)","v":""},{"$f":"IF([2]Paramètres!Z269=\"\",\"\",[2]Paramètres!Z269)","v":""}]
[{"$f":"IF([2]Paramètres!A270=\"\",\"\",[2]Paramètres!A270)","v":""},{"$f":"IF([2]Paramètres!B270=\"\",\"\",[2]Paramètres!B270)","v":""},{"$f":"IF([2]Paramètres!C270=\"\",\"\",[2]Paramètres!C270)","v":""},{"$f":"IF([2]Paramètres!D270=\"\",\"\",[2]Paramètres!D270)","v":""},{"$f":"IF([2]Paramètres!E270=\"\",\"\",[2]Paramètres!E270)","v":""},{"$f":"IF([2]Paramètres!F270=\"\",\"\",[2]Paramètres!F270)","v":""},{"$f":"IF([2]Paramètres!G270=\"\",\"\",[2]Paramètres!G270)","v":""},{"$f":"IF([2]Paramètres!H270=\"\",\"\",[2]Paramètres!H270)","v":""},{"$f":"IF([2]Paramètres!I270=\"\",\"\",[2]Paramètres!I270)","v":""},{"$f":"IF([2]Paramètres!J270=\"\",\"\",[2]Paramètres!J270)","v":""},{"$f":"IF([2]Paramètres!K270=\"\",\"\",[2]Paramètres!K270)","v":""},{"$f":"IF([2]Paramètres!L270=\"\",\"\",[2]Paramètres!L270)","v":""},{"$f":"IF([2]Paramètres!M270=\"\",\"\",[2]Paramètres!M270)","v":""},{"$f":"IF([2]Paramètres!N270=\"\",\"\",[2]Paramètres!N270)","v":""},{"$f":"IF([2]Paramètres!O270=\"\",\"\",[2]Paramètres!O270)","v":""},{"$f":"IF([2]Paramètres!P270=\"\",\"\",[2]Paramètres!P270)","v":""},{"$f":"IF([2]Paramètres!Q270=\"\",\"\",[2]Paramètres!Q270)","v":""},{"$f":"IF([2]Paramètres!R270=\"\",\"\",[2]Paramètres!R270)","v":""},{"$f":"IF([2]Paramètres!S270=\"\",\"\",[2]Paramètres!S270)","v":""},{"$f":"IF([2]Paramètres!T270=\"\",\"\",[2]Paramètres!T270)","v":""},{"$f":"IF([2]Paramètres!U270=\"\",\"\",[2]Paramètres!U270)","v":""},{"$f":"IF([2]Paramètres!V270=\"\",\"\",[2]Paramètres!V270)","v":""},{"$f":"IF([2]Paramètres!W270=\"\",\"\",[2]Paramètres!W270)","v":""},{"$f":"IF([2]Paramètres!X270=\"\",\"\",[2]Paramètres!X270)","v":""},{"$f":"IF([2]Paramètres!Y270=\"\",\"\",[2]Paramètres!Y270)","v":""},{"$f":"IF([2]Paramètres!Z270=\"\",\"\",[2]Paramètres!Z270)","v":""}]
[{"$f":"IF([2]Paramètres!A271=\"\",\"\",[2]Paramètres!A271)","v":""},{"$f":"IF([2]Paramètres!B271=\"\",\"\",[2]Paramètres!B271)","v":""},{"$f":"IF([2]Paramètres!C271=\"\",\"\",[2]Paramètres!C271)","v":""},{"$f":"IF([2]Paramètres!D271=\"\",\"\",[2]Paramètres!D271)","v":""},{"$f":"IF([2]Paramètres!E271=\"\",\"\",[2]Paramètres!E271)","v":""},{"$f":"IF([2]Paramètres!F271=\"\",\"\",[2]Paramètres!F271)","v":""},{"$f":"IF([2]Paramètres!G271=\"\",\"\",[2]Paramètres!G271)","v":""},{"$f":"IF([2]Paramètres!H271=\"\",\"\",[2]Paramètres!H271)","v":""},{"$f":"IF([2]Paramètres!I271=\"\",\"\",[2]Paramètres!I271)","v":""},{"$f":"IF([2]Paramètres!J271=\"\",\"\",[2]Paramètres!J271)","v":""},{"$f":"IF([2]Paramètres!K271=\"\",\"\",[2]Paramètres!K271)","v":""},{"$f":"IF([2]Paramètres!L271=\"\",\"\",[2]Paramètres!L271)","v":""},{"$f":"IF([2]Paramètres!M271=\"\",\"\",[2]Paramètres!M271)","v":""},{"$f":"IF([2]Paramètres!N271=\"\",\"\",[2]Paramètres!N271)","v":""},{"$f":"IF([2]Paramètres!O271=\"\",\"\",[2]Paramètres!O271)","v":""},{"$f":"IF([2]Paramètres!P271=\"\",\"\",[2]Paramètres!P271)","v":""},{"$f":"IF([2]Paramètres!Q271=\"\",\"\",[2]Paramètres!Q271)","v":""},{"$f":"IF([2]Paramètres!R271=\"\",\"\",[2]Paramètres!R271)","v":""},{"$f":"IF([2]Paramètres!S271=\"\",\"\",[2]Paramètres!S271)","v":""},{"$f":"IF([2]Paramètres!T271=\"\",\"\",[2]Paramètres!T271)","v":""},{"$f":"IF([2]Paramètres!U271=\"\",\"\",[2]Paramètres!U271)","v":""},{"$f":"IF([2]Paramètres!V271=\"\",\"\",[2]Paramètres!V271)","v":""},{"$f":"IF([2]Paramètres!W271=\"\",\"\",[2]Paramètres!W271)","v":""},{"$f":"IF([2]Paramètres!X271=\"\",\"\",[2]Paramètres!X271)","v":""},{"$f":"IF([2]Paramètres!Y271=\"\",\"\",[2]Paramètres!Y271)","v":""},{"$f":"IF([2]Paramètres!Z271=\"\",\"\",[2]Paramètres!Z271)","v":""}]
[{"$f":"IF([2]Paramètres!A272=\"\",\"\",[2]Paramètres!A272)","v":""},{"$f":"IF([2]Paramètres!B272=\"\",\"\",[2]Paramètres!B272)","v":""},{"$f":"IF([2]Paramètres!C272=\"\",\"\",[2]Paramètres!C272)","v":""},{"$f":"IF([2]Paramètres!D272=\"\",\"\",[2]Paramètres!D272)","v":""},{"$f":"IF([2]Paramètres!E272=\"\",\"\",[2]Paramètres!E272)","v":""},{"$f":"IF([2]Paramètres!F272=\"\",\"\",[2]Paramètres!F272)","v":""},{"$f":"IF([2]Paramètres!G272=\"\",\"\",[2]Paramètres!G272)","v":""},{"$f":"IF([2]Paramètres!H272=\"\",\"\",[2]Paramètres!H272)","v":""},{"$f":"IF([2]Paramètres!I272=\"\",\"\",[2]Paramètres!I272)","v":""},{"$f":"IF([2]Paramètres!J272=\"\",\"\",[2]Paramètres!J272)","v":""},{"$f":"IF([2]Paramètres!K272=\"\",\"\",[2]Paramètres!K272)","v":""},{"$f":"IF([2]Paramètres!L272=\"\",\"\",[2]Paramètres!L272)","v":""},{"$f":"IF([2]Paramètres!M272=\"\",\"\",[2]Paramètres!M272)","v":""},{"$f":"IF([2]Paramètres!N272=\"\",\"\",[2]Paramètres!N272)","v":""},{"$f":"IF([2]Paramètres!O272=\"\",\"\",[2]Paramètres!O272)","v":""},{"$f":"IF([2]Paramètres!P272=\"\",\"\",[2]Paramètres!P272)","v":""},{"$f":"IF([2]Paramètres!Q272=\"\",\"\",[2]Paramètres!Q272)","v":""},{"$f":"IF([2]Paramètres!R272=\"\",\"\",[2]Paramètres!R272)","v":""},{"$f":"IF([2]Paramètres!S272=\"\",\"\",[2]Paramètres!S272)","v":""},{"$f":"IF([2]Paramètres!T272=\"\",\"\",[2]Paramètres!T272)","v":""},{"$f":"IF([2]Paramètres!U272=\"\",\"\",[2]Paramètres!U272)","v":""},{"$f":"IF([2]Paramètres!V272=\"\",\"\",[2]Paramètres!V272)","v":""},{"$f":"IF([2]Paramètres!W272=\"\",\"\",[2]Paramètres!W272)","v":""},{"$f":"IF([2]Paramètres!X272=\"\",\"\",[2]Paramètres!X272)","v":""},{"$f":"IF([2]Paramètres!Y272=\"\",\"\",[2]Paramètres!Y272)","v":""},{"$f":"IF([2]Paramètres!Z272=\"\",\"\",[2]Paramètres!Z272)","v":""}]
[{"$f":"IF([2]Paramètres!A273=\"\",\"\",[2]Paramètres!A273)","v":""},{"$f":"IF([2]Paramètres!B273=\"\",\"\",[2]Paramètres!B273)","v":""},{"$f":"IF([2]Paramètres!C273=\"\",\"\",[2]Paramètres!C273)","v":""},{"$f":"IF([2]Paramètres!D273=\"\",\"\",[2]Paramètres!D273)","v":""},{"$f":"IF([2]Paramètres!E273=\"\",\"\",[2]Paramètres!E273)","v":""},{"$f":"IF([2]Paramètres!F273=\"\",\"\",[2]Paramètres!F273)","v":""},{"$f":"IF([2]Paramètres!G273=\"\",\"\",[2]Paramètres!G273)","v":""},{"$f":"IF([2]Paramètres!H273=\"\",\"\",[2]Paramètres!H273)","v":""},{"$f":"IF([2]Paramètres!I273=\"\",\"\",[2]Paramètres!I273)","v":""},{"$f":"IF([2]Paramètres!J273=\"\",\"\",[2]Paramètres!J273)","v":""},{"$f":"IF([2]Paramètres!K273=\"\",\"\",[2]Paramètres!K273)","v":""},{"$f":"IF([2]Paramètres!L273=\"\",\"\",[2]Paramètres!L273)","v":""},{"$f":"IF([2]Paramètres!M273=\"\",\"\",[2]Paramètres!M273)","v":""},{"$f":"IF([2]Paramètres!N273=\"\",\"\",[2]Paramètres!N273)","v":""},{"$f":"IF([2]Paramètres!O273=\"\",\"\",[2]Paramètres!O273)","v":""},{"$f":"IF([2]Paramètres!P273=\"\",\"\",[2]Paramètres!P273)","v":""},{"$f":"IF([2]Paramètres!Q273=\"\",\"\",[2]Paramètres!Q273)","v":""},{"$f":"IF([2]Paramètres!R273=\"\",\"\",[2]Paramètres!R273)","v":""},{"$f":"IF([2]Paramètres!S273=\"\",\"\",[2]Paramètres!S273)","v":""},{"$f":"IF([2]Paramètres!T273=\"\",\"\",[2]Paramètres!T273)","v":""},{"$f":"IF([2]Paramètres!U273=\"\",\"\",[2]Paramètres!U273)","v":""},{"$f":"IF([2]Paramètres!V273=\"\",\"\",[2]Paramètres!V273)","v":""},{"$f":"IF([2]Paramètres!W273=\"\",\"\",[2]Paramètres!W273)","v":""},{"$f":"IF([2]Paramètres!X273=\"\",\"\",[2]Paramètres!X273)","v":""},{"$f":"IF([2]Paramètres!Y273=\"\",\"\",[2]Paramètres!Y273)","v":""},{"$f":"IF([2]Paramètres!Z273=\"\",\"\",[2]Paramètres!Z273)","v":""}]
[{"$f":"IF([2]Paramètres!A274=\"\",\"\",[2]Paramètres!A274)","v":""},{"$f":"IF([2]Paramètres!B274=\"\",\"\",[2]Paramètres!B274)","v":""},{"$f":"IF([2]Paramètres!C274=\"\",\"\",[2]Paramètres!C274)","v":""},{"$f":"IF([2]Paramètres!D274=\"\",\"\",[2]Paramètres!D274)","v":""},{"$f":"IF([2]Paramètres!E274=\"\",\"\",[2]Paramètres!E274)","v":""},{"$f":"IF([2]Paramètres!F274=\"\",\"\",[2]Paramètres!F274)","v":""},{"$f":"IF([2]Paramètres!G274=\"\",\"\",[2]Paramètres!G274)","v":""},{"$f":"IF([2]Paramètres!H274=\"\",\"\",[2]Paramètres!H274)","v":""},{"$f":"IF([2]Paramètres!I274=\"\",\"\",[2]Paramètres!I274)","v":""},{"$f":"IF([2]Paramètres!J274=\"\",\"\",[2]Paramètres!J274)","v":""},{"$f":"IF([2]Paramètres!K274=\"\",\"\",[2]Paramètres!K274)","v":""},{"$f":"IF([2]Paramètres!L274=\"\",\"\",[2]Paramètres!L274)","v":""},{"$f":"IF([2]Paramètres!M274=\"\",\"\",[2]Paramètres!M274)","v":""},{"$f":"IF([2]Paramètres!N274=\"\",\"\",[2]Paramètres!N274)","v":""},{"$f":"IF([2]Paramètres!O274=\"\",\"\",[2]Paramètres!O274)","v":""},{"$f":"IF([2]Paramètres!P274=\"\",\"\",[2]Paramètres!P274)","v":""},{"$f":"IF([2]Paramètres!Q274=\"\",\"\",[2]Paramètres!Q274)","v":""},{"$f":"IF([2]Paramètres!R274=\"\",\"\",[2]Paramètres!R274)","v":""},{"$f":"IF([2]Paramètres!S274=\"\",\"\",[2]Paramètres!S274)","v":""},{"$f":"IF([2]Paramètres!T274=\"\",\"\",[2]Paramètres!T274)","v":""},{"$f":"IF([2]Paramètres!U274=\"\",\"\",[2]Paramètres!U274)","v":""},{"$f":"IF([2]Paramètres!V274=\"\",\"\",[2]Paramètres!V274)","v":""},{"$f":"IF([2]Paramètres!W274=\"\",\"\",[2]Paramètres!W274)","v":""},{"$f":"IF([2]Paramètres!X274=\"\",\"\",[2]Paramètres!X274)","v":""},{"$f":"IF([2]Paramètres!Y274=\"\",\"\",[2]Paramètres!Y274)","v":""},{"$f":"IF([2]Paramètres!Z274=\"\",\"\",[2]Paramètres!Z274)","v":""}]
[{"$f":"IF([2]Paramètres!A275=\"\",\"\",[2]Paramètres!A275)","v":""},{"$f":"IF([2]Paramètres!B275=\"\",\"\",[2]Paramètres!B275)","v":""},{"$f":"IF([2]Paramètres!C275=\"\",\"\",[2]Paramètres!C275)","v":""},{"$f":"IF([2]Paramètres!D275=\"\",\"\",[2]Paramètres!D275)","v":""},{"$f":"IF([2]Paramètres!E275=\"\",\"\",[2]Paramètres!E275)","v":""},{"$f":"IF([2]Paramètres!F275=\"\",\"\",[2]Paramètres!F275)","v":""},{"$f":"IF([2]Paramètres!G275=\"\",\"\",[2]Paramètres!G275)","v":""},{"$f":"IF([2]Paramètres!H275=\"\",\"\",[2]Paramètres!H275)","v":""},{"$f":"IF([2]Paramètres!I275=\"\",\"\",[2]Paramètres!I275)","v":""},{"$f":"IF([2]Paramètres!J275=\"\",\"\",[2]Paramètres!J275)","v":""},{"$f":"IF([2]Paramètres!K275=\"\",\"\",[2]Paramètres!K275)","v":""},{"$f":"IF([2]Paramètres!L275=\"\",\"\",[2]Paramètres!L275)","v":""},{"$f":"IF([2]Paramètres!M275=\"\",\"\",[2]Paramètres!M275)","v":""},{"$f":"IF([2]Paramètres!N275=\"\",\"\",[2]Paramètres!N275)","v":""},{"$f":"IF([2]Paramètres!O275=\"\",\"\",[2]Paramètres!O275)","v":""},{"$f":"IF([2]Paramètres!P275=\"\",\"\",[2]Paramètres!P275)","v":""},{"$f":"IF([2]Paramètres!Q275=\"\",\"\",[2]Paramètres!Q275)","v":""},{"$f":"IF([2]Paramètres!R275=\"\",\"\",[2]Paramètres!R275)","v":""},{"$f":"IF([2]Paramètres!S275=\"\",\"\",[2]Paramètres!S275)","v":""},{"$f":"IF([2]Paramètres!T275=\"\",\"\",[2]Paramètres!T275)","v":""},{"$f":"IF([2]Paramètres!U275=\"\",\"\",[2]Paramètres!U275)","v":""},{"$f":"IF([2]Paramètres!V275=\"\",\"\",[2]Paramètres!V275)","v":""},{"$f":"IF([2]Paramètres!W275=\"\",\"\",[2]Paramètres!W275)","v":""},{"$f":"IF([2]Paramètres!X275=\"\",\"\",[2]Paramètres!X275)","v":""},{"$f":"IF([2]Paramètres!Y275=\"\",\"\",[2]Paramètres!Y275)","v":""},{"$f":"IF([2]Paramètres!Z275=\"\",\"\",[2]Paramètres!Z275)","v":""}]
[{"$f":"IF([2]Paramètres!A276=\"\",\"\",[2]Paramètres!A276)","v":""},{"$f":"IF([2]Paramètres!B276=\"\",\"\",[2]Paramètres!B276)","v":""},{"$f":"IF([2]Paramètres!C276=\"\",\"\",[2]Paramètres!C276)","v":""},{"$f":"IF([2]Paramètres!D276=\"\",\"\",[2]Paramètres!D276)","v":""},{"$f":"IF([2]Paramètres!E276=\"\",\"\",[2]Paramètres!E276)","v":""},{"$f":"IF([2]Paramètres!F276=\"\",\"\",[2]Paramètres!F276)","v":""},{"$f":"IF([2]Paramètres!G276=\"\",\"\",[2]Paramètres!G276)","v":""},{"$f":"IF([2]Paramètres!H276=\"\",\"\",[2]Paramètres!H276)","v":""},{"$f":"IF([2]Paramètres!I276=\"\",\"\",[2]Paramètres!I276)","v":""},{"$f":"IF([2]Paramètres!J276=\"\",\"\",[2]Paramètres!J276)","v":""},{"$f":"IF([2]Paramètres!K276=\"\",\"\",[2]Paramètres!K276)","v":""},{"$f":"IF([2]Paramètres!L276=\"\",\"\",[2]Paramètres!L276)","v":""},{"$f":"IF([2]Paramètres!M276=\"\",\"\",[2]Paramètres!M276)","v":""},{"$f":"IF([2]Paramètres!N276=\"\",\"\",[2]Paramètres!N276)","v":""},{"$f":"IF([2]Paramètres!O276=\"\",\"\",[2]Paramètres!O276)","v":""},{"$f":"IF([2]Paramètres!P276=\"\",\"\",[2]Paramètres!P276)","v":""},{"$f":"IF([2]Paramètres!Q276=\"\",\"\",[2]Paramètres!Q276)","v":""},{"$f":"IF([2]Paramètres!R276=\"\",\"\",[2]Paramètres!R276)","v":""},{"$f":"IF([2]Paramètres!S276=\"\",\"\",[2]Paramètres!S276)","v":""},{"$f":"IF([2]Paramètres!T276=\"\",\"\",[2]Paramètres!T276)","v":""},{"$f":"IF([2]Paramètres!U276=\"\",\"\",[2]Paramètres!U276)","v":""},{"$f":"IF([2]Paramètres!V276=\"\",\"\",[2]Paramètres!V276)","v":""},{"$f":"IF([2]Paramètres!W276=\"\",\"\",[2]Paramètres!W276)","v":""},{"$f":"IF([2]Paramètres!X276=\"\",\"\",[2]Paramètres!X276)","v":""},{"$f":"IF([2]Paramètres!Y276=\"\",\"\",[2]Paramètres!Y276)","v":""},{"$f":"IF([2]Paramètres!Z276=\"\",\"\",[2]Paramètres!Z276)","v":""}]
[{"$f":"IF([2]Paramètres!A277=\"\",\"\",[2]Paramètres!A277)","v":""},{"$f":"IF([2]Paramètres!B277=\"\",\"\",[2]Paramètres!B277)","v":""},{"$f":"IF([2]Paramètres!C277=\"\",\"\",[2]Paramètres!C277)","v":""},{"$f":"IF([2]Paramètres!D277=\"\",\"\",[2]Paramètres!D277)","v":""},{"$f":"IF([2]Paramètres!E277=\"\",\"\",[2]Paramètres!E277)","v":""},{"$f":"IF([2]Paramètres!F277=\"\",\"\",[2]Paramètres!F277)","v":""},{"$f":"IF([2]Paramètres!G277=\"\",\"\",[2]Paramètres!G277)","v":""},{"$f":"IF([2]Paramètres!H277=\"\",\"\",[2]Paramètres!H277)","v":""},{"$f":"IF([2]Paramètres!I277=\"\",\"\",[2]Paramètres!I277)","v":""},{"$f":"IF([2]Paramètres!J277=\"\",\"\",[2]Paramètres!J277)","v":""},{"$f":"IF([2]Paramètres!K277=\"\",\"\",[2]Paramètres!K277)","v":""},{"$f":"IF([2]Paramètres!L277=\"\",\"\",[2]Paramètres!L277)","v":""},{"$f":"IF([2]Paramètres!M277=\"\",\"\",[2]Paramètres!M277)","v":""},{"$f":"IF([2]Paramètres!N277=\"\",\"\",[2]Paramètres!N277)","v":""},{"$f":"IF([2]Paramètres!O277=\"\",\"\",[2]Paramètres!O277)","v":""},{"$f":"IF([2]Paramètres!P277=\"\",\"\",[2]Paramètres!P277)","v":""},{"$f":"IF([2]Paramètres!Q277=\"\",\"\",[2]Paramètres!Q277)","v":""},{"$f":"IF([2]Paramètres!R277=\"\",\"\",[2]Paramètres!R277)","v":""},{"$f":"IF([2]Paramètres!S277=\"\",\"\",[2]Paramètres!S277)","v":""},{"$f":"IF([2]Paramètres!T277=\"\",\"\",[2]Paramètres!T277)","v":""},{"$f":"IF([2]Paramètres!U277=\"\",\"\",[2]Paramètres!U277)","v":""},{"$f":"IF([2]Paramètres!V277=\"\",\"\",[2]Paramètres!V277)","v":""},{"$f":"IF([2]Paramètres!W277=\"\",\"\",[2]Paramètres!W277)","v":""},{"$f":"IF([2]Paramètres!X277=\"\",\"\",[2]Paramètres!X277)","v":""},{"$f":"IF([2]Paramètres!Y277=\"\",\"\",[2]Paramètres!Y277)","v":""},{"$f":"IF([2]Paramètres!Z277=\"\",\"\",[2]Paramètres!Z277)","v":""}]
[{"$f":"IF([2]Paramètres!A278=\"\",\"\",[2]Paramètres!A278)","v":""},{"$f":"IF([2]Paramètres!B278=\"\",\"\",[2]Paramètres!B278)","v":""},{"$f":"IF([2]Paramètres!C278=\"\",\"\",[2]Paramètres!C278)","v":""},{"$f":"IF([2]Paramètres!D278=\"\",\"\",[2]Paramètres!D278)","v":""},{"$f":"IF([2]Paramètres!E278=\"\",\"\",[2]Paramètres!E278)","v":""},{"$f":"IF([2]Paramètres!F278=\"\",\"\",[2]Paramètres!F278)","v":""},{"$f":"IF([2]Paramètres!G278=\"\",\"\",[2]Paramètres!G278)","v":""},{"$f":"IF([2]Paramètres!H278=\"\",\"\",[2]Paramètres!H278)","v":""},{"$f":"IF([2]Paramètres!I278=\"\",\"\",[2]Paramètres!I278)","v":""},{"$f":"IF([2]Paramètres!J278=\"\",\"\",[2]Paramètres!J278)","v":""},{"$f":"IF([2]Paramètres!K278=\"\",\"\",[2]Paramètres!K278)","v":""},{"$f":"IF([2]Paramètres!L278=\"\",\"\",[2]Paramètres!L278)","v":""},{"$f":"IF([2]Paramètres!M278=\"\",\"\",[2]Paramètres!M278)","v":""},{"$f":"IF([2]Paramètres!N278=\"\",\"\",[2]Paramètres!N278)","v":""},{"$f":"IF([2]Paramètres!O278=\"\",\"\",[2]Paramètres!O278)","v":""},{"$f":"IF([2]Paramètres!P278=\"\",\"\",[2]Paramètres!P278)","v":""},{"$f":"IF([2]Paramètres!Q278=\"\",\"\",[2]Paramètres!Q278)","v":""},{"$f":"IF([2]Paramètres!R278=\"\",\"\",[2]Paramètres!R278)","v":""},{"$f":"IF([2]Paramètres!S278=\"\",\"\",[2]Paramètres!S278)","v":""},{"$f":"IF([2]Paramètres!T278=\"\",\"\",[2]Paramètres!T278)","v":""},{"$f":"IF([2]Paramètres!U278=\"\",\"\",[2]Paramètres!U278)","v":""},{"$f":"IF([2]Paramètres!V278=\"\",\"\",[2]Paramètres!V278)","v":""},{"$f":"IF([2]Paramètres!W278=\"\",\"\",[2]Paramètres!W278)","v":""},{"$f":"IF([2]Paramètres!X278=\"\",\"\",[2]Paramètres!X278)","v":""},{"$f":"IF([2]Paramètres!Y278=\"\",\"\",[2]Paramètres!Y278)","v":""},{"$f":"IF([2]Paramètres!Z278=\"\",\"\",[2]Paramètres!Z278)","v":""}]
[{"$f":"IF([2]Paramètres!A279=\"\",\"\",[2]Paramètres!A279)","v":""},{"$f":"IF([2]Paramètres!B279=\"\",\"\",[2]Paramètres!B279)","v":""},{"$f":"IF([2]Paramètres!C279=\"\",\"\",[2]Paramètres!C279)","v":""},{"$f":"IF([2]Paramètres!D279=\"\",\"\",[2]Paramètres!D279)","v":""},{"$f":"IF([2]Paramètres!E279=\"\",\"\",[2]Paramètres!E279)","v":""},{"$f":"IF([2]Paramètres!F279=\"\",\"\",[2]Paramètres!F279)","v":""},{"$f":"IF([2]Paramètres!G279=\"\",\"\",[2]Paramètres!G279)","v":""},{"$f":"IF([2]Paramètres!H279=\"\",\"\",[2]Paramètres!H279)","v":""},{"$f":"IF([2]Paramètres!I279=\"\",\"\",[2]Paramètres!I279)","v":""},{"$f":"IF([2]Paramètres!J279=\"\",\"\",[2]Paramètres!J279)","v":""},{"$f":"IF([2]Paramètres!K279=\"\",\"\",[2]Paramètres!K279)","v":""},{"$f":"IF([2]Paramètres!L279=\"\",\"\",[2]Paramètres!L279)","v":""},{"$f":"IF([2]Paramètres!M279=\"\",\"\",[2]Paramètres!M279)","v":""},{"$f":"IF([2]Paramètres!N279=\"\",\"\",[2]Paramètres!N279)","v":""},{"$f":"IF([2]Paramètres!O279=\"\",\"\",[2]Paramètres!O279)","v":""},{"$f":"IF([2]Paramètres!P279=\"\",\"\",[2]Paramètres!P279)","v":""},{"$f":"IF([2]Paramètres!Q279=\"\",\"\",[2]Paramètres!Q279)","v":""},{"$f":"IF([2]Paramètres!R279=\"\",\"\",[2]Paramètres!R279)","v":""},{"$f":"IF([2]Paramètres!S279=\"\",\"\",[2]Paramètres!S279)","v":""},{"$f":"IF([2]Paramètres!T279=\"\",\"\",[2]Paramètres!T279)","v":""},{"$f":"IF([2]Paramètres!U279=\"\",\"\",[2]Paramètres!U279)","v":""},{"$f":"IF([2]Paramètres!V279=\"\",\"\",[2]Paramètres!V279)","v":""},{"$f":"IF([2]Paramètres!W279=\"\",\"\",[2]Paramètres!W279)","v":""},{"$f":"IF([2]Paramètres!X279=\"\",\"\",[2]Paramètres!X279)","v":""},{"$f":"IF([2]Paramètres!Y279=\"\",\"\",[2]Paramètres!Y279)","v":""},{"$f":"IF([2]Paramètres!Z279=\"\",\"\",[2]Paramètres!Z279)","v":""}]
[{"$f":"IF([2]Paramètres!A280=\"\",\"\",[2]Paramètres!A280)","v":""},{"$f":"IF([2]Paramètres!B280=\"\",\"\",[2]Paramètres!B280)","v":""},{"$f":"IF([2]Paramètres!C280=\"\",\"\",[2]Paramètres!C280)","v":""},{"$f":"IF([2]Paramètres!D280=\"\",\"\",[2]Paramètres!D280)","v":""},{"$f":"IF([2]Paramètres!E280=\"\",\"\",[2]Paramètres!E280)","v":""},{"$f":"IF([2]Paramètres!F280=\"\",\"\",[2]Paramètres!F280)","v":""},{"$f":"IF([2]Paramètres!G280=\"\",\"\",[2]Paramètres!G280)","v":""},{"$f":"IF([2]Paramètres!H280=\"\",\"\",[2]Paramètres!H280)","v":""},{"$f":"IF([2]Paramètres!I280=\"\",\"\",[2]Paramètres!I280)","v":""},{"$f":"IF([2]Paramètres!J280=\"\",\"\",[2]Paramètres!J280)","v":""},{"$f":"IF([2]Paramètres!K280=\"\",\"\",[2]Paramètres!K280)","v":""},{"$f":"IF([2]Paramètres!L280=\"\",\"\",[2]Paramètres!L280)","v":""},{"$f":"IF([2]Paramètres!M280=\"\",\"\",[2]Paramètres!M280)","v":""},{"$f":"IF([2]Paramètres!N280=\"\",\"\",[2]Paramètres!N280)","v":""},{"$f":"IF([2]Paramètres!O280=\"\",\"\",[2]Paramètres!O280)","v":""},{"$f":"IF([2]Paramètres!P280=\"\",\"\",[2]Paramètres!P280)","v":""},{"$f":"IF([2]Paramètres!Q280=\"\",\"\",[2]Paramètres!Q280)","v":""},{"$f":"IF([2]Paramètres!R280=\"\",\"\",[2]Paramètres!R280)","v":""},{"$f":"IF([2]Paramètres!S280=\"\",\"\",[2]Paramètres!S280)","v":""},{"$f":"IF([2]Paramètres!T280=\"\",\"\",[2]Paramètres!T280)","v":""},{"$f":"IF([2]Paramètres!U280=\"\",\"\",[2]Paramètres!U280)","v":""},{"$f":"IF([2]Paramètres!V280=\"\",\"\",[2]Paramètres!V280)","v":""},{"$f":"IF([2]Paramètres!W280=\"\",\"\",[2]Paramètres!W280)","v":""},{"$f":"IF([2]Paramètres!X280=\"\",\"\",[2]Paramètres!X280)","v":""},{"$f":"IF([2]Paramètres!Y280=\"\",\"\",[2]Paramètres!Y280)","v":""},{"$f":"IF([2]Paramètres!Z280=\"\",\"\",[2]Paramètres!Z280)","v":""}]
[{"$f":"IF([2]Paramètres!A281=\"\",\"\",[2]Paramètres!A281)","v":""},{"$f":"IF([2]Paramètres!B281=\"\",\"\",[2]Paramètres!B281)","v":""},{"$f":"IF([2]Paramètres!C281=\"\",\"\",[2]Paramètres!C281)","v":""},{"$f":"IF([2]Paramètres!D281=\"\",\"\",[2]Paramètres!D281)","v":""},{"$f":"IF([2]Paramètres!E281=\"\",\"\",[2]Paramètres!E281)","v":""},{"$f":"IF([2]Paramètres!F281=\"\",\"\",[2]Paramètres!F281)","v":""},{"$f":"IF([2]Paramètres!G281=\"\",\"\",[2]Paramètres!G281)","v":""},{"$f":"IF([2]Paramètres!H281=\"\",\"\",[2]Paramètres!H281)","v":""},{"$f":"IF([2]Paramètres!I281=\"\",\"\",[2]Paramètres!I281)","v":""},{"$f":"IF([2]Paramètres!J281=\"\",\"\",[2]Paramètres!J281)","v":""},{"$f":"IF([2]Paramètres!K281=\"\",\"\",[2]Paramètres!K281)","v":""},{"$f":"IF([2]Paramètres!L281=\"\",\"\",[2]Paramètres!L281)","v":""},{"$f":"IF([2]Paramètres!M281=\"\",\"\",[2]Paramètres!M281)","v":""},{"$f":"IF([2]Paramètres!N281=\"\",\"\",[2]Paramètres!N281)","v":""},{"$f":"IF([2]Paramètres!O281=\"\",\"\",[2]Paramètres!O281)","v":""},{"$f":"IF([2]Paramètres!P281=\"\",\"\",[2]Paramètres!P281)","v":""},{"$f":"IF([2]Paramètres!Q281=\"\",\"\",[2]Paramètres!Q281)","v":""},{"$f":"IF([2]Paramètres!R281=\"\",\"\",[2]Paramètres!R281)","v":""},{"$f":"IF([2]Paramètres!S281=\"\",\"\",[2]Paramètres!S281)","v":""},{"$f":"IF([2]Paramètres!T281=\"\",\"\",[2]Paramètres!T281)","v":""},{"$f":"IF([2]Paramètres!U281=\"\",\"\",[2]Paramètres!U281)","v":""},{"$f":"IF([2]Paramètres!V281=\"\",\"\",[2]Paramètres!V281)","v":""},{"$f":"IF([2]Paramètres!W281=\"\",\"\",[2]Paramètres!W281)","v":""},{"$f":"IF([2]Paramètres!X281=\"\",\"\",[2]Paramètres!X281)","v":""},{"$f":"IF([2]Paramètres!Y281=\"\",\"\",[2]Paramètres!Y281)","v":""},{"$f":"IF([2]Paramètres!Z281=\"\",\"\",[2]Paramètres!Z281)","v":""}]
[{"$f":"IF([2]Paramètres!A282=\"\",\"\",[2]Paramètres!A282)","v":""},{"$f":"IF([2]Paramètres!B282=\"\",\"\",[2]Paramètres!B282)","v":""},{"$f":"IF([2]Paramètres!C282=\"\",\"\",[2]Paramètres!C282)","v":""},{"$f":"IF([2]Paramètres!D282=\"\",\"\",[2]Paramètres!D282)","v":""},{"$f":"IF([2]Paramètres!E282=\"\",\"\",[2]Paramètres!E282)","v":""},{"$f":"IF([2]Paramètres!F282=\"\",\"\",[2]Paramètres!F282)","v":""},{"$f":"IF([2]Paramètres!G282=\"\",\"\",[2]Paramètres!G282)","v":""},{"$f":"IF([2]Paramètres!H282=\"\",\"\",[2]Paramètres!H282)","v":""},{"$f":"IF([2]Paramètres!I282=\"\",\"\",[2]Paramètres!I282)","v":""},{"$f":"IF([2]Paramètres!J282=\"\",\"\",[2]Paramètres!J282)","v":""},{"$f":"IF([2]Paramètres!K282=\"\",\"\",[2]Paramètres!K282)","v":""},{"$f":"IF([2]Paramètres!L282=\"\",\"\",[2]Paramètres!L282)","v":""},{"$f":"IF([2]Paramètres!M282=\"\",\"\",[2]Paramètres!M282)","v":""},{"$f":"IF([2]Paramètres!N282=\"\",\"\",[2]Paramètres!N282)","v":""},{"$f":"IF([2]Paramètres!O282=\"\",\"\",[2]Paramètres!O282)","v":""},{"$f":"IF([2]Paramètres!P282=\"\",\"\",[2]Paramètres!P282)","v":""},{"$f":"IF([2]Paramètres!Q282=\"\",\"\",[2]Paramètres!Q282)","v":""},{"$f":"IF([2]Paramètres!R282=\"\",\"\",[2]Paramètres!R282)","v":""},{"$f":"IF([2]Paramètres!S282=\"\",\"\",[2]Paramètres!S282)","v":""},{"$f":"IF([2]Paramètres!T282=\"\",\"\",[2]Paramètres!T282)","v":""},{"$f":"IF([2]Paramètres!U282=\"\",\"\",[2]Paramètres!U282)","v":""},{"$f":"IF([2]Paramètres!V282=\"\",\"\",[2]Paramètres!V282)","v":""},{"$f":"IF([2]Paramètres!W282=\"\",\"\",[2]Paramètres!W282)","v":""},{"$f":"IF([2]Paramètres!X282=\"\",\"\",[2]Paramètres!X282)","v":""},{"$f":"IF([2]Paramètres!Y282=\"\",\"\",[2]Paramètres!Y282)","v":""},{"$f":"IF([2]Paramètres!Z282=\"\",\"\",[2]Paramètres!Z282)","v":""}]
[{"$f":"IF([2]Paramètres!A283=\"\",\"\",[2]Paramètres!A283)","v":""},{"$f":"IF([2]Paramètres!B283=\"\",\"\",[2]Paramètres!B283)","v":""},{"$f":"IF([2]Paramètres!C283=\"\",\"\",[2]Paramètres!C283)","v":""},{"$f":"IF([2]Paramètres!D283=\"\",\"\",[2]Paramètres!D283)","v":""},{"$f":"IF([2]Paramètres!E283=\"\",\"\",[2]Paramètres!E283)","v":""},{"$f":"IF([2]Paramètres!F283=\"\",\"\",[2]Paramètres!F283)","v":""},{"$f":"IF([2]Paramètres!G283=\"\",\"\",[2]Paramètres!G283)","v":""},{"$f":"IF([2]Paramètres!H283=\"\",\"\",[2]Paramètres!H283)","v":""},{"$f":"IF([2]Paramètres!I283=\"\",\"\",[2]Paramètres!I283)","v":""},{"$f":"IF([2]Paramètres!J283=\"\",\"\",[2]Paramètres!J283)","v":""},{"$f":"IF([2]Paramètres!K283=\"\",\"\",[2]Paramètres!K283)","v":""},{"$f":"IF([2]Paramètres!L283=\"\",\"\",[2]Paramètres!L283)","v":""},{"$f":"IF([2]Paramètres!M283=\"\",\"\",[2]Paramètres!M283)","v":""},{"$f":"IF([2]Paramètres!N283=\"\",\"\",[2]Paramètres!N283)","v":""},{"$f":"IF([2]Paramètres!O283=\"\",\"\",[2]Paramètres!O283)","v":""},{"$f":"IF([2]Paramètres!P283=\"\",\"\",[2]Paramètres!P283)","v":""},{"$f":"IF([2]Paramètres!Q283=\"\",\"\",[2]Paramètres!Q283)","v":""},{"$f":"IF([2]Paramètres!R283=\"\",\"\",[2]Paramètres!R283)","v":""},{"$f":"IF([2]Paramètres!S283=\"\",\"\",[2]Paramètres!S283)","v":""},{"$f":"IF([2]Paramètres!T283=\"\",\"\",[2]Paramètres!T283)","v":""},{"$f":"IF([2]Paramètres!U283=\"\",\"\",[2]Paramètres!U283)","v":""},{"$f":"IF([2]Paramètres!V283=\"\",\"\",[2]Paramètres!V283)","v":""},{"$f":"IF([2]Paramètres!W283=\"\",\"\",[2]Paramètres!W283)","v":""},{"$f":"IF([2]Paramètres!X283=\"\",\"\",[2]Paramètres!X283)","v":""},{"$f":"IF([2]Paramètres!Y283=\"\",\"\",[2]Paramètres!Y283)","v":""},{"$f":"IF([2]Paramètres!Z283=\"\",\"\",[2]Paramètres!Z283)","v":""}]
[{"$f":"IF([2]Paramètres!A284=\"\",\"\",[2]Paramètres!A284)","v":""},{"$f":"IF([2]Paramètres!B284=\"\",\"\",[2]Paramètres!B284)","v":""},{"$f":"IF([2]Paramètres!C284=\"\",\"\",[2]Paramètres!C284)","v":""},{"$f":"IF([2]Paramètres!D284=\"\",\"\",[2]Paramètres!D284)","v":""},{"$f":"IF([2]Paramètres!E284=\"\",\"\",[2]Paramètres!E284)","v":""},{"$f":"IF([2]Paramètres!F284=\"\",\"\",[2]Paramètres!F284)","v":""},{"$f":"IF([2]Paramètres!G284=\"\",\"\",[2]Paramètres!G284)","v":""},{"$f":"IF([2]Paramètres!H284=\"\",\"\",[2]Paramètres!H284)","v":""},{"$f":"IF([2]Paramètres!I284=\"\",\"\",[2]Paramètres!I284)","v":""},{"$f":"IF([2]Paramètres!J284=\"\",\"\",[2]Paramètres!J284)","v":""},{"$f":"IF([2]Paramètres!K284=\"\",\"\",[2]Paramètres!K284)","v":""},{"$f":"IF([2]Paramètres!L284=\"\",\"\",[2]Paramètres!L284)","v":""},{"$f":"IF([2]Paramètres!M284=\"\",\"\",[2]Paramètres!M284)","v":""},{"$f":"IF([2]Paramètres!N284=\"\",\"\",[2]Paramètres!N284)","v":""},{"$f":"IF([2]Paramètres!O284=\"\",\"\",[2]Paramètres!O284)","v":""},{"$f":"IF([2]Paramètres!P284=\"\",\"\",[2]Paramètres!P284)","v":""},{"$f":"IF([2]Paramètres!Q284=\"\",\"\",[2]Paramètres!Q284)","v":""},{"$f":"IF([2]Paramètres!R284=\"\",\"\",[2]Paramètres!R284)","v":""},{"$f":"IF([2]Paramètres!S284=\"\",\"\",[2]Paramètres!S284)","v":""},{"$f":"IF([2]Paramètres!T284=\"\",\"\",[2]Paramètres!T284)","v":""},{"$f":"IF([2]Paramètres!U284=\"\",\"\",[2]Paramètres!U284)","v":""},{"$f":"IF([2]Paramètres!V284=\"\",\"\",[2]Paramètres!V284)","v":""},{"$f":"IF([2]Paramètres!W284=\"\",\"\",[2]Paramètres!W284)","v":""},{"$f":"IF([2]Paramètres!X284=\"\",\"\",[2]Paramètres!X284)","v":""},{"$f":"IF([2]Paramètres!Y284=\"\",\"\",[2]Paramètres!Y284)","v":""},{"$f":"IF([2]Paramètres!Z284=\"\",\"\",[2]Paramètres!Z284)","v":""}]
[{"$f":"IF([2]Paramètres!A285=\"\",\"\",[2]Paramètres!A285)","v":""},{"$f":"IF([2]Paramètres!B285=\"\",\"\",[2]Paramètres!B285)","v":""},{"$f":"IF([2]Paramètres!C285=\"\",\"\",[2]Paramètres!C285)","v":""},{"$f":"IF([2]Paramètres!D285=\"\",\"\",[2]Paramètres!D285)","v":""},{"$f":"IF([2]Paramètres!E285=\"\",\"\",[2]Paramètres!E285)","v":""},{"$f":"IF([2]Paramètres!F285=\"\",\"\",[2]Paramètres!F285)","v":""},{"$f":"IF([2]Paramètres!G285=\"\",\"\",[2]Paramètres!G285)","v":""},{"$f":"IF([2]Paramètres!H285=\"\",\"\",[2]Paramètres!H285)","v":""},{"$f":"IF([2]Paramètres!I285=\"\",\"\",[2]Paramètres!I285)","v":""},{"$f":"IF([2]Paramètres!J285=\"\",\"\",[2]Paramètres!J285)","v":""},{"$f":"IF([2]Paramètres!K285=\"\",\"\",[2]Paramètres!K285)","v":""},{"$f":"IF([2]Paramètres!L285=\"\",\"\",[2]Paramètres!L285)","v":""},{"$f":"IF([2]Paramètres!M285=\"\",\"\",[2]Paramètres!M285)","v":""},{"$f":"IF([2]Paramètres!N285=\"\",\"\",[2]Paramètres!N285)","v":""},{"$f":"IF([2]Paramètres!O285=\"\",\"\",[2]Paramètres!O285)","v":""},{"$f":"IF([2]Paramètres!P285=\"\",\"\",[2]Paramètres!P285)","v":""},{"$f":"IF([2]Paramètres!Q285=\"\",\"\",[2]Paramètres!Q285)","v":""},{"$f":"IF([2]Paramètres!R285=\"\",\"\",[2]Paramètres!R285)","v":""},{"$f":"IF([2]Paramètres!S285=\"\",\"\",[2]Paramètres!S285)","v":""},{"$f":"IF([2]Paramètres!T285=\"\",\"\",[2]Paramètres!T285)","v":""},{"$f":"IF([2]Paramètres!U285=\"\",\"\",[2]Paramètres!U285)","v":""},{"$f":"IF([2]Paramètres!V285=\"\",\"\",[2]Paramètres!V285)","v":""},{"$f":"IF([2]Paramètres!W285=\"\",\"\",[2]Paramètres!W285)","v":""},{"$f":"IF([2]Paramètres!X285=\"\",\"\",[2]Paramètres!X285)","v":""},{"$f":"IF([2]Paramètres!Y285=\"\",\"\",[2]Paramètres!Y285)","v":""},{"$f":"IF([2]Paramètres!Z285=\"\",\"\",[2]Paramètres!Z285)","v":""}]
[{"$f":"IF([2]Paramètres!A286=\"\",\"\",[2]Paramètres!A286)","v":""},{"$f":"IF([2]Paramètres!B286=\"\",\"\",[2]Paramètres!B286)","v":""},{"$f":"IF([2]Paramètres!C286=\"\",\"\",[2]Paramètres!C286)","v":""},{"$f":"IF([2]Paramètres!D286=\"\",\"\",[2]Paramètres!D286)","v":""},{"$f":"IF([2]Paramètres!E286=\"\",\"\",[2]Paramètres!E286)","v":""},{"$f":"IF([2]Paramètres!F286=\"\",\"\",[2]Paramètres!F286)","v":""},{"$f":"IF([2]Paramètres!G286=\"\",\"\",[2]Paramètres!G286)","v":""},{"$f":"IF([2]Paramètres!H286=\"\",\"\",[2]Paramètres!H286)","v":""},{"$f":"IF([2]Paramètres!I286=\"\",\"\",[2]Paramètres!I286)","v":""},{"$f":"IF([2]Paramètres!J286=\"\",\"\",[2]Paramètres!J286)","v":""},{"$f":"IF([2]Paramètres!K286=\"\",\"\",[2]Paramètres!K286)","v":""},{"$f":"IF([2]Paramètres!L286=\"\",\"\",[2]Paramètres!L286)","v":""},{"$f":"IF([2]Paramètres!M286=\"\",\"\",[2]Paramètres!M286)","v":""},{"$f":"IF([2]Paramètres!N286=\"\",\"\",[2]Paramètres!N286)","v":""},{"$f":"IF([2]Paramètres!O286=\"\",\"\",[2]Paramètres!O286)","v":""},{"$f":"IF([2]Paramètres!P286=\"\",\"\",[2]Paramètres!P286)","v":""},{"$f":"IF([2]Paramètres!Q286=\"\",\"\",[2]Paramètres!Q286)","v":""},{"$f":"IF([2]Paramètres!R286=\"\",\"\",[2]Paramètres!R286)","v":""},{"$f":"IF([2]Paramètres!S286=\"\",\"\",[2]Paramètres!S286)","v":""},{"$f":"IF([2]Paramètres!T286=\"\",\"\",[2]Paramètres!T286)","v":""},{"$f":"IF([2]Paramètres!U286=\"\",\"\",[2]Paramètres!U286)","v":""},{"$f":"IF([2]Paramètres!V286=\"\",\"\",[2]Paramètres!V286)","v":""},{"$f":"IF([2]Paramètres!W286=\"\",\"\",[2]Paramètres!W286)","v":""},{"$f":"IF([2]Paramètres!X286=\"\",\"\",[2]Paramètres!X286)","v":""},{"$f":"IF([2]Paramètres!Y286=\"\",\"\",[2]Paramètres!Y286)","v":""},{"$f":"IF([2]Paramètres!Z286=\"\",\"\",[2]Paramètres!Z286)","v":""}]
[{"$f":"IF([2]Paramètres!A287=\"\",\"\",[2]Paramètres!A287)","v":""},{"$f":"IF([2]Paramètres!B287=\"\",\"\",[2]Paramètres!B287)","v":""},{"$f":"IF([2]Paramètres!C287=\"\",\"\",[2]Paramètres!C287)","v":""},{"$f":"IF([2]Paramètres!D287=\"\",\"\",[2]Paramètres!D287)","v":""},{"$f":"IF([2]Paramètres!E287=\"\",\"\",[2]Paramètres!E287)","v":""},{"$f":"IF([2]Paramètres!F287=\"\",\"\",[2]Paramètres!F287)","v":""},{"$f":"IF([2]Paramètres!G287=\"\",\"\",[2]Paramètres!G287)","v":""},{"$f":"IF([2]Paramètres!H287=\"\",\"\",[2]Paramètres!H287)","v":""},{"$f":"IF([2]Paramètres!I287=\"\",\"\",[2]Paramètres!I287)","v":""},{"$f":"IF([2]Paramètres!J287=\"\",\"\",[2]Paramètres!J287)","v":""},{"$f":"IF([2]Paramètres!K287=\"\",\"\",[2]Paramètres!K287)","v":""},{"$f":"IF([2]Paramètres!L287=\"\",\"\",[2]Paramètres!L287)","v":""},{"$f":"IF([2]Paramètres!M287=\"\",\"\",[2]Paramètres!M287)","v":""},{"$f":"IF([2]Paramètres!N287=\"\",\"\",[2]Paramètres!N287)","v":""},{"$f":"IF([2]Paramètres!O287=\"\",\"\",[2]Paramètres!O287)","v":""},{"$f":"IF([2]Paramètres!P287=\"\",\"\",[2]Paramètres!P287)","v":""},{"$f":"IF([2]Paramètres!Q287=\"\",\"\",[2]Paramètres!Q287)","v":""},{"$f":"IF([2]Paramètres!R287=\"\",\"\",[2]Paramètres!R287)","v":""},{"$f":"IF([2]Paramètres!S287=\"\",\"\",[2]Paramètres!S287)","v":""},{"$f":"IF([2]Paramètres!T287=\"\",\"\",[2]Paramètres!T287)","v":""},{"$f":"IF([2]Paramètres!U287=\"\",\"\",[2]Paramètres!U287)","v":""},{"$f":"IF([2]Paramètres!V287=\"\",\"\",[2]Paramètres!V287)","v":""},{"$f":"IF([2]Paramètres!W287=\"\",\"\",[2]Paramètres!W287)","v":""},{"$f":"IF([2]Paramètres!X287=\"\",\"\",[2]Paramètres!X287)","v":""},{"$f":"IF([2]Paramètres!Y287=\"\",\"\",[2]Paramètres!Y287)","v":""},{"$f":"IF([2]Paramètres!Z287=\"\",\"\",[2]Paramètres!Z287)","v":""}]
[{"$f":"IF([2]Paramètres!A288=\"\",\"\",[2]Paramètres!A288)","v":""},{"$f":"IF([2]Paramètres!B288=\"\",\"\",[2]Paramètres!B288)","v":""},{"$f":"IF([2]Paramètres!C288=\"\",\"\",[2]Paramètres!C288)","v":""},{"$f":"IF([2]Paramètres!D288=\"\",\"\",[2]Paramètres!D288)","v":""},{"$f":"IF([2]Paramètres!E288=\"\",\"\",[2]Paramètres!E288)","v":""},{"$f":"IF([2]Paramètres!F288=\"\",\"\",[2]Paramètres!F288)","v":""},{"$f":"IF([2]Paramètres!G288=\"\",\"\",[2]Paramètres!G288)","v":""},{"$f":"IF([2]Paramètres!H288=\"\",\"\",[2]Paramètres!H288)","v":""},{"$f":"IF([2]Paramètres!I288=\"\",\"\",[2]Paramètres!I288)","v":""},{"$f":"IF([2]Paramètres!J288=\"\",\"\",[2]Paramètres!J288)","v":""},{"$f":"IF([2]Paramètres!K288=\"\",\"\",[2]Paramètres!K288)","v":""},{"$f":"IF([2]Paramètres!L288=\"\",\"\",[2]Paramètres!L288)","v":""},{"$f":"IF([2]Paramètres!M288=\"\",\"\",[2]Paramètres!M288)","v":""},{"$f":"IF([2]Paramètres!N288=\"\",\"\",[2]Paramètres!N288)","v":""},{"$f":"IF([2]Paramètres!O288=\"\",\"\",[2]Paramètres!O288)","v":""},{"$f":"IF([2]Paramètres!P288=\"\",\"\",[2]Paramètres!P288)","v":""},{"$f":"IF([2]Paramètres!Q288=\"\",\"\",[2]Paramètres!Q288)","v":""},{"$f":"IF([2]Paramètres!R288=\"\",\"\",[2]Paramètres!R288)","v":""},{"$f":"IF([2]Paramètres!S288=\"\",\"\",[2]Paramètres!S288)","v":""},{"$f":"IF([2]Paramètres!T288=\"\",\"\",[2]Paramètres!T288)","v":""},{"$f":"IF([2]Paramètres!U288=\"\",\"\",[2]Paramètres!U288)","v":""},{"$f":"IF([2]Paramètres!V288=\"\",\"\",[2]Paramètres!V288)","v":""},{"$f":"IF([2]Paramètres!W288=\"\",\"\",[2]Paramètres!W288)","v":""},{"$f":"IF([2]Paramètres!X288=\"\",\"\",[2]Paramètres!X288)","v":""},{"$f":"IF([2]Paramètres!Y288=\"\",\"\",[2]Paramètres!Y288)","v":""},{"$f":"IF([2]Paramètres!Z288=\"\",\"\",[2]Paramètres!Z288)","v":""}]
[{"$f":"IF([2]Paramètres!A289=\"\",\"\",[2]Paramètres!A289)","v":""},{"$f":"IF([2]Paramètres!B289=\"\",\"\",[2]Paramètres!B289)","v":""},{"$f":"IF([2]Paramètres!C289=\"\",\"\",[2]Paramètres!C289)","v":""},{"$f":"IF([2]Paramètres!D289=\"\",\"\",[2]Paramètres!D289)","v":""},{"$f":"IF([2]Paramètres!E289=\"\",\"\",[2]Paramètres!E289)","v":""},{"$f":"IF([2]Paramètres!F289=\"\",\"\",[2]Paramètres!F289)","v":""},{"$f":"IF([2]Paramètres!G289=\"\",\"\",[2]Paramètres!G289)","v":""},{"$f":"IF([2]Paramètres!H289=\"\",\"\",[2]Paramètres!H289)","v":""},{"$f":"IF([2]Paramètres!I289=\"\",\"\",[2]Paramètres!I289)","v":""},{"$f":"IF([2]Paramètres!J289=\"\",\"\",[2]Paramètres!J289)","v":""},{"$f":"IF([2]Paramètres!K289=\"\",\"\",[2]Paramètres!K289)","v":""},{"$f":"IF([2]Paramètres!L289=\"\",\"\",[2]Paramètres!L289)","v":""},{"$f":"IF([2]Paramètres!M289=\"\",\"\",[2]Paramètres!M289)","v":""},{"$f":"IF([2]Paramètres!N289=\"\",\"\",[2]Paramètres!N289)","v":""},{"$f":"IF([2]Paramètres!O289=\"\",\"\",[2]Paramètres!O289)","v":""},{"$f":"IF([2]Paramètres!P289=\"\",\"\",[2]Paramètres!P289)","v":""},{"$f":"IF([2]Paramètres!Q289=\"\",\"\",[2]Paramètres!Q289)","v":""},{"$f":"IF([2]Paramètres!R289=\"\",\"\",[2]Paramètres!R289)","v":""},{"$f":"IF([2]Paramètres!S289=\"\",\"\",[2]Paramètres!S289)","v":""},{"$f":"IF([2]Paramètres!T289=\"\",\"\",[2]Paramètres!T289)","v":""},{"$f":"IF([2]Paramètres!U289=\"\",\"\",[2]Paramètres!U289)","v":""},{"$f":"IF([2]Paramètres!V289=\"\",\"\",[2]Paramètres!V289)","v":""},{"$f":"IF([2]Paramètres!W289=\"\",\"\",[2]Paramètres!W289)","v":""},{"$f":"IF([2]Paramètres!X289=\"\",\"\",[2]Paramètres!X289)","v":""},{"$f":"IF([2]Paramètres!Y289=\"\",\"\",[2]Paramètres!Y289)","v":""},{"$f":"IF([2]Paramètres!Z289=\"\",\"\",[2]Paramètres!Z289)","v":""}]
[{"$f":"IF([2]Paramètres!A290=\"\",\"\",[2]Paramètres!A290)","v":""},{"$f":"IF([2]Paramètres!B290=\"\",\"\",[2]Paramètres!B290)","v":""},{"$f":"IF([2]Paramètres!C290=\"\",\"\",[2]Paramètres!C290)","v":""},{"$f":"IF([2]Paramètres!D290=\"\",\"\",[2]Paramètres!D290)","v":""},{"$f":"IF([2]Paramètres!E290=\"\",\"\",[2]Paramètres!E290)","v":""},{"$f":"IF([2]Paramètres!F290=\"\",\"\",[2]Paramètres!F290)","v":""},{"$f":"IF([2]Paramètres!G290=\"\",\"\",[2]Paramètres!G290)","v":""},{"$f":"IF([2]Paramètres!H290=\"\",\"\",[2]Paramètres!H290)","v":""},{"$f":"IF([2]Paramètres!I290=\"\",\"\",[2]Paramètres!I290)","v":""},{"$f":"IF([2]Paramètres!J290=\"\",\"\",[2]Paramètres!J290)","v":""},{"$f":"IF([2]Paramètres!K290=\"\",\"\",[2]Paramètres!K290)","v":""},{"$f":"IF([2]Paramètres!L290=\"\",\"\",[2]Paramètres!L290)","v":""},{"$f":"IF([2]Paramètres!M290=\"\",\"\",[2]Paramètres!M290)","v":""},{"$f":"IF([2]Paramètres!N290=\"\",\"\",[2]Paramètres!N290)","v":""},{"$f":"IF([2]Paramètres!O290=\"\",\"\",[2]Paramètres!O290)","v":""},{"$f":"IF([2]Paramètres!P290=\"\",\"\",[2]Paramètres!P290)","v":""},{"$f":"IF([2]Paramètres!Q290=\"\",\"\",[2]Paramètres!Q290)","v":""},{"$f":"IF([2]Paramètres!R290=\"\",\"\",[2]Paramètres!R290)","v":""},{"$f":"IF([2]Paramètres!S290=\"\",\"\",[2]Paramètres!S290)","v":""},{"$f":"IF([2]Paramètres!T290=\"\",\"\",[2]Paramètres!T290)","v":""},{"$f":"IF([2]Paramètres!U290=\"\",\"\",[2]Paramètres!U290)","v":""},{"$f":"IF([2]Paramètres!V290=\"\",\"\",[2]Paramètres!V290)","v":""},{"$f":"IF([2]Paramètres!W290=\"\",\"\",[2]Paramètres!W290)","v":""},{"$f":"IF([2]Paramètres!X290=\"\",\"\",[2]Paramètres!X290)","v":""},{"$f":"IF([2]Paramètres!Y290=\"\",\"\",[2]Paramètres!Y290)","v":""},{"$f":"IF([2]Paramètres!Z290=\"\",\"\",[2]Paramètres!Z290)","v":""}]
[{"$f":"IF([2]Paramètres!A291=\"\",\"\",[2]Paramètres!A291)","v":""},{"$f":"IF([2]Paramètres!B291=\"\",\"\",[2]Paramètres!B291)","v":""},{"$f":"IF([2]Paramètres!C291=\"\",\"\",[2]Paramètres!C291)","v":""},{"$f":"IF([2]Paramètres!D291=\"\",\"\",[2]Paramètres!D291)","v":""},{"$f":"IF([2]Paramètres!E291=\"\",\"\",[2]Paramètres!E291)","v":""},{"$f":"IF([2]Paramètres!F291=\"\",\"\",[2]Paramètres!F291)","v":""},{"$f":"IF([2]Paramètres!G291=\"\",\"\",[2]Paramètres!G291)","v":""},{"$f":"IF([2]Paramètres!H291=\"\",\"\",[2]Paramètres!H291)","v":""},{"$f":"IF([2]Paramètres!I291=\"\",\"\",[2]Paramètres!I291)","v":""},{"$f":"IF([2]Paramètres!J291=\"\",\"\",[2]Paramètres!J291)","v":""},{"$f":"IF([2]Paramètres!K291=\"\",\"\",[2]Paramètres!K291)","v":""},{"$f":"IF([2]Paramètres!L291=\"\",\"\",[2]Paramètres!L291)","v":""},{"$f":"IF([2]Paramètres!M291=\"\",\"\",[2]Paramètres!M291)","v":""},{"$f":"IF([2]Paramètres!N291=\"\",\"\",[2]Paramètres!N291)","v":""},{"$f":"IF([2]Paramètres!O291=\"\",\"\",[2]Paramètres!O291)","v":""},{"$f":"IF([2]Paramètres!P291=\"\",\"\",[2]Paramètres!P291)","v":""},{"$f":"IF([2]Paramètres!Q291=\"\",\"\",[2]Paramètres!Q291)","v":""},{"$f":"IF([2]Paramètres!R291=\"\",\"\",[2]Paramètres!R291)","v":""},{"$f":"IF([2]Paramètres!S291=\"\",\"\",[2]Paramètres!S291)","v":""},{"$f":"IF([2]Paramètres!T291=\"\",\"\",[2]Paramètres!T291)","v":""},{"$f":"IF([2]Paramètres!U291=\"\",\"\",[2]Paramètres!U291)","v":""},{"$f":"IF([2]Paramètres!V291=\"\",\"\",[2]Paramètres!V291)","v":""},{"$f":"IF([2]Paramètres!W291=\"\",\"\",[2]Paramètres!W291)","v":""},{"$f":"IF([2]Paramètres!X291=\"\",\"\",[2]Paramètres!X291)","v":""},{"$f":"IF([2]Paramètres!Y291=\"\",\"\",[2]Paramètres!Y291)","v":""},{"$f":"IF([2]Paramètres!Z291=\"\",\"\",[2]Paramètres!Z291)","v":""}]
[{"$f":"IF([2]Paramètres!A292=\"\",\"\",[2]Paramètres!A292)","v":""},{"$f":"IF([2]Paramètres!B292=\"\",\"\",[2]Paramètres!B292)","v":""},{"$f":"IF([2]Paramètres!C292=\"\",\"\",[2]Paramètres!C292)","v":""},{"$f":"IF([2]Paramètres!D292=\"\",\"\",[2]Paramètres!D292)","v":""},{"$f":"IF([2]Paramètres!E292=\"\",\"\",[2]Paramètres!E292)","v":""},{"$f":"IF([2]Paramètres!F292=\"\",\"\",[2]Paramètres!F292)","v":""},{"$f":"IF([2]Paramètres!G292=\"\",\"\",[2]Paramètres!G292)","v":""},{"$f":"IF([2]Paramètres!H292=\"\",\"\",[2]Paramètres!H292)","v":""},{"$f":"IF([2]Paramètres!I292=\"\",\"\",[2]Paramètres!I292)","v":""},{"$f":"IF([2]Paramètres!J292=\"\",\"\",[2]Paramètres!J292)","v":""},{"$f":"IF([2]Paramètres!K292=\"\",\"\",[2]Paramètres!K292)","v":""},{"$f":"IF([2]Paramètres!L292=\"\",\"\",[2]Paramètres!L292)","v":""},{"$f":"IF([2]Paramètres!M292=\"\",\"\",[2]Paramètres!M292)","v":""},{"$f":"IF([2]Paramètres!N292=\"\",\"\",[2]Paramètres!N292)","v":""},{"$f":"IF([2]Paramètres!O292=\"\",\"\",[2]Paramètres!O292)","v":""},{"$f":"IF([2]Paramètres!P292=\"\",\"\",[2]Paramètres!P292)","v":""},{"$f":"IF([2]Paramètres!Q292=\"\",\"\",[2]Paramètres!Q292)","v":""},{"$f":"IF([2]Paramètres!R292=\"\",\"\",[2]Paramètres!R292)","v":""},{"$f":"IF([2]Paramètres!S292=\"\",\"\",[2]Paramètres!S292)","v":""},{"$f":"IF([2]Paramètres!T292=\"\",\"\",[2]Paramètres!T292)","v":""},{"$f":"IF([2]Paramètres!U292=\"\",\"\",[2]Paramètres!U292)","v":""},{"$f":"IF([2]Paramètres!V292=\"\",\"\",[2]Paramètres!V292)","v":""},{"$f":"IF([2]Paramètres!W292=\"\",\"\",[2]Paramètres!W292)","v":""},{"$f":"IF([2]Paramètres!X292=\"\",\"\",[2]Paramètres!X292)","v":""},{"$f":"IF([2]Paramètres!Y292=\"\",\"\",[2]Paramètres!Y292)","v":""},{"$f":"IF([2]Paramètres!Z292=\"\",\"\",[2]Paramètres!Z292)","v":""}]
[{"$f":"IF([2]Paramètres!A293=\"\",\"\",[2]Paramètres!A293)","v":""},{"$f":"IF([2]Paramètres!B293=\"\",\"\",[2]Paramètres!B293)","v":""},{"$f":"IF([2]Paramètres!C293=\"\",\"\",[2]Paramètres!C293)","v":""},{"$f":"IF([2]Paramètres!D293=\"\",\"\",[2]Paramètres!D293)","v":""},{"$f":"IF([2]Paramètres!E293=\"\",\"\",[2]Paramètres!E293)","v":""},{"$f":"IF([2]Paramètres!F293=\"\",\"\",[2]Paramètres!F293)","v":""},{"$f":"IF([2]Paramètres!G293=\"\",\"\",[2]Paramètres!G293)","v":""},{"$f":"IF([2]Paramètres!H293=\"\",\"\",[2]Paramètres!H293)","v":""},{"$f":"IF([2]Paramètres!I293=\"\",\"\",[2]Paramètres!I293)","v":""},{"$f":"IF([2]Paramètres!J293=\"\",\"\",[2]Paramètres!J293)","v":""},{"$f":"IF([2]Paramètres!K293=\"\",\"\",[2]Paramètres!K293)","v":""},{"$f":"IF([2]Paramètres!L293=\"\",\"\",[2]Paramètres!L293)","v":""},{"$f":"IF([2]Paramètres!M293=\"\",\"\",[2]Paramètres!M293)","v":""},{"$f":"IF([2]Paramètres!N293=\"\",\"\",[2]Paramètres!N293)","v":""},{"$f":"IF([2]Paramètres!O293=\"\",\"\",[2]Paramètres!O293)","v":""},{"$f":"IF([2]Paramètres!P293=\"\",\"\",[2]Paramètres!P293)","v":""},{"$f":"IF([2]Paramètres!Q293=\"\",\"\",[2]Paramètres!Q293)","v":""},{"$f":"IF([2]Paramètres!R293=\"\",\"\",[2]Paramètres!R293)","v":""},{"$f":"IF([2]Paramètres!S293=\"\",\"\",[2]Paramètres!S293)","v":""},{"$f":"IF([2]Paramètres!T293=\"\",\"\",[2]Paramètres!T293)","v":""},{"$f":"IF([2]Paramètres!U293=\"\",\"\",[2]Paramètres!U293)","v":""},{"$f":"IF([2]Paramètres!V293=\"\",\"\",[2]Paramètres!V293)","v":""},{"$f":"IF([2]Paramètres!W293=\"\",\"\",[2]Paramètres!W293)","v":""},{"$f":"IF([2]Paramètres!X293=\"\",\"\",[2]Paramètres!X293)","v":""},{"$f":"IF([2]Paramètres!Y293=\"\",\"\",[2]Paramètres!Y293)","v":""},{"$f":"IF([2]Paramètres!Z293=\"\",\"\",[2]Paramètres!Z293)","v":""}]
[{"$f":"IF([2]Paramètres!A294=\"\",\"\",[2]Paramètres!A294)","v":""},{"$f":"IF([2]Paramètres!B294=\"\",\"\",[2]Paramètres!B294)","v":""},{"$f":"IF([2]Paramètres!C294=\"\",\"\",[2]Paramètres!C294)","v":""},{"$f":"IF([2]Paramètres!D294=\"\",\"\",[2]Paramètres!D294)","v":""},{"$f":"IF([2]Paramètres!E294=\"\",\"\",[2]Paramètres!E294)","v":""},{"$f":"IF([2]Paramètres!F294=\"\",\"\",[2]Paramètres!F294)","v":""},{"$f":"IF([2]Paramètres!G294=\"\",\"\",[2]Paramètres!G294)","v":""},{"$f":"IF([2]Paramètres!H294=\"\",\"\",[2]Paramètres!H294)","v":""},{"$f":"IF([2]Paramètres!I294=\"\",\"\",[2]Paramètres!I294)","v":""},{"$f":"IF([2]Paramètres!J294=\"\",\"\",[2]Paramètres!J294)","v":""},{"$f":"IF([2]Paramètres!K294=\"\",\"\",[2]Paramètres!K294)","v":""},{"$f":"IF([2]Paramètres!L294=\"\",\"\",[2]Paramètres!L294)","v":""},{"$f":"IF([2]Paramètres!M294=\"\",\"\",[2]Paramètres!M294)","v":""},{"$f":"IF([2]Paramètres!N294=\"\",\"\",[2]Paramètres!N294)","v":""},{"$f":"IF([2]Paramètres!O294=\"\",\"\",[2]Paramètres!O294)","v":""},{"$f":"IF([2]Paramètres!P294=\"\",\"\",[2]Paramètres!P294)","v":""},{"$f":"IF([2]Paramètres!Q294=\"\",\"\",[2]Paramètres!Q294)","v":""},{"$f":"IF([2]Paramètres!R294=\"\",\"\",[2]Paramètres!R294)","v":""},{"$f":"IF([2]Paramètres!S294=\"\",\"\",[2]Paramètres!S294)","v":""},{"$f":"IF([2]Paramètres!T294=\"\",\"\",[2]Paramètres!T294)","v":""},{"$f":"IF([2]Paramètres!U294=\"\",\"\",[2]Paramètres!U294)","v":""},{"$f":"IF([2]Paramètres!V294=\"\",\"\",[2]Paramètres!V294)","v":""},{"$f":"IF([2]Paramètres!W294=\"\",\"\",[2]Paramètres!W294)","v":""},{"$f":"IF([2]Paramètres!X294=\"\",\"\",[2]Paramètres!X294)","v":""},{"$f":"IF([2]Paramètres!Y294=\"\",\"\",[2]Paramètres!Y294)","v":""},{"$f":"IF([2]Paramètres!Z294=\"\",\"\",[2]Paramètres!Z294)","v":""}]
[{"$f":"IF([2]Paramètres!A295=\"\",\"\",[2]Paramètres!A295)","v":""},{"$f":"IF([2]Paramètres!B295=\"\",\"\",[2]Paramètres!B295)","v":""},{"$f":"IF([2]Paramètres!C295=\"\",\"\",[2]Paramètres!C295)","v":""},{"$f":"IF([2]Paramètres!D295=\"\",\"\",[2]Paramètres!D295)","v":""},{"$f":"IF([2]Paramètres!E295=\"\",\"\",[2]Paramètres!E295)","v":""},{"$f":"IF([2]Paramètres!F295=\"\",\"\",[2]Paramètres!F295)","v":""},{"$f":"IF([2]Paramètres!G295=\"\",\"\",[2]Paramètres!G295)","v":""},{"$f":"IF([2]Paramètres!H295=\"\",\"\",[2]Paramètres!H295)","v":""},{"$f":"IF([2]Paramètres!I295=\"\",\"\",[2]Paramètres!I295)","v":""},{"$f":"IF([2]Paramètres!J295=\"\",\"\",[2]Paramètres!J295)","v":""},{"$f":"IF([2]Paramètres!K295=\"\",\"\",[2]Paramètres!K295)","v":""},{"$f":"IF([2]Paramètres!L295=\"\",\"\",[2]Paramètres!L295)","v":""},{"$f":"IF([2]Paramètres!M295=\"\",\"\",[2]Paramètres!M295)","v":""},{"$f":"IF([2]Paramètres!N295=\"\",\"\",[2]Paramètres!N295)","v":""},{"$f":"IF([2]Paramètres!O295=\"\",\"\",[2]Paramètres!O295)","v":""},{"$f":"IF([2]Paramètres!P295=\"\",\"\",[2]Paramètres!P295)","v":""},{"$f":"IF([2]Paramètres!Q295=\"\",\"\",[2]Paramètres!Q295)","v":""},{"$f":"IF([2]Paramètres!R295=\"\",\"\",[2]Paramètres!R295)","v":""},{"$f":"IF([2]Paramètres!S295=\"\",\"\",[2]Paramètres!S295)","v":""},{"$f":"IF([2]Paramètres!T295=\"\",\"\",[2]Paramètres!T295)","v":""},{"$f":"IF([2]Paramètres!U295=\"\",\"\",[2]Paramètres!U295)","v":""},{"$f":"IF([2]Paramètres!V295=\"\",\"\",[2]Paramètres!V295)","v":""},{"$f":"IF([2]Paramètres!W295=\"\",\"\",[2]Paramètres!W295)","v":""},{"$f":"IF([2]Paramètres!X295=\"\",\"\",[2]Paramètres!X295)","v":""},{"$f":"IF([2]Paramètres!Y295=\"\",\"\",[2]Paramètres!Y295)","v":""},{"$f":"IF([2]Paramètres!Z295=\"\",\"\",[2]Paramètres!Z295)","v":""}]
[{"$f":"IF([2]Paramètres!A296=\"\",\"\",[2]Paramètres!A296)","v":""},{"$f":"IF([2]Paramètres!B296=\"\",\"\",[2]Paramètres!B296)","v":""},{"$f":"IF([2]Paramètres!C296=\"\",\"\",[2]Paramètres!C296)","v":""},{"$f":"IF([2]Paramètres!D296=\"\",\"\",[2]Paramètres!D296)","v":""},{"$f":"IF([2]Paramètres!E296=\"\",\"\",[2]Paramètres!E296)","v":""},{"$f":"IF([2]Paramètres!F296=\"\",\"\",[2]Paramètres!F296)","v":""},{"$f":"IF([2]Paramètres!G296=\"\",\"\",[2]Paramètres!G296)","v":""},{"$f":"IF([2]Paramètres!H296=\"\",\"\",[2]Paramètres!H296)","v":""},{"$f":"IF([2]Paramètres!I296=\"\",\"\",[2]Paramètres!I296)","v":""},{"$f":"IF([2]Paramètres!J296=\"\",\"\",[2]Paramètres!J296)","v":""},{"$f":"IF([2]Paramètres!K296=\"\",\"\",[2]Paramètres!K296)","v":""},{"$f":"IF([2]Paramètres!L296=\"\",\"\",[2]Paramètres!L296)","v":""},{"$f":"IF([2]Paramètres!M296=\"\",\"\",[2]Paramètres!M296)","v":""},{"$f":"IF([2]Paramètres!N296=\"\",\"\",[2]Paramètres!N296)","v":""},{"$f":"IF([2]Paramètres!O296=\"\",\"\",[2]Paramètres!O296)","v":""},{"$f":"IF([2]Paramètres!P296=\"\",\"\",[2]Paramètres!P296)","v":""},{"$f":"IF([2]Paramètres!Q296=\"\",\"\",[2]Paramètres!Q296)","v":""},{"$f":"IF([2]Paramètres!R296=\"\",\"\",[2]Paramètres!R296)","v":""},{"$f":"IF([2]Paramètres!S296=\"\",\"\",[2]Paramètres!S296)","v":""},{"$f":"IF([2]Paramètres!T296=\"\",\"\",[2]Paramètres!T296)","v":""},{"$f":"IF([2]Paramètres!U296=\"\",\"\",[2]Paramètres!U296)","v":""},{"$f":"IF([2]Paramètres!V296=\"\",\"\",[2]Paramètres!V296)","v":""},{"$f":"IF([2]Paramètres!W296=\"\",\"\",[2]Paramètres!W296)","v":""},{"$f":"IF([2]Paramètres!X296=\"\",\"\",[2]Paramètres!X296)","v":""},{"$f":"IF([2]Paramètres!Y296=\"\",\"\",[2]Paramètres!Y296)","v":""},{"$f":"IF([2]Paramètres!Z296=\"\",\"\",[2]Paramètres!Z296)","v":""}]
[{"$f":"IF([2]Paramètres!A297=\"\",\"\",[2]Paramètres!A297)","v":""},{"$f":"IF([2]Paramètres!B297=\"\",\"\",[2]Paramètres!B297)","v":""},{"$f":"IF([2]Paramètres!C297=\"\",\"\",[2]Paramètres!C297)","v":""},{"$f":"IF([2]Paramètres!D297=\"\",\"\",[2]Paramètres!D297)","v":""},{"$f":"IF([2]Paramètres!E297=\"\",\"\",[2]Paramètres!E297)","v":""},{"$f":"IF([2]Paramètres!F297=\"\",\"\",[2]Paramètres!F297)","v":""},{"$f":"IF([2]Paramètres!G297=\"\",\"\",[2]Paramètres!G297)","v":""},{"$f":"IF([2]Paramètres!H297=\"\",\"\",[2]Paramètres!H297)","v":""},{"$f":"IF([2]Paramètres!I297=\"\",\"\",[2]Paramètres!I297)","v":""},{"$f":"IF([2]Paramètres!J297=\"\",\"\",[2]Paramètres!J297)","v":""},{"$f":"IF([2]Paramètres!K297=\"\",\"\",[2]Paramètres!K297)","v":""},{"$f":"IF([2]Paramètres!L297=\"\",\"\",[2]Paramètres!L297)","v":""},{"$f":"IF([2]Paramètres!M297=\"\",\"\",[2]Paramètres!M297)","v":""},{"$f":"IF([2]Paramètres!N297=\"\",\"\",[2]Paramètres!N297)","v":""},{"$f":"IF([2]Paramètres!O297=\"\",\"\",[2]Paramètres!O297)","v":""},{"$f":"IF([2]Paramètres!P297=\"\",\"\",[2]Paramètres!P297)","v":""},{"$f":"IF([2]Paramètres!Q297=\"\",\"\",[2]Paramètres!Q297)","v":""},{"$f":"IF([2]Paramètres!R297=\"\",\"\",[2]Paramètres!R297)","v":""},{"$f":"IF([2]Paramètres!S297=\"\",\"\",[2]Paramètres!S297)","v":""},{"$f":"IF([2]Paramètres!T297=\"\",\"\",[2]Paramètres!T297)","v":""},{"$f":"IF([2]Paramètres!U297=\"\",\"\",[2]Paramètres!U297)","v":""},{"$f":"IF([2]Paramètres!V297=\"\",\"\",[2]Paramètres!V297)","v":""},{"$f":"IF([2]Paramètres!W297=\"\",\"\",[2]Paramètres!W297)","v":""},{"$f":"IF([2]Paramètres!X297=\"\",\"\",[2]Paramètres!X297)","v":""},{"$f":"IF([2]Paramètres!Y297=\"\",\"\",[2]Paramètres!Y297)","v":""},{"$f":"IF([2]Paramètres!Z297=\"\",\"\",[2]Paramètres!Z297)","v":""}]
[{"$f":"IF([2]Paramètres!A298=\"\",\"\",[2]Paramètres!A298)","v":""},{"$f":"IF([2]Paramètres!B298=\"\",\"\",[2]Paramètres!B298)","v":""},{"$f":"IF([2]Paramètres!C298=\"\",\"\",[2]Paramètres!C298)","v":""},{"$f":"IF([2]Paramètres!D298=\"\",\"\",[2]Paramètres!D298)","v":""},{"$f":"IF([2]Paramètres!E298=\"\",\"\",[2]Paramètres!E298)","v":""},{"$f":"IF([2]Paramètres!F298=\"\",\"\",[2]Paramètres!F298)","v":""},{"$f":"IF([2]Paramètres!G298=\"\",\"\",[2]Paramètres!G298)","v":""},{"$f":"IF([2]Paramètres!H298=\"\",\"\",[2]Paramètres!H298)","v":""},{"$f":"IF([2]Paramètres!I298=\"\",\"\",[2]Paramètres!I298)","v":""},{"$f":"IF([2]Paramètres!J298=\"\",\"\",[2]Paramètres!J298)","v":""},{"$f":"IF([2]Paramètres!K298=\"\",\"\",[2]Paramètres!K298)","v":""},{"$f":"IF([2]Paramètres!L298=\"\",\"\",[2]Paramètres!L298)","v":""},{"$f":"IF([2]Paramètres!M298=\"\",\"\",[2]Paramètres!M298)","v":""},{"$f":"IF([2]Paramètres!N298=\"\",\"\",[2]Paramètres!N298)","v":""},{"$f":"IF([2]Paramètres!O298=\"\",\"\",[2]Paramètres!O298)","v":""},{"$f":"IF([2]Paramètres!P298=\"\",\"\",[2]Paramètres!P298)","v":""},{"$f":"IF([2]Paramètres!Q298=\"\",\"\",[2]Paramètres!Q298)","v":""},{"$f":"IF([2]Paramètres!R298=\"\",\"\",[2]Paramètres!R298)","v":""},{"$f":"IF([2]Paramètres!S298=\"\",\"\",[2]Paramètres!S298)","v":""},{"$f":"IF([2]Paramètres!T298=\"\",\"\",[2]Paramètres!T298)","v":""},{"$f":"IF([2]Paramètres!U298=\"\",\"\",[2]Paramètres!U298)","v":""},{"$f":"IF([2]Paramètres!V298=\"\",\"\",[2]Paramètres!V298)","v":""},{"$f":"IF([2]Paramètres!W298=\"\",\"\",[2]Paramètres!W298)","v":""},{"$f":"IF([2]Paramètres!X298=\"\",\"\",[2]Paramètres!X298)","v":""},{"$f":"IF([2]Paramètres!Y298=\"\",\"\",[2]Paramètres!Y298)","v":""},{"$f":"IF([2]Paramètres!Z298=\"\",\"\",[2]Paramètres!Z298)","v":""}]
[{"$f":"IF([2]Paramètres!A299=\"\",\"\",[2]Paramètres!A299)","v":""},{"$f":"IF([2]Paramètres!B299=\"\",\"\",[2]Paramètres!B299)","v":""},{"$f":"IF([2]Paramètres!C299=\"\",\"\",[2]Paramètres!C299)","v":""},{"$f":"IF([2]Paramètres!D299=\"\",\"\",[2]Paramètres!D299)","v":""},{"$f":"IF([2]Paramètres!E299=\"\",\"\",[2]Paramètres!E299)","v":""},{"$f":"IF([2]Paramètres!F299=\"\",\"\",[2]Paramètres!F299)","v":""},{"$f":"IF([2]Paramètres!G299=\"\",\"\",[2]Paramètres!G299)","v":""},{"$f":"IF([2]Paramètres!H299=\"\",\"\",[2]Paramètres!H299)","v":""},{"$f":"IF([2]Paramètres!I299=\"\",\"\",[2]Paramètres!I299)","v":""},{"$f":"IF([2]Paramètres!J299=\"\",\"\",[2]Paramètres!J299)","v":""},{"$f":"IF([2]Paramètres!K299=\"\",\"\",[2]Paramètres!K299)","v":""},{"$f":"IF([2]Paramètres!L299=\"\",\"\",[2]Paramètres!L299)","v":""},{"$f":"IF([2]Paramètres!M299=\"\",\"\",[2]Paramètres!M299)","v":""},{"$f":"IF([2]Paramètres!N299=\"\",\"\",[2]Paramètres!N299)","v":""},{"$f":"IF([2]Paramètres!O299=\"\",\"\",[2]Paramètres!O299)","v":""},{"$f":"IF([2]Paramètres!P299=\"\",\"\",[2]Paramètres!P299)","v":""},{"$f":"IF([2]Paramètres!Q299=\"\",\"\",[2]Paramètres!Q299)","v":""},{"$f":"IF([2]Paramètres!R299=\"\",\"\",[2]Paramètres!R299)","v":""},{"$f":"IF([2]Paramètres!S299=\"\",\"\",[2]Paramètres!S299)","v":""},{"$f":"IF([2]Paramètres!T299=\"\",\"\",[2]Paramètres!T299)","v":""},{"$f":"IF([2]Paramètres!U299=\"\",\"\",[2]Paramètres!U299)","v":""},{"$f":"IF([2]Paramètres!V299=\"\",\"\",[2]Paramètres!V299)","v":""},{"$f":"IF([2]Paramètres!W299=\"\",\"\",[2]Paramètres!W299)","v":""},{"$f":"IF([2]Paramètres!X299=\"\",\"\",[2]Paramètres!X299)","v":""},{"$f":"IF([2]Paramètres!Y299=\"\",\"\",[2]Paramètres!Y299)","v":""},{"$f":"IF([2]Paramètres!Z299=\"\",\"\",[2]Paramètres!Z299)","v":""}]
[{"$f":"IF([2]Paramètres!A300=\"\",\"\",[2]Paramètres!A300)","v":""},{"$f":"IF([2]Paramètres!B300=\"\",\"\",[2]Paramètres!B300)","v":""},{"$f":"IF([2]Paramètres!C300=\"\",\"\",[2]Paramètres!C300)","v":""},{"$f":"IF([2]Paramètres!D300=\"\",\"\",[2]Paramètres!D300)","v":""},{"$f":"IF([2]Paramètres!E300=\"\",\"\",[2]Paramètres!E300)","v":""},{"$f":"IF([2]Paramètres!F300=\"\",\"\",[2]Paramètres!F300)","v":""},{"$f":"IF([2]Paramètres!G300=\"\",\"\",[2]Paramètres!G300)","v":""},{"$f":"IF([2]Paramètres!H300=\"\",\"\",[2]Paramètres!H300)","v":""},{"$f":"IF([2]Paramètres!I300=\"\",\"\",[2]Paramètres!I300)","v":""},{"$f":"IF([2]Paramètres!J300=\"\",\"\",[2]Paramètres!J300)","v":""},{"$f":"IF([2]Paramètres!K300=\"\",\"\",[2]Paramètres!K300)","v":""},{"$f":"IF([2]Paramètres!L300=\"\",\"\",[2]Paramètres!L300)","v":""},{"$f":"IF([2]Paramètres!M300=\"\",\"\",[2]Paramètres!M300)","v":""},{"$f":"IF([2]Paramètres!N300=\"\",\"\",[2]Paramètres!N300)","v":""},{"$f":"IF([2]Paramètres!O300=\"\",\"\",[2]Paramètres!O300)","v":""},{"$f":"IF([2]Paramètres!P300=\"\",\"\",[2]Paramètres!P300)","v":""},{"$f":"IF([2]Paramètres!Q300=\"\",\"\",[2]Paramètres!Q300)","v":""},{"$f":"IF([2]Paramètres!R300=\"\",\"\",[2]Paramètres!R300)","v":""},{"$f":"IF([2]Paramètres!S300=\"\",\"\",[2]Paramètres!S300)","v":""},{"$f":"IF([2]Paramètres!T300=\"\",\"\",[2]Paramètres!T300)","v":""},{"$f":"IF([2]Paramètres!U300=\"\",\"\",[2]Paramètres!U300)","v":""},{"$f":"IF([2]Paramètres!V300=\"\",\"\",[2]Paramètres!V300)","v":""},{"$f":"IF([2]Paramètres!W300=\"\",\"\",[2]Paramètres!W300)","v":""},{"$f":"IF([2]Paramètres!X300=\"\",\"\",[2]Paramètres!X300)","v":""},{"$f":"IF([2]Paramètres!Y300=\"\",\"\",[2]Paramètres!Y300)","v":""},{"$f":"IF([2]Paramètres!Z300=\"\",\"\",[2]Paramètres!Z300)","v":""}]
[null,null,null,null,null,null,null,null,null,{"$f":"IF([2]Paramètres!J1001=\"\",\"\",[2]Paramètres!J1001)","v":""},{"$f":"IF([2]Paramètres!K1001=\"\",\"\",[2]Paramètres!K1001)","v":""},{"$f":"IF([2]Paramètres!L1001=\"\",\"\",[2]Paramètres!L1001)","v":""},{"$f":"IF([2]Paramètres!M1001=\"\",\"\",[2]Paramètres!M1001)","v":""},{"$f":"IF([2]Paramètres!N1001=\"\",\"\",[2]Paramètres!N1001)","v":""},{"$f":"IF([2]Paramètres!O1001=\"\",\"\",[2]Paramètres!O1001)","v":""},{"$f":"IF([2]Paramètres!P1001=\"\",\"\",[2]Paramètres!P1001)","v":""},{"$f":"IF([2]Paramètres!Q1001=\"\",\"\",[2]Paramètres!Q1001)","v":""}]
[null,null,null,null,null,null,null,null,null,{"$f":"IF([2]Paramètres!J1002=\"\",\"\",[2]Paramètres!J1002)","v":""},{"$f":"IF([2]Paramètres!K1002=\"\",\"\",[2]Paramètres!K1002)","v":""},{"$f":"IF([2]Paramètres!L1002=\"\",\"\",[2]Paramètres!L1002)","v":""},{"$f":"IF([2]Paramètres!M1002=\"\",\"\",[2]Paramètres!M1002)","v":""},{"$f":"IF([2]Paramètres!N1002=\"\",\"\",[2]Paramètres!N1002)","v":""},{"$f":"IF([2]Paramètres!O1002=\"\",\"\",[2]Paramètres!O1002)","v":""},{"$f":"IF([2]Paramètres!P1002=\"\",\"\",[2]Paramètres!P1002)","v":""},{"$f":"IF([2]Paramètres!Q1002=\"\",\"\",[2]Paramètres!Q1002)","v":""}]
[null,null,null,null,null,null,null,null,null,{"$f":"IF([2]Paramètres!J1003=\"\",\"\",[2]Paramètres!J1003)","v":""},{"$f":"IF([2]Paramètres!K1003=\"\",\"\",[2]Paramètres!K1003)","v":""},{"$f":"IF([2]Paramètres!L1003=\"\",\"\",[2]Paramètres!L1003)","v":""},{"$f":"IF([2]Paramètres!M1003=\"\",\"\",[2]Paramètres!M1003)","v":""},{"$f":"IF([2]Paramètres!N1003=\"\",\"\",[2]Paramètres!N1003)","v":""},{"$f":"IF([2]Paramètres!O1003=\"\",\"\",[2]Paramètres!O1003)","v":""},{"$f":"IF([2]Paramètres!P1003=\"\",\"\",[2]Paramètres!P1003)","v":""},{"$f":"IF([2]Paramètres!Q1003=\"\",\"\",[2]Paramètres!Q1003)","v":""}]
[null,null,null,null,null,null,null,null,null,{"$f":"IF([2]Paramètres!J1004=\"\",\"\",[2]Paramètres!J1004)","v":""},{"$f":"IF([2]Paramètres!K1004=\"\",\"\",[2]Paramètres!K1004)","v":""},{"$f":"IF([2]Paramètres!L1004=\"\",\"\",[2]Paramètres!L1004)","v":""},{"$f":"IF([2]Paramètres!M1004=\"\",\"\",[2]Paramètres!M1004)","v":""},{"$f":"IF([2]Paramètres!N1004=\"\",\"\",[2]Paramètres!N1004)","v":""},{"$f":"IF([2]Paramètres!O1004=\"\",\"\",[2]Paramètres!O1004)","v":""},{"$f":"IF([2]Paramètres!P1004=\"\",\"\",[2]Paramètres!P1004)","v":""},{"$f":"IF([2]Paramètres!Q1004=\"\",\"\",[2]Paramètres!Q1004)","v":""}]
[null,null,null,null,null,null,null,null,null,{"$f":"IF([2]Paramètres!J1005=\"\",\"\",[2]Paramètres!J1005)","v":""},{"$f":"IF([2]Paramètres!K1005=\"\",\"\",[2]Paramètres!K1005)","v":""},{"$f":"IF([2]Paramètres!L1005=\"\",\"\",[2]Paramètres!L1005)","v":""},{"$f":"IF([2]Paramètres!M1005=\"\",\"\",[2]Paramètres!M1005)","v":""},{"$f":"IF([2]Paramètres!N1005=\"\",\"\",[2]Paramètres!N1005)","v":""},{"$f":"IF([2]Paramètres!O1005=\"\",\"\",[2]Paramètres!O1005)","v":""},{"$f":"IF([2]Paramètres!P1005=\"\",\"\",[2]Paramètres!P1005)","v":""},{"$f":"IF([2]Paramètres!Q1005=\"\",\"\",[2]Paramètres!Q1005)","v":""}]
[null,null,null,null,null,null,null,null,null,{"$f":"IF([2]Paramètres!J1006=\"\",\"\",[2]Paramètres!J1006)","v":""},{"$f":"IF([2]Paramètres!K1006=\"\",\"\",[2]Paramètres!K1006)","v":""},{"$f":"IF([2]Paramètres!L1006=\"\",\"\",[2]Paramètres!L1006)","v":""},{"$f":"IF([2]Paramètres!M1006=\"\",\"\",[2]Paramètres!M1006)","v":""},{"$f":"IF([2]Paramètres!N1006=\"\",\"\",[2]Paramètres!N1006)","v":""},{"$f":"IF([2]Paramètres!O1006=\"\",\"\",[2]Paramètres!O1006)","v":""},{"$f":"IF([2]Paramètres!P1006=\"\",\"\",[2]Paramètres!P1006)","v":""},{"$f":"IF([2]Paramètres!Q1006=\"\",\"\",[2]Paramètres!Q1006)","v":""}]
[null,null,null,null,null,null,null,null,null,{"$f":"IF([2]Paramètres!J1007=\"\",\"\",[2]Paramètres!J1007)","v":""},{"$f":"IF([2]Paramètres!K1007=\"\",\"\",[2]Paramètres!K1007)","v":""},{"$f":"IF([2]Paramètres!L1007=\"\",\"\",[2]Paramètres!L1007)","v":""},{"$f":"IF([2]Paramètres!M1007=\"\",\"\",[2]Paramètres!M1007)","v":""},{"$f":"IF([2]Paramètres!N1007=\"\",\"\",[2]Paramètres!N1007)","v":""},{"$f":"IF([2]Paramètres!O1007=\"\",\"\",[2]Paramètres!O1007)","v":""},{"$f":"IF([2]Paramètres!P1007=\"\",\"\",[2]Paramètres!P1007)","v":""},{"$f":"IF([2]Paramètres!Q1007=\"\",\"\",[2]Paramètres!Q1007)","v":""}]
[null,null,null,null,null,null,null,null,null,{"$f":"IF([2]Paramètres!J1008=\"\",\"\",[2]Paramètres!J1008)","v":""},{"$f":"IF([2]Paramètres!K1008=\"\",\"\",[2]Paramètres!K1008)","v":""},{"$f":"IF([2]Paramètres!L1008=\"\",\"\",[2]Paramètres!L1008)","v":""},{"$f":"IF([2]Paramètres!M1008=\"\",\"\",[2]Paramètres!M1008)","v":""},{"$f":"IF([2]Paramètres!N1008=\"\",\"\",[2]Paramètres!N1008)","v":""},{"$f":"IF([2]Paramètres!O1008=\"\",\"\",[2]Paramètres!O1008)","v":""},{"$f":"IF([2]Paramètres!P1008=\"\",\"\",[2]Paramètres!P1008)","v":""},{"$f":"IF([2]Paramètres!Q1008=\"\",\"\",[2]Paramètres!Q1008)","v":""}]
[null,null,null,null,null,null,null,null,null,{"$f":"IF([2]Paramètres!J1009=\"\",\"\",[2]Paramètres!J1009)","v":""},{"$f":"IF([2]Paramètres!K1009=\"\",\"\",[2]Paramètres!K1009)","v":""},{"$f":"IF([2]Paramètres!L1009=\"\",\"\",[2]Paramètres!L1009)","v":""},{"$f":"IF([2]Paramètres!M1009=\"\",\"\",[2]Paramètres!M1009)","v":""},{"$f":"IF([2]Paramètres!N1009=\"\",\"\",[2]Paramètres!N1009)","v":""},{"$f":"IF([2]Paramètres!O1009=\"\",\"\",[2]Paramètres!O1009)","v":""},{"$f":"IF([2]Paramètres!P1009=\"\",\"\",[2]Paramètres!P1009)","v":""},{"$f":"IF([2]Paramètres!Q1009=\"\",\"\",[2]Paramètres!Q1009)","v":""}]
[null,null,null,null,null,null,null,null,null,{"$f":"IF([2]Paramètres!J1010=\"\",\"\",[2]Paramètres!J1010)","v":""},{"$f":"IF([2]Paramètres!K1010=\"\",\"\",[2]Paramètres!K1010)","v":""},{"$f":"IF([2]Paramètres!L1010=\"\",\"\",[2]Paramètres!L1010)","v":""},{"$f":"IF([2]Paramètres!M1010=\"\",\"\",[2]Paramètres!M1010)","v":""},{"$f":"IF([2]Paramètres!N1010=\"\",\"\",[2]Paramètres!N1010)","v":""},{"$f":"IF([2]Paramètres!O1010=\"\",\"\",[2]Paramètres!O1010)","v":""},{"$f":"IF([2]Paramètres!P1010=\"\",\"\",[2]Paramètres!P1010)","v":""},{"$f":"IF([2]Paramètres!Q1010=\"\",\"\",[2]Paramètres!Q1010)","v":""}]
[null,null,null,null,null,null,null,null,null,{"$f":"IF([2]Paramètres!J1011=\"\",\"\",[2]Paramètres!J1011)","v":""},{"$f":"IF([2]Paramètres!K1011=\"\",\"\",[2]Paramètres!K1011)","v":""},{"$f":"IF([2]Paramètres!L1011=\"\",\"\",[2]Paramètres!L1011)","v":""},{"$f":"IF([2]Paramètres!M1011=\"\",\"\",[2]Paramètres!M1011)","v":""},{"$f":"IF([2]Paramètres!N1011=\"\",\"\",[2]Paramètres!N1011)","v":""},{"$f":"IF([2]Paramètres!O1011=\"\",\"\",[2]Paramètres!O1011)","v":""},{"$f":"IF([2]Paramètres!P1011=\"\",\"\",[2]Paramètres!P1011)","v":""},{"$f":"IF([2]Paramètres!Q1011=\"\",\"\",[2]Paramètres!Q1011)","v":""}]
[null,null,null,null,null,null,null,null,null,{"$f":"IF([2]Paramètres!J1012=\"\",\"\",[2]Paramètres!J1012)","v":""},{"$f":"IF([2]Paramètres!K1012=\"\",\"\",[2]Paramètres!K1012)","v":""},{"$f":"IF([2]Paramètres!L1012=\"\",\"\",[2]Paramètres!L1012)","v":""},{"$f":"IF([2]Paramètres!M1012=\"\",\"\",[2]Paramètres!M1012)","v":""},{"$f":"IF([2]Paramètres!N1012=\"\",\"\",[2]Paramètres!N1012)","v":""},{"$f":"IF([2]Paramètres!O1012=\"\",\"\",[2]Paramètres!O1012)","v":""},{"$f":"IF([2]Paramètres!P1012=\"\",\"\",[2]Paramètres!P1012)","v":""},{"$f":"IF([2]Paramètres!Q1012=\"\",\"\",[2]Paramètres!Q1012)","v":""}]
[null,null,null,null,null,null,null,null,null,{"$f":"IF([2]Paramètres!J1013=\"\",\"\",[2]Paramètres!J1013)","v":""},{"$f":"IF([2]Paramètres!K1013=\"\",\"\",[2]Paramètres!K1013)","v":""},{"$f":"IF([2]Paramètres!L1013=\"\",\"\",[2]Paramètres!L1013)","v":""},{"$f":"IF([2]Paramètres!M1013=\"\",\"\",[2]Paramètres!M1013)","v":""},{"$f":"IF([2]Paramètres!N1013=\"\",\"\",[2]Paramètres!N1013)","v":""},{"$f":"IF([2]Paramètres!O1013=\"\",\"\",[2]Paramètres!O1013)","v":""},{"$f":"IF([2]Paramètres!P1013=\"\",\"\",[2]Paramètres!P1013)","v":""},{"$f":"IF([2]Paramètres!Q1013=\"\",\"\",[2]Paramètres!Q1013)","v":""}]
[null,null,null,null,null,null,null,null,null,{"$f":"IF([2]Paramètres!J1014=\"\",\"\",[2]Paramètres!J1014)","v":""},{"$f":"IF([2]Paramètres!K1014=\"\",\"\",[2]Paramètres!K1014)","v":""},{"$f":"IF([2]Paramètres!L1014=\"\",\"\",[2]Paramètres!L1014)","v":""},{"$f":"IF([2]Paramètres!M1014=\"\",\"\",[2]Paramètres!M1014)","v":""},{"$f":"IF([2]Paramètres!N1014=\"\",\"\",[2]Paramètres!N1014)","v":""},{"$f":"IF([2]Paramètres!O1014=\"\",\"\",[2]Paramètres!O1014)","v":""},{"$f":"IF([2]Paramètres!P1014=\"\",\"\",[2]Paramètres!P1014)","v":""},{"$f":"IF([2]Paramètres!Q1014=\"\",\"\",[2]Paramètres!Q1014)","v":""}]
[null,null,null,null,null,null,null,null,null,{"$f":"IF([2]Paramètres!J1015=\"\",\"\",[2]Paramètres!J1015)","v":""},{"$f":"IF([2]Paramètres!K1015=\"\",\"\",[2]Paramètres!K1015)","v":""},{"$f":"IF([2]Paramètres!L1015=\"\",\"\",[2]Paramètres!L1015)","v":""},{"$f":"IF([2]Paramètres!M1015=\"\",\"\",[2]Paramètres!M1015)","v":""},{"$f":"IF([2]Paramètres!N1015=\"\",\"\",[2]Paramètres!N1015)","v":""},{"$f":"IF([2]Paramètres!O1015=\"\",\"\",[2]Paramètres!O1015)","v":""},{"$f":"IF([2]Paramètres!P1015=\"\",\"\",[2]Paramètres!P1015)","v":""},{"$f":"IF([2]Paramètres!Q1015=\"\",\"\",[2]Paramètres!Q1015)","v":""}]
[null,null,null,null,null,null,null,null,null,{"$f":"IF([2]Paramètres!J1016=\"\",\"\",[2]Paramètres!J1016)","v":""},{"$f":"IF([2]Paramètres!K1016=\"\",\"\",[2]Paramètres!K1016)","v":""},{"$f":"IF([2]Paramètres!L1016=\"\",\"\",[2]Paramètres!L1016)","v":""},{"$f":"IF([2]Paramètres!M1016=\"\",\"\",[2]Paramètres!M1016)","v":""},{"$f":"IF([2]Paramètres!N1016=\"\",\"\",[2]Paramètres!N1016)","v":""},{"$f":"IF([2]Paramètres!O1016=\"\",\"\",[2]Paramètres!O1016)","v":""},{"$f":"IF([2]Paramètres!P1016=\"\",\"\",[2]Paramètres!P1016)","v":""},{"$f":"IF([2]Paramètres!Q1016=\"\",\"\",[2]Paramètres!Q1016)","v":""}]
[null,null,null,null,null,null,null,null,null,{"$f":"IF([2]Paramètres!J1017=\"\",\"\",[2]Paramètres!J1017)","v":""},{"$f":"IF([2]Paramètres!K1017=\"\",\"\",[2]Paramètres!K1017)","v":""},{"$f":"IF([2]Paramètres!L1017=\"\",\"\",[2]Paramètres!L1017)","v":""},{"$f":"IF([2]Paramètres!M1017=\"\",\"\",[2]Paramètres!M1017)","v":""},{"$f":"IF([2]Paramètres!N1017=\"\",\"\",[2]Paramètres!N1017)","v":""},{"$f":"IF([2]Paramètres!O1017=\"\",\"\",[2]Paramètres!O1017)","v":""},{"$f":"IF([2]Paramètres!P1017=\"\",\"\",[2]Paramètres!P1017)","v":""},{"$f":"IF([2]Paramètres!Q1017=\"\",\"\",[2]Paramètres!Q1017)","v":""}]
[null,null,null,null,null,null,null,null,null,{"$f":"IF([2]Paramètres!J1018=\"\",\"\",[2]Paramètres!J1018)","v":""},{"$f":"IF([2]Paramètres!K1018=\"\",\"\",[2]Paramètres!K1018)","v":""},{"$f":"IF([2]Paramètres!L1018=\"\",\"\",[2]Paramètres!L1018)","v":""},{"$f":"IF([2]Paramètres!M1018=\"\",\"\",[2]Paramètres!M1018)","v":""},{"$f":"IF([2]Paramètres!N1018=\"\",\"\",[2]Paramètres!N1018)","v":""},{"$f":"IF([2]Paramètres!O1018=\"\",\"\",[2]Paramètres!O1018)","v":""},{"$f":"IF([2]Paramètres!P1018=\"\",\"\",[2]Paramètres!P1018)","v":""},{"$f":"IF([2]Paramètres!Q1018=\"\",\"\",[2]Paramètres!Q1018)","v":""}]
[null,null,null,null,null,null,null,null,null,{"$f":"IF([2]Paramètres!J1019=\"\",\"\",[2]Paramètres!J1019)","v":""},{"$f":"IF([2]Paramètres!K1019=\"\",\"\",[2]Paramètres!K1019)","v":""},{"$f":"IF([2]Paramètres!L1019=\"\",\"\",[2]Paramètres!L1019)","v":""},{"$f":"IF([2]Paramètres!M1019=\"\",\"\",[2]Paramètres!M1019)","v":""},{"$f":"IF([2]Paramètres!N1019=\"\",\"\",[2]Paramètres!N1019)","v":""},{"$f":"IF([2]Paramètres!O1019=\"\",\"\",[2]Paramètres!O1019)","v":""},{"$f":"IF([2]Paramètres!P1019=\"\",\"\",[2]Paramètres!P1019)","v":""},{"$f":"IF([2]Paramètres!Q1019=\"\",\"\",[2]Paramètres!Q1019)","v":""}]
[null,null,null,null,null,null,null,null,null,{"$f":"IF([2]Paramètres!J1020=\"\",\"\",[2]Paramètres!J1020)","v":""},{"$f":"IF([2]Paramètres!K1020=\"\",\"\",[2]Paramètres!K1020)","v":""},{"$f":"IF([2]Paramètres!L1020=\"\",\"\",[2]Paramètres!L1020)","v":""},{"$f":"IF([2]Paramètres!M1020=\"\",\"\",[2]Paramètres!M1020)","v":""},{"$f":"IF([2]Paramètres!N1020=\"\",\"\",[2]Paramètres!N1020)","v":""},{"$f":"IF([2]Paramètres!O1020=\"\",\"\",[2]Paramètres!O1020)","v":""},{"$f":"IF([2]Paramètres!P1020=\"\",\"\",[2]Paramètres!P1020)","v":""},{"$f":"IF([2]Paramètres!Q1020=\"\",\"\",[2]Paramètres!Q1020)","v":""}]
[null,null,null,null,null,null,null,null,null,{"$f":"IF([2]Paramètres!J1021=\"\",\"\",[2]Paramètres!J1021)","v":""},{"$f":"IF([2]Paramètres!K1021=\"\",\"\",[2]Paramètres!K1021)","v":""},{"$f":"IF([2]Paramètres!L1021=\"\",\"\",[2]Paramètres!L1021)","v":""},{"$f":"IF([2]Paramètres!M1021=\"\",\"\",[2]Paramètres!M1021)","v":""},{"$f":"IF([2]Paramètres!N1021=\"\",\"\",[2]Paramètres!N1021)","v":""},{"$f":"IF([2]Paramètres!O1021=\"\",\"\",[2]Paramètres!O1021)","v":""},{"$f":"IF([2]Paramètres!P1021=\"\",\"\",[2]Paramètres!P1021)","v":""},{"$f":"IF([2]Paramètres!Q1021=\"\",\"\",[2]Paramètres!Q1021)","v":""}]
[null,null,null,null,null,null,null,null,null,{"$f":"IF([2]Paramètres!J1022=\"\",\"\",[2]Paramètres!J1022)","v":""},{"$f":"IF([2]Paramètres!K1022=\"\",\"\",[2]Paramètres!K1022)","v":""},{"$f":"IF([2]Paramètres!L1022=\"\",\"\",[2]Paramètres!L1022)","v":""},{"$f":"IF([2]Paramètres!M1022=\"\",\"\",[2]Paramètres!M1022)","v":""},{"$f":"IF([2]Paramètres!N1022=\"\",\"\",[2]Paramètres!N1022)","v":""},{"$f":"IF([2]Paramètres!O1022=\"\",\"\",[2]Paramètres!O1022)","v":""},{"$f":"IF([2]Paramètres!P1022=\"\",\"\",[2]Paramètres!P1022)","v":""},{"$f":"IF([2]Paramètres!Q1022=\"\",\"\",[2]Paramètres!Q1022)","v":""}]
[null,null,null,null,null,null,null,null,null,{"$f":"IF([2]Paramètres!J1023=\"\",\"\",[2]Paramètres!J1023)","v":""},{"$f":"IF([2]Paramètres!K1023=\"\",\"\",[2]Paramètres!K1023)","v":""},{"$f":"IF([2]Paramètres!L1023=\"\",\"\",[2]Paramètres!L1023)","v":""},{"$f":"IF([2]Paramètres!M1023=\"\",\"\",[2]Paramètres!M1023)","v":""},{"$f":"IF([2]Paramètres!N1023=\"\",\"\",[2]Paramètres!N1023)","v":""},{"$f":"IF([2]Paramètres!O1023=\"\",\"\",[2]Paramètres!O1023)","v":""},{"$f":"IF([2]Paramètres!P1023=\"\",\"\",[2]Paramètres!P1023)","v":""},{"$f":"IF([2]Paramètres!Q1023=\"\",\"\",[2]Paramètres!Q1023)","v":""}]
[null,null,null,null,null,null,null,null,null,{"$f":"IF([2]Paramètres!J1024=\"\",\"\",[2]Paramètres!J1024)","v":""},{"$f":"IF([2]Paramètres!K1024=\"\",\"\",[2]Paramètres!K1024)","v":""},{"$f":"IF([2]Paramètres!L1024=\"\",\"\",[2]Paramètres!L1024)","v":""},{"$f":"IF([2]Paramètres!M1024=\"\",\"\",[2]Paramètres!M1024)","v":""},{"$f":"IF([2]Paramètres!N1024=\"\",\"\",[2]Paramètres!N1024)","v":""},{"$f":"IF([2]Paramètres!O1024=\"\",\"\",[2]Paramètres!O1024)","v":""},{"$f":"IF([2]Paramètres!P1024=\"\",\"\",[2]Paramètres!P1024)","v":""},{"$f":"IF([2]Paramètres!Q1024=\"\",\"\",[2]Paramètres!Q1024)","v":""}]
[null,null,null,null,null,null,null,null,null,{"$f":"IF([2]Paramètres!J1025=\"\",\"\",[2]Paramètres!J1025)","v":""},{"$f":"IF([2]Paramètres!K1025=\"\",\"\",[2]Paramètres!K1025)","v":""},{"$f":"IF([2]Paramètres!L1025=\"\",\"\",[2]Paramètres!L1025)","v":""},{"$f":"IF([2]Paramètres!M1025=\"\",\"\",[2]Paramètres!M1025)","v":""},{"$f":"IF([2]Paramètres!N1025=\"\",\"\",[2]Paramètres!N1025)","v":""},{"$f":"IF([2]Paramètres!O1025=\"\",\"\",[2]Paramètres!O1025)","v":""},{"$f":"IF([2]Paramètres!P1025=\"\",\"\",[2]Paramètres!P1025)","v":""},{"$f":"IF([2]Paramètres!Q1025=\"\",\"\",[2]Paramètres!Q1025)","v":""}]
[null,null,null,null,null,null,null,null,null,{"$f":"IF([2]Paramètres!J1026=\"\",\"\",[2]Paramètres!J1026)","v":""},{"$f":"IF([2]Paramètres!K1026=\"\",\"\",[2]Paramètres!K1026)","v":""},{"$f":"IF([2]Paramètres!L1026=\"\",\"\",[2]Paramètres!L1026)","v":""},{"$f":"IF([2]Paramètres!M1026=\"\",\"\",[2]Paramètres!M1026)","v":""},{"$f":"IF([2]Paramètres!N1026=\"\",\"\",[2]Paramètres!N1026)","v":""},{"$f":"IF([2]Paramètres!O1026=\"\",\"\",[2]Paramètres!O1026)","v":""},{"$f":"IF([2]Paramètres!P1026=\"\",\"\",[2]Paramètres!P1026)","v":""},{"$f":"IF([2]Paramètres!Q1026=\"\",\"\",[2]Paramètres!Q1026)","v":""}]
[null,null,null,null,null,null,null,null,null,{"$f":"IF([2]Paramètres!J1027=\"\",\"\",[2]Paramètres!J1027)","v":""},{"$f":"IF([2]Paramètres!K1027=\"\",\"\",[2]Paramètres!K1027)","v":""},{"$f":"IF([2]Paramètres!L1027=\"\",\"\",[2]Paramètres!L1027)","v":""},{"$f":"IF([2]Paramètres!M1027=\"\",\"\",[2]Paramètres!M1027)","v":""},{"$f":"IF([2]Paramètres!N1027=\"\",\"\",[2]Paramètres!N1027)","v":""},{"$f":"IF([2]Paramètres!O1027=\"\",\"\",[2]Paramètres!O1027)","v":""},{"$f":"IF([2]Paramètres!P1027=\"\",\"\",[2]Paramètres!P1027)","v":""},{"$f":"IF([2]Paramètres!Q1027=\"\",\"\",[2]Paramètres!Q1027)","v":""}]
[null,null,null,null,null,null,null,null,null,{"$f":"IF([2]Paramètres!J1028=\"\",\"\",[2]Paramètres!J1028)","v":""},{"$f":"IF([2]Paramètres!K1028=\"\",\"\",[2]Paramètres!K1028)","v":""},{"$f":"IF([2]Paramètres!L1028=\"\",\"\",[2]Paramètres!L1028)","v":""},{"$f":"IF([2]Paramètres!M1028=\"\",\"\",[2]Paramètres!M1028)","v":""},{"$f":"IF([2]Paramètres!N1028=\"\",\"\",[2]Paramètres!N1028)","v":""},{"$f":"IF([2]Paramètres!O1028=\"\",\"\",[2]Paramètres!O1028)","v":""},{"$f":"IF([2]Paramètres!P1028=\"\",\"\",[2]Paramètres!P1028)","v":""},{"$f":"IF([2]Paramètres!Q1028=\"\",\"\",[2]Paramètres!Q1028)","v":""}]
[null,null,null,null,null,null,null,null,null,{"$f":"IF([2]Paramètres!J1029=\"\",\"\",[2]Paramètres!J1029)","v":""},{"$f":"IF([2]Paramètres!K1029=\"\",\"\",[2]Paramètres!K1029)","v":""},{"$f":"IF([2]Paramètres!L1029=\"\",\"\",[2]Paramètres!L1029)","v":""},{"$f":"IF([2]Paramètres!M1029=\"\",\"\",[2]Paramètres!M1029)","v":""},{"$f":"IF([2]Paramètres!N1029=\"\",\"\",[2]Paramètres!N1029)","v":""},{"$f":"IF([2]Paramètres!O1029=\"\",\"\",[2]Paramètres!O1029)","v":""},{"$f":"IF([2]Paramètres!P1029=\"\",\"\",[2]Paramètres!P1029)","v":""},{"$f":"IF([2]Paramètres!Q1029=\"\",\"\",[2]Paramètres!Q1029)","v":""}]
[null,null,null,null,null,null,null,null,null,{"$f":"IF([2]Paramètres!J1030=\"\",\"\",[2]Paramètres!J1030)","v":""},{"$f":"IF([2]Paramètres!K1030=\"\",\"\",[2]Paramètres!K1030)","v":""},{"$f":"IF([2]Paramètres!L1030=\"\",\"\",[2]Paramètres!L1030)","v":""},{"$f":"IF([2]Paramètres!M1030=\"\",\"\",[2]Paramètres!M1030)","v":""},{"$f":"IF([2]Paramètres!N1030=\"\",\"\",[2]Paramètres!N1030)","v":""},{"$f":"IF([2]Paramètres!O1030=\"\",\"\",[2]Paramètres!O1030)","v":""},{"$f":"IF([2]Paramètres!P1030=\"\",\"\",[2]Paramètres!P1030)","v":""},{"$f":"IF([2]Paramètres!Q1030=\"\",\"\",[2]Paramètres!Q1030)","v":""}]
[null,null,null,null,null,null,null,null,null,{"$f":"IF([2]Paramètres!J1031=\"\",\"\",[2]Paramètres!J1031)","v":""},{"$f":"IF([2]Paramètres!K1031=\"\",\"\",[2]Paramètres!K1031)","v":""},{"$f":"IF([2]Paramètres!L1031=\"\",\"\",[2]Paramètres!L1031)","v":""},{"$f":"IF([2]Paramètres!M1031=\"\",\"\",[2]Paramètres!M1031)","v":""},{"$f":"IF([2]Paramètres!N1031=\"\",\"\",[2]Paramètres!N1031)","v":""},{"$f":"IF([2]Paramètres!O1031=\"\",\"\",[2]Paramètres!O1031)","v":""},{"$f":"IF([2]Paramètres!P1031=\"\",\"\",[2]Paramètres!P1031)","v":""},{"$f":"IF([2]Paramètres!Q1031=\"\",\"\",[2]Paramètres!Q1031)","v":""}]
[null,null,null,null,null,null,null,null,null,{"$f":"IF([2]Paramètres!J1032=\"\",\"\",[2]Paramètres!J1032)","v":""},{"$f":"IF([2]Paramètres!K1032=\"\",\"\",[2]Paramètres!K1032)","v":""},{"$f":"IF([2]Paramètres!L1032=\"\",\"\",[2]Paramètres!L1032)","v":""},{"$f":"IF([2]Paramètres!M1032=\"\",\"\",[2]Paramètres!M1032)","v":""},{"$f":"IF([2]Paramètres!N1032=\"\",\"\",[2]Paramètres!N1032)","v":""},{"$f":"IF([2]Paramètres!O1032=\"\",\"\",[2]Paramètres!O1032)","v":""},{"$f":"IF([2]Paramètres!P1032=\"\",\"\",[2]Paramètres!P1032)","v":""},{"$f":"IF([2]Paramètres!Q1032=\"\",\"\",[2]Paramètres!Q1032)","v":""}]
[null,null,null,null,null,null,null,null,null,{"$f":"IF([2]Paramètres!J1033=\"\",\"\",[2]Paramètres!J1033)","v":""},{"$f":"IF([2]Paramètres!K1033=\"\",\"\",[2]Paramètres!K1033)","v":""},{"$f":"IF([2]Paramètres!L1033=\"\",\"\",[2]Paramètres!L1033)","v":""},{"$f":"IF([2]Paramètres!M1033=\"\",\"\",[2]Paramètres!M1033)","v":""},{"$f":"IF([2]Paramètres!N1033=\"\",\"\",[2]Paramètres!N1033)","v":""},{"$f":"IF([2]Paramètres!O1033=\"\",\"\",[2]Paramètres!O1033)","v":""},{"$f":"IF([2]Paramètres!P1033=\"\",\"\",[2]Paramètres!P1033)","v":""},{"$f":"IF([2]Paramètres!Q1033=\"\",\"\",[2]Paramètres!Q1033)","v":""}]
[null,null,null,null,null,null,null,null,null,{"$f":"IF([2]Paramètres!J1034=\"\",\"\",[2]Paramètres!J1034)","v":""},{"$f":"IF([2]Paramètres!K1034=\"\",\"\",[2]Paramètres!K1034)","v":""},{"$f":"IF([2]Paramètres!L1034=\"\",\"\",[2]Paramètres!L1034)","v":""},{"$f":"IF([2]Paramètres!M1034=\"\",\"\",[2]Paramètres!M1034)","v":""},{"$f":"IF([2]Paramètres!N1034=\"\",\"\",[2]Paramètres!N1034)","v":""},{"$f":"IF([2]Paramètres!O1034=\"\",\"\",[2]Paramètres!O1034)","v":""},{"$f":"IF([2]Paramètres!P1034=\"\",\"\",[2]Paramètres!P1034)","v":""},{"$f":"IF([2]Paramètres!Q1034=\"\",\"\",[2]Paramètres!Q1034)","v":""}]
[null,null,null,null,null,null,null,null,null,{"$f":"IF([2]Paramètres!J1035=\"\",\"\",[2]Paramètres!J1035)","v":""},{"$f":"IF([2]Paramètres!K1035=\"\",\"\",[2]Paramètres!K1035)","v":""},{"$f":"IF([2]Paramètres!L1035=\"\",\"\",[2]Paramètres!L1035)","v":""},{"$f":"IF([2]Paramètres!M1035=\"\",\"\",[2]Paramètres!M1035)","v":""},{"$f":"IF([2]Paramètres!N1035=\"\",\"\",[2]Paramètres!N1035)","v":""},{"$f":"IF([2]Paramètres!O1035=\"\",\"\",[2]Paramètres!O1035)","v":""},{"$f":"IF([2]Paramètres!P1035=\"\",\"\",[2]Paramètres!P1035)","v":""},{"$f":"IF([2]Paramètres!Q1035=\"\",\"\",[2]Paramètres!Q1035)","v":""}]
[null,null,null,null,null,null,null,null,null,{"$f":"IF([2]Paramètres!J1036=\"\",\"\",[2]Paramètres!J1036)","v":""},{"$f":"IF([2]Paramètres!K1036=\"\",\"\",[2]Paramètres!K1036)","v":""},{"$f":"IF([2]Paramètres!L1036=\"\",\"\",[2]Paramètres!L1036)","v":""},{"$f":"IF([2]Paramètres!M1036=\"\",\"\",[2]Paramètres!M1036)","v":""},{"$f":"IF([2]Paramètres!N1036=\"\",\"\",[2]Paramètres!N1036)","v":""},{"$f":"IF([2]Paramètres!O1036=\"\",\"\",[2]Paramètres!O1036)","v":""},{"$f":"IF([2]Paramètres!P1036=\"\",\"\",[2]Paramètres!P1036)","v":""},{"$f":"IF([2]Paramètres!Q1036=\"\",\"\",[2]Paramètres!Q1036)","v":""}]
[null,null,null,null,null,null,null,null,null,{"$f":"IF([2]Paramètres!J1037=\"\",\"\",[2]Paramètres!J1037)","v":""},{"$f":"IF([2]Paramètres!K1037=\"\",\"\",[2]Paramètres!K1037)","v":""},{"$f":"IF([2]Paramètres!L1037=\"\",\"\",[2]Paramètres!L1037)","v":""},{"$f":"IF([2]Paramètres!M1037=\"\",\"\",[2]Paramètres!M1037)","v":""},{"$f":"IF([2]Paramètres!N1037=\"\",\"\",[2]Paramètres!N1037)","v":""},{"$f":"IF([2]Paramètres!O1037=\"\",\"\",[2]Paramètres!O1037)","v":""},{"$f":"IF([2]Paramètres!P1037=\"\",\"\",[2]Paramètres!P1037)","v":""},{"$f":"IF([2]Paramètres!Q1037=\"\",\"\",[2]Paramètres!Q1037)","v":""}]
[null,null,null,null,null,null,null,null,null,{"$f":"IF([2]Paramètres!J1038=\"\",\"\",[2]Paramètres!J1038)","v":""},{"$f":"IF([2]Paramètres!K1038=\"\",\"\",[2]Paramètres!K1038)","v":""},{"$f":"IF([2]Paramètres!L1038=\"\",\"\",[2]Paramètres!L1038)","v":""},{"$f":"IF([2]Paramètres!M1038=\"\",\"\",[2]Paramètres!M1038)","v":""},{"$f":"IF([2]Paramètres!N1038=\"\",\"\",[2]Paramètres!N1038)","v":""},{"$f":"IF([2]Paramètres!O1038=\"\",\"\",[2]Paramètres!O1038)","v":""},{"$f":"IF([2]Paramètres!P1038=\"\",\"\",[2]Paramètres!P1038)","v":""},{"$f":"IF([2]Paramètres!Q1038=\"\",\"\",[2]Paramètres!Q1038)","v":""}]
[null,null,null,null,null,null,null,null,null,{"$f":"IF([2]Paramètres!J1039=\"\",\"\",[2]Paramètres!J1039)","v":""},{"$f":"IF([2]Paramètres!K1039=\"\",\"\",[2]Paramètres!K1039)","v":""},{"$f":"IF([2]Paramètres!L1039=\"\",\"\",[2]Paramètres!L1039)","v":""},{"$f":"IF([2]Paramètres!M1039=\"\",\"\",[2]Paramètres!M1039)","v":""},{"$f":"IF([2]Paramètres!N1039=\"\",\"\",[2]Paramètres!N1039)","v":""},{"$f":"IF([2]Paramètres!O1039=\"\",\"\",[2]Paramètres!O1039)","v":""},{"$f":"IF([2]Paramètres!P1039=\"\",\"\",[2]Paramètres!P1039)","v":""},{"$f":"IF([2]Paramètres!Q1039=\"\",\"\",[2]Paramètres!Q1039)","v":""}]
[null,null,null,null,null,null,null,null,null,{"$f":"IF([2]Paramètres!J1040=\"\",\"\",[2]Paramètres!J1040)","v":""},{"$f":"IF([2]Paramètres!K1040=\"\",\"\",[2]Paramètres!K1040)","v":""},{"$f":"IF([2]Paramètres!L1040=\"\",\"\",[2]Paramètres!L1040)","v":""},{"$f":"IF([2]Paramètres!M1040=\"\",\"\",[2]Paramètres!M1040)","v":""},{"$f":"IF([2]Paramètres!N1040=\"\",\"\",[2]Paramètres!N1040)","v":""},{"$f":"IF([2]Paramètres!O1040=\"\",\"\",[2]Paramètres!O1040)","v":""},{"$f":"IF([2]Paramètres!P1040=\"\",\"\",[2]Paramètres!P1040)","v":""},{"$f":"IF([2]Paramètres!Q1040=\"\",\"\",[2]Paramètres!Q1040)","v":""}]
[null,null,null,null,null,null,null,null,null,{"$f":"IF([2]Paramètres!J1041=\"\",\"\",[2]Paramètres!J1041)","v":""},{"$f":"IF([2]Paramètres!K1041=\"\",\"\",[2]Paramètres!K1041)","v":""},{"$f":"IF([2]Paramètres!L1041=\"\",\"\",[2]Paramètres!L1041)","v":""},{"$f":"IF([2]Paramètres!M1041=\"\",\"\",[2]Paramètres!M1041)","v":""},{"$f":"IF([2]Paramètres!N1041=\"\",\"\",[2]Paramètres!N1041)","v":""},{"$f":"IF([2]Paramètres!O1041=\"\",\"\",[2]Paramètres!O1041)","v":""},{"$f":"IF([2]Paramètres!P1041=\"\",\"\",[2]Paramètres!P1041)","v":""},{"$f":"IF([2]Paramètres!Q1041=\"\",\"\",[2]Paramètres!Q1041)","v":""}]
[null,null,null,null,null,null,null,null,null,{"$f":"IF([2]Paramètres!J1042=\"\",\"\",[2]Paramètres!J1042)","v":""},{"$f":"IF([2]Paramètres!K1042=\"\",\"\",[2]Paramètres!K1042)","v":""},{"$f":"IF([2]Paramètres!L1042=\"\",\"\",[2]Paramètres!L1042)","v":""},{"$f":"IF([2]Paramètres!M1042=\"\",\"\",[2]Paramètres!M1042)","v":""},{"$f":"IF([2]Paramètres!N1042=\"\",\"\",[2]Paramètres!N1042)","v":""},{"$f":"IF([2]Paramètres!O1042=\"\",\"\",[2]Paramètres!O1042)","v":""},{"$f":"IF([2]Paramètres!P1042=\"\",\"\",[2]Paramètres!P1042)","v":""},{"$f":"IF([2]Paramètres!Q1042=\"\",\"\",[2]Paramètres!Q1042)","v":""}]
[null,null,null,null,null,null,null,null,null,{"$f":"IF([2]Paramètres!J1043=\"\",\"\",[2]Paramètres!J1043)","v":""},{"$f":"IF([2]Paramètres!K1043=\"\",\"\",[2]Paramètres!K1043)","v":""},{"$f":"IF([2]Paramètres!L1043=\"\",\"\",[2]Paramètres!L1043)","v":""},{"$f":"IF([2]Paramètres!M1043=\"\",\"\",[2]Paramètres!M1043)","v":""},{"$f":"IF([2]Paramètres!N1043=\"\",\"\",[2]Paramètres!N1043)","v":""},{"$f":"IF([2]Paramètres!O1043=\"\",\"\",[2]Paramètres!O1043)","v":""},{"$f":"IF([2]Paramètres!P1043=\"\",\"\",[2]Paramètres!P1043)","v":""},{"$f":"IF([2]Paramètres!Q1043=\"\",\"\",[2]Paramètres!Q1043)","v":""}]
[null,null,null,null,null,null,null,null,null,{"$f":"IF([2]Paramètres!J1044=\"\",\"\",[2]Paramètres!J1044)","v":""},{"$f":"IF([2]Paramètres!K1044=\"\",\"\",[2]Paramètres!K1044)","v":""},{"$f":"IF([2]Paramètres!L1044=\"\",\"\",[2]Paramètres!L1044)","v":""},{"$f":"IF([2]Paramètres!M1044=\"\",\"\",[2]Paramètres!M1044)","v":""},{"$f":"IF([2]Paramètres!N1044=\"\",\"\",[2]Paramètres!N1044)","v":""},{"$f":"IF([2]Paramètres!O1044=\"\",\"\",[2]Paramètres!O1044)","v":""},{"$f":"IF([2]Paramètres!P1044=\"\",\"\",[2]Paramètres!P1044)","v":""},{"$f":"IF([2]Paramètres!Q1044=\"\",\"\",[2]Paramètres!Q1044)","v":""}]
[null,null,null,null,null,null,null,null,null,{"$f":"IF([2]Paramètres!J1045=\"\",\"\",[2]Paramètres!J1045)","v":""},{"$f":"IF([2]Paramètres!K1045=\"\",\"\",[2]Paramètres!K1045)","v":""},{"$f":"IF([2]Paramètres!L1045=\"\",\"\",[2]Paramètres!L1045)","v":""},{"$f":"IF([2]Paramètres!M1045=\"\",\"\",[2]Paramètres!M1045)","v":""},{"$f":"IF([2]Paramètres!N1045=\"\",\"\",[2]Paramètres!N1045)","v":""},{"$f":"IF([2]Paramètres!O1045=\"\",\"\",[2]Paramètres!O1045)","v":""},{"$f":"IF([2]Paramètres!P1045=\"\",\"\",[2]Paramètres!P1045)","v":""},{"$f":"IF([2]Paramètres!Q1045=\"\",\"\",[2]Paramètres!Q1045)","v":""}]
[null,null,null,null,null,null,null,null,null,{"$f":"IF([2]Paramètres!J1046=\"\",\"\",[2]Paramètres!J1046)","v":""},{"$f":"IF([2]Paramètres!K1046=\"\",\"\",[2]Paramètres!K1046)","v":""},{"$f":"IF([2]Paramètres!L1046=\"\",\"\",[2]Paramètres!L1046)","v":""},{"$f":"IF([2]Paramètres!M1046=\"\",\"\",[2]Paramètres!M1046)","v":""},{"$f":"IF([2]Paramètres!N1046=\"\",\"\",[2]Paramètres!N1046)","v":""},{"$f":"IF([2]Paramètres!O1046=\"\",\"\",[2]Paramètres!O1046)","v":""},{"$f":"IF([2]Paramètres!P1046=\"\",\"\",[2]Paramètres!P1046)","v":""},{"$f":"IF([2]Paramètres!Q1046=\"\",\"\",[2]Paramètres!Q1046)","v":""}]
[null,null,null,null,null,null,null,null,null,{"$f":"IF([2]Paramètres!J1047=\"\",\"\",[2]Paramètres!J1047)","v":""},{"$f":"IF([2]Paramètres!K1047=\"\",\"\",[2]Paramètres!K1047)","v":""},{"$f":"IF([2]Paramètres!L1047=\"\",\"\",[2]Paramètres!L1047)","v":""},{"$f":"IF([2]Paramètres!M1047=\"\",\"\",[2]Paramètres!M1047)","v":""},{"$f":"IF([2]Paramètres!N1047=\"\",\"\",[2]Paramètres!N1047)","v":""},{"$f":"IF([2]Paramètres!O1047=\"\",\"\",[2]Paramètres!O1047)","v":""},{"$f":"IF([2]Paramètres!P1047=\"\",\"\",[2]Paramètres!P1047)","v":""},{"$f":"IF([2]Paramètres!Q1047=\"\",\"\",[2]Paramètres!Q1047)","v":""}]
[null,null,null,null,null,null,null,null,null,{"$f":"IF([2]Paramètres!J1048=\"\",\"\",[2]Paramètres!J1048)","v":""},{"$f":"IF([2]Paramètres!K1048=\"\",\"\",[2]Paramètres!K1048)","v":""},{"$f":"IF([2]Paramètres!L1048=\"\",\"\",[2]Paramètres!L1048)","v":""},{"$f":"IF([2]Paramètres!M1048=\"\",\"\",[2]Paramètres!M1048)","v":""},{"$f":"IF([2]Paramètres!N1048=\"\",\"\",[2]Paramètres!N1048)","v":""},{"$f":"IF([2]Paramètres!O1048=\"\",\"\",[2]Paramètres!O1048)","v":""},{"$f":"IF([2]Paramètres!P1048=\"\",\"\",[2]Paramètres!P1048)","v":""},{"$f":"IF([2]Paramètres!Q1048=\"\",\"\",[2]Paramètres!Q1048)","v":""}]
[null,null,null,null,null,null,null,null,null,{"$f":"IF([2]Paramètres!J1049=\"\",\"\",[2]Paramètres!J1049)","v":""},{"$f":"IF([2]Paramètres!K1049=\"\",\"\",[2]Paramètres!K1049)","v":""},{"$f":"IF([2]Paramètres!L1049=\"\",\"\",[2]Paramètres!L1049)","v":""},{"$f":"IF([2]Paramètres!M1049=\"\",\"\",[2]Paramètres!M1049)","v":""},{"$f":"IF([2]Paramètres!N1049=\"\",\"\",[2]Paramètres!N1049)","v":""},{"$f":"IF([2]Paramètres!O1049=\"\",\"\",[2]Paramètres!O1049)","v":""},{"$f":"IF([2]Paramètres!P1049=\"\",\"\",[2]Paramètres!P1049)","v":""},{"$f":"IF([2]Paramètres!Q1049=\"\",\"\",[2]Paramètres!Q1049)","v":""}]
[null,null,null,null,null,null,null,null,null,{"$f":"IF([2]Paramètres!J1050=\"\",\"\",[2]Paramètres!J1050)","v":""},{"$f":"IF([2]Paramètres!K1050=\"\",\"\",[2]Paramètres!K1050)","v":""},{"$f":"IF([2]Paramètres!L1050=\"\",\"\",[2]Paramètres!L1050)","v":""},{"$f":"IF([2]Paramètres!M1050=\"\",\"\",[2]Paramètres!M1050)","v":""},{"$f":"IF([2]Paramètres!N1050=\"\",\"\",[2]Paramètres!N1050)","v":""},{"$f":"IF([2]Paramètres!O1050=\"\",\"\",[2]Paramètres!O1050)","v":""},{"$f":"IF([2]Paramètres!P1050=\"\",\"\",[2]Paramètres!P1050)","v":""},{"$f":"IF([2]Paramètres!Q1050=\"\",\"\",[2]Paramètres!Q1050)","v":""}]
[null,null,null,null,null,null,null,null,null,{"$f":"IF([2]Paramètres!J1051=\"\",\"\",[2]Paramètres!J1051)","v":""},{"$f":"IF([2]Paramètres!K1051=\"\",\"\",[2]Paramètres!K1051)","v":""},{"$f":"IF([2]Paramètres!L1051=\"\",\"\",[2]Paramètres!L1051)","v":""},{"$f":"IF([2]Paramètres!M1051=\"\",\"\",[2]Paramètres!M1051)","v":""},{"$f":"IF([2]Paramètres!N1051=\"\",\"\",[2]Paramètres!N1051)","v":""},{"$f":"IF([2]Paramètres!O1051=\"\",\"\",[2]Paramètres!O1051)","v":""},{"$f":"IF([2]Paramètres!P1051=\"\",\"\",[2]Paramètres!P1051)","v":""},{"$f":"IF([2]Paramètres!Q1051=\"\",\"\",[2]Paramètres!Q1051)","v":""}]
[null,null,null,null,null,null,null,null,null,{"$f":"IF([2]Paramètres!J1052=\"\",\"\",[2]Paramètres!J1052)","v":""},{"$f":"IF([2]Paramètres!K1052=\"\",\"\",[2]Paramètres!K1052)","v":""},{"$f":"IF([2]Paramètres!L1052=\"\",\"\",[2]Paramètres!L1052)","v":""},{"$f":"IF([2]Paramètres!M1052=\"\",\"\",[2]Paramètres!M1052)","v":""},{"$f":"IF([2]Paramètres!N1052=\"\",\"\",[2]Paramètres!N1052)","v":""},{"$f":"IF([2]Paramètres!O1052=\"\",\"\",[2]Paramètres!O1052)","v":""},{"$f":"IF([2]Paramètres!P1052=\"\",\"\",[2]Paramètres!P1052)","v":""},{"$f":"IF([2]Paramètres!Q1052=\"\",\"\",[2]Paramètres!Q1052)","v":""}]
[null,null,null,null,null,null,null,null,null,{"$f":"IF([2]Paramètres!J1053=\"\",\"\",[2]Paramètres!J1053)","v":""},{"$f":"IF([2]Paramètres!K1053=\"\",\"\",[2]Paramètres!K1053)","v":""},{"$f":"IF([2]Paramètres!L1053=\"\",\"\",[2]Paramètres!L1053)","v":""},{"$f":"IF([2]Paramètres!M1053=\"\",\"\",[2]Paramètres!M1053)","v":""},{"$f":"IF([2]Paramètres!N1053=\"\",\"\",[2]Paramètres!N1053)","v":""},{"$f":"IF([2]Paramètres!O1053=\"\",\"\",[2]Paramètres!O1053)","v":""},{"$f":"IF([2]Paramètres!P1053=\"\",\"\",[2]Paramètres!P1053)","v":""},{"$f":"IF([2]Paramètres!Q1053=\"\",\"\",[2]Paramètres!Q1053)","v":""}]
[null,null,null,null,null,null,null,null,null,{"$f":"IF([2]Paramètres!J1054=\"\",\"\",[2]Paramètres!J1054)","v":""},{"$f":"IF([2]Paramètres!K1054=\"\",\"\",[2]Paramètres!K1054)","v":""},{"$f":"IF([2]Paramètres!L1054=\"\",\"\",[2]Paramètres!L1054)","v":""},{"$f":"IF([2]Paramètres!M1054=\"\",\"\",[2]Paramètres!M1054)","v":""},{"$f":"IF([2]Paramètres!N1054=\"\",\"\",[2]Paramètres!N1054)","v":""},{"$f":"IF([2]Paramètres!O1054=\"\",\"\",[2]Paramètres!O1054)","v":""},{"$f":"IF([2]Paramètres!P1054=\"\",\"\",[2]Paramètres!P1054)","v":""},{"$f":"IF([2]Paramètres!Q1054=\"\",\"\",[2]Paramètres!Q1054)","v":""}]
[null,null,null,null,null,null,null,null,null,{"$f":"IF([2]Paramètres!J1055=\"\",\"\",[2]Paramètres!J1055)","v":""},{"$f":"IF([2]Paramètres!K1055=\"\",\"\",[2]Paramètres!K1055)","v":""},{"$f":"IF([2]Paramètres!L1055=\"\",\"\",[2]Paramètres!L1055)","v":""},{"$f":"IF([2]Paramètres!M1055=\"\",\"\",[2]Paramètres!M1055)","v":""},{"$f":"IF([2]Paramètres!N1055=\"\",\"\",[2]Paramètres!N1055)","v":""},{"$f":"IF([2]Paramètres!O1055=\"\",\"\",[2]Paramètres!O1055)","v":""},{"$f":"IF([2]Paramètres!P1055=\"\",\"\",[2]Paramètres!P1055)","v":""},{"$f":"IF([2]Paramètres!Q1055=\"\",\"\",[2]Paramètres!Q1055)","v":""}]
[null,null,null,null,null,null,null,null,null,{"$f":"IF([2]Paramètres!J1056=\"\",\"\",[2]Paramètres!J1056)","v":""},{"$f":"IF([2]Paramètres!K1056=\"\",\"\",[2]Paramètres!K1056)","v":""},{"$f":"IF([2]Paramètres!L1056=\"\",\"\",[2]Paramètres!L1056)","v":""},{"$f":"IF([2]Paramètres!M1056=\"\",\"\",[2]Paramètres!M1056)","v":""},{"$f":"IF([2]Paramètres!N1056=\"\",\"\",[2]Paramètres!N1056)","v":""},{"$f":"IF([2]Paramètres!O1056=\"\",\"\",[2]Paramètres!O1056)","v":""},{"$f":"IF([2]Paramètres!P1056=\"\",\"\",[2]Paramètres!P1056)","v":""},{"$f":"IF([2]Paramètres!Q1056=\"\",\"\",[2]Paramètres!Q1056)","v":""}]
[null,null,null,null,null,null,null,null,null,{"$f":"IF([2]Paramètres!J1057=\"\",\"\",[2]Paramètres!J1057)","v":""},{"$f":"IF([2]Paramètres!K1057=\"\",\"\",[2]Paramètres!K1057)","v":""},{"$f":"IF([2]Paramètres!L1057=\"\",\"\",[2]Paramètres!L1057)","v":""},{"$f":"IF([2]Paramètres!M1057=\"\",\"\",[2]Paramètres!M1057)","v":""},{"$f":"IF([2]Paramètres!N1057=\"\",\"\",[2]Paramètres!N1057)","v":""},{"$f":"IF([2]Paramètres!O1057=\"\",\"\",[2]Paramètres!O1057)","v":""},{"$f":"IF([2]Paramètres!P1057=\"\",\"\",[2]Paramètres!P1057)","v":""},{"$f":"IF([2]Paramètres!Q1057=\"\",\"\",[2]Paramètres!Q1057)","v":""}]
[null,null,null,null,null,null,null,null,null,{"$f":"IF([2]Paramètres!J1058=\"\",\"\",[2]Paramètres!J1058)","v":""},{"$f":"IF([2]Paramètres!K1058=\"\",\"\",[2]Paramètres!K1058)","v":""},{"$f":"IF([2]Paramètres!L1058=\"\",\"\",[2]Paramètres!L1058)","v":""},{"$f":"IF([2]Paramètres!M1058=\"\",\"\",[2]Paramètres!M1058)","v":""},{"$f":"IF([2]Paramètres!N1058=\"\",\"\",[2]Paramètres!N1058)","v":""},{"$f":"IF([2]Paramètres!O1058=\"\",\"\",[2]Paramètres!O1058)","v":""},{"$f":"IF([2]Paramètres!P1058=\"\",\"\",[2]Paramètres!P1058)","v":""},{"$f":"IF([2]Paramètres!Q1058=\"\",\"\",[2]Paramètres!Q1058)","v":""}]
[null,null,null,null,null,null,null,null,null,{"$f":"IF([2]Paramètres!J1059=\"\",\"\",[2]Paramètres!J1059)","v":""},{"$f":"IF([2]Paramètres!K1059=\"\",\"\",[2]Paramètres!K1059)","v":""},{"$f":"IF([2]Paramètres!L1059=\"\",\"\",[2]Paramètres!L1059)","v":""},{"$f":"IF([2]Paramètres!M1059=\"\",\"\",[2]Paramètres!M1059)","v":""},{"$f":"IF([2]Paramètres!N1059=\"\",\"\",[2]Paramètres!N1059)","v":""},{"$f":"IF([2]Paramètres!O1059=\"\",\"\",[2]Paramètres!O1059)","v":""},{"$f":"IF([2]Paramètres!P1059=\"\",\"\",[2]Paramètres!P1059)","v":""},{"$f":"IF([2]Paramètres!Q1059=\"\",\"\",[2]Paramètres!Q1059)","v":""}]
[null,null,null,null,null,null,null,null,null,{"$f":"IF([2]Paramètres!J1060=\"\",\"\",[2]Paramètres!J1060)","v":""},{"$f":"IF([2]Paramètres!K1060=\"\",\"\",[2]Paramètres!K1060)","v":""},{"$f":"IF([2]Paramètres!L1060=\"\",\"\",[2]Paramètres!L1060)","v":""},{"$f":"IF([2]Paramètres!M1060=\"\",\"\",[2]Paramètres!M1060)","v":""},{"$f":"IF([2]Paramètres!N1060=\"\",\"\",[2]Paramètres!N1060)","v":""},{"$f":"IF([2]Paramètres!O1060=\"\",\"\",[2]Paramètres!O1060)","v":""},{"$f":"IF([2]Paramètres!P1060=\"\",\"\",[2]Paramètres!P1060)","v":""},{"$f":"IF([2]Paramètres!Q1060=\"\",\"\",[2]Paramètres!Q1060)","v":""}]
[null,null,null,null,null,null,null,null,null,{"$f":"IF([2]Paramètres!J1061=\"\",\"\",[2]Paramètres!J1061)","v":""},{"$f":"IF([2]Paramètres!K1061=\"\",\"\",[2]Paramètres!K1061)","v":""},{"$f":"IF([2]Paramètres!L1061=\"\",\"\",[2]Paramètres!L1061)","v":""},{"$f":"IF([2]Paramètres!M1061=\"\",\"\",[2]Paramètres!M1061)","v":""},{"$f":"IF([2]Paramètres!N1061=\"\",\"\",[2]Paramètres!N1061)","v":""},{"$f":"IF([2]Paramètres!O1061=\"\",\"\",[2]Paramètres!O1061)","v":""},{"$f":"IF([2]Paramètres!P1061=\"\",\"\",[2]Paramètres!P1061)","v":""},{"$f":"IF([2]Paramètres!Q1061=\"\",\"\",[2]Paramètres!Q1061)","v":""}]
[null,null,null,null,null,null,null,null,null,{"$f":"IF([2]Paramètres!J1062=\"\",\"\",[2]Paramètres!J1062)","v":""},{"$f":"IF([2]Paramètres!K1062=\"\",\"\",[2]Paramètres!K1062)","v":""},{"$f":"IF([2]Paramètres!L1062=\"\",\"\",[2]Paramètres!L1062)","v":""},{"$f":"IF([2]Paramètres!M1062=\"\",\"\",[2]Paramètres!M1062)","v":""},{"$f":"IF([2]Paramètres!N1062=\"\",\"\",[2]Paramètres!N1062)","v":""},{"$f":"IF([2]Paramètres!O1062=\"\",\"\",[2]Paramètres!O1062)","v":""},{"$f":"IF([2]Paramètres!P1062=\"\",\"\",[2]Paramètres!P1062)","v":""},{"$f":"IF([2]Paramètres!Q1062=\"\",\"\",[2]Paramètres!Q1062)","v":""}]
[null,null,null,null,null,null,null,null,null,{"$f":"IF([2]Paramètres!J1063=\"\",\"\",[2]Paramètres!J1063)","v":""},{"$f":"IF([2]Paramètres!K1063=\"\",\"\",[2]Paramètres!K1063)","v":""},{"$f":"IF([2]Paramètres!L1063=\"\",\"\",[2]Paramètres!L1063)","v":""},{"$f":"IF([2]Paramètres!M1063=\"\",\"\",[2]Paramètres!M1063)","v":""},{"$f":"IF([2]Paramètres!N1063=\"\",\"\",[2]Paramètres!N1063)","v":""},{"$f":"IF([2]Paramètres!O1063=\"\",\"\",[2]Paramètres!O1063)","v":""},{"$f":"IF([2]Paramètres!P1063=\"\",\"\",[2]Paramètres!P1063)","v":""},{"$f":"IF([2]Paramètres!Q1063=\"\",\"\",[2]Paramètres!Q1063)","v":""}]
[null,null,null,null,null,null,null,null,null,{"$f":"IF([2]Paramètres!J1064=\"\",\"\",[2]Paramètres!J1064)","v":""},{"$f":"IF([2]Paramètres!K1064=\"\",\"\",[2]Paramètres!K1064)","v":""},{"$f":"IF([2]Paramètres!L1064=\"\",\"\",[2]Paramètres!L1064)","v":""},{"$f":"IF([2]Paramètres!M1064=\"\",\"\",[2]Paramètres!M1064)","v":""},{"$f":"IF([2]Paramètres!N1064=\"\",\"\",[2]Paramètres!N1064)","v":""},{"$f":"IF([2]Paramètres!O1064=\"\",\"\",[2]Paramètres!O1064)","v":""},{"$f":"IF([2]Paramètres!P1064=\"\",\"\",[2]Paramètres!P1064)","v":""},{"$f":"IF([2]Paramètres!Q1064=\"\",\"\",[2]Paramètres!Q1064)","v":""}]
[null,null,null,null,null,null,null,null,null,{"$f":"IF([2]Paramètres!J1065=\"\",\"\",[2]Paramètres!J1065)","v":""},{"$f":"IF([2]Paramètres!K1065=\"\",\"\",[2]Paramètres!K1065)","v":""},{"$f":"IF([2]Paramètres!L1065=\"\",\"\",[2]Paramètres!L1065)","v":""},{"$f":"IF([2]Paramètres!M1065=\"\",\"\",[2]Paramètres!M1065)","v":""},{"$f":"IF([2]Paramètres!N1065=\"\",\"\",[2]Paramètres!N1065)","v":""},{"$f":"IF([2]Paramètres!O1065=\"\",\"\",[2]Paramètres!O1065)","v":""},{"$f":"IF([2]Paramètres!P1065=\"\",\"\",[2]Paramètres!P1065)","v":""},{"$f":"IF([2]Paramètres!Q1065=\"\",\"\",[2]Paramètres!Q1065)","v":""}]
[null,null,null,null,null,null,null,null,null,{"$f":"IF([2]Paramètres!J1066=\"\",\"\",[2]Paramètres!J1066)","v":""},{"$f":"IF([2]Paramètres!K1066=\"\",\"\",[2]Paramètres!K1066)","v":""},{"$f":"IF([2]Paramètres!L1066=\"\",\"\",[2]Paramètres!L1066)","v":""},{"$f":"IF([2]Paramètres!M1066=\"\",\"\",[2]Paramètres!M1066)","v":""},{"$f":"IF([2]Paramètres!N1066=\"\",\"\",[2]Paramètres!N1066)","v":""},{"$f":"IF([2]Paramètres!O1066=\"\",\"\",[2]Paramètres!O1066)","v":""},{"$f":"IF([2]Paramètres!P1066=\"\",\"\",[2]Paramètres!P1066)","v":""},{"$f":"IF([2]Paramètres!Q1066=\"\",\"\",[2]Paramètres!Q1066)","v":""}]
[null,null,null,null,null,null,null,null,null,{"$f":"IF([2]Paramètres!J1067=\"\",\"\",[2]Paramètres!J1067)","v":""},{"$f":"IF([2]Paramètres!K1067=\"\",\"\",[2]Paramètres!K1067)","v":""},{"$f":"IF([2]Paramètres!L1067=\"\",\"\",[2]Paramètres!L1067)","v":""},{"$f":"IF([2]Paramètres!M1067=\"\",\"\",[2]Paramètres!M1067)","v":""},{"$f":"IF([2]Paramètres!N1067=\"\",\"\",[2]Paramètres!N1067)","v":""},{"$f":"IF([2]Paramètres!O1067=\"\",\"\",[2]Paramètres!O1067)","v":""},{"$f":"IF([2]Paramètres!P1067=\"\",\"\",[2]Paramètres!P1067)","v":""},{"$f":"IF([2]Paramètres!Q1067=\"\",\"\",[2]Paramètres!Q1067)","v":""}]
[null,null,null,null,null,null,null,null,null,{"$f":"IF([2]Paramètres!J1068=\"\",\"\",[2]Paramètres!J1068)","v":""},{"$f":"IF([2]Paramètres!K1068=\"\",\"\",[2]Paramètres!K1068)","v":""},{"$f":"IF([2]Paramètres!L1068=\"\",\"\",[2]Paramètres!L1068)","v":""},{"$f":"IF([2]Paramètres!M1068=\"\",\"\",[2]Paramètres!M1068)","v":""},{"$f":"IF([2]Paramètres!N1068=\"\",\"\",[2]Paramètres!N1068)","v":""},{"$f":"IF([2]Paramètres!O1068=\"\",\"\",[2]Paramètres!O1068)","v":""},{"$f":"IF([2]Paramètres!P1068=\"\",\"\",[2]Paramètres!P1068)","v":""},{"$f":"IF([2]Paramètres!Q1068=\"\",\"\",[2]Paramètres!Q1068)","v":""}]
[null,null,null,null,null,null,null,null,null,{"$f":"IF([2]Paramètres!J1069=\"\",\"\",[2]Paramètres!J1069)","v":""},{"$f":"IF([2]Paramètres!K1069=\"\",\"\",[2]Paramètres!K1069)","v":""},{"$f":"IF([2]Paramètres!L1069=\"\",\"\",[2]Paramètres!L1069)","v":""},{"$f":"IF([2]Paramètres!M1069=\"\",\"\",[2]Paramètres!M1069)","v":""},{"$f":"IF([2]Paramètres!N1069=\"\",\"\",[2]Paramètres!N1069)","v":""},{"$f":"IF([2]Paramètres!O1069=\"\",\"\",[2]Paramètres!O1069)","v":""},{"$f":"IF([2]Paramètres!P1069=\"\",\"\",[2]Paramètres!P1069)","v":""},{"$f":"IF([2]Paramètres!Q1069=\"\",\"\",[2]Paramètres!Q1069)","v":""}]
[null,null,null,null,null,null,null,null,null,{"$f":"IF([2]Paramètres!J1070=\"\",\"\",[2]Paramètres!J1070)","v":""},{"$f":"IF([2]Paramètres!K1070=\"\",\"\",[2]Paramètres!K1070)","v":""},{"$f":"IF([2]Paramètres!L1070=\"\",\"\",[2]Paramètres!L1070)","v":""},{"$f":"IF([2]Paramètres!M1070=\"\",\"\",[2]Paramètres!M1070)","v":""},{"$f":"IF([2]Paramètres!N1070=\"\",\"\",[2]Paramètres!N1070)","v":""},{"$f":"IF([2]Paramètres!O1070=\"\",\"\",[2]Paramètres!O1070)","v":""},{"$f":"IF([2]Paramètres!P1070=\"\",\"\",[2]Paramètres!P1070)","v":""},{"$f":"IF([2]Paramètres!Q1070=\"\",\"\",[2]Paramètres!Q1070)","v":""}]
[null,null,null,null,null,null,null,null,null,{"$f":"IF([2]Paramètres!J1071=\"\",\"\",[2]Paramètres!J1071)","v":""},{"$f":"IF([2]Paramètres!K1071=\"\",\"\",[2]Paramètres!K1071)","v":""},{"$f":"IF([2]Paramètres!L1071=\"\",\"\",[2]Paramètres!L1071)","v":""},{"$f":"IF([2]Paramètres!M1071=\"\",\"\",[2]Paramètres!M1071)","v":""},{"$f":"IF([2]Paramètres!N1071=\"\",\"\",[2]Paramètres!N1071)","v":""},{"$f":"IF([2]Paramètres!O1071=\"\",\"\",[2]Paramètres!O1071)","v":""},{"$f":"IF([2]Paramètres!P1071=\"\",\"\",[2]Paramètres!P1071)","v":""},{"$f":"IF([2]Paramètres!Q1071=\"\",\"\",[2]Paramètres!Q1071)","v":""}]
[null,null,null,null,null,null,null,null,null,{"$f":"IF([2]Paramètres!J1072=\"\",\"\",[2]Paramètres!J1072)","v":""},{"$f":"IF([2]Paramètres!K1072=\"\",\"\",[2]Paramètres!K1072)","v":""},{"$f":"IF([2]Paramètres!L1072=\"\",\"\",[2]Paramètres!L1072)","v":""},{"$f":"IF([2]Paramètres!M1072=\"\",\"\",[2]Paramètres!M1072)","v":""},{"$f":"IF([2]Paramètres!N1072=\"\",\"\",[2]Paramètres!N1072)","v":""},{"$f":"IF([2]Paramètres!O1072=\"\",\"\",[2]Paramètres!O1072)","v":""},{"$f":"IF([2]Paramètres!P1072=\"\",\"\",[2]Paramètres!P1072)","v":""},{"$f":"IF([2]Paramètres!Q1072=\"\",\"\",[2]Paramètres!Q1072)","v":""}]
[null,null,null,null,null,null,null,null,null,{"$f":"IF([2]Paramètres!J1073=\"\",\"\",[2]Paramètres!J1073)","v":""},{"$f":"IF([2]Paramètres!K1073=\"\",\"\",[2]Paramètres!K1073)","v":""},{"$f":"IF([2]Paramètres!L1073=\"\",\"\",[2]Paramètres!L1073)","v":""},{"$f":"IF([2]Paramètres!M1073=\"\",\"\",[2]Paramètres!M1073)","v":""},{"$f":"IF([2]Paramètres!N1073=\"\",\"\",[2]Paramètres!N1073)","v":""},{"$f":"IF([2]Paramètres!O1073=\"\",\"\",[2]Paramètres!O1073)","v":""},{"$f":"IF([2]Paramètres!P1073=\"\",\"\",[2]Paramètres!P1073)","v":""},{"$f":"IF([2]Paramètres!Q1073=\"\",\"\",[2]Paramètres!Q1073)","v":""}]
[null,null,null,null,null,null,null,null,null,{"$f":"IF([2]Paramètres!J1074=\"\",\"\",[2]Paramètres!J1074)","v":""},{"$f":"IF([2]Paramètres!K1074=\"\",\"\",[2]Paramètres!K1074)","v":""},{"$f":"IF([2]Paramètres!L1074=\"\",\"\",[2]Paramètres!L1074)","v":""},{"$f":"IF([2]Paramètres!M1074=\"\",\"\",[2]Paramètres!M1074)","v":""},{"$f":"IF([2]Paramètres!N1074=\"\",\"\",[2]Paramètres!N1074)","v":""},{"$f":"IF([2]Paramètres!O1074=\"\",\"\",[2]Paramètres!O1074)","v":""},{"$f":"IF([2]Paramètres!P1074=\"\",\"\",[2]Paramètres!P1074)","v":""},{"$f":"IF([2]Paramètres!Q1074=\"\",\"\",[2]Paramètres!Q1074)","v":""}]
[null,null,null,null,null,null,null,null,null,{"$f":"IF([2]Paramètres!J1075=\"\",\"\",[2]Paramètres!J1075)","v":""},{"$f":"IF([2]Paramètres!K1075=\"\",\"\",[2]Paramètres!K1075)","v":""},{"$f":"IF([2]Paramètres!L1075=\"\",\"\",[2]Paramètres!L1075)","v":""},{"$f":"IF([2]Paramètres!M1075=\"\",\"\",[2]Paramètres!M1075)","v":""},{"$f":"IF([2]Paramètres!N1075=\"\",\"\",[2]Paramètres!N1075)","v":""},{"$f":"IF([2]Paramètres!O1075=\"\",\"\",[2]Paramètres!O1075)","v":""},{"$f":"IF([2]Paramètres!P1075=\"\",\"\",[2]Paramètres!P1075)","v":""},{"$f":"IF([2]Paramètres!Q1075=\"\",\"\",[2]Paramètres!Q1075)","v":""}]
[null,null,null,null,null,null,null,null,null,{"$f":"IF([2]Paramètres!J1076=\"\",\"\",[2]Paramètres!J1076)","v":""},{"$f":"IF([2]Paramètres!K1076=\"\",\"\",[2]Paramètres!K1076)","v":""},{"$f":"IF([2]Paramètres!L1076=\"\",\"\",[2]Paramètres!L1076)","v":""},{"$f":"IF([2]Paramètres!M1076=\"\",\"\",[2]Paramètres!M1076)","v":""},{"$f":"IF([2]Paramètres!N1076=\"\",\"\",[2]Paramètres!N1076)","v":""},{"$f":"IF([2]Paramètres!O1076=\"\",\"\",[2]Paramètres!O1076)","v":""},{"$f":"IF([2]Paramètres!P1076=\"\",\"\",[2]Paramètres!P1076)","v":""},{"$f":"IF([2]Paramètres!Q1076=\"\",\"\",[2]Paramètres!Q1076)","v":""}]
[null,null,null,null,null,null,null,null,null,{"$f":"IF([2]Paramètres!J1077=\"\",\"\",[2]Paramètres!J1077)","v":""},{"$f":"IF([2]Paramètres!K1077=\"\",\"\",[2]Paramètres!K1077)","v":""},{"$f":"IF([2]Paramètres!L1077=\"\",\"\",[2]Paramètres!L1077)","v":""},{"$f":"IF([2]Paramètres!M1077=\"\",\"\",[2]Paramètres!M1077)","v":""},{"$f":"IF([2]Paramètres!N1077=\"\",\"\",[2]Paramètres!N1077)","v":""},{"$f":"IF([2]Paramètres!O1077=\"\",\"\",[2]Paramètres!O1077)","v":""},{"$f":"IF([2]Paramètres!P1077=\"\",\"\",[2]Paramètres!P1077)","v":""},{"$f":"IF([2]Paramètres!Q1077=\"\",\"\",[2]Paramètres!Q1077)","v":""}]
[null,null,null,null,null,null,null,null,null,{"$f":"IF([2]Paramètres!J1078=\"\",\"\",[2]Paramètres!J1078)","v":""},{"$f":"IF([2]Paramètres!K1078=\"\",\"\",[2]Paramètres!K1078)","v":""},{"$f":"IF([2]Paramètres!L1078=\"\",\"\",[2]Paramètres!L1078)","v":""},{"$f":"IF([2]Paramètres!M1078=\"\",\"\",[2]Paramètres!M1078)","v":""},{"$f":"IF([2]Paramètres!N1078=\"\",\"\",[2]Paramètres!N1078)","v":""},{"$f":"IF([2]Paramètres!O1078=\"\",\"\",[2]Paramètres!O1078)","v":""},{"$f":"IF([2]Paramètres!P1078=\"\",\"\",[2]Paramètres!P1078)","v":""},{"$f":"IF([2]Paramètres!Q1078=\"\",\"\",[2]Paramètres!Q1078)","v":""}]
[null,null,null,null,null,null,null,null,null,{"$f":"IF([2]Paramètres!J1079=\"\",\"\",[2]Paramètres!J1079)","v":""},{"$f":"IF([2]Paramètres!K1079=\"\",\"\",[2]Paramètres!K1079)","v":""},{"$f":"IF([2]Paramètres!L1079=\"\",\"\",[2]Paramètres!L1079)","v":""},{"$f":"IF([2]Paramètres!M1079=\"\",\"\",[2]Paramètres!M1079)","v":""},{"$f":"IF([2]Paramètres!N1079=\"\",\"\",[2]Paramètres!N1079)","v":""},{"$f":"IF([2]Paramètres!O1079=\"\",\"\",[2]Paramètres!O1079)","v":""},{"$f":"IF([2]Paramètres!P1079=\"\",\"\",[2]Paramètres!P1079)","v":""},{"$f":"IF([2]Paramètres!Q1079=\"\",\"\",[2]Paramètres!Q1079)","v":""}]
[null,null,null,null,null,null,null,null,null,{"$f":"IF([2]Paramètres!J1080=\"\",\"\",[2]Paramètres!J1080)","v":""},{"$f":"IF([2]Paramètres!K1080=\"\",\"\",[2]Paramètres!K1080)","v":""},{"$f":"IF([2]Paramètres!L1080=\"\",\"\",[2]Paramètres!L1080)","v":""},{"$f":"IF([2]Paramètres!M1080=\"\",\"\",[2]Paramètres!M1080)","v":""},{"$f":"IF([2]Paramètres!N1080=\"\",\"\",[2]Paramètres!N1080)","v":""},{"$f":"IF([2]Paramètres!O1080=\"\",\"\",[2]Paramètres!O1080)","v":""},{"$f":"IF([2]Paramètres!P1080=\"\",\"\",[2]Paramètres!P1080)","v":""},{"$f":"IF([2]Paramètres!Q1080=\"\",\"\",[2]Paramètres!Q1080)","v":""}]
[null,null,null,null,null,null,null,null,null,{"$f":"IF([2]Paramètres!J1081=\"\",\"\",[2]Paramètres!J1081)","v":""},{"$f":"IF([2]Paramètres!K1081=\"\",\"\",[2]Paramètres!K1081)","v":""},{"$f":"IF([2]Paramètres!L1081=\"\",\"\",[2]Paramètres!L1081)","v":""},{"$f":"IF([2]Paramètres!M1081=\"\",\"\",[2]Paramètres!M1081)","v":""},{"$f":"IF([2]Paramètres!N1081=\"\",\"\",[2]Paramètres!N1081)","v":""},{"$f":"IF([2]Paramètres!O1081=\"\",\"\",[2]Paramètres!O1081)","v":""},{"$f":"IF([2]Paramètres!P1081=\"\",\"\",[2]Paramètres!P1081)","v":""},{"$f":"IF([2]Paramètres!Q1081=\"\",\"\",[2]Paramètres!Q1081)","v":""}]
[null,null,null,null,null,null,null,null,null,{"$f":"IF([2]Paramètres!J1082=\"\",\"\",[2]Paramètres!J1082)","v":""},{"$f":"IF([2]Paramètres!K1082=\"\",\"\",[2]Paramètres!K1082)","v":""},{"$f":"IF([2]Paramètres!L1082=\"\",\"\",[2]Paramètres!L1082)","v":""},{"$f":"IF([2]Paramètres!M1082=\"\",\"\",[2]Paramètres!M1082)","v":""},{"$f":"IF([2]Paramètres!N1082=\"\",\"\",[2]Paramètres!N1082)","v":""},{"$f":"IF([2]Paramètres!O1082=\"\",\"\",[2]Paramètres!O1082)","v":""},{"$f":"IF([2]Paramètres!P1082=\"\",\"\",[2]Paramètres!P1082)","v":""},{"$f":"IF([2]Paramètres!Q1082=\"\",\"\",[2]Paramètres!Q1082)","v":""}]
[null,null,null,null,null,null,null,null,null,{"$f":"IF([2]Paramètres!J1083=\"\",\"\",[2]Paramètres!J1083)","v":""},{"$f":"IF([2]Paramètres!K1083=\"\",\"\",[2]Paramètres!K1083)","v":""},{"$f":"IF([2]Paramètres!L1083=\"\",\"\",[2]Paramètres!L1083)","v":""},{"$f":"IF([2]Paramètres!M1083=\"\",\"\",[2]Paramètres!M1083)","v":""},{"$f":"IF([2]Paramètres!N1083=\"\",\"\",[2]Paramètres!N1083)","v":""},{"$f":"IF([2]Paramètres!O1083=\"\",\"\",[2]Paramètres!O1083)","v":""},{"$f":"IF([2]Paramètres!P1083=\"\",\"\",[2]Paramètres!P1083)","v":""},{"$f":"IF([2]Paramètres!Q1083=\"\",\"\",[2]Paramètres!Q1083)","v":""}]
[null,null,null,null,null,null,null,null,null,{"$f":"IF([2]Paramètres!J1084=\"\",\"\",[2]Paramètres!J1084)","v":""},{"$f":"IF([2]Paramètres!K1084=\"\",\"\",[2]Paramètres!K1084)","v":""},{"$f":"IF([2]Paramètres!L1084=\"\",\"\",[2]Paramètres!L1084)","v":""},{"$f":"IF([2]Paramètres!M1084=\"\",\"\",[2]Paramètres!M1084)","v":""},{"$f":"IF([2]Paramètres!N1084=\"\",\"\",[2]Paramètres!N1084)","v":""},{"$f":"IF([2]Paramètres!O1084=\"\",\"\",[2]Paramètres!O1084)","v":""},{"$f":"IF([2]Paramètres!P1084=\"\",\"\",[2]Paramètres!P1084)","v":""},{"$f":"IF([2]Paramètres!Q1084=\"\",\"\",[2]Paramètres!Q1084)","v":""}]
[null,null,null,null,null,null,null,null,null,{"$f":"IF([2]Paramètres!J1085=\"\",\"\",[2]Paramètres!J1085)","v":""},{"$f":"IF([2]Paramètres!K1085=\"\",\"\",[2]Paramètres!K1085)","v":""},{"$f":"IF([2]Paramètres!L1085=\"\",\"\",[2]Paramètres!L1085)","v":""},{"$f":"IF([2]Paramètres!M1085=\"\",\"\",[2]Paramètres!M1085)","v":""},{"$f":"IF([2]Paramètres!N1085=\"\",\"\",[2]Paramètres!N1085)","v":""},{"$f":"IF([2]Paramètres!O1085=\"\",\"\",[2]Paramètres!O1085)","v":""},{"$f":"IF([2]Paramètres!P1085=\"\",\"\",[2]Paramètres!P1085)","v":""},{"$f":"IF([2]Paramètres!Q1085=\"\",\"\",[2]Paramètres!Q1085)","v":""}]
[null,null,null,null,null,null,null,null,null,{"$f":"IF([2]Paramètres!J1086=\"\",\"\",[2]Paramètres!J1086)","v":""},{"$f":"IF([2]Paramètres!K1086=\"\",\"\",[2]Paramètres!K1086)","v":""},{"$f":"IF([2]Paramètres!L1086=\"\",\"\",[2]Paramètres!L1086)","v":""},{"$f":"IF([2]Paramètres!M1086=\"\",\"\",[2]Paramètres!M1086)","v":""},{"$f":"IF([2]Paramètres!N1086=\"\",\"\",[2]Paramètres!N1086)","v":""},{"$f":"IF([2]Paramètres!O1086=\"\",\"\",[2]Paramètres!O1086)","v":""},{"$f":"IF([2]Paramètres!P1086=\"\",\"\",[2]Paramètres!P1086)","v":""},{"$f":"IF([2]Paramètres!Q1086=\"\",\"\",[2]Paramètres!Q1086)","v":""}]
[null,null,null,null,null,null,null,null,null,{"$f":"IF([2]Paramètres!J1087=\"\",\"\",[2]Paramètres!J1087)","v":""},{"$f":"IF([2]Paramètres!K1087=\"\",\"\",[2]Paramètres!K1087)","v":""},{"$f":"IF([2]Paramètres!L1087=\"\",\"\",[2]Paramètres!L1087)","v":""},{"$f":"IF([2]Paramètres!M1087=\"\",\"\",[2]Paramètres!M1087)","v":""},{"$f":"IF([2]Paramètres!N1087=\"\",\"\",[2]Paramètres!N1087)","v":""},{"$f":"IF([2]Paramètres!O1087=\"\",\"\",[2]Paramètres!O1087)","v":""},{"$f":"IF([2]Paramètres!P1087=\"\",\"\",[2]Paramètres!P1087)","v":""},{"$f":"IF([2]Paramètres!Q1087=\"\",\"\",[2]Paramètres!Q1087)","v":""}]
[null,null,null,null,null,null,null,null,null,{"$f":"IF([2]Paramètres!J1088=\"\",\"\",[2]Paramètres!J1088)","v":""},{"$f":"IF([2]Paramètres!K1088=\"\",\"\",[2]Paramètres!K1088)","v":""},{"$f":"IF([2]Paramètres!L1088=\"\",\"\",[2]Paramètres!L1088)","v":""},{"$f":"IF([2]Paramètres!M1088=\"\",\"\",[2]Paramètres!M1088)","v":""},{"$f":"IF([2]Paramètres!N1088=\"\",\"\",[2]Paramètres!N1088)","v":""},{"$f":"IF([2]Paramètres!O1088=\"\",\"\",[2]Paramètres!O1088)","v":""},{"$f":"IF([2]Paramètres!P1088=\"\",\"\",[2]Paramètres!P1088)","v":""},{"$f":"IF([2]Paramètres!Q1088=\"\",\"\",[2]Paramètres!Q1088)","v":""}]
[null,null,null,null,null,null,null,null,null,{"$f":"IF([2]Paramètres!J1089=\"\",\"\",[2]Paramètres!J1089)","v":""},{"$f":"IF([2]Paramètres!K1089=\"\",\"\",[2]Paramètres!K1089)","v":""},{"$f":"IF([2]Paramètres!L1089=\"\",\"\",[2]Paramètres!L1089)","v":""},{"$f":"IF([2]Paramètres!M1089=\"\",\"\",[2]Paramètres!M1089)","v":""},{"$f":"IF([2]Paramètres!N1089=\"\",\"\",[2]Paramètres!N1089)","v":""},{"$f":"IF([2]Paramètres!O1089=\"\",\"\",[2]Paramètres!O1089)","v":""},{"$f":"IF([2]Paramètres!P1089=\"\",\"\",[2]Paramètres!P1089)","v":""},{"$f":"IF([2]Paramètres!Q1089=\"\",\"\",[2]Paramètres!Q1089)","v":""}]
[null,null,null,null,null,null,null,null,null,{"$f":"IF([2]Paramètres!J1090=\"\",\"\",[2]Paramètres!J1090)","v":""},{"$f":"IF([2]Paramètres!K1090=\"\",\"\",[2]Paramètres!K1090)","v":""},{"$f":"IF([2]Paramètres!L1090=\"\",\"\",[2]Paramètres!L1090)","v":""},{"$f":"IF([2]Paramètres!M1090=\"\",\"\",[2]Paramètres!M1090)","v":""},{"$f":"IF([2]Paramètres!N1090=\"\",\"\",[2]Paramètres!N1090)","v":""},{"$f":"IF([2]Paramètres!O1090=\"\",\"\",[2]Paramètres!O1090)","v":""},{"$f":"IF([2]Paramètres!P1090=\"\",\"\",[2]Paramètres!P1090)","v":""},{"$f":"IF([2]Paramètres!Q1090=\"\",\"\",[2]Paramètres!Q1090)","v":""}]
[null,null,null,null,null,null,null,null,null,{"$f":"IF([2]Paramètres!J1091=\"\",\"\",[2]Paramètres!J1091)","v":""},{"$f":"IF([2]Paramètres!K1091=\"\",\"\",[2]Paramètres!K1091)","v":""},{"$f":"IF([2]Paramètres!L1091=\"\",\"\",[2]Paramètres!L1091)","v":""},{"$f":"IF([2]Paramètres!M1091=\"\",\"\",[2]Paramètres!M1091)","v":""},{"$f":"IF([2]Paramètres!N1091=\"\",\"\",[2]Paramètres!N1091)","v":""},{"$f":"IF([2]Paramètres!O1091=\"\",\"\",[2]Paramètres!O1091)","v":""},{"$f":"IF([2]Paramètres!P1091=\"\",\"\",[2]Paramètres!P1091)","v":""},{"$f":"IF([2]Paramètres!Q1091=\"\",\"\",[2]Paramètres!Q1091)","v":""}]
[null,null,null,null,null,null,null,null,null,{"$f":"IF([2]Paramètres!J1092=\"\",\"\",[2]Paramètres!J1092)","v":""},{"$f":"IF([2]Paramètres!K1092=\"\",\"\",[2]Paramètres!K1092)","v":""},{"$f":"IF([2]Paramètres!L1092=\"\",\"\",[2]Paramètres!L1092)","v":""},{"$f":"IF([2]Paramètres!M1092=\"\",\"\",[2]Paramètres!M1092)","v":""},{"$f":"IF([2]Paramètres!N1092=\"\",\"\",[2]Paramètres!N1092)","v":""},{"$f":"IF([2]Paramètres!O1092=\"\",\"\",[2]Paramètres!O1092)","v":""},{"$f":"IF([2]Paramètres!P1092=\"\",\"\",[2]Paramètres!P1092)","v":""},{"$f":"IF([2]Paramètres!Q1092=\"\",\"\",[2]Paramètres!Q1092)","v":""}]
[null,null,null,null,null,null,null,null,null,{"$f":"IF([2]Paramètres!J1093=\"\",\"\",[2]Paramètres!J1093)","v":""},{"$f":"IF([2]Paramètres!K1093=\"\",\"\",[2]Paramètres!K1093)","v":""},{"$f":"IF([2]Paramètres!L1093=\"\",\"\",[2]Paramètres!L1093)","v":""},{"$f":"IF([2]Paramètres!M1093=\"\",\"\",[2]Paramètres!M1093)","v":""},{"$f":"IF([2]Paramètres!N1093=\"\",\"\",[2]Paramètres!N1093)","v":""},{"$f":"IF([2]Paramètres!O1093=\"\",\"\",[2]Paramètres!O1093)","v":""},{"$f":"IF([2]Paramètres!P1093=\"\",\"\",[2]Paramètres!P1093)","v":""},{"$f":"IF([2]Paramètres!Q1093=\"\",\"\",[2]Paramètres!Q1093)","v":""}]
[null,null,null,null,null,null,null,null,null,{"$f":"IF([2]Paramètres!J1094=\"\",\"\",[2]Paramètres!J1094)","v":""},{"$f":"IF([2]Paramètres!K1094=\"\",\"\",[2]Paramètres!K1094)","v":""},{"$f":"IF([2]Paramètres!L1094=\"\",\"\",[2]Paramètres!L1094)","v":""},{"$f":"IF([2]Paramètres!M1094=\"\",\"\",[2]Paramètres!M1094)","v":""},{"$f":"IF([2]Paramètres!N1094=\"\",\"\",[2]Paramètres!N1094)","v":""},{"$f":"IF([2]Paramètres!O1094=\"\",\"\",[2]Paramètres!O1094)","v":""},{"$f":"IF([2]Paramètres!P1094=\"\",\"\",[2]Paramètres!P1094)","v":""},{"$f":"IF([2]Paramètres!Q1094=\"\",\"\",[2]Paramètres!Q1094)","v":""}]
[null,null,null,null,null,null,null,null,null,{"$f":"IF([2]Paramètres!J1095=\"\",\"\",[2]Paramètres!J1095)","v":""},{"$f":"IF([2]Paramètres!K1095=\"\",\"\",[2]Paramètres!K1095)","v":""},{"$f":"IF([2]Paramètres!L1095=\"\",\"\",[2]Paramètres!L1095)","v":""},{"$f":"IF([2]Paramètres!M1095=\"\",\"\",[2]Paramètres!M1095)","v":""},{"$f":"IF([2]Paramètres!N1095=\"\",\"\",[2]Paramètres!N1095)","v":""},{"$f":"IF([2]Paramètres!O1095=\"\",\"\",[2]Paramètres!O1095)","v":""},{"$f":"IF([2]Paramètres!P1095=\"\",\"\",[2]Paramètres!P1095)","v":""},{"$f":"IF([2]Paramètres!Q1095=\"\",\"\",[2]Paramètres!Q1095)","v":""}]
[null,null,null,null,null,null,null,null,null,{"$f":"IF([2]Paramètres!J1096=\"\",\"\",[2]Paramètres!J1096)","v":""},{"$f":"IF([2]Paramètres!K1096=\"\",\"\",[2]Paramètres!K1096)","v":""},{"$f":"IF([2]Paramètres!L1096=\"\",\"\",[2]Paramètres!L1096)","v":""},{"$f":"IF([2]Paramètres!M1096=\"\",\"\",[2]Paramètres!M1096)","v":""},{"$f":"IF([2]Paramètres!N1096=\"\",\"\",[2]Paramètres!N1096)","v":""},{"$f":"IF([2]Paramètres!O1096=\"\",\"\",[2]Paramètres!O1096)","v":""},{"$f":"IF([2]Paramètres!P1096=\"\",\"\",[2]Paramètres!P1096)","v":""},{"$f":"IF([2]Paramètres!Q1096=\"\",\"\",[2]Paramètres!Q1096)","v":""}]
[null,null,null,null,null,null,null,null,null,{"$f":"IF([2]Paramètres!J1097=\"\",\"\",[2]Paramètres!J1097)","v":""},{"$f":"IF([2]Paramètres!K1097=\"\",\"\",[2]Paramètres!K1097)","v":""},{"$f":"IF([2]Paramètres!L1097=\"\",\"\",[2]Paramètres!L1097)","v":""},{"$f":"IF([2]Paramètres!M1097=\"\",\"\",[2]Paramètres!M1097)","v":""},{"$f":"IF([2]Paramètres!N1097=\"\",\"\",[2]Paramètres!N1097)","v":""},{"$f":"IF([2]Paramètres!O1097=\"\",\"\",[2]Paramètres!O1097)","v":""},{"$f":"IF([2]Paramètres!P1097=\"\",\"\",[2]Paramètres!P1097)","v":""},{"$f":"IF([2]Paramètres!Q1097=\"\",\"\",[2]Paramètres!Q1097)","v":""}]
[null,null,null,null,null,null,null,null,null,{"$f":"IF([2]Paramètres!J1098=\"\",\"\",[2]Paramètres!J1098)","v":""},{"$f":"IF([2]Paramètres!K1098=\"\",\"\",[2]Paramètres!K1098)","v":""},{"$f":"IF([2]Paramètres!L1098=\"\",\"\",[2]Paramètres!L1098)","v":""},{"$f":"IF([2]Paramètres!M1098=\"\",\"\",[2]Paramètres!M1098)","v":""},{"$f":"IF([2]Paramètres!N1098=\"\",\"\",[2]Paramètres!N1098)","v":""},{"$f":"IF([2]Paramètres!O1098=\"\",\"\",[2]Paramètres!O1098)","v":""},{"$f":"IF([2]Paramètres!P1098=\"\",\"\",[2]Paramètres!P1098)","v":""},{"$f":"IF([2]Paramètres!Q1098=\"\",\"\",[2]Paramètres!Q1098)","v":""}]
[null,null,null,null,null,null,null,null,null,{"$f":"IF([2]Paramètres!J1099=\"\",\"\",[2]Paramètres!J1099)","v":""},{"$f":"IF([2]Paramètres!K1099=\"\",\"\",[2]Paramètres!K1099)","v":""},{"$f":"IF([2]Paramètres!L1099=\"\",\"\",[2]Paramètres!L1099)","v":""},{"$f":"IF([2]Paramètres!M1099=\"\",\"\",[2]Paramètres!M1099)","v":""},{"$f":"IF([2]Paramètres!N1099=\"\",\"\",[2]Paramètres!N1099)","v":""},{"$f":"IF([2]Paramètres!O1099=\"\",\"\",[2]Paramètres!O1099)","v":""},{"$f":"IF([2]Paramètres!P1099=\"\",\"\",[2]Paramètres!P1099)","v":""},{"$f":"IF([2]Paramètres!Q1099=\"\",\"\",[2]Paramètres!Q1099)","v":""}]
[null,null,null,null,null,null,null,null,null,{"$f":"IF([2]Paramètres!J1100=\"\",\"\",[2]Paramètres!J1100)","v":""},{"$f":"IF([2]Paramètres!K1100=\"\",\"\",[2]Paramètres!K1100)","v":""},{"$f":"IF([2]Paramètres!L1100=\"\",\"\",[2]Paramètres!L1100)","v":""},{"$f":"IF([2]Paramètres!M1100=\"\",\"\",[2]Paramètres!M1100)","v":""},{"$f":"IF([2]Paramètres!N1100=\"\",\"\",[2]Paramètres!N1100)","v":""},{"$f":"IF([2]Paramètres!O1100=\"\",\"\",[2]Paramètres!O1100)","v":""},{"$f":"IF([2]Paramètres!P1100=\"\",\"\",[2]Paramètres!P1100)","v":""},{"$f":"IF([2]Paramètres!Q1100=\"\",\"\",[2]Paramètres!Q1100)","v":""}]
[null,null,null,null,null,null,null,null,null,{"$f":"IF([2]Paramètres!J1101=\"\",\"\",[2]Paramètres!J1101)","v":""},{"$f":"IF([2]Paramètres!K1101=\"\",\"\",[2]Paramètres!K1101)","v":""},{"$f":"IF([2]Paramètres!L1101=\"\",\"\",[2]Paramètres!L1101)","v":""},{"$f":"IF([2]Paramètres!M1101=\"\",\"\",[2]Paramètres!M1101)","v":""},{"$f":"IF([2]Paramètres!N1101=\"\",\"\",[2]Paramètres!N1101)","v":""},{"$f":"IF([2]Paramètres!O1101=\"\",\"\",[2]Paramètres!O1101)","v":""},{"$f":"IF([2]Paramètres!P1101=\"\",\"\",[2]Paramètres!P1101)","v":""},{"$f":"IF([2]Paramètres!Q1101=\"\",\"\",[2]Paramètres!Q1101)","v":""}]
[null,null,null,null,null,null,null,null,null,{"$f":"IF([2]Paramètres!J1102=\"\",\"\",[2]Paramètres!J1102)","v":""},{"$f":"IF([2]Paramètres!K1102=\"\",\"\",[2]Paramètres!K1102)","v":""},{"$f":"IF([2]Paramètres!L1102=\"\",\"\",[2]Paramètres!L1102)","v":""},{"$f":"IF([2]Paramètres!M1102=\"\",\"\",[2]Paramètres!M1102)","v":""},{"$f":"IF([2]Paramètres!N1102=\"\",\"\",[2]Paramètres!N1102)","v":""},{"$f":"IF([2]Paramètres!O1102=\"\",\"\",[2]Paramètres!O1102)","v":""},{"$f":"IF([2]Paramètres!P1102=\"\",\"\",[2]Paramètres!P1102)","v":""},{"$f":"IF([2]Paramètres!Q1102=\"\",\"\",[2]Paramètres!Q1102)","v":""}]
[null,null,null,null,null,null,null,null,null,{"$f":"IF([2]Paramètres!J1103=\"\",\"\",[2]Paramètres!J1103)","v":""},{"$f":"IF([2]Paramètres!K1103=\"\",\"\",[2]Paramètres!K1103)","v":""},{"$f":"IF([2]Paramètres!L1103=\"\",\"\",[2]Paramètres!L1103)","v":""},{"$f":"IF([2]Paramètres!M1103=\"\",\"\",[2]Paramètres!M1103)","v":""},{"$f":"IF([2]Paramètres!N1103=\"\",\"\",[2]Paramètres!N1103)","v":""},{"$f":"IF([2]Paramètres!O1103=\"\",\"\",[2]Paramètres!O1103)","v":""},{"$f":"IF([2]Paramètres!P1103=\"\",\"\",[2]Paramètres!P1103)","v":""},{"$f":"IF([2]Paramètres!Q1103=\"\",\"\",[2]Paramètres!Q1103)","v":""}]
[null,null,null,null,null,null,null,null,null,{"$f":"IF([2]Paramètres!J1104=\"\",\"\",[2]Paramètres!J1104)","v":""},{"$f":"IF([2]Paramètres!K1104=\"\",\"\",[2]Paramètres!K1104)","v":""},{"$f":"IF([2]Paramètres!L1104=\"\",\"\",[2]Paramètres!L1104)","v":""},{"$f":"IF([2]Paramètres!M1104=\"\",\"\",[2]Paramètres!M1104)","v":""},{"$f":"IF([2]Paramètres!N1104=\"\",\"\",[2]Paramètres!N1104)","v":""},{"$f":"IF([2]Paramètres!O1104=\"\",\"\",[2]Paramètres!O1104)","v":""},{"$f":"IF([2]Paramètres!P1104=\"\",\"\",[2]Paramètres!P1104)","v":""},{"$f":"IF([2]Paramètres!Q1104=\"\",\"\",[2]Paramètres!Q1104)","v":""}]
[null,null,null,null,null,null,null,null,null,{"$f":"IF([2]Paramètres!J1105=\"\",\"\",[2]Paramètres!J1105)","v":""},{"$f":"IF([2]Paramètres!K1105=\"\",\"\",[2]Paramètres!K1105)","v":""},{"$f":"IF([2]Paramètres!L1105=\"\",\"\",[2]Paramètres!L1105)","v":""},{"$f":"IF([2]Paramètres!M1105=\"\",\"\",[2]Paramètres!M1105)","v":""},{"$f":"IF([2]Paramètres!N1105=\"\",\"\",[2]Paramètres!N1105)","v":""},{"$f":"IF([2]Paramètres!O1105=\"\",\"\",[2]Paramètres!O1105)","v":""},{"$f":"IF([2]Paramètres!P1105=\"\",\"\",[2]Paramètres!P1105)","v":""},{"$f":"IF([2]Paramètres!Q1105=\"\",\"\",[2]Paramètres!Q1105)","v":""}]
[null,null,null,null,null,null,null,null,null,{"$f":"IF([2]Paramètres!J1106=\"\",\"\",[2]Paramètres!J1106)","v":""},{"$f":"IF([2]Paramètres!K1106=\"\",\"\",[2]Paramètres!K1106)","v":""},{"$f":"IF([2]Paramètres!L1106=\"\",\"\",[2]Paramètres!L1106)","v":""},{"$f":"IF([2]Paramètres!M1106=\"\",\"\",[2]Paramètres!M1106)","v":""},{"$f":"IF([2]Paramètres!N1106=\"\",\"\",[2]Paramètres!N1106)","v":""},{"$f":"IF([2]Paramètres!O1106=\"\",\"\",[2]Paramètres!O1106)","v":""},{"$f":"IF([2]Paramètres!P1106=\"\",\"\",[2]Paramètres!P1106)","v":""},{"$f":"IF([2]Paramètres!Q1106=\"\",\"\",[2]Paramètres!Q1106)","v":""}]
[null,null,null,null,null,null,null,null,null,{"$f":"IF([2]Paramètres!J1107=\"\",\"\",[2]Paramètres!J1107)","v":""},{"$f":"IF([2]Paramètres!K1107=\"\",\"\",[2]Paramètres!K1107)","v":""},{"$f":"IF([2]Paramètres!L1107=\"\",\"\",[2]Paramètres!L1107)","v":""},{"$f":"IF([2]Paramètres!M1107=\"\",\"\",[2]Paramètres!M1107)","v":""},{"$f":"IF([2]Paramètres!N1107=\"\",\"\",[2]Paramètres!N1107)","v":""},{"$f":"IF([2]Paramètres!O1107=\"\",\"\",[2]Paramètres!O1107)","v":""},{"$f":"IF([2]Paramètres!P1107=\"\",\"\",[2]Paramètres!P1107)","v":""},{"$f":"IF([2]Paramètres!Q1107=\"\",\"\",[2]Paramètres!Q1107)","v":""}]
[null,null,null,null,null,null,null,null,null,{"$f":"IF([2]Paramètres!J1108=\"\",\"\",[2]Paramètres!J1108)","v":""},{"$f":"IF([2]Paramètres!K1108=\"\",\"\",[2]Paramètres!K1108)","v":""},{"$f":"IF([2]Paramètres!L1108=\"\",\"\",[2]Paramètres!L1108)","v":""},{"$f":"IF([2]Paramètres!M1108=\"\",\"\",[2]Paramètres!M1108)","v":""},{"$f":"IF([2]Paramètres!N1108=\"\",\"\",[2]Paramètres!N1108)","v":""},{"$f":"IF([2]Paramètres!O1108=\"\",\"\",[2]Paramètres!O1108)","v":""},{"$f":"IF([2]Paramètres!P1108=\"\",\"\",[2]Paramètres!P1108)","v":""},{"$f":"IF([2]Paramètres!Q1108=\"\",\"\",[2]Paramètres!Q1108)","v":""}]
[null,null,null,null,null,null,null,null,null,{"$f":"IF([2]Paramètres!J1109=\"\",\"\",[2]Paramètres!J1109)","v":""},{"$f":"IF([2]Paramètres!K1109=\"\",\"\",[2]Paramètres!K1109)","v":""},{"$f":"IF([2]Paramètres!L1109=\"\",\"\",[2]Paramètres!L1109)","v":""},{"$f":"IF([2]Paramètres!M1109=\"\",\"\",[2]Paramètres!M1109)","v":""},{"$f":"IF([2]Paramètres!N1109=\"\",\"\",[2]Paramètres!N1109)","v":""},{"$f":"IF([2]Paramètres!O1109=\"\",\"\",[2]Paramètres!O1109)","v":""},{"$f":"IF([2]Paramètres!P1109=\"\",\"\",[2]Paramètres!P1109)","v":""},{"$f":"IF([2]Paramètres!Q1109=\"\",\"\",[2]Paramètres!Q1109)","v":""}]
[null,null,null,null,null,null,null,null,null,{"$f":"IF([2]Paramètres!J1110=\"\",\"\",[2]Paramètres!J1110)","v":""},{"$f":"IF([2]Paramètres!K1110=\"\",\"\",[2]Paramètres!K1110)","v":""},{"$f":"IF([2]Paramètres!L1110=\"\",\"\",[2]Paramètres!L1110)","v":""},{"$f":"IF([2]Paramètres!M1110=\"\",\"\",[2]Paramètres!M1110)","v":""},{"$f":"IF([2]Paramètres!N1110=\"\",\"\",[2]Paramètres!N1110)","v":""},{"$f":"IF([2]Paramètres!O1110=\"\",\"\",[2]Paramètres!O1110)","v":""},{"$f":"IF([2]Paramètres!P1110=\"\",\"\",[2]Paramètres!P1110)","v":""},{"$f":"IF([2]Paramètres!Q1110=\"\",\"\",[2]Paramètres!Q1110)","v":""}]
[null,null,null,null,null,null,null,null,null,{"$f":"IF([2]Paramètres!J1111=\"\",\"\",[2]Paramètres!J1111)","v":""},{"$f":"IF([2]Paramètres!K1111=\"\",\"\",[2]Paramètres!K1111)","v":""},{"$f":"IF([2]Paramètres!L1111=\"\",\"\",[2]Paramètres!L1111)","v":""},{"$f":"IF([2]Paramètres!M1111=\"\",\"\",[2]Paramètres!M1111)","v":""},{"$f":"IF([2]Paramètres!N1111=\"\",\"\",[2]Paramètres!N1111)","v":""},{"$f":"IF([2]Paramètres!O1111=\"\",\"\",[2]Paramètres!O1111)","v":""},{"$f":"IF([2]Paramètres!P1111=\"\",\"\",[2]Paramètres!P1111)","v":""},{"$f":"IF([2]Paramètres!Q1111=\"\",\"\",[2]Paramètres!Q1111)","v":""}]
[null,null,null,null,null,null,null,null,null,{"$f":"IF([2]Paramètres!J1112=\"\",\"\",[2]Paramètres!J1112)","v":""},{"$f":"IF([2]Paramètres!K1112=\"\",\"\",[2]Paramètres!K1112)","v":""},{"$f":"IF([2]Paramètres!L1112=\"\",\"\",[2]Paramètres!L1112)","v":""},{"$f":"IF([2]Paramètres!M1112=\"\",\"\",[2]Paramètres!M1112)","v":""},{"$f":"IF([2]Paramètres!N1112=\"\",\"\",[2]Paramètres!N1112)","v":""},{"$f":"IF([2]Paramètres!O1112=\"\",\"\",[2]Paramètres!O1112)","v":""},{"$f":"IF([2]Paramètres!P1112=\"\",\"\",[2]Paramètres!P1112)","v":""},{"$f":"IF([2]Paramètres!Q1112=\"\",\"\",[2]Paramètres!Q1112)","v":""}]
[null,null,null,null,null,null,null,null,null,{"$f":"IF([2]Paramètres!J1113=\"\",\"\",[2]Paramètres!J1113)","v":""},{"$f":"IF([2]Paramètres!K1113=\"\",\"\",[2]Paramètres!K1113)","v":""},{"$f":"IF([2]Paramètres!L1113=\"\",\"\",[2]Paramètres!L1113)","v":""},{"$f":"IF([2]Paramètres!M1113=\"\",\"\",[2]Paramètres!M1113)","v":""},{"$f":"IF([2]Paramètres!N1113=\"\",\"\",[2]Paramètres!N1113)","v":""},{"$f":"IF([2]Paramètres!O1113=\"\",\"\",[2]Paramètres!O1113)","v":""},{"$f":"IF([2]Paramètres!P1113=\"\",\"\",[2]Paramètres!P1113)","v":""},{"$f":"IF([2]Paramètres!Q1113=\"\",\"\",[2]Paramètres!Q1113)","v":""}]
[null,null,null,null,null,null,null,null,null,{"$f":"IF([2]Paramètres!J1114=\"\",\"\",[2]Paramètres!J1114)","v":""},{"$f":"IF([2]Paramètres!K1114=\"\",\"\",[2]Paramètres!K1114)","v":""},{"$f":"IF([2]Paramètres!L1114=\"\",\"\",[2]Paramètres!L1114)","v":""},{"$f":"IF([2]Paramètres!M1114=\"\",\"\",[2]Paramètres!M1114)","v":""},{"$f":"IF([2]Paramètres!N1114=\"\",\"\",[2]Paramètres!N1114)","v":""},{"$f":"IF([2]Paramètres!O1114=\"\",\"\",[2]Paramètres!O1114)","v":""},{"$f":"IF([2]Paramètres!P1114=\"\",\"\",[2]Paramètres!P1114)","v":""},{"$f":"IF([2]Paramètres!Q1114=\"\",\"\",[2]Paramètres!Q1114)","v":""}]
[null,null,null,null,null,null,null,null,null,{"$f":"IF([2]Paramètres!J1115=\"\",\"\",[2]Paramètres!J1115)","v":""},{"$f":"IF([2]Paramètres!K1115=\"\",\"\",[2]Paramètres!K1115)","v":""},{"$f":"IF([2]Paramètres!L1115=\"\",\"\",[2]Paramètres!L1115)","v":""},{"$f":"IF([2]Paramètres!M1115=\"\",\"\",[2]Paramètres!M1115)","v":""},{"$f":"IF([2]Paramètres!N1115=\"\",\"\",[2]Paramètres!N1115)","v":""},{"$f":"IF([2]Paramètres!O1115=\"\",\"\",[2]Paramètres!O1115)","v":""},{"$f":"IF([2]Paramètres!P1115=\"\",\"\",[2]Paramètres!P1115)","v":""},{"$f":"IF([2]Paramètres!Q1115=\"\",\"\",[2]Paramètres!Q1115)","v":""}]
[null,null,null,null,null,null,null,null,null,{"$f":"IF([2]Paramètres!J1116=\"\",\"\",[2]Paramètres!J1116)","v":""},{"$f":"IF([2]Paramètres!K1116=\"\",\"\",[2]Paramètres!K1116)","v":""},{"$f":"IF([2]Paramètres!L1116=\"\",\"\",[2]Paramètres!L1116)","v":""},{"$f":"IF([2]Paramètres!M1116=\"\",\"\",[2]Paramètres!M1116)","v":""},{"$f":"IF([2]Paramètres!N1116=\"\",\"\",[2]Paramètres!N1116)","v":""},{"$f":"IF([2]Paramètres!O1116=\"\",\"\",[2]Paramètres!O1116)","v":""},{"$f":"IF([2]Paramètres!P1116=\"\",\"\",[2]Paramètres!P1116)","v":""},{"$f":"IF([2]Paramètres!Q1116=\"\",\"\",[2]Paramètres!Q1116)","v":""}]
[null,null,null,null,null,null,null,null,null,{"$f":"IF([2]Paramètres!J1117=\"\",\"\",[2]Paramètres!J1117)","v":""},{"$f":"IF([2]Paramètres!K1117=\"\",\"\",[2]Paramètres!K1117)","v":""},{"$f":"IF([2]Paramètres!L1117=\"\",\"\",[2]Paramètres!L1117)","v":""},{"$f":"IF([2]Paramètres!M1117=\"\",\"\",[2]Paramètres!M1117)","v":""},{"$f":"IF([2]Paramètres!N1117=\"\",\"\",[2]Paramètres!N1117)","v":""},{"$f":"IF([2]Paramètres!O1117=\"\",\"\",[2]Paramètres!O1117)","v":""},{"$f":"IF([2]Paramètres!P1117=\"\",\"\",[2]Paramètres!P1117)","v":""},{"$f":"IF([2]Paramètres!Q1117=\"\",\"\",[2]Paramètres!Q1117)","v":""}]
[null,null,null,null,null,null,null,null,null,{"$f":"IF([2]Paramètres!J1118=\"\",\"\",[2]Paramètres!J1118)","v":""},{"$f":"IF([2]Paramètres!K1118=\"\",\"\",[2]Paramètres!K1118)","v":""},{"$f":"IF([2]Paramètres!L1118=\"\",\"\",[2]Paramètres!L1118)","v":""},{"$f":"IF([2]Paramètres!M1118=\"\",\"\",[2]Paramètres!M1118)","v":""},{"$f":"IF([2]Paramètres!N1118=\"\",\"\",[2]Paramètres!N1118)","v":""},{"$f":"IF([2]Paramètres!O1118=\"\",\"\",[2]Paramètres!O1118)","v":""},{"$f":"IF([2]Paramètres!P1118=\"\",\"\",[2]Paramètres!P1118)","v":""},{"$f":"IF([2]Paramètres!Q1118=\"\",\"\",[2]Paramètres!Q1118)","v":""}]
[null,null,null,null,null,null,null,null,null,{"$f":"IF([2]Paramètres!J1119=\"\",\"\",[2]Paramètres!J1119)","v":""},{"$f":"IF([2]Paramètres!K1119=\"\",\"\",[2]Paramètres!K1119)","v":""},{"$f":"IF([2]Paramètres!L1119=\"\",\"\",[2]Paramètres!L1119)","v":""},{"$f":"IF([2]Paramètres!M1119=\"\",\"\",[2]Paramètres!M1119)","v":""},{"$f":"IF([2]Paramètres!N1119=\"\",\"\",[2]Paramètres!N1119)","v":""},{"$f":"IF([2]Paramètres!O1119=\"\",\"\",[2]Paramètres!O1119)","v":""},{"$f":"IF([2]Paramètres!P1119=\"\",\"\",[2]Paramètres!P1119)","v":""},{"$f":"IF([2]Paramètres!Q1119=\"\",\"\",[2]Paramètres!Q1119)","v":""}]
[null,null,null,null,null,null,null,null,null,{"$f":"IF([2]Paramètres!J1120=\"\",\"\",[2]Paramètres!J1120)","v":""},{"$f":"IF([2]Paramètres!K1120=\"\",\"\",[2]Paramètres!K1120)","v":""},{"$f":"IF([2]Paramètres!L1120=\"\",\"\",[2]Paramètres!L1120)","v":""},{"$f":"IF([2]Paramètres!M1120=\"\",\"\",[2]Paramètres!M1120)","v":""},{"$f":"IF([2]Paramètres!N1120=\"\",\"\",[2]Paramètres!N1120)","v":""},{"$f":"IF([2]Paramètres!O1120=\"\",\"\",[2]Paramètres!O1120)","v":""},{"$f":"IF([2]Paramètres!P1120=\"\",\"\",[2]Paramètres!P1120)","v":""},{"$f":"IF([2]Paramètres!Q1120=\"\",\"\",[2]Paramètres!Q1120)","v":""}]
[null,null,null,null,null,null,null,null,null,{"$f":"IF([2]Paramètres!J1121=\"\",\"\",[2]Paramètres!J1121)","v":""},{"$f":"IF([2]Paramètres!K1121=\"\",\"\",[2]Paramètres!K1121)","v":""},{"$f":"IF([2]Paramètres!L1121=\"\",\"\",[2]Paramètres!L1121)","v":""},{"$f":"IF([2]Paramètres!M1121=\"\",\"\",[2]Paramètres!M1121)","v":""},{"$f":"IF([2]Paramètres!N1121=\"\",\"\",[2]Paramètres!N1121)","v":""},{"$f":"IF([2]Paramètres!O1121=\"\",\"\",[2]Paramètres!O1121)","v":""},{"$f":"IF([2]Paramètres!P1121=\"\",\"\",[2]Paramètres!P1121)","v":""},{"$f":"IF([2]Paramètres!Q1121=\"\",\"\",[2]Paramètres!Q1121)","v":""}]
[null,null,null,null,null,null,null,null,null,{"$f":"IF([2]Paramètres!J1122=\"\",\"\",[2]Paramètres!J1122)","v":""},{"$f":"IF([2]Paramètres!K1122=\"\",\"\",[2]Paramètres!K1122)","v":""},{"$f":"IF([2]Paramètres!L1122=\"\",\"\",[2]Paramètres!L1122)","v":""},{"$f":"IF([2]Paramètres!M1122=\"\",\"\",[2]Paramètres!M1122)","v":""},{"$f":"IF([2]Paramètres!N1122=\"\",\"\",[2]Paramètres!N1122)","v":""},{"$f":"IF([2]Paramètres!O1122=\"\",\"\",[2]Paramètres!O1122)","v":""},{"$f":"IF([2]Paramètres!P1122=\"\",\"\",[2]Paramètres!P1122)","v":""},{"$f":"IF([2]Paramètres!Q1122=\"\",\"\",[2]Paramètres!Q1122)","v":""}]
[null,null,null,null,null,null,null,null,null,{"$f":"IF([2]Paramètres!J1123=\"\",\"\",[2]Paramètres!J1123)","v":""},{"$f":"IF([2]Paramètres!K1123=\"\",\"\",[2]Paramètres!K1123)","v":""},{"$f":"IF([2]Paramètres!L1123=\"\",\"\",[2]Paramètres!L1123)","v":""},{"$f":"IF([2]Paramètres!M1123=\"\",\"\",[2]Paramètres!M1123)","v":""},{"$f":"IF([2]Paramètres!N1123=\"\",\"\",[2]Paramètres!N1123)","v":""},{"$f":"IF([2]Paramètres!O1123=\"\",\"\",[2]Paramètres!O1123)","v":""},{"$f":"IF([2]Paramètres!P1123=\"\",\"\",[2]Paramètres!P1123)","v":""},{"$f":"IF([2]Paramètres!Q1123=\"\",\"\",[2]Paramètres!Q1123)","v":""}]
[null,null,null,null,null,null,null,null,null,{"$f":"IF([2]Paramètres!J1124=\"\",\"\",[2]Paramètres!J1124)","v":""},{"$f":"IF([2]Paramètres!K1124=\"\",\"\",[2]Paramètres!K1124)","v":""},{"$f":"IF([2]Paramètres!L1124=\"\",\"\",[2]Paramètres!L1124)","v":""},{"$f":"IF([2]Paramètres!M1124=\"\",\"\",[2]Paramètres!M1124)","v":""},{"$f":"IF([2]Paramètres!N1124=\"\",\"\",[2]Paramètres!N1124)","v":""},{"$f":"IF([2]Paramètres!O1124=\"\",\"\",[2]Paramètres!O1124)","v":""},{"$f":"IF([2]Paramètres!P1124=\"\",\"\",[2]Paramètres!P1124)","v":""},{"$f":"IF([2]Paramètres!Q1124=\"\",\"\",[2]Paramètres!Q1124)","v":""}]
[null,null,null,null,null,null,null,null,null,{"$f":"IF([2]Paramètres!J1125=\"\",\"\",[2]Paramètres!J1125)","v":""},{"$f":"IF([2]Paramètres!K1125=\"\",\"\",[2]Paramètres!K1125)","v":""},{"$f":"IF([2]Paramètres!L1125=\"\",\"\",[2]Paramètres!L1125)","v":""},{"$f":"IF([2]Paramètres!M1125=\"\",\"\",[2]Paramètres!M1125)","v":""},{"$f":"IF([2]Paramètres!N1125=\"\",\"\",[2]Paramètres!N1125)","v":""},{"$f":"IF([2]Paramètres!O1125=\"\",\"\",[2]Paramètres!O1125)","v":""},{"$f":"IF([2]Paramètres!P1125=\"\",\"\",[2]Paramètres!P1125)","v":""},{"$f":"IF([2]Paramètres!Q1125=\"\",\"\",[2]Paramètres!Q1125)","v":""}]
[null,null,null,null,null,null,null,null,null,{"$f":"IF([2]Paramètres!J1126=\"\",\"\",[2]Paramètres!J1126)","v":""},{"$f":"IF([2]Paramètres!K1126=\"\",\"\",[2]Paramètres!K1126)","v":""},{"$f":"IF([2]Paramètres!L1126=\"\",\"\",[2]Paramètres!L1126)","v":""},{"$f":"IF([2]Paramètres!M1126=\"\",\"\",[2]Paramètres!M1126)","v":""},{"$f":"IF([2]Paramètres!N1126=\"\",\"\",[2]Paramètres!N1126)","v":""},{"$f":"IF([2]Paramètres!O1126=\"\",\"\",[2]Paramètres!O1126)","v":""},{"$f":"IF([2]Paramètres!P1126=\"\",\"\",[2]Paramètres!P1126)","v":""},{"$f":"IF([2]Paramètres!Q1126=\"\",\"\",[2]Paramètres!Q1126)","v":""}]
[null,null,null,null,null,null,null,null,null,{"$f":"IF([2]Paramètres!J1127=\"\",\"\",[2]Paramètres!J1127)","v":""},{"$f":"IF([2]Paramètres!K1127=\"\",\"\",[2]Paramètres!K1127)","v":""},{"$f":"IF([2]Paramètres!L1127=\"\",\"\",[2]Paramètres!L1127)","v":""},{"$f":"IF([2]Paramètres!M1127=\"\",\"\",[2]Paramètres!M1127)","v":""},{"$f":"IF([2]Paramètres!N1127=\"\",\"\",[2]Paramètres!N1127)","v":""},{"$f":"IF([2]Paramètres!O1127=\"\",\"\",[2]Paramètres!O1127)","v":""},{"$f":"IF([2]Paramètres!P1127=\"\",\"\",[2]Paramètres!P1127)","v":""},{"$f":"IF([2]Paramètres!Q1127=\"\",\"\",[2]Paramètres!Q1127)","v":""}]
[null,null,null,null,null,null,null,null,null,{"$f":"IF([2]Paramètres!J1128=\"\",\"\",[2]Paramètres!J1128)","v":""},{"$f":"IF([2]Paramètres!K1128=\"\",\"\",[2]Paramètres!K1128)","v":""},{"$f":"IF([2]Paramètres!L1128=\"\",\"\",[2]Paramètres!L1128)","v":""},{"$f":"IF([2]Paramètres!M1128=\"\",\"\",[2]Paramètres!M1128)","v":""},{"$f":"IF([2]Paramètres!N1128=\"\",\"\",[2]Paramètres!N1128)","v":""},{"$f":"IF([2]Paramètres!O1128=\"\",\"\",[2]Paramètres!O1128)","v":""},{"$f":"IF([2]Paramètres!P1128=\"\",\"\",[2]Paramètres!P1128)","v":""},{"$f":"IF([2]Paramètres!Q1128=\"\",\"\",[2]Paramètres!Q1128)","v":""}]
[null,null,null,null,null,null,null,null,null,{"$f":"IF([2]Paramètres!J1129=\"\",\"\",[2]Paramètres!J1129)","v":""},{"$f":"IF([2]Paramètres!K1129=\"\",\"\",[2]Paramètres!K1129)","v":""},{"$f":"IF([2]Paramètres!L1129=\"\",\"\",[2]Paramètres!L1129)","v":""},{"$f":"IF([2]Paramètres!M1129=\"\",\"\",[2]Paramètres!M1129)","v":""},{"$f":"IF([2]Paramètres!N1129=\"\",\"\",[2]Paramètres!N1129)","v":""},{"$f":"IF([2]Paramètres!O1129=\"\",\"\",[2]Paramètres!O1129)","v":""},{"$f":"IF([2]Paramètres!P1129=\"\",\"\",[2]Paramètres!P1129)","v":""},{"$f":"IF([2]Paramètres!Q1129=\"\",\"\",[2]Paramètres!Q1129)","v":""}]
[null,null,null,null,null,null,null,null,null,{"$f":"IF([2]Paramètres!J1130=\"\",\"\",[2]Paramètres!J1130)","v":""},{"$f":"IF([2]Paramètres!K1130=\"\",\"\",[2]Paramètres!K1130)","v":""},{"$f":"IF([2]Paramètres!L1130=\"\",\"\",[2]Paramètres!L1130)","v":""},{"$f":"IF([2]Paramètres!M1130=\"\",\"\",[2]Paramètres!M1130)","v":""},{"$f":"IF([2]Paramètres!N1130=\"\",\"\",[2]Paramètres!N1130)","v":""},{"$f":"IF([2]Paramètres!O1130=\"\",\"\",[2]Paramètres!O1130)","v":""},{"$f":"IF([2]Paramètres!P1130=\"\",\"\",[2]Paramètres!P1130)","v":""},{"$f":"IF([2]Paramètres!Q1130=\"\",\"\",[2]Paramètres!Q1130)","v":""}]
[null,null,null,null,null,null,null,null,null,{"$f":"IF([2]Paramètres!J1131=\"\",\"\",[2]Paramètres!J1131)","v":""},{"$f":"IF([2]Paramètres!K1131=\"\",\"\",[2]Paramètres!K1131)","v":""},{"$f":"IF([2]Paramètres!L1131=\"\",\"\",[2]Paramètres!L1131)","v":""},{"$f":"IF([2]Paramètres!M1131=\"\",\"\",[2]Paramètres!M1131)","v":""},{"$f":"IF([2]Paramètres!N1131=\"\",\"\",[2]Paramètres!N1131)","v":""},{"$f":"IF([2]Paramètres!O1131=\"\",\"\",[2]Paramètres!O1131)","v":""},{"$f":"IF([2]Paramètres!P1131=\"\",\"\",[2]Paramètres!P1131)","v":""},{"$f":"IF([2]Paramètres!Q1131=\"\",\"\",[2]Paramètres!Q1131)","v":""}]
[null,null,null,null,null,null,null,null,null,{"$f":"IF([2]Paramètres!J1132=\"\",\"\",[2]Paramètres!J1132)","v":""},{"$f":"IF([2]Paramètres!K1132=\"\",\"\",[2]Paramètres!K1132)","v":""},{"$f":"IF([2]Paramètres!L1132=\"\",\"\",[2]Paramètres!L1132)","v":""},{"$f":"IF([2]Paramètres!M1132=\"\",\"\",[2]Paramètres!M1132)","v":""},{"$f":"IF([2]Paramètres!N1132=\"\",\"\",[2]Paramètres!N1132)","v":""},{"$f":"IF([2]Paramètres!O1132=\"\",\"\",[2]Paramètres!O1132)","v":""},{"$f":"IF([2]Paramètres!P1132=\"\",\"\",[2]Paramètres!P1132)","v":""},{"$f":"IF([2]Paramètres!Q1132=\"\",\"\",[2]Paramètres!Q1132)","v":""}]
[null,null,null,null,null,null,null,null,null,{"$f":"IF([2]Paramètres!J1133=\"\",\"\",[2]Paramètres!J1133)","v":""},{"$f":"IF([2]Paramètres!K1133=\"\",\"\",[2]Paramètres!K1133)","v":""},{"$f":"IF([2]Paramètres!L1133=\"\",\"\",[2]Paramètres!L1133)","v":""},{"$f":"IF([2]Paramètres!M1133=\"\",\"\",[2]Paramètres!M1133)","v":""},{"$f":"IF([2]Paramètres!N1133=\"\",\"\",[2]Paramètres!N1133)","v":""},{"$f":"IF([2]Paramètres!O1133=\"\",\"\",[2]Paramètres!O1133)","v":""},{"$f":"IF([2]Paramètres!P1133=\"\",\"\",[2]Paramètres!P1133)","v":""},{"$f":"IF([2]Paramètres!Q1133=\"\",\"\",[2]Paramètres!Q1133)","v":""}]
[null,null,null,null,null,null,null,null,null,{"$f":"IF([2]Paramètres!J1134=\"\",\"\",[2]Paramètres!J1134)","v":""},{"$f":"IF([2]Paramètres!K1134=\"\",\"\",[2]Paramètres!K1134)","v":""},{"$f":"IF([2]Paramètres!L1134=\"\",\"\",[2]Paramètres!L1134)","v":""},{"$f":"IF([2]Paramètres!M1134=\"\",\"\",[2]Paramètres!M1134)","v":""},{"$f":"IF([2]Paramètres!N1134=\"\",\"\",[2]Paramètres!N1134)","v":""},{"$f":"IF([2]Paramètres!O1134=\"\",\"\",[2]Paramètres!O1134)","v":""},{"$f":"IF([2]Paramètres!P1134=\"\",\"\",[2]Paramètres!P1134)","v":""},{"$f":"IF([2]Paramètres!Q1134=\"\",\"\",[2]Paramètres!Q1134)","v":""}]
[null,null,null,null,null,null,null,null,null,{"$f":"IF([2]Paramètres!J1135=\"\",\"\",[2]Paramètres!J1135)","v":""},{"$f":"IF([2]Paramètres!K1135=\"\",\"\",[2]Paramètres!K1135)","v":""},{"$f":"IF([2]Paramètres!L1135=\"\",\"\",[2]Paramètres!L1135)","v":""},{"$f":"IF([2]Paramètres!M1135=\"\",\"\",[2]Paramètres!M1135)","v":""},{"$f":"IF([2]Paramètres!N1135=\"\",\"\",[2]Paramètres!N1135)","v":""},{"$f":"IF([2]Paramètres!O1135=\"\",\"\",[2]Paramètres!O1135)","v":""},{"$f":"IF([2]Paramètres!P1135=\"\",\"\",[2]Paramètres!P1135)","v":""},{"$f":"IF([2]Paramètres!Q1135=\"\",\"\",[2]Paramètres!Q1135)","v":""}]
[null,null,null,null,null,null,null,null,null,{"$f":"IF([2]Paramètres!J1136=\"\",\"\",[2]Paramètres!J1136)","v":""},{"$f":"IF([2]Paramètres!K1136=\"\",\"\",[2]Paramètres!K1136)","v":""},{"$f":"IF([2]Paramètres!L1136=\"\",\"\",[2]Paramètres!L1136)","v":""},{"$f":"IF([2]Paramètres!M1136=\"\",\"\",[2]Paramètres!M1136)","v":""},{"$f":"IF([2]Paramètres!N1136=\"\",\"\",[2]Paramètres!N1136)","v":""},{"$f":"IF([2]Paramètres!O1136=\"\",\"\",[2]Paramètres!O1136)","v":""},{"$f":"IF([2]Paramètres!P1136=\"\",\"\",[2]Paramètres!P1136)","v":""},{"$f":"IF([2]Paramètres!Q1136=\"\",\"\",[2]Paramètres!Q1136)","v":""}]
[null,null,null,null,null,null,null,null,null,{"$f":"IF([2]Paramètres!J1137=\"\",\"\",[2]Paramètres!J1137)","v":""},{"$f":"IF([2]Paramètres!K1137=\"\",\"\",[2]Paramètres!K1137)","v":""},{"$f":"IF([2]Paramètres!L1137=\"\",\"\",[2]Paramètres!L1137)","v":""},{"$f":"IF([2]Paramètres!M1137=\"\",\"\",[2]Paramètres!M1137)","v":""},{"$f":"IF([2]Paramètres!N1137=\"\",\"\",[2]Paramètres!N1137)","v":""},{"$f":"IF([2]Paramètres!O1137=\"\",\"\",[2]Paramètres!O1137)","v":""},{"$f":"IF([2]Paramètres!P1137=\"\",\"\",[2]Paramètres!P1137)","v":""},{"$f":"IF([2]Paramètres!Q1137=\"\",\"\",[2]Paramètres!Q1137)","v":""}]
[null,null,null,null,null,null,null,null,null,{"$f":"IF([2]Paramètres!J1138=\"\",\"\",[2]Paramètres!J1138)","v":""},{"$f":"IF([2]Paramètres!K1138=\"\",\"\",[2]Paramètres!K1138)","v":""},{"$f":"IF([2]Paramètres!L1138=\"\",\"\",[2]Paramètres!L1138)","v":""},{"$f":"IF([2]Paramètres!M1138=\"\",\"\",[2]Paramètres!M1138)","v":""},{"$f":"IF([2]Paramètres!N1138=\"\",\"\",[2]Paramètres!N1138)","v":""},{"$f":"IF([2]Paramètres!O1138=\"\",\"\",[2]Paramètres!O1138)","v":""},{"$f":"IF([2]Paramètres!P1138=\"\",\"\",[2]Paramètres!P1138)","v":""},{"$f":"IF([2]Paramètres!Q1138=\"\",\"\",[2]Paramètres!Q1138)","v":""}]
[null,null,null,null,null,null,null,null,null,{"$f":"IF([2]Paramètres!J1139=\"\",\"\",[2]Paramètres!J1139)","v":""},{"$f":"IF([2]Paramètres!K1139=\"\",\"\",[2]Paramètres!K1139)","v":""},{"$f":"IF([2]Paramètres!L1139=\"\",\"\",[2]Paramètres!L1139)","v":""},{"$f":"IF([2]Paramètres!M1139=\"\",\"\",[2]Paramètres!M1139)","v":""},{"$f":"IF([2]Paramètres!N1139=\"\",\"\",[2]Paramètres!N1139)","v":""},{"$f":"IF([2]Paramètres!O1139=\"\",\"\",[2]Paramètres!O1139)","v":""},{"$f":"IF([2]Paramètres!P1139=\"\",\"\",[2]Paramètres!P1139)","v":""},{"$f":"IF([2]Paramètres!Q1139=\"\",\"\",[2]Paramètres!Q1139)","v":""}]
[null,null,null,null,null,null,null,null,null,{"$f":"IF([2]Paramètres!J1140=\"\",\"\",[2]Paramètres!J1140)","v":""},{"$f":"IF([2]Paramètres!K1140=\"\",\"\",[2]Paramètres!K1140)","v":""},{"$f":"IF([2]Paramètres!L1140=\"\",\"\",[2]Paramètres!L1140)","v":""},{"$f":"IF([2]Paramètres!M1140=\"\",\"\",[2]Paramètres!M1140)","v":""},{"$f":"IF([2]Paramètres!N1140=\"\",\"\",[2]Paramètres!N1140)","v":""},{"$f":"IF([2]Paramètres!O1140=\"\",\"\",[2]Paramètres!O1140)","v":""},{"$f":"IF([2]Paramètres!P1140=\"\",\"\",[2]Paramètres!P1140)","v":""},{"$f":"IF([2]Paramètres!Q1140=\"\",\"\",[2]Paramètres!Q1140)","v":""}]
[null,null,null,null,null,null,null,null,null,{"$f":"IF([2]Paramètres!J1141=\"\",\"\",[2]Paramètres!J1141)","v":""},{"$f":"IF([2]Paramètres!K1141=\"\",\"\",[2]Paramètres!K1141)","v":""},{"$f":"IF([2]Paramètres!L1141=\"\",\"\",[2]Paramètres!L1141)","v":""},{"$f":"IF([2]Paramètres!M1141=\"\",\"\",[2]Paramètres!M1141)","v":""},{"$f":"IF([2]Paramètres!N1141=\"\",\"\",[2]Paramètres!N1141)","v":""},{"$f":"IF([2]Paramètres!O1141=\"\",\"\",[2]Paramètres!O1141)","v":""},{"$f":"IF([2]Paramètres!P1141=\"\",\"\",[2]Paramètres!P1141)","v":""},{"$f":"IF([2]Paramètres!Q1141=\"\",\"\",[2]Paramètres!Q1141)","v":""}]
[null,null,null,null,null,null,null,null,null,{"$f":"IF([2]Paramètres!J1142=\"\",\"\",[2]Paramètres!J1142)","v":""},{"$f":"IF([2]Paramètres!K1142=\"\",\"\",[2]Paramètres!K1142)","v":""},{"$f":"IF([2]Paramètres!L1142=\"\",\"\",[2]Paramètres!L1142)","v":""},{"$f":"IF([2]Paramètres!M1142=\"\",\"\",[2]Paramètres!M1142)","v":""},{"$f":"IF([2]Paramètres!N1142=\"\",\"\",[2]Paramètres!N1142)","v":""},{"$f":"IF([2]Paramètres!O1142=\"\",\"\",[2]Paramètres!O1142)","v":""},{"$f":"IF([2]Paramètres!P1142=\"\",\"\",[2]Paramètres!P1142)","v":""},{"$f":"IF([2]Paramètres!Q1142=\"\",\"\",[2]Paramètres!Q1142)","v":""}]
[null,null,null,null,null,null,null,null,null,{"$f":"IF([2]Paramètres!J1143=\"\",\"\",[2]Paramètres!J1143)","v":""},{"$f":"IF([2]Paramètres!K1143=\"\",\"\",[2]Paramètres!K1143)","v":""},{"$f":"IF([2]Paramètres!L1143=\"\",\"\",[2]Paramètres!L1143)","v":""},{"$f":"IF([2]Paramètres!M1143=\"\",\"\",[2]Paramètres!M1143)","v":""},{"$f":"IF([2]Paramètres!N1143=\"\",\"\",[2]Paramètres!N1143)","v":""},{"$f":"IF([2]Paramètres!O1143=\"\",\"\",[2]Paramètres!O1143)","v":""},{"$f":"IF([2]Paramètres!P1143=\"\",\"\",[2]Paramètres!P1143)","v":""},{"$f":"IF([2]Paramètres!Q1143=\"\",\"\",[2]Paramètres!Q1143)","v":""}]
[null,null,null,null,null,null,null,null,null,{"$f":"IF([2]Paramètres!J1144=\"\",\"\",[2]Paramètres!J1144)","v":""},{"$f":"IF([2]Paramètres!K1144=\"\",\"\",[2]Paramètres!K1144)","v":""},{"$f":"IF([2]Paramètres!L1144=\"\",\"\",[2]Paramètres!L1144)","v":""},{"$f":"IF([2]Paramètres!M1144=\"\",\"\",[2]Paramètres!M1144)","v":""},{"$f":"IF([2]Paramètres!N1144=\"\",\"\",[2]Paramètres!N1144)","v":""},{"$f":"IF([2]Paramètres!O1144=\"\",\"\",[2]Paramètres!O1144)","v":""},{"$f":"IF([2]Paramètres!P1144=\"\",\"\",[2]Paramètres!P1144)","v":""},{"$f":"IF([2]Paramètres!Q1144=\"\",\"\",[2]Paramètres!Q1144)","v":""}]
[null,null,null,null,null,null,null,null,null,{"$f":"IF([2]Paramètres!J1145=\"\",\"\",[2]Paramètres!J1145)","v":""},{"$f":"IF([2]Paramètres!K1145=\"\",\"\",[2]Paramètres!K1145)","v":""},{"$f":"IF([2]Paramètres!L1145=\"\",\"\",[2]Paramètres!L1145)","v":""},{"$f":"IF([2]Paramètres!M1145=\"\",\"\",[2]Paramètres!M1145)","v":""},{"$f":"IF([2]Paramètres!N1145=\"\",\"\",[2]Paramètres!N1145)","v":""},{"$f":"IF([2]Paramètres!O1145=\"\",\"\",[2]Paramètres!O1145)","v":""},{"$f":"IF([2]Paramètres!P1145=\"\",\"\",[2]Paramètres!P1145)","v":""},{"$f":"IF([2]Paramètres!Q1145=\"\",\"\",[2]Paramètres!Q1145)","v":""}]
[null,null,null,null,null,null,null,null,null,{"$f":"IF([2]Paramètres!J1146=\"\",\"\",[2]Paramètres!J1146)","v":""},{"$f":"IF([2]Paramètres!K1146=\"\",\"\",[2]Paramètres!K1146)","v":""},{"$f":"IF([2]Paramètres!L1146=\"\",\"\",[2]Paramètres!L1146)","v":""},{"$f":"IF([2]Paramètres!M1146=\"\",\"\",[2]Paramètres!M1146)","v":""},{"$f":"IF([2]Paramètres!N1146=\"\",\"\",[2]Paramètres!N1146)","v":""},{"$f":"IF([2]Paramètres!O1146=\"\",\"\",[2]Paramètres!O1146)","v":""},{"$f":"IF([2]Paramètres!P1146=\"\",\"\",[2]Paramètres!P1146)","v":""},{"$f":"IF([2]Paramètres!Q1146=\"\",\"\",[2]Paramètres!Q1146)","v":""}]
[null,null,null,null,null,null,null,null,null,{"$f":"IF([2]Paramètres!J1147=\"\",\"\",[2]Paramètres!J1147)","v":""},{"$f":"IF([2]Paramètres!K1147=\"\",\"\",[2]Paramètres!K1147)","v":""},{"$f":"IF([2]Paramètres!L1147=\"\",\"\",[2]Paramètres!L1147)","v":""},{"$f":"IF([2]Paramètres!M1147=\"\",\"\",[2]Paramètres!M1147)","v":""},{"$f":"IF([2]Paramètres!N1147=\"\",\"\",[2]Paramètres!N1147)","v":""},{"$f":"IF([2]Paramètres!O1147=\"\",\"\",[2]Paramètres!O1147)","v":""},{"$f":"IF([2]Paramètres!P1147=\"\",\"\",[2]Paramètres!P1147)","v":""},{"$f":"IF([2]Paramètres!Q1147=\"\",\"\",[2]Paramètres!Q1147)","v":""}]
[null,null,null,null,null,null,null,null,null,{"$f":"IF([2]Paramètres!J1148=\"\",\"\",[2]Paramètres!J1148)","v":""},{"$f":"IF([2]Paramètres!K1148=\"\",\"\",[2]Paramètres!K1148)","v":""},{"$f":"IF([2]Paramètres!L1148=\"\",\"\",[2]Paramètres!L1148)","v":""},{"$f":"IF([2]Paramètres!M1148=\"\",\"\",[2]Paramètres!M1148)","v":""},{"$f":"IF([2]Paramètres!N1148=\"\",\"\",[2]Paramètres!N1148)","v":""},{"$f":"IF([2]Paramètres!O1148=\"\",\"\",[2]Paramètres!O1148)","v":""},{"$f":"IF([2]Paramètres!P1148=\"\",\"\",[2]Paramètres!P1148)","v":""},{"$f":"IF([2]Paramètres!Q1148=\"\",\"\",[2]Paramètres!Q1148)","v":""}]
[null,null,null,null,null,null,null,null,null,{"$f":"IF([2]Paramètres!J1149=\"\",\"\",[2]Paramètres!J1149)","v":""},{"$f":"IF([2]Paramètres!K1149=\"\",\"\",[2]Paramètres!K1149)","v":""},{"$f":"IF([2]Paramètres!L1149=\"\",\"\",[2]Paramètres!L1149)","v":""},{"$f":"IF([2]Paramètres!M1149=\"\",\"\",[2]Paramètres!M1149)","v":""},{"$f":"IF([2]Paramètres!N1149=\"\",\"\",[2]Paramètres!N1149)","v":""},{"$f":"IF([2]Paramètres!O1149=\"\",\"\",[2]Paramètres!O1149)","v":""},{"$f":"IF([2]Paramètres!P1149=\"\",\"\",[2]Paramètres!P1149)","v":""},{"$f":"IF([2]Paramètres!Q1149=\"\",\"\",[2]Paramètres!Q1149)","v":""}]
[null,null,null,null,null,null,null,null,null,{"$f":"IF([2]Paramètres!J1150=\"\",\"\",[2]Paramètres!J1150)","v":""},{"$f":"IF([2]Paramètres!K1150=\"\",\"\",[2]Paramètres!K1150)","v":""},{"$f":"IF([2]Paramètres!L1150=\"\",\"\",[2]Paramètres!L1150)","v":""},{"$f":"IF([2]Paramètres!M1150=\"\",\"\",[2]Paramètres!M1150)","v":""},{"$f":"IF([2]Paramètres!N1150=\"\",\"\",[2]Paramètres!N1150)","v":""},{"$f":"IF([2]Paramètres!O1150=\"\",\"\",[2]Paramètres!O1150)","v":""},{"$f":"IF([2]Paramètres!P1150=\"\",\"\",[2]Paramètres!P1150)","v":""},{"$f":"IF([2]Paramètres!Q1150=\"\",\"\",[2]Paramètres!Q1150)","v":""}]
[null,null,null,null,null,null,null,null,null,{"$f":"IF([2]Paramètres!J1151=\"\",\"\",[2]Paramètres!J1151)","v":""},{"$f":"IF([2]Paramètres!K1151=\"\",\"\",[2]Paramètres!K1151)","v":""},{"$f":"IF([2]Paramètres!L1151=\"\",\"\",[2]Paramètres!L1151)","v":""},{"$f":"IF([2]Paramètres!M1151=\"\",\"\",[2]Paramètres!M1151)","v":""},{"$f":"IF([2]Paramètres!N1151=\"\",\"\",[2]Paramètres!N1151)","v":""},{"$f":"IF([2]Paramètres!O1151=\"\",\"\",[2]Paramètres!O1151)","v":""},{"$f":"IF([2]Paramètres!P1151=\"\",\"\",[2]Paramètres!P1151)","v":""},{"$f":"IF([2]Paramètres!Q1151=\"\",\"\",[2]Paramètres!Q1151)","v":""}]
[null,null,null,null,null,null,null,null,null,{"$f":"IF([2]Paramètres!J1152=\"\",\"\",[2]Paramètres!J1152)","v":""},{"$f":"IF([2]Paramètres!K1152=\"\",\"\",[2]Paramètres!K1152)","v":""},{"$f":"IF([2]Paramètres!L1152=\"\",\"\",[2]Paramètres!L1152)","v":""},{"$f":"IF([2]Paramètres!M1152=\"\",\"\",[2]Paramètres!M1152)","v":""},{"$f":"IF([2]Paramètres!N1152=\"\",\"\",[2]Paramètres!N1152)","v":""},{"$f":"IF([2]Paramètres!O1152=\"\",\"\",[2]Paramètres!O1152)","v":""},{"$f":"IF([2]Paramètres!P1152=\"\",\"\",[2]Paramètres!P1152)","v":""},{"$f":"IF([2]Paramètres!Q1152=\"\",\"\",[2]Paramètres!Q1152)","v":""}]
[null,null,null,null,null,null,null,null,null,{"$f":"IF([2]Paramètres!J1153=\"\",\"\",[2]Paramètres!J1153)","v":""},{"$f":"IF([2]Paramètres!K1153=\"\",\"\",[2]Paramètres!K1153)","v":""},{"$f":"IF([2]Paramètres!L1153=\"\",\"\",[2]Paramètres!L1153)","v":""},{"$f":"IF([2]Paramètres!M1153=\"\",\"\",[2]Paramètres!M1153)","v":""},{"$f":"IF([2]Paramètres!N1153=\"\",\"\",[2]Paramètres!N1153)","v":""},{"$f":"IF([2]Paramètres!O1153=\"\",\"\",[2]Paramètres!O1153)","v":""},{"$f":"IF([2]Paramètres!P1153=\"\",\"\",[2]Paramètres!P1153)","v":""},{"$f":"IF([2]Paramètres!Q1153=\"\",\"\",[2]Paramètres!Q1153)","v":""}]
[null,null,null,null,null,null,null,null,null,{"$f":"IF([2]Paramètres!J1154=\"\",\"\",[2]Paramètres!J1154)","v":""},{"$f":"IF([2]Paramètres!K1154=\"\",\"\",[2]Paramètres!K1154)","v":""},{"$f":"IF([2]Paramètres!L1154=\"\",\"\",[2]Paramètres!L1154)","v":""},{"$f":"IF([2]Paramètres!M1154=\"\",\"\",[2]Paramètres!M1154)","v":""},{"$f":"IF([2]Paramètres!N1154=\"\",\"\",[2]Paramètres!N1154)","v":""},{"$f":"IF([2]Paramètres!O1154=\"\",\"\",[2]Paramètres!O1154)","v":""},{"$f":"IF([2]Paramètres!P1154=\"\",\"\",[2]Paramètres!P1154)","v":""},{"$f":"IF([2]Paramètres!Q1154=\"\",\"\",[2]Paramètres!Q1154)","v":""}]
[null,null,null,null,null,null,null,null,null,{"$f":"IF([2]Paramètres!J1155=\"\",\"\",[2]Paramètres!J1155)","v":""},{"$f":"IF([2]Paramètres!K1155=\"\",\"\",[2]Paramètres!K1155)","v":""},{"$f":"IF([2]Paramètres!L1155=\"\",\"\",[2]Paramètres!L1155)","v":""},{"$f":"IF([2]Paramètres!M1155=\"\",\"\",[2]Paramètres!M1155)","v":""},{"$f":"IF([2]Paramètres!N1155=\"\",\"\",[2]Paramètres!N1155)","v":""},{"$f":"IF([2]Paramètres!O1155=\"\",\"\",[2]Paramètres!O1155)","v":""},{"$f":"IF([2]Paramètres!P1155=\"\",\"\",[2]Paramètres!P1155)","v":""},{"$f":"IF([2]Paramètres!Q1155=\"\",\"\",[2]Paramètres!Q1155)","v":""}]
[null,null,null,null,null,null,null,null,null,{"$f":"IF([2]Paramètres!J1156=\"\",\"\",[2]Paramètres!J1156)","v":""},{"$f":"IF([2]Paramètres!K1156=\"\",\"\",[2]Paramètres!K1156)","v":""},{"$f":"IF([2]Paramètres!L1156=\"\",\"\",[2]Paramètres!L1156)","v":""},{"$f":"IF([2]Paramètres!M1156=\"\",\"\",[2]Paramètres!M1156)","v":""},{"$f":"IF([2]Paramètres!N1156=\"\",\"\",[2]Paramètres!N1156)","v":""},{"$f":"IF([2]Paramètres!O1156=\"\",\"\",[2]Paramètres!O1156)","v":""},{"$f":"IF([2]Paramètres!P1156=\"\",\"\",[2]Paramètres!P1156)","v":""},{"$f":"IF([2]Paramètres!Q1156=\"\",\"\",[2]Paramètres!Q1156)","v":""}]
[null,null,null,null,null,null,null,null,null,{"$f":"IF([2]Paramètres!J1157=\"\",\"\",[2]Paramètres!J1157)","v":""},{"$f":"IF([2]Paramètres!K1157=\"\",\"\",[2]Paramètres!K1157)","v":""},{"$f":"IF([2]Paramètres!L1157=\"\",\"\",[2]Paramètres!L1157)","v":""},{"$f":"IF([2]Paramètres!M1157=\"\",\"\",[2]Paramètres!M1157)","v":""},{"$f":"IF([2]Paramètres!N1157=\"\",\"\",[2]Paramètres!N1157)","v":""},{"$f":"IF([2]Paramètres!O1157=\"\",\"\",[2]Paramètres!O1157)","v":""},{"$f":"IF([2]Paramètres!P1157=\"\",\"\",[2]Paramètres!P1157)","v":""},{"$f":"IF([2]Paramètres!Q1157=\"\",\"\",[2]Paramètres!Q1157)","v":""}]
[null,null,null,null,null,null,null,null,null,{"$f":"IF([2]Paramètres!J1158=\"\",\"\",[2]Paramètres!J1158)","v":""},{"$f":"IF([2]Paramètres!K1158=\"\",\"\",[2]Paramètres!K1158)","v":""},{"$f":"IF([2]Paramètres!L1158=\"\",\"\",[2]Paramètres!L1158)","v":""},{"$f":"IF([2]Paramètres!M1158=\"\",\"\",[2]Paramètres!M1158)","v":""},{"$f":"IF([2]Paramètres!N1158=\"\",\"\",[2]Paramètres!N1158)","v":""},{"$f":"IF([2]Paramètres!O1158=\"\",\"\",[2]Paramètres!O1158)","v":""},{"$f":"IF([2]Paramètres!P1158=\"\",\"\",[2]Paramètres!P1158)","v":""},{"$f":"IF([2]Paramètres!Q1158=\"\",\"\",[2]Paramètres!Q1158)","v":""}]
[null,null,null,null,null,null,null,null,null,{"$f":"IF([2]Paramètres!J1159=\"\",\"\",[2]Paramètres!J1159)","v":""},{"$f":"IF([2]Paramètres!K1159=\"\",\"\",[2]Paramètres!K1159)","v":""},{"$f":"IF([2]Paramètres!L1159=\"\",\"\",[2]Paramètres!L1159)","v":""},{"$f":"IF([2]Paramètres!M1159=\"\",\"\",[2]Paramètres!M1159)","v":""},{"$f":"IF([2]Paramètres!N1159=\"\",\"\",[2]Paramètres!N1159)","v":""},{"$f":"IF([2]Paramètres!O1159=\"\",\"\",[2]Paramètres!O1159)","v":""},{"$f":"IF([2]Paramètres!P1159=\"\",\"\",[2]Paramètres!P1159)","v":""},{"$f":"IF([2]Paramètres!Q1159=\"\",\"\",[2]Paramètres!Q1159)","v":""}]
[null,null,null,null,null,null,null,null,null,{"$f":"IF([2]Paramètres!J1160=\"\",\"\",[2]Paramètres!J1160)","v":""},{"$f":"IF([2]Paramètres!K1160=\"\",\"\",[2]Paramètres!K1160)","v":""},{"$f":"IF([2]Paramètres!L1160=\"\",\"\",[2]Paramètres!L1160)","v":""},{"$f":"IF([2]Paramètres!M1160=\"\",\"\",[2]Paramètres!M1160)","v":""},{"$f":"IF([2]Paramètres!N1160=\"\",\"\",[2]Paramètres!N1160)","v":""},{"$f":"IF([2]Paramètres!O1160=\"\",\"\",[2]Paramètres!O1160)","v":""},{"$f":"IF([2]Paramètres!P1160=\"\",\"\",[2]Paramètres!P1160)","v":""},{"$f":"IF([2]Paramètres!Q1160=\"\",\"\",[2]Paramètres!Q1160)","v":""}]
[null,null,null,null,null,null,null,null,null,{"$f":"IF([2]Paramètres!J1161=\"\",\"\",[2]Paramètres!J1161)","v":""},{"$f":"IF([2]Paramètres!K1161=\"\",\"\",[2]Paramètres!K1161)","v":""},{"$f":"IF([2]Paramètres!L1161=\"\",\"\",[2]Paramètres!L1161)","v":""},{"$f":"IF([2]Paramètres!M1161=\"\",\"\",[2]Paramètres!M1161)","v":""},{"$f":"IF([2]Paramètres!N1161=\"\",\"\",[2]Paramètres!N1161)","v":""},{"$f":"IF([2]Paramètres!O1161=\"\",\"\",[2]Paramètres!O1161)","v":""},{"$f":"IF([2]Paramètres!P1161=\"\",\"\",[2]Paramètres!P1161)","v":""},{"$f":"IF([2]Paramètres!Q1161=\"\",\"\",[2]Paramètres!Q1161)","v":""}]
[null,null,null,null,null,null,null,null,null,{"$f":"IF([2]Paramètres!J1162=\"\",\"\",[2]Paramètres!J1162)","v":""},{"$f":"IF([2]Paramètres!K1162=\"\",\"\",[2]Paramètres!K1162)","v":""},{"$f":"IF([2]Paramètres!L1162=\"\",\"\",[2]Paramètres!L1162)","v":""},{"$f":"IF([2]Paramètres!M1162=\"\",\"\",[2]Paramètres!M1162)","v":""},{"$f":"IF([2]Paramètres!N1162=\"\",\"\",[2]Paramètres!N1162)","v":""},{"$f":"IF([2]Paramètres!O1162=\"\",\"\",[2]Paramètres!O1162)","v":""},{"$f":"IF([2]Paramètres!P1162=\"\",\"\",[2]Paramètres!P1162)","v":""},{"$f":"IF([2]Paramètres!Q1162=\"\",\"\",[2]Paramètres!Q1162)","v":""}]
[null,null,null,null,null,null,null,null,null,{"$f":"IF([2]Paramètres!J1163=\"\",\"\",[2]Paramètres!J1163)","v":""},{"$f":"IF([2]Paramètres!K1163=\"\",\"\",[2]Paramètres!K1163)","v":""},{"$f":"IF([2]Paramètres!L1163=\"\",\"\",[2]Paramètres!L1163)","v":""},{"$f":"IF([2]Paramètres!M1163=\"\",\"\",[2]Paramètres!M1163)","v":""},{"$f":"IF([2]Paramètres!N1163=\"\",\"\",[2]Paramètres!N1163)","v":""},{"$f":"IF([2]Paramètres!O1163=\"\",\"\",[2]Paramètres!O1163)","v":""},{"$f":"IF([2]Paramètres!P1163=\"\",\"\",[2]Paramètres!P1163)","v":""},{"$f":"IF([2]Paramètres!Q1163=\"\",\"\",[2]Paramètres!Q1163)","v":""}]
[null,null,null,null,null,null,null,null,null,{"$f":"IF([2]Paramètres!J1164=\"\",\"\",[2]Paramètres!J1164)","v":""},{"$f":"IF([2]Paramètres!K1164=\"\",\"\",[2]Paramètres!K1164)","v":""},{"$f":"IF([2]Paramètres!L1164=\"\",\"\",[2]Paramètres!L1164)","v":""},{"$f":"IF([2]Paramètres!M1164=\"\",\"\",[2]Paramètres!M1164)","v":""},{"$f":"IF([2]Paramètres!N1164=\"\",\"\",[2]Paramètres!N1164)","v":""},{"$f":"IF([2]Paramètres!O1164=\"\",\"\",[2]Paramètres!O1164)","v":""},{"$f":"IF([2]Paramètres!P1164=\"\",\"\",[2]Paramètres!P1164)","v":""},{"$f":"IF([2]Paramètres!Q1164=\"\",\"\",[2]Paramètres!Q1164)","v":""}]
[null,null,null,null,null,null,null,null,null,{"$f":"IF([2]Paramètres!J1165=\"\",\"\",[2]Paramètres!J1165)","v":""},{"$f":"IF([2]Paramètres!K1165=\"\",\"\",[2]Paramètres!K1165)","v":""},{"$f":"IF([2]Paramètres!L1165=\"\",\"\",[2]Paramètres!L1165)","v":""},{"$f":"IF([2]Paramètres!M1165=\"\",\"\",[2]Paramètres!M1165)","v":""},{"$f":"IF([2]Paramètres!N1165=\"\",\"\",[2]Paramètres!N1165)","v":""},{"$f":"IF([2]Paramètres!O1165=\"\",\"\",[2]Paramètres!O1165)","v":""},{"$f":"IF([2]Paramètres!P1165=\"\",\"\",[2]Paramètres!P1165)","v":""},{"$f":"IF([2]Paramètres!Q1165=\"\",\"\",[2]Paramètres!Q1165)","v":""}]
[null,null,null,null,null,null,null,null,null,{"$f":"IF([2]Paramètres!J1166=\"\",\"\",[2]Paramètres!J1166)","v":""},{"$f":"IF([2]Paramètres!K1166=\"\",\"\",[2]Paramètres!K1166)","v":""},{"$f":"IF([2]Paramètres!L1166=\"\",\"\",[2]Paramètres!L1166)","v":""},{"$f":"IF([2]Paramètres!M1166=\"\",\"\",[2]Paramètres!M1166)","v":""},{"$f":"IF([2]Paramètres!N1166=\"\",\"\",[2]Paramètres!N1166)","v":""},{"$f":"IF([2]Paramètres!O1166=\"\",\"\",[2]Paramètres!O1166)","v":""},{"$f":"IF([2]Paramètres!P1166=\"\",\"\",[2]Paramètres!P1166)","v":""},{"$f":"IF([2]Paramètres!Q1166=\"\",\"\",[2]Paramètres!Q1166)","v":""}]
[null,null,null,null,null,null,null,null,null,{"$f":"IF([2]Paramètres!J1167=\"\",\"\",[2]Paramètres!J1167)","v":""},{"$f":"IF([2]Paramètres!K1167=\"\",\"\",[2]Paramètres!K1167)","v":""},{"$f":"IF([2]Paramètres!L1167=\"\",\"\",[2]Paramètres!L1167)","v":""},{"$f":"IF([2]Paramètres!M1167=\"\",\"\",[2]Paramètres!M1167)","v":""},{"$f":"IF([2]Paramètres!N1167=\"\",\"\",[2]Paramètres!N1167)","v":""},{"$f":"IF([2]Paramètres!O1167=\"\",\"\",[2]Paramètres!O1167)","v":""},{"$f":"IF([2]Paramètres!P1167=\"\",\"\",[2]Paramètres!P1167)","v":""},{"$f":"IF([2]Paramètres!Q1167=\"\",\"\",[2]Paramètres!Q1167)","v":""}]
[null,null,null,null,null,null,null,null,null,{"$f":"IF([2]Paramètres!J1168=\"\",\"\",[2]Paramètres!J1168)","v":""},{"$f":"IF([2]Paramètres!K1168=\"\",\"\",[2]Paramètres!K1168)","v":""},{"$f":"IF([2]Paramètres!L1168=\"\",\"\",[2]Paramètres!L1168)","v":""},{"$f":"IF([2]Paramètres!M1168=\"\",\"\",[2]Paramètres!M1168)","v":""},{"$f":"IF([2]Paramètres!N1168=\"\",\"\",[2]Paramètres!N1168)","v":""},{"$f":"IF([2]Paramètres!O1168=\"\",\"\",[2]Paramètres!O1168)","v":""},{"$f":"IF([2]Paramètres!P1168=\"\",\"\",[2]Paramètres!P1168)","v":""},{"$f":"IF([2]Paramètres!Q1168=\"\",\"\",[2]Paramètres!Q1168)","v":""}]
[null,null,null,null,null,null,null,null,null,{"$f":"IF([2]Paramètres!J1169=\"\",\"\",[2]Paramètres!J1169)","v":""},{"$f":"IF([2]Paramètres!K1169=\"\",\"\",[2]Paramètres!K1169)","v":""},{"$f":"IF([2]Paramètres!L1169=\"\",\"\",[2]Paramètres!L1169)","v":""},{"$f":"IF([2]Paramètres!M1169=\"\",\"\",[2]Paramètres!M1169)","v":""},{"$f":"IF([2]Paramètres!N1169=\"\",\"\",[2]Paramètres!N1169)","v":""},{"$f":"IF([2]Paramètres!O1169=\"\",\"\",[2]Paramètres!O1169)","v":""},{"$f":"IF([2]Paramètres!P1169=\"\",\"\",[2]Paramètres!P1169)","v":""},{"$f":"IF([2]Paramètres!Q1169=\"\",\"\",[2]Paramètres!Q1169)","v":""}]
[null,null,null,null,null,null,null,null,null,{"$f":"IF([2]Paramètres!J1170=\"\",\"\",[2]Paramètres!J1170)","v":""},{"$f":"IF([2]Paramètres!K1170=\"\",\"\",[2]Paramètres!K1170)","v":""},{"$f":"IF([2]Paramètres!L1170=\"\",\"\",[2]Paramètres!L1170)","v":""},{"$f":"IF([2]Paramètres!M1170=\"\",\"\",[2]Paramètres!M1170)","v":""},{"$f":"IF([2]Paramètres!N1170=\"\",\"\",[2]Paramètres!N1170)","v":""},{"$f":"IF([2]Paramètres!O1170=\"\",\"\",[2]Paramètres!O1170)","v":""},{"$f":"IF([2]Paramètres!P1170=\"\",\"\",[2]Paramètres!P1170)","v":""},{"$f":"IF([2]Paramètres!Q1170=\"\",\"\",[2]Paramètres!Q1170)","v":""}]
[null,null,null,null,null,null,null,null,null,{"$f":"IF([2]Paramètres!J1171=\"\",\"\",[2]Paramètres!J1171)","v":""},{"$f":"IF([2]Paramètres!K1171=\"\",\"\",[2]Paramètres!K1171)","v":""},{"$f":"IF([2]Paramètres!L1171=\"\",\"\",[2]Paramètres!L1171)","v":""},{"$f":"IF([2]Paramètres!M1171=\"\",\"\",[2]Paramètres!M1171)","v":""},{"$f":"IF([2]Paramètres!N1171=\"\",\"\",[2]Paramètres!N1171)","v":""},{"$f":"IF([2]Paramètres!O1171=\"\",\"\",[2]Paramètres!O1171)","v":""},{"$f":"IF([2]Paramètres!P1171=\"\",\"\",[2]Paramètres!P1171)","v":""},{"$f":"IF([2]Paramètres!Q1171=\"\",\"\",[2]Paramètres!Q1171)","v":""}]
[null,null,null,null,null,null,null,null,null,{"$f":"IF([2]Paramètres!J1172=\"\",\"\",[2]Paramètres!J1172)","v":""},{"$f":"IF([2]Paramètres!K1172=\"\",\"\",[2]Paramètres!K1172)","v":""},{"$f":"IF([2]Paramètres!L1172=\"\",\"\",[2]Paramètres!L1172)","v":""},{"$f":"IF([2]Paramètres!M1172=\"\",\"\",[2]Paramètres!M1172)","v":""},{"$f":"IF([2]Paramètres!N1172=\"\",\"\",[2]Paramètres!N1172)","v":""},{"$f":"IF([2]Paramètres!O1172=\"\",\"\",[2]Paramètres!O1172)","v":""},{"$f":"IF([2]Paramètres!P1172=\"\",\"\",[2]Paramètres!P1172)","v":""},{"$f":"IF([2]Paramètres!Q1172=\"\",\"\",[2]Paramètres!Q1172)","v":""}]
[null,null,null,null,null,null,null,null,null,{"$f":"IF([2]Paramètres!J1173=\"\",\"\",[2]Paramètres!J1173)","v":""},{"$f":"IF([2]Paramètres!K1173=\"\",\"\",[2]Paramètres!K1173)","v":""},{"$f":"IF([2]Paramètres!L1173=\"\",\"\",[2]Paramètres!L1173)","v":""},{"$f":"IF([2]Paramètres!M1173=\"\",\"\",[2]Paramètres!M1173)","v":""},{"$f":"IF([2]Paramètres!N1173=\"\",\"\",[2]Paramètres!N1173)","v":""},{"$f":"IF([2]Paramètres!O1173=\"\",\"\",[2]Paramètres!O1173)","v":""},{"$f":"IF([2]Paramètres!P1173=\"\",\"\",[2]Paramètres!P1173)","v":""},{"$f":"IF([2]Paramètres!Q1173=\"\",\"\",[2]Paramètres!Q1173)","v":""}]
[null,null,null,null,null,null,null,null,null,{"$f":"IF([2]Paramètres!J1174=\"\",\"\",[2]Paramètres!J1174)","v":""},{"$f":"IF([2]Paramètres!K1174=\"\",\"\",[2]Paramètres!K1174)","v":""},{"$f":"IF([2]Paramètres!L1174=\"\",\"\",[2]Paramètres!L1174)","v":""},{"$f":"IF([2]Paramètres!M1174=\"\",\"\",[2]Paramètres!M1174)","v":""},{"$f":"IF([2]Paramètres!N1174=\"\",\"\",[2]Paramètres!N1174)","v":""},{"$f":"IF([2]Paramètres!O1174=\"\",\"\",[2]Paramètres!O1174)","v":""},{"$f":"IF([2]Paramètres!P1174=\"\",\"\",[2]Paramètres!P1174)","v":""},{"$f":"IF([2]Paramètres!Q1174=\"\",\"\",[2]Paramètres!Q1174)","v":""}]
[null,null,null,null,null,null,null,null,null,{"$f":"IF([2]Paramètres!J1175=\"\",\"\",[2]Paramètres!J1175)","v":""},{"$f":"IF([2]Paramètres!K1175=\"\",\"\",[2]Paramètres!K1175)","v":""},{"$f":"IF([2]Paramètres!L1175=\"\",\"\",[2]Paramètres!L1175)","v":""},{"$f":"IF([2]Paramètres!M1175=\"\",\"\",[2]Paramètres!M1175)","v":""},{"$f":"IF([2]Paramètres!N1175=\"\",\"\",[2]Paramètres!N1175)","v":""},{"$f":"IF([2]Paramètres!O1175=\"\",\"\",[2]Paramètres!O1175)","v":""},{"$f":"IF([2]Paramètres!P1175=\"\",\"\",[2]Paramètres!P1175)","v":""},{"$f":"IF([2]Paramètres!Q1175=\"\",\"\",[2]Paramètres!Q1175)","v":""}]
[null,null,null,null,null,null,null,null,null,{"$f":"IF([2]Paramètres!J1176=\"\",\"\",[2]Paramètres!J1176)","v":""},{"$f":"IF([2]Paramètres!K1176=\"\",\"\",[2]Paramètres!K1176)","v":""},{"$f":"IF([2]Paramètres!L1176=\"\",\"\",[2]Paramètres!L1176)","v":""},{"$f":"IF([2]Paramètres!M1176=\"\",\"\",[2]Paramètres!M1176)","v":""},{"$f":"IF([2]Paramètres!N1176=\"\",\"\",[2]Paramètres!N1176)","v":""},{"$f":"IF([2]Paramètres!O1176=\"\",\"\",[2]Paramètres!O1176)","v":""},{"$f":"IF([2]Paramètres!P1176=\"\",\"\",[2]Paramètres!P1176)","v":""},{"$f":"IF([2]Paramètres!Q1176=\"\",\"\",[2]Paramètres!Q1176)","v":""}]
[null,null,null,null,null,null,null,null,null,{"$f":"IF([2]Paramètres!J1177=\"\",\"\",[2]Paramètres!J1177)","v":""},{"$f":"IF([2]Paramètres!K1177=\"\",\"\",[2]Paramètres!K1177)","v":""},{"$f":"IF([2]Paramètres!L1177=\"\",\"\",[2]Paramètres!L1177)","v":""},{"$f":"IF([2]Paramètres!M1177=\"\",\"\",[2]Paramètres!M1177)","v":""},{"$f":"IF([2]Paramètres!N1177=\"\",\"\",[2]Paramètres!N1177)","v":""},{"$f":"IF([2]Paramètres!O1177=\"\",\"\",[2]Paramètres!O1177)","v":""},{"$f":"IF([2]Paramètres!P1177=\"\",\"\",[2]Paramètres!P1177)","v":""},{"$f":"IF([2]Paramètres!Q1177=\"\",\"\",[2]Paramètres!Q1177)","v":""}]
[null,null,null,null,null,null,null,null,null,{"$f":"IF([2]Paramètres!J1178=\"\",\"\",[2]Paramètres!J1178)","v":""},{"$f":"IF([2]Paramètres!K1178=\"\",\"\",[2]Paramètres!K1178)","v":""},{"$f":"IF([2]Paramètres!L1178=\"\",\"\",[2]Paramètres!L1178)","v":""},{"$f":"IF([2]Paramètres!M1178=\"\",\"\",[2]Paramètres!M1178)","v":""},{"$f":"IF([2]Paramètres!N1178=\"\",\"\",[2]Paramètres!N1178)","v":""},{"$f":"IF([2]Paramètres!O1178=\"\",\"\",[2]Paramètres!O1178)","v":""},{"$f":"IF([2]Paramètres!P1178=\"\",\"\",[2]Paramètres!P1178)","v":""},{"$f":"IF([2]Paramètres!Q1178=\"\",\"\",[2]Paramètres!Q1178)","v":""}]
[null,null,null,null,null,null,null,null,null,{"$f":"IF([2]Paramètres!J1179=\"\",\"\",[2]Paramètres!J1179)","v":""},{"$f":"IF([2]Paramètres!K1179=\"\",\"\",[2]Paramètres!K1179)","v":""},{"$f":"IF([2]Paramètres!L1179=\"\",\"\",[2]Paramètres!L1179)","v":""},{"$f":"IF([2]Paramètres!M1179=\"\",\"\",[2]Paramètres!M1179)","v":""},{"$f":"IF([2]Paramètres!N1179=\"\",\"\",[2]Paramètres!N1179)","v":""},{"$f":"IF([2]Paramètres!O1179=\"\",\"\",[2]Paramètres!O1179)","v":""},{"$f":"IF([2]Paramètres!P1179=\"\",\"\",[2]Paramètres!P1179)","v":""},{"$f":"IF([2]Paramètres!Q1179=\"\",\"\",[2]Paramètres!Q1179)","v":""}]
[null,null,null,null,null,null,null,null,null,{"$f":"IF([2]Paramètres!J1180=\"\",\"\",[2]Paramètres!J1180)","v":""},{"$f":"IF([2]Paramètres!K1180=\"\",\"\",[2]Paramètres!K1180)","v":""},{"$f":"IF([2]Paramètres!L1180=\"\",\"\",[2]Paramètres!L1180)","v":""},{"$f":"IF([2]Paramètres!M1180=\"\",\"\",[2]Paramètres!M1180)","v":""},{"$f":"IF([2]Paramètres!N1180=\"\",\"\",[2]Paramètres!N1180)","v":""},{"$f":"IF([2]Paramètres!O1180=\"\",\"\",[2]Paramètres!O1180)","v":""},{"$f":"IF([2]Paramètres!P1180=\"\",\"\",[2]Paramètres!P1180)","v":""},{"$f":"IF([2]Paramètres!Q1180=\"\",\"\",[2]Paramètres!Q1180)","v":""}]
[null,null,null,null,null,null,null,null,null,{"$f":"IF([2]Paramètres!J1181=\"\",\"\",[2]Paramètres!J1181)","v":""},{"$f":"IF([2]Paramètres!K1181=\"\",\"\",[2]Paramètres!K1181)","v":""},{"$f":"IF([2]Paramètres!L1181=\"\",\"\",[2]Paramètres!L1181)","v":""},{"$f":"IF([2]Paramètres!M1181=\"\",\"\",[2]Paramètres!M1181)","v":""},{"$f":"IF([2]Paramètres!N1181=\"\",\"\",[2]Paramètres!N1181)","v":""},{"$f":"IF([2]Paramètres!O1181=\"\",\"\",[2]Paramètres!O1181)","v":""},{"$f":"IF([2]Paramètres!P1181=\"\",\"\",[2]Paramètres!P1181)","v":""},{"$f":"IF([2]Paramètres!Q1181=\"\",\"\",[2]Paramètres!Q1181)","v":""}]
[null,null,null,null,null,null,null,null,null,{"$f":"IF([2]Paramètres!J1182=\"\",\"\",[2]Paramètres!J1182)","v":""},{"$f":"IF([2]Paramètres!K1182=\"\",\"\",[2]Paramètres!K1182)","v":""},{"$f":"IF([2]Paramètres!L1182=\"\",\"\",[2]Paramètres!L1182)","v":""},{"$f":"IF([2]Paramètres!M1182=\"\",\"\",[2]Paramètres!M1182)","v":""},{"$f":"IF([2]Paramètres!N1182=\"\",\"\",[2]Paramètres!N1182)","v":""},{"$f":"IF([2]Paramètres!O1182=\"\",\"\",[2]Paramètres!O1182)","v":""},{"$f":"IF([2]Paramètres!P1182=\"\",\"\",[2]Paramètres!P1182)","v":""},{"$f":"IF([2]Paramètres!Q1182=\"\",\"\",[2]Paramètres!Q1182)","v":""}]
[null,null,null,null,null,null,null,null,null,{"$f":"IF([2]Paramètres!J1183=\"\",\"\",[2]Paramètres!J1183)","v":""},{"$f":"IF([2]Paramètres!K1183=\"\",\"\",[2]Paramètres!K1183)","v":""},{"$f":"IF([2]Paramètres!L1183=\"\",\"\",[2]Paramètres!L1183)","v":""},{"$f":"IF([2]Paramètres!M1183=\"\",\"\",[2]Paramètres!M1183)","v":""},{"$f":"IF([2]Paramètres!N1183=\"\",\"\",[2]Paramètres!N1183)","v":""},{"$f":"IF([2]Paramètres!O1183=\"\",\"\",[2]Paramètres!O1183)","v":""},{"$f":"IF([2]Paramètres!P1183=\"\",\"\",[2]Paramètres!P1183)","v":""},{"$f":"IF([2]Paramètres!Q1183=\"\",\"\",[2]Paramètres!Q1183)","v":""}]
[null,null,null,null,null,null,null,null,null,{"$f":"IF([2]Paramètres!J1184=\"\",\"\",[2]Paramètres!J1184)","v":""},{"$f":"IF([2]Paramètres!K1184=\"\",\"\",[2]Paramètres!K1184)","v":""},{"$f":"IF([2]Paramètres!L1184=\"\",\"\",[2]Paramètres!L1184)","v":""},{"$f":"IF([2]Paramètres!M1184=\"\",\"\",[2]Paramètres!M1184)","v":""},{"$f":"IF([2]Paramètres!N1184=\"\",\"\",[2]Paramètres!N1184)","v":""},{"$f":"IF([2]Paramètres!O1184=\"\",\"\",[2]Paramètres!O1184)","v":""},{"$f":"IF([2]Paramètres!P1184=\"\",\"\",[2]Paramètres!P1184)","v":""},{"$f":"IF([2]Paramètres!Q1184=\"\",\"\",[2]Paramètres!Q1184)","v":""}]
[null,null,null,null,null,null,null,null,null,{"$f":"IF([2]Paramètres!J1185=\"\",\"\",[2]Paramètres!J1185)","v":""},{"$f":"IF([2]Paramètres!K1185=\"\",\"\",[2]Paramètres!K1185)","v":""},{"$f":"IF([2]Paramètres!L1185=\"\",\"\",[2]Paramètres!L1185)","v":""},{"$f":"IF([2]Paramètres!M1185=\"\",\"\",[2]Paramètres!M1185)","v":""},{"$f":"IF([2]Paramètres!N1185=\"\",\"\",[2]Paramètres!N1185)","v":""},{"$f":"IF([2]Paramètres!O1185=\"\",\"\",[2]Paramètres!O1185)","v":""},{"$f":"IF([2]Paramètres!P1185=\"\",\"\",[2]Paramètres!P1185)","v":""},{"$f":"IF([2]Paramètres!Q1185=\"\",\"\",[2]Paramètres!Q1185)","v":""}]
[null,null,null,null,null,null,null,null,null,{"$f":"IF([2]Paramètres!J1186=\"\",\"\",[2]Paramètres!J1186)","v":""},{"$f":"IF([2]Paramètres!K1186=\"\",\"\",[2]Paramètres!K1186)","v":""},{"$f":"IF([2]Paramètres!L1186=\"\",\"\",[2]Paramètres!L1186)","v":""},{"$f":"IF([2]Paramètres!M1186=\"\",\"\",[2]Paramètres!M1186)","v":""},{"$f":"IF([2]Paramètres!N1186=\"\",\"\",[2]Paramètres!N1186)","v":""},{"$f":"IF([2]Paramètres!O1186=\"\",\"\",[2]Paramètres!O1186)","v":""},{"$f":"IF([2]Paramètres!P1186=\"\",\"\",[2]Paramètres!P1186)","v":""},{"$f":"IF([2]Paramètres!Q1186=\"\",\"\",[2]Paramètres!Q1186)","v":""}]
[null,null,null,null,null,null,null,null,null,{"$f":"IF([2]Paramètres!J1187=\"\",\"\",[2]Paramètres!J1187)","v":""},{"$f":"IF([2]Paramètres!K1187=\"\",\"\",[2]Paramètres!K1187)","v":""},{"$f":"IF([2]Paramètres!L1187=\"\",\"\",[2]Paramètres!L1187)","v":""},{"$f":"IF([2]Paramètres!M1187=\"\",\"\",[2]Paramètres!M1187)","v":""},{"$f":"IF([2]Paramètres!N1187=\"\",\"\",[2]Paramètres!N1187)","v":""},{"$f":"IF([2]Paramètres!O1187=\"\",\"\",[2]Paramètres!O1187)","v":""},{"$f":"IF([2]Paramètres!P1187=\"\",\"\",[2]Paramètres!P1187)","v":""},{"$f":"IF([2]Paramètres!Q1187=\"\",\"\",[2]Paramètres!Q1187)","v":""}]
[null,null,null,null,null,null,null,null,null,{"$f":"IF([2]Paramètres!J1188=\"\",\"\",[2]Paramètres!J1188)","v":""},{"$f":"IF([2]Paramètres!K1188=\"\",\"\",[2]Paramètres!K1188)","v":""},{"$f":"IF([2]Paramètres!L1188=\"\",\"\",[2]Paramètres!L1188)","v":""},{"$f":"IF([2]Paramètres!M1188=\"\",\"\",[2]Paramètres!M1188)","v":""},{"$f":"IF([2]Paramètres!N1188=\"\",\"\",[2]Paramètres!N1188)","v":""},{"$f":"IF([2]Paramètres!O1188=\"\",\"\",[2]Paramètres!O1188)","v":""},{"$f":"IF([2]Paramètres!P1188=\"\",\"\",[2]Paramètres!P1188)","v":""},{"$f":"IF([2]Paramètres!Q1188=\"\",\"\",[2]Paramètres!Q1188)","v":""}]
[null,null,null,null,null,null,null,null,null,{"$f":"IF([2]Paramètres!J1189=\"\",\"\",[2]Paramètres!J1189)","v":""},{"$f":"IF([2]Paramètres!K1189=\"\",\"\",[2]Paramètres!K1189)","v":""},{"$f":"IF([2]Paramètres!L1189=\"\",\"\",[2]Paramètres!L1189)","v":""},{"$f":"IF([2]Paramètres!M1189=\"\",\"\",[2]Paramètres!M1189)","v":""},{"$f":"IF([2]Paramètres!N1189=\"\",\"\",[2]Paramètres!N1189)","v":""},{"$f":"IF([2]Paramètres!O1189=\"\",\"\",[2]Paramètres!O1189)","v":""},{"$f":"IF([2]Paramètres!P1189=\"\",\"\",[2]Paramètres!P1189)","v":""},{"$f":"IF([2]Paramètres!Q1189=\"\",\"\",[2]Paramètres!Q1189)","v":""}]
[null,null,null,null,null,null,null,null,null,{"$f":"IF([2]Paramètres!J1190=\"\",\"\",[2]Paramètres!J1190)","v":""},{"$f":"IF([2]Paramètres!K1190=\"\",\"\",[2]Paramètres!K1190)","v":""},{"$f":"IF([2]Paramètres!L1190=\"\",\"\",[2]Paramètres!L1190)","v":""},{"$f":"IF([2]Paramètres!M1190=\"\",\"\",[2]Paramètres!M1190)","v":""},{"$f":"IF([2]Paramètres!N1190=\"\",\"\",[2]Paramètres!N1190)","v":""},{"$f":"IF([2]Paramètres!O1190=\"\",\"\",[2]Paramètres!O1190)","v":""},{"$f":"IF([2]Paramètres!P1190=\"\",\"\",[2]Paramètres!P1190)","v":""},{"$f":"IF([2]Paramètres!Q1190=\"\",\"\",[2]Paramètres!Q1190)","v":""}]
[null,null,null,null,null,null,null,null,null,{"$f":"IF([2]Paramètres!J1191=\"\",\"\",[2]Paramètres!J1191)","v":""},{"$f":"IF([2]Paramètres!K1191=\"\",\"\",[2]Paramètres!K1191)","v":""},{"$f":"IF([2]Paramètres!L1191=\"\",\"\",[2]Paramètres!L1191)","v":""},{"$f":"IF([2]Paramètres!M1191=\"\",\"\",[2]Paramètres!M1191)","v":""},{"$f":"IF([2]Paramètres!N1191=\"\",\"\",[2]Paramètres!N1191)","v":""},{"$f":"IF([2]Paramètres!O1191=\"\",\"\",[2]Paramètres!O1191)","v":""},{"$f":"IF([2]Paramètres!P1191=\"\",\"\",[2]Paramètres!P1191)","v":""},{"$f":"IF([2]Paramètres!Q1191=\"\",\"\",[2]Paramètres!Q1191)","v":""}]
[null,null,null,null,null,null,null,null,null,{"$f":"IF([2]Paramètres!J1192=\"\",\"\",[2]Paramètres!J1192)","v":""},{"$f":"IF([2]Paramètres!K1192=\"\",\"\",[2]Paramètres!K1192)","v":""},{"$f":"IF([2]Paramètres!L1192=\"\",\"\",[2]Paramètres!L1192)","v":""},{"$f":"IF([2]Paramètres!M1192=\"\",\"\",[2]Paramètres!M1192)","v":""},{"$f":"IF([2]Paramètres!N1192=\"\",\"\",[2]Paramètres!N1192)","v":""},{"$f":"IF([2]Paramètres!O1192=\"\",\"\",[2]Paramètres!O1192)","v":""},{"$f":"IF([2]Paramètres!P1192=\"\",\"\",[2]Paramètres!P1192)","v":""},{"$f":"IF([2]Paramètres!Q1192=\"\",\"\",[2]Paramètres!Q1192)","v":""}]
[null,null,null,null,null,null,null,null,null,{"$f":"IF([2]Paramètres!J1193=\"\",\"\",[2]Paramètres!J1193)","v":""},{"$f":"IF([2]Paramètres!K1193=\"\",\"\",[2]Paramètres!K1193)","v":""},{"$f":"IF([2]Paramètres!L1193=\"\",\"\",[2]Paramètres!L1193)","v":""},{"$f":"IF([2]Paramètres!M1193=\"\",\"\",[2]Paramètres!M1193)","v":""},{"$f":"IF([2]Paramètres!N1193=\"\",\"\",[2]Paramètres!N1193)","v":""},{"$f":"IF([2]Paramètres!O1193=\"\",\"\",[2]Paramètres!O1193)","v":""},{"$f":"IF([2]Paramètres!P1193=\"\",\"\",[2]Paramètres!P1193)","v":""},{"$f":"IF([2]Paramètres!Q1193=\"\",\"\",[2]Paramètres!Q1193)","v":""}]
[null,null,null,null,null,null,null,null,null,{"$f":"IF([2]Paramètres!J1194=\"\",\"\",[2]Paramètres!J1194)","v":""},{"$f":"IF([2]Paramètres!K1194=\"\",\"\",[2]Paramètres!K1194)","v":""},{"$f":"IF([2]Paramètres!L1194=\"\",\"\",[2]Paramètres!L1194)","v":""},{"$f":"IF([2]Paramètres!M1194=\"\",\"\",[2]Paramètres!M1194)","v":""},{"$f":"IF([2]Paramètres!N1194=\"\",\"\",[2]Paramètres!N1194)","v":""},{"$f":"IF([2]Paramètres!O1194=\"\",\"\",[2]Paramètres!O1194)","v":""},{"$f":"IF([2]Paramètres!P1194=\"\",\"\",[2]Paramètres!P1194)","v":""},{"$f":"IF([2]Paramètres!Q1194=\"\",\"\",[2]Paramètres!Q1194)","v":""}]
[null,null,null,null,null,null,null,null,null,{"$f":"IF([2]Paramètres!J1195=\"\",\"\",[2]Paramètres!J1195)","v":""},{"$f":"IF([2]Paramètres!K1195=\"\",\"\",[2]Paramètres!K1195)","v":""},{"$f":"IF([2]Paramètres!L1195=\"\",\"\",[2]Paramètres!L1195)","v":""},{"$f":"IF([2]Paramètres!M1195=\"\",\"\",[2]Paramètres!M1195)","v":""},{"$f":"IF([2]Paramètres!N1195=\"\",\"\",[2]Paramètres!N1195)","v":""},{"$f":"IF([2]Paramètres!O1195=\"\",\"\",[2]Paramètres!O1195)","v":""},{"$f":"IF([2]Paramètres!P1195=\"\",\"\",[2]Paramètres!P1195)","v":""},{"$f":"IF([2]Paramètres!Q1195=\"\",\"\",[2]Paramètres!Q1195)","v":""}]
[null,null,null,null,null,null,null,null,null,{"$f":"IF([2]Paramètres!J1196=\"\",\"\",[2]Paramètres!J1196)","v":""},{"$f":"IF([2]Paramètres!K1196=\"\",\"\",[2]Paramètres!K1196)","v":""},{"$f":"IF([2]Paramètres!L1196=\"\",\"\",[2]Paramètres!L1196)","v":""},{"$f":"IF([2]Paramètres!M1196=\"\",\"\",[2]Paramètres!M1196)","v":""},{"$f":"IF([2]Paramètres!N1196=\"\",\"\",[2]Paramètres!N1196)","v":""},{"$f":"IF([2]Paramètres!O1196=\"\",\"\",[2]Paramètres!O1196)","v":""},{"$f":"IF([2]Paramètres!P1196=\"\",\"\",[2]Paramètres!P1196)","v":""},{"$f":"IF([2]Paramètres!Q1196=\"\",\"\",[2]Paramètres!Q1196)","v":""}]
[null,null,null,null,null,null,null,null,null,{"$f":"IF([2]Paramètres!J1197=\"\",\"\",[2]Paramètres!J1197)","v":""},{"$f":"IF([2]Paramètres!K1197=\"\",\"\",[2]Paramètres!K1197)","v":""},{"$f":"IF([2]Paramètres!L1197=\"\",\"\",[2]Paramètres!L1197)","v":""},{"$f":"IF([2]Paramètres!M1197=\"\",\"\",[2]Paramètres!M1197)","v":""},{"$f":"IF([2]Paramètres!N1197=\"\",\"\",[2]Paramètres!N1197)","v":""},{"$f":"IF([2]Paramètres!O1197=\"\",\"\",[2]Paramètres!O1197)","v":""},{"$f":"IF([2]Paramètres!P1197=\"\",\"\",[2]Paramètres!P1197)","v":""},{"$f":"IF([2]Paramètres!Q1197=\"\",\"\",[2]Paramètres!Q1197)","v":""}]
[null,null,null,null,null,null,null,null,null,{"$f":"IF([2]Paramètres!J1198=\"\",\"\",[2]Paramètres!J1198)","v":""},{"$f":"IF([2]Paramètres!K1198=\"\",\"\",[2]Paramètres!K1198)","v":""},{"$f":"IF([2]Paramètres!L1198=\"\",\"\",[2]Paramètres!L1198)","v":""},{"$f":"IF([2]Paramètres!M1198=\"\",\"\",[2]Paramètres!M1198)","v":""},{"$f":"IF([2]Paramètres!N1198=\"\",\"\",[2]Paramètres!N1198)","v":""},{"$f":"IF([2]Paramètres!O1198=\"\",\"\",[2]Paramètres!O1198)","v":""},{"$f":"IF([2]Paramètres!P1198=\"\",\"\",[2]Paramètres!P1198)","v":""},{"$f":"IF([2]Paramètres!Q1198=\"\",\"\",[2]Paramètres!Q1198)","v":""}]
[null,null,null,null,null,null,null,null,null,{"$f":"IF([2]Paramètres!J1199=\"\",\"\",[2]Paramètres!J1199)","v":""},{"$f":"IF([2]Paramètres!K1199=\"\",\"\",[2]Paramètres!K1199)","v":""},{"$f":"IF([2]Paramètres!L1199=\"\",\"\",[2]Paramètres!L1199)","v":""},{"$f":"IF([2]Paramètres!M1199=\"\",\"\",[2]Paramètres!M1199)","v":""},{"$f":"IF([2]Paramètres!N1199=\"\",\"\",[2]Paramètres!N1199)","v":""},{"$f":"IF([2]Paramètres!O1199=\"\",\"\",[2]Paramètres!O1199)","v":""},{"$f":"IF([2]Paramètres!P1199=\"\",\"\",[2]Paramètres!P1199)","v":""},{"$f":"IF([2]Paramètres!Q1199=\"\",\"\",[2]Paramètres!Q1199)","v":""}]
[null,null,null,null,null,null,null,null,null,{"$f":"IF([2]Paramètres!J1200=\"\",\"\",[2]Paramètres!J1200)","v":""},{"$f":"IF([2]Paramètres!K1200=\"\",\"\",[2]Paramètres!K1200)","v":""},{"$f":"IF([2]Paramètres!L1200=\"\",\"\",[2]Paramètres!L1200)","v":""},{"$f":"IF([2]Paramètres!M1200=\"\",\"\",[2]Paramètres!M1200)","v":""},{"$f":"IF([2]Paramètres!N1200=\"\",\"\",[2]Paramètres!N1200)","v":""},{"$f":"IF([2]Paramètres!O1200=\"\",\"\",[2]Paramètres!O1200)","v":""},{"$f":"IF([2]Paramètres!P1200=\"\",\"\",[2]Paramètres!P1200)","v":""},{"$f":"IF([2]Paramètres!Q1200=\"\",\"\",[2]Paramètres!Q1200)","v":""}]
[null,null,null,null,null,null,null,null,null,{"$f":"IF([2]Paramètres!J1201=\"\",\"\",[2]Paramètres!J1201)","v":""},{"$f":"IF([2]Paramètres!K1201=\"\",\"\",[2]Paramètres!K1201)","v":""},{"$f":"IF([2]Paramètres!L1201=\"\",\"\",[2]Paramètres!L1201)","v":""},{"$f":"IF([2]Paramètres!M1201=\"\",\"\",[2]Paramètres!M1201)","v":""},{"$f":"IF([2]Paramètres!N1201=\"\",\"\",[2]Paramètres!N1201)","v":""},{"$f":"IF([2]Paramètres!O1201=\"\",\"\",[2]Paramètres!O1201)","v":""},{"$f":"IF([2]Paramètres!P1201=\"\",\"\",[2]Paramètres!P1201)","v":""},{"$f":"IF([2]Paramètres!Q1201=\"\",\"\",[2]Paramètres!Q1201)","v":""}]
[null,null,null,null,null,null,null,null,null,{"$f":"IF([2]Paramètres!J1202=\"\",\"\",[2]Paramètres!J1202)","v":""},{"$f":"IF([2]Paramètres!K1202=\"\",\"\",[2]Paramètres!K1202)","v":""},{"$f":"IF([2]Paramètres!L1202=\"\",\"\",[2]Paramètres!L1202)","v":""},{"$f":"IF([2]Paramètres!M1202=\"\",\"\",[2]Paramètres!M1202)","v":""},{"$f":"IF([2]Paramètres!N1202=\"\",\"\",[2]Paramètres!N1202)","v":""},{"$f":"IF([2]Paramètres!O1202=\"\",\"\",[2]Paramètres!O1202)","v":""},{"$f":"IF([2]Paramètres!P1202=\"\",\"\",[2]Paramètres!P1202)","v":""},{"$f":"IF([2]Paramètres!Q1202=\"\",\"\",[2]Paramètres!Q1202)","v":""}]
[null,null,null,null,null,null,null,null,null,{"$f":"IF([2]Paramètres!J1203=\"\",\"\",[2]Paramètres!J1203)","v":""},{"$f":"IF([2]Paramètres!K1203=\"\",\"\",[2]Paramètres!K1203)","v":""},{"$f":"IF([2]Paramètres!L1203=\"\",\"\",[2]Paramètres!L1203)","v":""},{"$f":"IF([2]Paramètres!M1203=\"\",\"\",[2]Paramètres!M1203)","v":""},{"$f":"IF([2]Paramètres!N1203=\"\",\"\",[2]Paramètres!N1203)","v":""},{"$f":"IF([2]Paramètres!O1203=\"\",\"\",[2]Paramètres!O1203)","v":""},{"$f":"IF([2]Paramètres!P1203=\"\",\"\",[2]Paramètres!P1203)","v":""},{"$f":"IF([2]Paramètres!Q1203=\"\",\"\",[2]Paramètres!Q1203)","v":""}]
[null,null,null,null,null,null,null,null,null,{"$f":"IF([2]Paramètres!J1204=\"\",\"\",[2]Paramètres!J1204)","v":""},{"$f":"IF([2]Paramètres!K1204=\"\",\"\",[2]Paramètres!K1204)","v":""},{"$f":"IF([2]Paramètres!L1204=\"\",\"\",[2]Paramètres!L1204)","v":""},{"$f":"IF([2]Paramètres!M1204=\"\",\"\",[2]Paramètres!M1204)","v":""},{"$f":"IF([2]Paramètres!N1204=\"\",\"\",[2]Paramètres!N1204)","v":""},{"$f":"IF([2]Paramètres!O1204=\"\",\"\",[2]Paramètres!O1204)","v":""},{"$f":"IF([2]Paramètres!P1204=\"\",\"\",[2]Paramètres!P1204)","v":""},{"$f":"IF([2]Paramètres!Q1204=\"\",\"\",[2]Paramètres!Q1204)","v":""}]
[null,null,null,null,null,null,null,null,null,{"$f":"IF([2]Paramètres!J1205=\"\",\"\",[2]Paramètres!J1205)","v":""},{"$f":"IF([2]Paramètres!K1205=\"\",\"\",[2]Paramètres!K1205)","v":""},{"$f":"IF([2]Paramètres!L1205=\"\",\"\",[2]Paramètres!L1205)","v":""},{"$f":"IF([2]Paramètres!M1205=\"\",\"\",[2]Paramètres!M1205)","v":""},{"$f":"IF([2]Paramètres!N1205=\"\",\"\",[2]Paramètres!N1205)","v":""},{"$f":"IF([2]Paramètres!O1205=\"\",\"\",[2]Paramètres!O1205)","v":""},{"$f":"IF([2]Paramètres!P1205=\"\",\"\",[2]Paramètres!P1205)","v":""},{"$f":"IF([2]Paramètres!Q1205=\"\",\"\",[2]Paramètres!Q1205)","v":""}]
[null,null,null,null,null,null,null,null,null,{"$f":"IF([2]Paramètres!J1206=\"\",\"\",[2]Paramètres!J1206)","v":""},{"$f":"IF([2]Paramètres!K1206=\"\",\"\",[2]Paramètres!K1206)","v":""},{"$f":"IF([2]Paramètres!L1206=\"\",\"\",[2]Paramètres!L1206)","v":""},{"$f":"IF([2]Paramètres!M1206=\"\",\"\",[2]Paramètres!M1206)","v":""},{"$f":"IF([2]Paramètres!N1206=\"\",\"\",[2]Paramètres!N1206)","v":""},{"$f":"IF([2]Paramètres!O1206=\"\",\"\",[2]Paramètres!O1206)","v":""},{"$f":"IF([2]Paramètres!P1206=\"\",\"\",[2]Paramètres!P1206)","v":""},{"$f":"IF([2]Paramètres!Q1206=\"\",\"\",[2]Paramètres!Q1206)","v":""}]
[null,null,null,null,null,null,null,null,null,{"$f":"IF([2]Paramètres!J1207=\"\",\"\",[2]Paramètres!J1207)","v":""},{"$f":"IF([2]Paramètres!K1207=\"\",\"\",[2]Paramètres!K1207)","v":""},{"$f":"IF([2]Paramètres!L1207=\"\",\"\",[2]Paramètres!L1207)","v":""},{"$f":"IF([2]Paramètres!M1207=\"\",\"\",[2]Paramètres!M1207)","v":""},{"$f":"IF([2]Paramètres!N1207=\"\",\"\",[2]Paramètres!N1207)","v":""},{"$f":"IF([2]Paramètres!O1207=\"\",\"\",[2]Paramètres!O1207)","v":""},{"$f":"IF([2]Paramètres!P1207=\"\",\"\",[2]Paramètres!P1207)","v":""},{"$f":"IF([2]Paramètres!Q1207=\"\",\"\",[2]Paramètres!Q1207)","v":""}]
[null,null,null,null,null,null,null,null,null,{"$f":"IF([2]Paramètres!J1208=\"\",\"\",[2]Paramètres!J1208)","v":""},{"$f":"IF([2]Paramètres!K1208=\"\",\"\",[2]Paramètres!K1208)","v":""},{"$f":"IF([2]Paramètres!L1208=\"\",\"\",[2]Paramètres!L1208)","v":""},{"$f":"IF([2]Paramètres!M1208=\"\",\"\",[2]Paramètres!M1208)","v":""},{"$f":"IF([2]Paramètres!N1208=\"\",\"\",[2]Paramètres!N1208)","v":""},{"$f":"IF([2]Paramètres!O1208=\"\",\"\",[2]Paramètres!O1208)","v":""},{"$f":"IF([2]Paramètres!P1208=\"\",\"\",[2]Paramètres!P1208)","v":""},{"$f":"IF([2]Paramètres!Q1208=\"\",\"\",[2]Paramètres!Q1208)","v":""}]
[null,null,null,null,null,null,null,null,null,{"$f":"IF([2]Paramètres!J1209=\"\",\"\",[2]Paramètres!J1209)","v":""},{"$f":"IF([2]Paramètres!K1209=\"\",\"\",[2]Paramètres!K1209)","v":""},{"$f":"IF([2]Paramètres!L1209=\"\",\"\",[2]Paramètres!L1209)","v":""},{"$f":"IF([2]Paramètres!M1209=\"\",\"\",[2]Paramètres!M1209)","v":""},{"$f":"IF([2]Paramètres!N1209=\"\",\"\",[2]Paramètres!N1209)","v":""},{"$f":"IF([2]Paramètres!O1209=\"\",\"\",[2]Paramètres!O1209)","v":""},{"$f":"IF([2]Paramètres!P1209=\"\",\"\",[2]Paramètres!P1209)","v":""},{"$f":"IF([2]Paramètres!Q1209=\"\",\"\",[2]Paramètres!Q1209)","v":""}]
[null,null,null,null,null,null,null,null,null,{"$f":"IF([2]Paramètres!J1210=\"\",\"\",[2]Paramètres!J1210)","v":""},{"$f":"IF([2]Paramètres!K1210=\"\",\"\",[2]Paramètres!K1210)","v":""},{"$f":"IF([2]Paramètres!L1210=\"\",\"\",[2]Paramètres!L1210)","v":""},{"$f":"IF([2]Paramètres!M1210=\"\",\"\",[2]Paramètres!M1210)","v":""},{"$f":"IF([2]Paramètres!N1210=\"\",\"\",[2]Paramètres!N1210)","v":""},{"$f":"IF([2]Paramètres!O1210=\"\",\"\",[2]Paramètres!O1210)","v":""},{"$f":"IF([2]Paramètres!P1210=\"\",\"\",[2]Paramètres!P1210)","v":""},{"$f":"IF([2]Paramètres!Q1210=\"\",\"\",[2]Paramètres!Q1210)","v":""}]
[null,null,null,null,null,null,null,null,null,{"$f":"IF([2]Paramètres!J1211=\"\",\"\",[2]Paramètres!J1211)","v":""},{"$f":"IF([2]Paramètres!K1211=\"\",\"\",[2]Paramètres!K1211)","v":""},{"$f":"IF([2]Paramètres!L1211=\"\",\"\",[2]Paramètres!L1211)","v":""},{"$f":"IF([2]Paramètres!M1211=\"\",\"\",[2]Paramètres!M1211)","v":""},{"$f":"IF([2]Paramètres!N1211=\"\",\"\",[2]Paramètres!N1211)","v":""},{"$f":"IF([2]Paramètres!O1211=\"\",\"\",[2]Paramètres!O1211)","v":""},{"$f":"IF([2]Paramètres!P1211=\"\",\"\",[2]Paramètres!P1211)","v":""},{"$f":"IF([2]Paramètres!Q1211=\"\",\"\",[2]Paramètres!Q1211)","v":""}]
[null,null,null,null,null,null,null,null,null,{"$f":"IF([2]Paramètres!J1212=\"\",\"\",[2]Paramètres!J1212)","v":""},{"$f":"IF([2]Paramètres!K1212=\"\",\"\",[2]Paramètres!K1212)","v":""},{"$f":"IF([2]Paramètres!L1212=\"\",\"\",[2]Paramètres!L1212)","v":""},{"$f":"IF([2]Paramètres!M1212=\"\",\"\",[2]Paramètres!M1212)","v":""},{"$f":"IF([2]Paramètres!N1212=\"\",\"\",[2]Paramètres!N1212)","v":""},{"$f":"IF([2]Paramètres!O1212=\"\",\"\",[2]Paramètres!O1212)","v":""},{"$f":"IF([2]Paramètres!P1212=\"\",\"\",[2]Paramètres!P1212)","v":""},{"$f":"IF([2]Paramètres!Q1212=\"\",\"\",[2]Paramètres!Q1212)","v":""}]
[null,null,null,null,null,null,null,null,null,{"$f":"IF([2]Paramètres!J1213=\"\",\"\",[2]Paramètres!J1213)","v":""},{"$f":"IF([2]Paramètres!K1213=\"\",\"\",[2]Paramètres!K1213)","v":""},{"$f":"IF([2]Paramètres!L1213=\"\",\"\",[2]Paramètres!L1213)","v":""},{"$f":"IF([2]Paramètres!M1213=\"\",\"\",[2]Paramètres!M1213)","v":""},{"$f":"IF([2]Paramètres!N1213=\"\",\"\",[2]Paramètres!N1213)","v":""},{"$f":"IF([2]Paramètres!O1213=\"\",\"\",[2]Paramètres!O1213)","v":""},{"$f":"IF([2]Paramètres!P1213=\"\",\"\",[2]Paramètres!P1213)","v":""},{"$f":"IF([2]Paramètres!Q1213=\"\",\"\",[2]Paramètres!Q1213)","v":""}]
[null,null,null,null,null,null,null,null,null,{"$f":"IF([2]Paramètres!J1214=\"\",\"\",[2]Paramètres!J1214)","v":""},{"$f":"IF([2]Paramètres!K1214=\"\",\"\",[2]Paramètres!K1214)","v":""},{"$f":"IF([2]Paramètres!L1214=\"\",\"\",[2]Paramètres!L1214)","v":""},{"$f":"IF([2]Paramètres!M1214=\"\",\"\",[2]Paramètres!M1214)","v":""},{"$f":"IF([2]Paramètres!N1214=\"\",\"\",[2]Paramètres!N1214)","v":""},{"$f":"IF([2]Paramètres!O1214=\"\",\"\",[2]Paramètres!O1214)","v":""},{"$f":"IF([2]Paramètres!P1214=\"\",\"\",[2]Paramètres!P1214)","v":""},{"$f":"IF([2]Paramètres!Q1214=\"\",\"\",[2]Paramètres!Q1214)","v":""}]
[null,null,null,null,null,null,null,null,null,{"$f":"IF([2]Paramètres!J1215=\"\",\"\",[2]Paramètres!J1215)","v":""},{"$f":"IF([2]Paramètres!K1215=\"\",\"\",[2]Paramètres!K1215)","v":""},{"$f":"IF([2]Paramètres!L1215=\"\",\"\",[2]Paramètres!L1215)","v":""},{"$f":"IF([2]Paramètres!M1215=\"\",\"\",[2]Paramètres!M1215)","v":""},{"$f":"IF([2]Paramètres!N1215=\"\",\"\",[2]Paramètres!N1215)","v":""},{"$f":"IF([2]Paramètres!O1215=\"\",\"\",[2]Paramètres!O1215)","v":""},{"$f":"IF([2]Paramètres!P1215=\"\",\"\",[2]Paramètres!P1215)","v":""},{"$f":"IF([2]Paramètres!Q1215=\"\",\"\",[2]Paramètres!Q1215)","v":""}]
[null,null,null,null,null,null,null,null,null,{"$f":"IF([2]Paramètres!J1216=\"\",\"\",[2]Paramètres!J1216)","v":""},{"$f":"IF([2]Paramètres!K1216=\"\",\"\",[2]Paramètres!K1216)","v":""},{"$f":"IF([2]Paramètres!L1216=\"\",\"\",[2]Paramètres!L1216)","v":""},{"$f":"IF([2]Paramètres!M1216=\"\",\"\",[2]Paramètres!M1216)","v":""},{"$f":"IF([2]Paramètres!N1216=\"\",\"\",[2]Paramètres!N1216)","v":""},{"$f":"IF([2]Paramètres!O1216=\"\",\"\",[2]Paramètres!O1216)","v":""},{"$f":"IF([2]Paramètres!P1216=\"\",\"\",[2]Paramètres!P1216)","v":""},{"$f":"IF([2]Paramètres!Q1216=\"\",\"\",[2]Paramètres!Q1216)","v":""}]
[null,null,null,null,null,null,null,null,null,{"$f":"IF([2]Paramètres!J1217=\"\",\"\",[2]Paramètres!J1217)","v":""},{"$f":"IF([2]Paramètres!K1217=\"\",\"\",[2]Paramètres!K1217)","v":""},{"$f":"IF([2]Paramètres!L1217=\"\",\"\",[2]Paramètres!L1217)","v":""},{"$f":"IF([2]Paramètres!M1217=\"\",\"\",[2]Paramètres!M1217)","v":""},{"$f":"IF([2]Paramètres!N1217=\"\",\"\",[2]Paramètres!N1217)","v":""},{"$f":"IF([2]Paramètres!O1217=\"\",\"\",[2]Paramètres!O1217)","v":""},{"$f":"IF([2]Paramètres!P1217=\"\",\"\",[2]Paramètres!P1217)","v":""},{"$f":"IF([2]Paramètres!Q1217=\"\",\"\",[2]Paramètres!Q1217)","v":""}]
[null,null,null,null,null,null,null,null,null,{"$f":"IF([2]Paramètres!J1218=\"\",\"\",[2]Paramètres!J1218)","v":""},{"$f":"IF([2]Paramètres!K1218=\"\",\"\",[2]Paramètres!K1218)","v":""},{"$f":"IF([2]Paramètres!L1218=\"\",\"\",[2]Paramètres!L1218)","v":""},{"$f":"IF([2]Paramètres!M1218=\"\",\"\",[2]Paramètres!M1218)","v":""},{"$f":"IF([2]Paramètres!N1218=\"\",\"\",[2]Paramètres!N1218)","v":""},{"$f":"IF([2]Paramètres!O1218=\"\",\"\",[2]Paramètres!O1218)","v":""},{"$f":"IF([2]Paramètres!P1218=\"\",\"\",[2]Paramètres!P1218)","v":""},{"$f":"IF([2]Paramètres!Q1218=\"\",\"\",[2]Paramètres!Q1218)","v":""}]
[null,null,null,null,null,null,null,null,null,{"$f":"IF([2]Paramètres!J1219=\"\",\"\",[2]Paramètres!J1219)","v":""},{"$f":"IF([2]Paramètres!K1219=\"\",\"\",[2]Paramètres!K1219)","v":""},{"$f":"IF([2]Paramètres!L1219=\"\",\"\",[2]Paramètres!L1219)","v":""},{"$f":"IF([2]Paramètres!M1219=\"\",\"\",[2]Paramètres!M1219)","v":""},{"$f":"IF([2]Paramètres!N1219=\"\",\"\",[2]Paramètres!N1219)","v":""},{"$f":"IF([2]Paramètres!O1219=\"\",\"\",[2]Paramètres!O1219)","v":""},{"$f":"IF([2]Paramètres!P1219=\"\",\"\",[2]Paramètres!P1219)","v":""},{"$f":"IF([2]Paramètres!Q1219=\"\",\"\",[2]Paramètres!Q1219)","v":""}]
[null,null,null,null,null,null,null,null,null,{"$f":"IF([2]Paramètres!J1220=\"\",\"\",[2]Paramètres!J1220)","v":""},{"$f":"IF([2]Paramètres!K1220=\"\",\"\",[2]Paramètres!K1220)","v":""},{"$f":"IF([2]Paramètres!L1220=\"\",\"\",[2]Paramètres!L1220)","v":""},{"$f":"IF([2]Paramètres!M1220=\"\",\"\",[2]Paramètres!M1220)","v":""},{"$f":"IF([2]Paramètres!N1220=\"\",\"\",[2]Paramètres!N1220)","v":""},{"$f":"IF([2]Paramètres!O1220=\"\",\"\",[2]Paramètres!O1220)","v":""},{"$f":"IF([2]Paramètres!P1220=\"\",\"\",[2]Paramètres!P1220)","v":""},{"$f":"IF([2]Paramètres!Q1220=\"\",\"\",[2]Paramètres!Q1220)","v":""}]
[null,null,null,null,null,null,null,null,null,{"$f":"IF([2]Paramètres!J1221=\"\",\"\",[2]Paramètres!J1221)","v":""},{"$f":"IF([2]Paramètres!K1221=\"\",\"\",[2]Paramètres!K1221)","v":""},{"$f":"IF([2]Paramètres!L1221=\"\",\"\",[2]Paramètres!L1221)","v":""},{"$f":"IF([2]Paramètres!M1221=\"\",\"\",[2]Paramètres!M1221)","v":""},{"$f":"IF([2]Paramètres!N1221=\"\",\"\",[2]Paramètres!N1221)","v":""},{"$f":"IF([2]Paramètres!O1221=\"\",\"\",[2]Paramètres!O1221)","v":""},{"$f":"IF([2]Paramètres!P1221=\"\",\"\",[2]Paramètres!P1221)","v":""},{"$f":"IF([2]Paramètres!Q1221=\"\",\"\",[2]Paramètres!Q1221)","v":""}]
[null,null,null,null,null,null,null,null,null,{"$f":"IF([2]Paramètres!J1222=\"\",\"\",[2]Paramètres!J1222)","v":""},{"$f":"IF([2]Paramètres!K1222=\"\",\"\",[2]Paramètres!K1222)","v":""},{"$f":"IF([2]Paramètres!L1222=\"\",\"\",[2]Paramètres!L1222)","v":""},{"$f":"IF([2]Paramètres!M1222=\"\",\"\",[2]Paramètres!M1222)","v":""},{"$f":"IF([2]Paramètres!N1222=\"\",\"\",[2]Paramètres!N1222)","v":""},{"$f":"IF([2]Paramètres!O1222=\"\",\"\",[2]Paramètres!O1222)","v":""},{"$f":"IF([2]Paramètres!P1222=\"\",\"\",[2]Paramètres!P1222)","v":""},{"$f":"IF([2]Paramètres!Q1222=\"\",\"\",[2]Paramètres!Q1222)","v":""}]
[null,null,null,null,null,null,null,null,null,{"$f":"IF([2]Paramètres!J1223=\"\",\"\",[2]Paramètres!J1223)","v":""},{"$f":"IF([2]Paramètres!K1223=\"\",\"\",[2]Paramètres!K1223)","v":""},{"$f":"IF([2]Paramètres!L1223=\"\",\"\",[2]Paramètres!L1223)","v":""},{"$f":"IF([2]Paramètres!M1223=\"\",\"\",[2]Paramètres!M1223)","v":""},{"$f":"IF([2]Paramètres!N1223=\"\",\"\",[2]Paramètres!N1223)","v":""},{"$f":"IF([2]Paramètres!O1223=\"\",\"\",[2]Paramètres!O1223)","v":""},{"$f":"IF([2]Paramètres!P1223=\"\",\"\",[2]Paramètres!P1223)","v":""},{"$f":"IF([2]Paramètres!Q1223=\"\",\"\",[2]Paramètres!Q1223)","v":""}]
[null,null,null,null,null,null,null,null,null,{"$f":"IF([2]Paramètres!J1224=\"\",\"\",[2]Paramètres!J1224)","v":""},{"$f":"IF([2]Paramètres!K1224=\"\",\"\",[2]Paramètres!K1224)","v":""},{"$f":"IF([2]Paramètres!L1224=\"\",\"\",[2]Paramètres!L1224)","v":""},{"$f":"IF([2]Paramètres!M1224=\"\",\"\",[2]Paramètres!M1224)","v":""},{"$f":"IF([2]Paramètres!N1224=\"\",\"\",[2]Paramètres!N1224)","v":""},{"$f":"IF([2]Paramètres!O1224=\"\",\"\",[2]Paramètres!O1224)","v":""},{"$f":"IF([2]Paramètres!P1224=\"\",\"\",[2]Paramètres!P1224)","v":""},{"$f":"IF([2]Paramètres!Q1224=\"\",\"\",[2]Paramètres!Q1224)","v":""}]
[null,null,null,null,null,null,null,null,null,{"$f":"IF([2]Paramètres!J1225=\"\",\"\",[2]Paramètres!J1225)","v":""},{"$f":"IF([2]Paramètres!K1225=\"\",\"\",[2]Paramètres!K1225)","v":""},{"$f":"IF([2]Paramètres!L1225=\"\",\"\",[2]Paramètres!L1225)","v":""},{"$f":"IF([2]Paramètres!M1225=\"\",\"\",[2]Paramètres!M1225)","v":""},{"$f":"IF([2]Paramètres!N1225=\"\",\"\",[2]Paramètres!N1225)","v":""},{"$f":"IF([2]Paramètres!O1225=\"\",\"\",[2]Paramètres!O1225)","v":""},{"$f":"IF([2]Paramètres!P1225=\"\",\"\",[2]Paramètres!P1225)","v":""},{"$f":"IF([2]Paramètres!Q1225=\"\",\"\",[2]Paramètres!Q1225)","v":""}]
[null,null,null,null,null,null,null,null,null,{"$f":"IF([2]Paramètres!J1226=\"\",\"\",[2]Paramètres!J1226)","v":""},{"$f":"IF([2]Paramètres!K1226=\"\",\"\",[2]Paramètres!K1226)","v":""},{"$f":"IF([2]Paramètres!L1226=\"\",\"\",[2]Paramètres!L1226)","v":""},{"$f":"IF([2]Paramètres!M1226=\"\",\"\",[2]Paramètres!M1226)","v":""},{"$f":"IF([2]Paramètres!N1226=\"\",\"\",[2]Paramètres!N1226)","v":""},{"$f":"IF([2]Paramètres!O1226=\"\",\"\",[2]Paramètres!O1226)","v":""},{"$f":"IF([2]Paramètres!P1226=\"\",\"\",[2]Paramètres!P1226)","v":""},{"$f":"IF([2]Paramètres!Q1226=\"\",\"\",[2]Paramètres!Q1226)","v":""}]
[null,null,null,null,null,null,null,null,null,{"$f":"IF([2]Paramètres!J1227=\"\",\"\",[2]Paramètres!J1227)","v":""},{"$f":"IF([2]Paramètres!K1227=\"\",\"\",[2]Paramètres!K1227)","v":""},{"$f":"IF([2]Paramètres!L1227=\"\",\"\",[2]Paramètres!L1227)","v":""},{"$f":"IF([2]Paramètres!M1227=\"\",\"\",[2]Paramètres!M1227)","v":""},{"$f":"IF([2]Paramètres!N1227=\"\",\"\",[2]Paramètres!N1227)","v":""},{"$f":"IF([2]Paramètres!O1227=\"\",\"\",[2]Paramètres!O1227)","v":""},{"$f":"IF([2]Paramètres!P1227=\"\",\"\",[2]Paramètres!P1227)","v":""},{"$f":"IF([2]Paramètres!Q1227=\"\",\"\",[2]Paramètres!Q1227)","v":""}]
[null,null,null,null,null,null,null,null,null,{"$f":"IF([2]Paramètres!J1228=\"\",\"\",[2]Paramètres!J1228)","v":""},{"$f":"IF([2]Paramètres!K1228=\"\",\"\",[2]Paramètres!K1228)","v":""},{"$f":"IF([2]Paramètres!L1228=\"\",\"\",[2]Paramètres!L1228)","v":""},{"$f":"IF([2]Paramètres!M1228=\"\",\"\",[2]Paramètres!M1228)","v":""},{"$f":"IF([2]Paramètres!N1228=\"\",\"\",[2]Paramètres!N1228)","v":""},{"$f":"IF([2]Paramètres!O1228=\"\",\"\",[2]Paramètres!O1228)","v":""},{"$f":"IF([2]Paramètres!P1228=\"\",\"\",[2]Paramètres!P1228)","v":""},{"$f":"IF([2]Paramètres!Q1228=\"\",\"\",[2]Paramètres!Q1228)","v":""}]
[null,null,null,null,null,null,null,null,null,{"$f":"IF([2]Paramètres!J1229=\"\",\"\",[2]Paramètres!J1229)","v":""},{"$f":"IF([2]Paramètres!K1229=\"\",\"\",[2]Paramètres!K1229)","v":""},{"$f":"IF([2]Paramètres!L1229=\"\",\"\",[2]Paramètres!L1229)","v":""},{"$f":"IF([2]Paramètres!M1229=\"\",\"\",[2]Paramètres!M1229)","v":""},{"$f":"IF([2]Paramètres!N1229=\"\",\"\",[2]Paramètres!N1229)","v":""},{"$f":"IF([2]Paramètres!O1229=\"\",\"\",[2]Paramètres!O1229)","v":""},{"$f":"IF([2]Paramètres!P1229=\"\",\"\",[2]Paramètres!P1229)","v":""},{"$f":"IF([2]Paramètres!Q1229=\"\",\"\",[2]Paramètres!Q1229)","v":""}]
[null,null,null,null,null,null,null,null,null,{"$f":"IF([2]Paramètres!J1230=\"\",\"\",[2]Paramètres!J1230)","v":""},{"$f":"IF([2]Paramètres!K1230=\"\",\"\",[2]Paramètres!K1230)","v":""},{"$f":"IF([2]Paramètres!L1230=\"\",\"\",[2]Paramètres!L1230)","v":""},{"$f":"IF([2]Paramètres!M1230=\"\",\"\",[2]Paramètres!M1230)","v":""},{"$f":"IF([2]Paramètres!N1230=\"\",\"\",[2]Paramètres!N1230)","v":""},{"$f":"IF([2]Paramètres!O1230=\"\",\"\",[2]Paramètres!O1230)","v":""},{"$f":"IF([2]Paramètres!P1230=\"\",\"\",[2]Paramètres!P1230)","v":""},{"$f":"IF([2]Paramètres!Q1230=\"\",\"\",[2]Paramètres!Q1230)","v":""}]
[null,null,null,null,null,null,null,null,null,{"$f":"IF([2]Paramètres!J1231=\"\",\"\",[2]Paramètres!J1231)","v":""},{"$f":"IF([2]Paramètres!K1231=\"\",\"\",[2]Paramètres!K1231)","v":""},{"$f":"IF([2]Paramètres!L1231=\"\",\"\",[2]Paramètres!L1231)","v":""},{"$f":"IF([2]Paramètres!M1231=\"\",\"\",[2]Paramètres!M1231)","v":""},{"$f":"IF([2]Paramètres!N1231=\"\",\"\",[2]Paramètres!N1231)","v":""},{"$f":"IF([2]Paramètres!O1231=\"\",\"\",[2]Paramètres!O1231)","v":""},{"$f":"IF([2]Paramètres!P1231=\"\",\"\",[2]Paramètres!P1231)","v":""},{"$f":"IF([2]Paramètres!Q1231=\"\",\"\",[2]Paramètres!Q1231)","v":""}]
[null,null,null,null,null,null,null,null,null,{"$f":"IF([2]Paramètres!J1232=\"\",\"\",[2]Paramètres!J1232)","v":""},{"$f":"IF([2]Paramètres!K1232=\"\",\"\",[2]Paramètres!K1232)","v":""},{"$f":"IF([2]Paramètres!L1232=\"\",\"\",[2]Paramètres!L1232)","v":""},{"$f":"IF([2]Paramètres!M1232=\"\",\"\",[2]Paramètres!M1232)","v":""},{"$f":"IF([2]Paramètres!N1232=\"\",\"\",[2]Paramètres!N1232)","v":""},{"$f":"IF([2]Paramètres!O1232=\"\",\"\",[2]Paramètres!O1232)","v":""},{"$f":"IF([2]Paramètres!P1232=\"\",\"\",[2]Paramètres!P1232)","v":""},{"$f":"IF([2]Paramètres!Q1232=\"\",\"\",[2]Paramètres!Q1232)","v":""}]
[null,null,null,null,null,null,null,null,null,{"$f":"IF([2]Paramètres!J1233=\"\",\"\",[2]Paramètres!J1233)","v":""},{"$f":"IF([2]Paramètres!K1233=\"\",\"\",[2]Paramètres!K1233)","v":""},{"$f":"IF([2]Paramètres!L1233=\"\",\"\",[2]Paramètres!L1233)","v":""},{"$f":"IF([2]Paramètres!M1233=\"\",\"\",[2]Paramètres!M1233)","v":""},{"$f":"IF([2]Paramètres!N1233=\"\",\"\",[2]Paramètres!N1233)","v":""},{"$f":"IF([2]Paramètres!O1233=\"\",\"\",[2]Paramètres!O1233)","v":""},{"$f":"IF([2]Paramètres!P1233=\"\",\"\",[2]Paramètres!P1233)","v":""},{"$f":"IF([2]Paramètres!Q1233=\"\",\"\",[2]Paramètres!Q1233)","v":""}]
[null,null,null,null,null,null,null,null,null,{"$f":"IF([2]Paramètres!J1234=\"\",\"\",[2]Paramètres!J1234)","v":""},{"$f":"IF([2]Paramètres!K1234=\"\",\"\",[2]Paramètres!K1234)","v":""},{"$f":"IF([2]Paramètres!L1234=\"\",\"\",[2]Paramètres!L1234)","v":""},{"$f":"IF([2]Paramètres!M1234=\"\",\"\",[2]Paramètres!M1234)","v":""},{"$f":"IF([2]Paramètres!N1234=\"\",\"\",[2]Paramètres!N1234)","v":""},{"$f":"IF([2]Paramètres!O1234=\"\",\"\",[2]Paramètres!O1234)","v":""},{"$f":"IF([2]Paramètres!P1234=\"\",\"\",[2]Paramètres!P1234)","v":""},{"$f":"IF([2]Paramètres!Q1234=\"\",\"\",[2]Paramètres!Q1234)","v":""}]
[null,null,null,null,null,null,null,null,null,{"$f":"IF([2]Paramètres!J1235=\"\",\"\",[2]Paramètres!J1235)","v":""},{"$f":"IF([2]Paramètres!K1235=\"\",\"\",[2]Paramètres!K1235)","v":""},{"$f":"IF([2]Paramètres!L1235=\"\",\"\",[2]Paramètres!L1235)","v":""},{"$f":"IF([2]Paramètres!M1235=\"\",\"\",[2]Paramètres!M1235)","v":""},{"$f":"IF([2]Paramètres!N1235=\"\",\"\",[2]Paramètres!N1235)","v":""},{"$f":"IF([2]Paramètres!O1235=\"\",\"\",[2]Paramètres!O1235)","v":""},{"$f":"IF([2]Paramètres!P1235=\"\",\"\",[2]Paramètres!P1235)","v":""},{"$f":"IF([2]Paramètres!Q1235=\"\",\"\",[2]Paramètres!Q1235)","v":""}]
[null,null,null,null,null,null,null,null,null,{"$f":"IF([2]Paramètres!J1236=\"\",\"\",[2]Paramètres!J1236)","v":""},{"$f":"IF([2]Paramètres!K1236=\"\",\"\",[2]Paramètres!K1236)","v":""},{"$f":"IF([2]Paramètres!L1236=\"\",\"\",[2]Paramètres!L1236)","v":""},{"$f":"IF([2]Paramètres!M1236=\"\",\"\",[2]Paramètres!M1236)","v":""},{"$f":"IF([2]Paramètres!N1236=\"\",\"\",[2]Paramètres!N1236)","v":""},{"$f":"IF([2]Paramètres!O1236=\"\",\"\",[2]Paramètres!O1236)","v":""},{"$f":"IF([2]Paramètres!P1236=\"\",\"\",[2]Paramètres!P1236)","v":""},{"$f":"IF([2]Paramètres!Q1236=\"\",\"\",[2]Paramètres!Q1236)","v":""}]
[null,null,null,null,null,null,null,null,null,{"$f":"IF([2]Paramètres!J1237=\"\",\"\",[2]Paramètres!J1237)","v":""},{"$f":"IF([2]Paramètres!K1237=\"\",\"\",[2]Paramètres!K1237)","v":""},{"$f":"IF([2]Paramètres!L1237=\"\",\"\",[2]Paramètres!L1237)","v":""},{"$f":"IF([2]Paramètres!M1237=\"\",\"\",[2]Paramètres!M1237)","v":""},{"$f":"IF([2]Paramètres!N1237=\"\",\"\",[2]Paramètres!N1237)","v":""},{"$f":"IF([2]Paramètres!O1237=\"\",\"\",[2]Paramètres!O1237)","v":""},{"$f":"IF([2]Paramètres!P1237=\"\",\"\",[2]Paramètres!P1237)","v":""},{"$f":"IF([2]Paramètres!Q1237=\"\",\"\",[2]Paramètres!Q1237)","v":""}]
[null,null,null,null,null,null,null,null,null,{"$f":"IF([2]Paramètres!J1238=\"\",\"\",[2]Paramètres!J1238)","v":""},{"$f":"IF([2]Paramètres!K1238=\"\",\"\",[2]Paramètres!K1238)","v":""},{"$f":"IF([2]Paramètres!L1238=\"\",\"\",[2]Paramètres!L1238)","v":""},{"$f":"IF([2]Paramètres!M1238=\"\",\"\",[2]Paramètres!M1238)","v":""},{"$f":"IF([2]Paramètres!N1238=\"\",\"\",[2]Paramètres!N1238)","v":""},{"$f":"IF([2]Paramètres!O1238=\"\",\"\",[2]Paramètres!O1238)","v":""},{"$f":"IF([2]Paramètres!P1238=\"\",\"\",[2]Paramètres!P1238)","v":""},{"$f":"IF([2]Paramètres!Q1238=\"\",\"\",[2]Paramètres!Q1238)","v":""}]
[null,null,null,null,null,null,null,null,null,{"$f":"IF([2]Paramètres!J1239=\"\",\"\",[2]Paramètres!J1239)","v":""},{"$f":"IF([2]Paramètres!K1239=\"\",\"\",[2]Paramètres!K1239)","v":""},{"$f":"IF([2]Paramètres!L1239=\"\",\"\",[2]Paramètres!L1239)","v":""},{"$f":"IF([2]Paramètres!M1239=\"\",\"\",[2]Paramètres!M1239)","v":""},{"$f":"IF([2]Paramètres!N1239=\"\",\"\",[2]Paramètres!N1239)","v":""},{"$f":"IF([2]Paramètres!O1239=\"\",\"\",[2]Paramètres!O1239)","v":""},{"$f":"IF([2]Paramètres!P1239=\"\",\"\",[2]Paramètres!P1239)","v":""},{"$f":"IF([2]Paramètres!Q1239=\"\",\"\",[2]Paramètres!Q1239)","v":""}]
[null,null,null,null,null,null,null,null,null,{"$f":"IF([2]Paramètres!J1240=\"\",\"\",[2]Paramètres!J1240)","v":""},{"$f":"IF([2]Paramètres!K1240=\"\",\"\",[2]Paramètres!K1240)","v":""},{"$f":"IF([2]Paramètres!L1240=\"\",\"\",[2]Paramètres!L1240)","v":""},{"$f":"IF([2]Paramètres!M1240=\"\",\"\",[2]Paramètres!M1240)","v":""},{"$f":"IF([2]Paramètres!N1240=\"\",\"\",[2]Paramètres!N1240)","v":""},{"$f":"IF([2]Paramètres!O1240=\"\",\"\",[2]Paramètres!O1240)","v":""},{"$f":"IF([2]Paramètres!P1240=\"\",\"\",[2]Paramètres!P1240)","v":""},{"$f":"IF([2]Paramètres!Q1240=\"\",\"\",[2]Paramètres!Q1240)","v":""}]
[null,null,null,null,null,null,null,null,null,{"$f":"IF([2]Paramètres!J1241=\"\",\"\",[2]Paramètres!J1241)","v":""},{"$f":"IF([2]Paramètres!K1241=\"\",\"\",[2]Paramètres!K1241)","v":""},{"$f":"IF([2]Paramètres!L1241=\"\",\"\",[2]Paramètres!L1241)","v":""},{"$f":"IF([2]Paramètres!M1241=\"\",\"\",[2]Paramètres!M1241)","v":""},{"$f":"IF([2]Paramètres!N1241=\"\",\"\",[2]Paramètres!N1241)","v":""},{"$f":"IF([2]Paramètres!O1241=\"\",\"\",[2]Paramètres!O1241)","v":""},{"$f":"IF([2]Paramètres!P1241=\"\",\"\",[2]Paramètres!P1241)","v":""},{"$f":"IF([2]Paramètres!Q1241=\"\",\"\",[2]Paramètres!Q1241)","v":""}]
[null,null,null,null,null,null,null,null,null,{"$f":"IF([2]Paramètres!J1242=\"\",\"\",[2]Paramètres!J1242)","v":""},{"$f":"IF([2]Paramètres!K1242=\"\",\"\",[2]Paramètres!K1242)","v":""},{"$f":"IF([2]Paramètres!L1242=\"\",\"\",[2]Paramètres!L1242)","v":""},{"$f":"IF([2]Paramètres!M1242=\"\",\"\",[2]Paramètres!M1242)","v":""},{"$f":"IF([2]Paramètres!N1242=\"\",\"\",[2]Paramètres!N1242)","v":""},{"$f":"IF([2]Paramètres!O1242=\"\",\"\",[2]Paramètres!O1242)","v":""},{"$f":"IF([2]Paramètres!P1242=\"\",\"\",[2]Paramètres!P1242)","v":""},{"$f":"IF([2]Paramètres!Q1242=\"\",\"\",[2]Paramètres!Q1242)","v":""}]
[null,null,null,null,null,null,null,null,null,{"$f":"IF([2]Paramètres!J1243=\"\",\"\",[2]Paramètres!J1243)","v":""},{"$f":"IF([2]Paramètres!K1243=\"\",\"\",[2]Paramètres!K1243)","v":""},{"$f":"IF([2]Paramètres!L1243=\"\",\"\",[2]Paramètres!L1243)","v":""},{"$f":"IF([2]Paramètres!M1243=\"\",\"\",[2]Paramètres!M1243)","v":""},{"$f":"IF([2]Paramètres!N1243=\"\",\"\",[2]Paramètres!N1243)","v":""},{"$f":"IF([2]Paramètres!O1243=\"\",\"\",[2]Paramètres!O1243)","v":""},{"$f":"IF([2]Paramètres!P1243=\"\",\"\",[2]Paramètres!P1243)","v":""},{"$f":"IF([2]Paramètres!Q1243=\"\",\"\",[2]Paramètres!Q1243)","v":""}]
[null,null,null,null,null,null,null,null,null,{"$f":"IF([2]Paramètres!J1244=\"\",\"\",[2]Paramètres!J1244)","v":""},{"$f":"IF([2]Paramètres!K1244=\"\",\"\",[2]Paramètres!K1244)","v":""},{"$f":"IF([2]Paramètres!L1244=\"\",\"\",[2]Paramètres!L1244)","v":""},{"$f":"IF([2]Paramètres!M1244=\"\",\"\",[2]Paramètres!M1244)","v":""},{"$f":"IF([2]Paramètres!N1244=\"\",\"\",[2]Paramètres!N1244)","v":""},{"$f":"IF([2]Paramètres!O1244=\"\",\"\",[2]Paramètres!O1244)","v":""},{"$f":"IF([2]Paramètres!P1244=\"\",\"\",[2]Paramètres!P1244)","v":""},{"$f":"IF([2]Paramètres!Q1244=\"\",\"\",[2]Paramètres!Q1244)","v":""}]
[null,null,null,null,null,null,null,null,null,{"$f":"IF([2]Paramètres!J1245=\"\",\"\",[2]Paramètres!J1245)","v":""},{"$f":"IF([2]Paramètres!K1245=\"\",\"\",[2]Paramètres!K1245)","v":""},{"$f":"IF([2]Paramètres!L1245=\"\",\"\",[2]Paramètres!L1245)","v":""},{"$f":"IF([2]Paramètres!M1245=\"\",\"\",[2]Paramètres!M1245)","v":""},{"$f":"IF([2]Paramètres!N1245=\"\",\"\",[2]Paramètres!N1245)","v":""},{"$f":"IF([2]Paramètres!O1245=\"\",\"\",[2]Paramètres!O1245)","v":""},{"$f":"IF([2]Paramètres!P1245=\"\",\"\",[2]Paramètres!P1245)","v":""},{"$f":"IF([2]Paramètres!Q1245=\"\",\"\",[2]Paramètres!Q1245)","v":""}]
[null,null,null,null,null,null,null,null,null,{"$f":"IF([2]Paramètres!J1246=\"\",\"\",[2]Paramètres!J1246)","v":""},{"$f":"IF([2]Paramètres!K1246=\"\",\"\",[2]Paramètres!K1246)","v":""},{"$f":"IF([2]Paramètres!L1246=\"\",\"\",[2]Paramètres!L1246)","v":""},{"$f":"IF([2]Paramètres!M1246=\"\",\"\",[2]Paramètres!M1246)","v":""},{"$f":"IF([2]Paramètres!N1246=\"\",\"\",[2]Paramètres!N1246)","v":""},{"$f":"IF([2]Paramètres!O1246=\"\",\"\",[2]Paramètres!O1246)","v":""},{"$f":"IF([2]Paramètres!P1246=\"\",\"\",[2]Paramètres!P1246)","v":""},{"$f":"IF([2]Paramètres!Q1246=\"\",\"\",[2]Paramètres!Q1246)","v":""}]
[null,null,null,null,null,null,null,null,null,{"$f":"IF([2]Paramètres!J1247=\"\",\"\",[2]Paramètres!J1247)","v":""},{"$f":"IF([2]Paramètres!K1247=\"\",\"\",[2]Paramètres!K1247)","v":""},{"$f":"IF([2]Paramètres!L1247=\"\",\"\",[2]Paramètres!L1247)","v":""},{"$f":"IF([2]Paramètres!M1247=\"\",\"\",[2]Paramètres!M1247)","v":""},{"$f":"IF([2]Paramètres!N1247=\"\",\"\",[2]Paramètres!N1247)","v":""},{"$f":"IF([2]Paramètres!O1247=\"\",\"\",[2]Paramètres!O1247)","v":""},{"$f":"IF([2]Paramètres!P1247=\"\",\"\",[2]Paramètres!P1247)","v":""},{"$f":"IF([2]Paramètres!Q1247=\"\",\"\",[2]Paramètres!Q1247)","v":""}]
[null,null,null,null,null,null,null,null,null,{"$f":"IF([2]Paramètres!J1248=\"\",\"\",[2]Paramètres!J1248)","v":""},{"$f":"IF([2]Paramètres!K1248=\"\",\"\",[2]Paramètres!K1248)","v":""},{"$f":"IF([2]Paramètres!L1248=\"\",\"\",[2]Paramètres!L1248)","v":""},{"$f":"IF([2]Paramètres!M1248=\"\",\"\",[2]Paramètres!M1248)","v":""},{"$f":"IF([2]Paramètres!N1248=\"\",\"\",[2]Paramètres!N1248)","v":""},{"$f":"IF([2]Paramètres!O1248=\"\",\"\",[2]Paramètres!O1248)","v":""},{"$f":"IF([2]Paramètres!P1248=\"\",\"\",[2]Paramètres!P1248)","v":""},{"$f":"IF([2]Paramètres!Q1248=\"\",\"\",[2]Paramètres!Q1248)","v":""}]
[null,null,null,null,null,null,null,null,null,{"$f":"IF([2]Paramètres!J1249=\"\",\"\",[2]Paramètres!J1249)","v":""},{"$f":"IF([2]Paramètres!K1249=\"\",\"\",[2]Paramètres!K1249)","v":""},{"$f":"IF([2]Paramètres!L1249=\"\",\"\",[2]Paramètres!L1249)","v":""},{"$f":"IF([2]Paramètres!M1249=\"\",\"\",[2]Paramètres!M1249)","v":""},{"$f":"IF([2]Paramètres!N1249=\"\",\"\",[2]Paramètres!N1249)","v":""},{"$f":"IF([2]Paramètres!O1249=\"\",\"\",[2]Paramètres!O1249)","v":""},{"$f":"IF([2]Paramètres!P1249=\"\",\"\",[2]Paramètres!P1249)","v":""},{"$f":"IF([2]Paramètres!Q1249=\"\",\"\",[2]Paramètres!Q1249)","v":""}]
[null,null,null,null,null,null,null,null,null,{"$f":"IF([2]Paramètres!J1250=\"\",\"\",[2]Paramètres!J1250)","v":""},{"$f":"IF([2]Paramètres!K1250=\"\",\"\",[2]Paramètres!K1250)","v":""},{"$f":"IF([2]Paramètres!L1250=\"\",\"\",[2]Paramètres!L1250)","v":""},{"$f":"IF([2]Paramètres!M1250=\"\",\"\",[2]Paramètres!M1250)","v":""},{"$f":"IF([2]Paramètres!N1250=\"\",\"\",[2]Paramètres!N1250)","v":""},{"$f":"IF([2]Paramètres!O1250=\"\",\"\",[2]Paramètres!O1250)","v":""},{"$f":"IF([2]Paramètres!P1250=\"\",\"\",[2]Paramètres!P1250)","v":""},{"$f":"IF([2]Paramètres!Q1250=\"\",\"\",[2]Paramètres!Q1250)","v":""}]
[null,null,null,null,null,null,null,null,null,{"$f":"IF([2]Paramètres!J1251=\"\",\"\",[2]Paramètres!J1251)","v":""},{"$f":"IF([2]Paramètres!K1251=\"\",\"\",[2]Paramètres!K1251)","v":""},{"$f":"IF([2]Paramètres!L1251=\"\",\"\",[2]Paramètres!L1251)","v":""},{"$f":"IF([2]Paramètres!M1251=\"\",\"\",[2]Paramètres!M1251)","v":""},{"$f":"IF([2]Paramètres!N1251=\"\",\"\",[2]Paramètres!N1251)","v":""},{"$f":"IF([2]Paramètres!O1251=\"\",\"\",[2]Paramètres!O1251)","v":""},{"$f":"IF([2]Paramètres!P1251=\"\",\"\",[2]Paramètres!P1251)","v":""},{"$f":"IF([2]Paramètres!Q1251=\"\",\"\",[2]Paramètres!Q1251)","v":""}]
[null,null,null,null,null,null,null,null,null,{"$f":"IF([2]Paramètres!J1252=\"\",\"\",[2]Paramètres!J1252)","v":""},{"$f":"IF([2]Paramètres!K1252=\"\",\"\",[2]Paramètres!K1252)","v":""},{"$f":"IF([2]Paramètres!L1252=\"\",\"\",[2]Paramètres!L1252)","v":""},{"$f":"IF([2]Paramètres!M1252=\"\",\"\",[2]Paramètres!M1252)","v":""},{"$f":"IF([2]Paramètres!N1252=\"\",\"\",[2]Paramètres!N1252)","v":""},{"$f":"IF([2]Paramètres!O1252=\"\",\"\",[2]Paramètres!O1252)","v":""},{"$f":"IF([2]Paramètres!P1252=\"\",\"\",[2]Paramètres!P1252)","v":""},{"$f":"IF([2]Paramètres!Q1252=\"\",\"\",[2]Paramètres!Q1252)","v":""}]
[null,null,null,null,null,null,null,null,null,{"$f":"IF([2]Paramètres!J1253=\"\",\"\",[2]Paramètres!J1253)","v":""},{"$f":"IF([2]Paramètres!K1253=\"\",\"\",[2]Paramètres!K1253)","v":""},{"$f":"IF([2]Paramètres!L1253=\"\",\"\",[2]Paramètres!L1253)","v":""},{"$f":"IF([2]Paramètres!M1253=\"\",\"\",[2]Paramètres!M1253)","v":""},{"$f":"IF([2]Paramètres!N1253=\"\",\"\",[2]Paramètres!N1253)","v":""},{"$f":"IF([2]Paramètres!O1253=\"\",\"\",[2]Paramètres!O1253)","v":""},{"$f":"IF([2]Paramètres!P1253=\"\",\"\",[2]Paramètres!P1253)","v":""},{"$f":"IF([2]Paramètres!Q1253=\"\",\"\",[2]Paramètres!Q1253)","v":""}]
[null,null,null,null,null,null,null,null,null,{"$f":"IF([2]Paramètres!J1254=\"\",\"\",[2]Paramètres!J1254)","v":""},{"$f":"IF([2]Paramètres!K1254=\"\",\"\",[2]Paramètres!K1254)","v":""},{"$f":"IF([2]Paramètres!L1254=\"\",\"\",[2]Paramètres!L1254)","v":""},{"$f":"IF([2]Paramètres!M1254=\"\",\"\",[2]Paramètres!M1254)","v":""},{"$f":"IF([2]Paramètres!N1254=\"\",\"\",[2]Paramètres!N1254)","v":""},{"$f":"IF([2]Paramètres!O1254=\"\",\"\",[2]Paramètres!O1254)","v":""},{"$f":"IF([2]Paramètres!P1254=\"\",\"\",[2]Paramètres!P1254)","v":""},{"$f":"IF([2]Paramètres!Q1254=\"\",\"\",[2]Paramètres!Q1254)","v":""}]
[null,null,null,null,null,null,null,null,null,{"$f":"IF([2]Paramètres!J1255=\"\",\"\",[2]Paramètres!J1255)","v":""},{"$f":"IF([2]Paramètres!K1255=\"\",\"\",[2]Paramètres!K1255)","v":""},{"$f":"IF([2]Paramètres!L1255=\"\",\"\",[2]Paramètres!L1255)","v":""},{"$f":"IF([2]Paramètres!M1255=\"\",\"\",[2]Paramètres!M1255)","v":""},{"$f":"IF([2]Paramètres!N1255=\"\",\"\",[2]Paramètres!N1255)","v":""},{"$f":"IF([2]Paramètres!O1255=\"\",\"\",[2]Paramètres!O1255)","v":""},{"$f":"IF([2]Paramètres!P1255=\"\",\"\",[2]Paramètres!P1255)","v":""},{"$f":"IF([2]Paramètres!Q1255=\"\",\"\",[2]Paramètres!Q1255)","v":""}]
[null,null,null,null,null,null,null,null,null,{"$f":"IF([2]Paramètres!J1256=\"\",\"\",[2]Paramètres!J1256)","v":""},{"$f":"IF([2]Paramètres!K1256=\"\",\"\",[2]Paramètres!K1256)","v":""},{"$f":"IF([2]Paramètres!L1256=\"\",\"\",[2]Paramètres!L1256)","v":""},{"$f":"IF([2]Paramètres!M1256=\"\",\"\",[2]Paramètres!M1256)","v":""},{"$f":"IF([2]Paramètres!N1256=\"\",\"\",[2]Paramètres!N1256)","v":""},{"$f":"IF([2]Paramètres!O1256=\"\",\"\",[2]Paramètres!O1256)","v":""},{"$f":"IF([2]Paramètres!P1256=\"\",\"\",[2]Paramètres!P1256)","v":""},{"$f":"IF([2]Paramètres!Q1256=\"\",\"\",[2]Paramètres!Q1256)","v":""}]
[null,null,null,null,null,null,null,null,null,{"$f":"IF([2]Paramètres!J1257=\"\",\"\",[2]Paramètres!J1257)","v":""},{"$f":"IF([2]Paramètres!K1257=\"\",\"\",[2]Paramètres!K1257)","v":""},{"$f":"IF([2]Paramètres!L1257=\"\",\"\",[2]Paramètres!L1257)","v":""},{"$f":"IF([2]Paramètres!M1257=\"\",\"\",[2]Paramètres!M1257)","v":""},{"$f":"IF([2]Paramètres!N1257=\"\",\"\",[2]Paramètres!N1257)","v":""},{"$f":"IF([2]Paramètres!O1257=\"\",\"\",[2]Paramètres!O1257)","v":""},{"$f":"IF([2]Paramètres!P1257=\"\",\"\",[2]Paramètres!P1257)","v":""},{"$f":"IF([2]Paramètres!Q1257=\"\",\"\",[2]Paramètres!Q1257)","v":""}]
[null,null,null,null,null,null,null,null,null,{"$f":"IF([2]Paramètres!J1258=\"\",\"\",[2]Paramètres!J1258)","v":""},{"$f":"IF([2]Paramètres!K1258=\"\",\"\",[2]Paramètres!K1258)","v":""},{"$f":"IF([2]Paramètres!L1258=\"\",\"\",[2]Paramètres!L1258)","v":""},{"$f":"IF([2]Paramètres!M1258=\"\",\"\",[2]Paramètres!M1258)","v":""},{"$f":"IF([2]Paramètres!N1258=\"\",\"\",[2]Paramètres!N1258)","v":""},{"$f":"IF([2]Paramètres!O1258=\"\",\"\",[2]Paramètres!O1258)","v":""},{"$f":"IF([2]Paramètres!P1258=\"\",\"\",[2]Paramètres!P1258)","v":""},{"$f":"IF([2]Paramètres!Q1258=\"\",\"\",[2]Paramètres!Q1258)","v":""}]
[null,null,null,null,null,null,null,null,null,{"$f":"IF([2]Paramètres!J1259=\"\",\"\",[2]Paramètres!J1259)","v":""},{"$f":"IF([2]Paramètres!K1259=\"\",\"\",[2]Paramètres!K1259)","v":""},{"$f":"IF([2]Paramètres!L1259=\"\",\"\",[2]Paramètres!L1259)","v":""},{"$f":"IF([2]Paramètres!M1259=\"\",\"\",[2]Paramètres!M1259)","v":""},{"$f":"IF([2]Paramètres!N1259=\"\",\"\",[2]Paramètres!N1259)","v":""},{"$f":"IF([2]Paramètres!O1259=\"\",\"\",[2]Paramètres!O1259)","v":""},{"$f":"IF([2]Paramètres!P1259=\"\",\"\",[2]Paramètres!P1259)","v":""},{"$f":"IF([2]Paramètres!Q1259=\"\",\"\",[2]Paramètres!Q1259)","v":""}]
[null,null,null,null,null,null,null,null,null,{"$f":"IF([2]Paramètres!J1260=\"\",\"\",[2]Paramètres!J1260)","v":""},{"$f":"IF([2]Paramètres!K1260=\"\",\"\",[2]Paramètres!K1260)","v":""},{"$f":"IF([2]Paramètres!L1260=\"\",\"\",[2]Paramètres!L1260)","v":""},{"$f":"IF([2]Paramètres!M1260=\"\",\"\",[2]Paramètres!M1260)","v":""},{"$f":"IF([2]Paramètres!N1260=\"\",\"\",[2]Paramètres!N1260)","v":""},{"$f":"IF([2]Paramètres!O1260=\"\",\"\",[2]Paramètres!O1260)","v":""},{"$f":"IF([2]Paramètres!P1260=\"\",\"\",[2]Paramètres!P1260)","v":""},{"$f":"IF([2]Paramètres!Q1260=\"\",\"\",[2]Paramètres!Q1260)","v":""}]
[null,null,null,null,null,null,null,null,null,{"$f":"IF([2]Paramètres!J1261=\"\",\"\",[2]Paramètres!J1261)","v":""},{"$f":"IF([2]Paramètres!K1261=\"\",\"\",[2]Paramètres!K1261)","v":""},{"$f":"IF([2]Paramètres!L1261=\"\",\"\",[2]Paramètres!L1261)","v":""},{"$f":"IF([2]Paramètres!M1261=\"\",\"\",[2]Paramètres!M1261)","v":""},{"$f":"IF([2]Paramètres!N1261=\"\",\"\",[2]Paramètres!N1261)","v":""},{"$f":"IF([2]Paramètres!O1261=\"\",\"\",[2]Paramètres!O1261)","v":""},{"$f":"IF([2]Paramètres!P1261=\"\",\"\",[2]Paramètres!P1261)","v":""},{"$f":"IF([2]Paramètres!Q1261=\"\",\"\",[2]Paramètres!Q1261)","v":""}]
[null,null,null,null,null,null,null,null,null,{"$f":"IF([2]Paramètres!J1262=\"\",\"\",[2]Paramètres!J1262)","v":""},{"$f":"IF([2]Paramètres!K1262=\"\",\"\",[2]Paramètres!K1262)","v":""},{"$f":"IF([2]Paramètres!L1262=\"\",\"\",[2]Paramètres!L1262)","v":""},{"$f":"IF([2]Paramètres!M1262=\"\",\"\",[2]Paramètres!M1262)","v":""},{"$f":"IF([2]Paramètres!N1262=\"\",\"\",[2]Paramètres!N1262)","v":""},{"$f":"IF([2]Paramètres!O1262=\"\",\"\",[2]Paramètres!O1262)","v":""},{"$f":"IF([2]Paramètres!P1262=\"\",\"\",[2]Paramètres!P1262)","v":""},{"$f":"IF([2]Paramètres!Q1262=\"\",\"\",[2]Paramètres!Q1262)","v":""}]
[null,null,null,null,null,null,null,null,null,{"$f":"IF([2]Paramètres!J1263=\"\",\"\",[2]Paramètres!J1263)","v":""},{"$f":"IF([2]Paramètres!K1263=\"\",\"\",[2]Paramètres!K1263)","v":""},{"$f":"IF([2]Paramètres!L1263=\"\",\"\",[2]Paramètres!L1263)","v":""},{"$f":"IF([2]Paramètres!M1263=\"\",\"\",[2]Paramètres!M1263)","v":""},{"$f":"IF([2]Paramètres!N1263=\"\",\"\",[2]Paramètres!N1263)","v":""},{"$f":"IF([2]Paramètres!O1263=\"\",\"\",[2]Paramètres!O1263)","v":""},{"$f":"IF([2]Paramètres!P1263=\"\",\"\",[2]Paramètres!P1263)","v":""},{"$f":"IF([2]Paramètres!Q1263=\"\",\"\",[2]Paramètres!Q1263)","v":""}]
[null,null,null,null,null,null,null,null,null,{"$f":"IF([2]Paramètres!J1264=\"\",\"\",[2]Paramètres!J1264)","v":""},{"$f":"IF([2]Paramètres!K1264=\"\",\"\",[2]Paramètres!K1264)","v":""},{"$f":"IF([2]Paramètres!L1264=\"\",\"\",[2]Paramètres!L1264)","v":""},{"$f":"IF([2]Paramètres!M1264=\"\",\"\",[2]Paramètres!M1264)","v":""},{"$f":"IF([2]Paramètres!N1264=\"\",\"\",[2]Paramètres!N1264)","v":""},{"$f":"IF([2]Paramètres!O1264=\"\",\"\",[2]Paramètres!O1264)","v":""},{"$f":"IF([2]Paramètres!P1264=\"\",\"\",[2]Paramètres!P1264)","v":""},{"$f":"IF([2]Paramètres!Q1264=\"\",\"\",[2]Paramètres!Q1264)","v":""}]
[null,null,null,null,null,null,null,null,null,{"$f":"IF([2]Paramètres!J1265=\"\",\"\",[2]Paramètres!J1265)","v":""},{"$f":"IF([2]Paramètres!K1265=\"\",\"\",[2]Paramètres!K1265)","v":""},{"$f":"IF([2]Paramètres!L1265=\"\",\"\",[2]Paramètres!L1265)","v":""},{"$f":"IF([2]Paramètres!M1265=\"\",\"\",[2]Paramètres!M1265)","v":""},{"$f":"IF([2]Paramètres!N1265=\"\",\"\",[2]Paramètres!N1265)","v":""},{"$f":"IF([2]Paramètres!O1265=\"\",\"\",[2]Paramètres!O1265)","v":""},{"$f":"IF([2]Paramètres!P1265=\"\",\"\",[2]Paramètres!P1265)","v":""},{"$f":"IF([2]Paramètres!Q1265=\"\",\"\",[2]Paramètres!Q1265)","v":""}]
[null,null,null,null,null,null,null,null,null,{"$f":"IF([2]Paramètres!J1266=\"\",\"\",[2]Paramètres!J1266)","v":""},{"$f":"IF([2]Paramètres!K1266=\"\",\"\",[2]Paramètres!K1266)","v":""},{"$f":"IF([2]Paramètres!L1266=\"\",\"\",[2]Paramètres!L1266)","v":""},{"$f":"IF([2]Paramètres!M1266=\"\",\"\",[2]Paramètres!M1266)","v":""},{"$f":"IF([2]Paramètres!N1266=\"\",\"\",[2]Paramètres!N1266)","v":""},{"$f":"IF([2]Paramètres!O1266=\"\",\"\",[2]Paramètres!O1266)","v":""},{"$f":"IF([2]Paramètres!P1266=\"\",\"\",[2]Paramètres!P1266)","v":""},{"$f":"IF([2]Paramètres!Q1266=\"\",\"\",[2]Paramètres!Q1266)","v":""}]
[null,null,null,null,null,null,null,null,null,{"$f":"IF([2]Paramètres!J1267=\"\",\"\",[2]Paramètres!J1267)","v":""},{"$f":"IF([2]Paramètres!K1267=\"\",\"\",[2]Paramètres!K1267)","v":""},{"$f":"IF([2]Paramètres!L1267=\"\",\"\",[2]Paramètres!L1267)","v":""},{"$f":"IF([2]Paramètres!M1267=\"\",\"\",[2]Paramètres!M1267)","v":""},{"$f":"IF([2]Paramètres!N1267=\"\",\"\",[2]Paramètres!N1267)","v":""},{"$f":"IF([2]Paramètres!O1267=\"\",\"\",[2]Paramètres!O1267)","v":""},{"$f":"IF([2]Paramètres!P1267=\"\",\"\",[2]Paramètres!P1267)","v":""},{"$f":"IF([2]Paramètres!Q1267=\"\",\"\",[2]Paramètres!Q1267)","v":""}]
[null,null,null,null,null,null,null,null,null,{"$f":"IF([2]Paramètres!J1268=\"\",\"\",[2]Paramètres!J1268)","v":""},{"$f":"IF([2]Paramètres!K1268=\"\",\"\",[2]Paramètres!K1268)","v":""},{"$f":"IF([2]Paramètres!L1268=\"\",\"\",[2]Paramètres!L1268)","v":""},{"$f":"IF([2]Paramètres!M1268=\"\",\"\",[2]Paramètres!M1268)","v":""},{"$f":"IF([2]Paramètres!N1268=\"\",\"\",[2]Paramètres!N1268)","v":""},{"$f":"IF([2]Paramètres!O1268=\"\",\"\",[2]Paramètres!O1268)","v":""},{"$f":"IF([2]Paramètres!P1268=\"\",\"\",[2]Paramètres!P1268)","v":""},{"$f":"IF([2]Paramètres!Q1268=\"\",\"\",[2]Paramètres!Q1268)","v":""}]
[null,null,null,null,null,null,null,null,null,{"$f":"IF([2]Paramètres!J1269=\"\",\"\",[2]Paramètres!J1269)","v":""},{"$f":"IF([2]Paramètres!K1269=\"\",\"\",[2]Paramètres!K1269)","v":""},{"$f":"IF([2]Paramètres!L1269=\"\",\"\",[2]Paramètres!L1269)","v":""},{"$f":"IF([2]Paramètres!M1269=\"\",\"\",[2]Paramètres!M1269)","v":""},{"$f":"IF([2]Paramètres!N1269=\"\",\"\",[2]Paramètres!N1269)","v":""},{"$f":"IF([2]Paramètres!O1269=\"\",\"\",[2]Paramètres!O1269)","v":""},{"$f":"IF([2]Paramètres!P1269=\"\",\"\",[2]Paramètres!P1269)","v":""},{"$f":"IF([2]Paramètres!Q1269=\"\",\"\",[2]Paramètres!Q1269)","v":""}]
[null,null,null,null,null,null,null,null,null,{"$f":"IF([2]Paramètres!J1270=\"\",\"\",[2]Paramètres!J1270)","v":""},{"$f":"IF([2]Paramètres!K1270=\"\",\"\",[2]Paramètres!K1270)","v":""},{"$f":"IF([2]Paramètres!L1270=\"\",\"\",[2]Paramètres!L1270)","v":""},{"$f":"IF([2]Paramètres!M1270=\"\",\"\",[2]Paramètres!M1270)","v":""},{"$f":"IF([2]Paramètres!N1270=\"\",\"\",[2]Paramètres!N1270)","v":""},{"$f":"IF([2]Paramètres!O1270=\"\",\"\",[2]Paramètres!O1270)","v":""},{"$f":"IF([2]Paramètres!P1270=\"\",\"\",[2]Paramètres!P1270)","v":""},{"$f":"IF([2]Paramètres!Q1270=\"\",\"\",[2]Paramètres!Q1270)","v":""}]
[null,null,null,null,null,null,null,null,null,{"$f":"IF([2]Paramètres!J1271=\"\",\"\",[2]Paramètres!J1271)","v":""},{"$f":"IF([2]Paramètres!K1271=\"\",\"\",[2]Paramètres!K1271)","v":""},{"$f":"IF([2]Paramètres!L1271=\"\",\"\",[2]Paramètres!L1271)","v":""},{"$f":"IF([2]Paramètres!M1271=\"\",\"\",[2]Paramètres!M1271)","v":""},{"$f":"IF([2]Paramètres!N1271=\"\",\"\",[2]Paramètres!N1271)","v":""},{"$f":"IF([2]Paramètres!O1271=\"\",\"\",[2]Paramètres!O1271)","v":""},{"$f":"IF([2]Paramètres!P1271=\"\",\"\",[2]Paramètres!P1271)","v":""},{"$f":"IF([2]Paramètres!Q1271=\"\",\"\",[2]Paramètres!Q1271)","v":""}]
[null,null,null,null,null,null,null,null,null,{"$f":"IF([2]Paramètres!J1272=\"\",\"\",[2]Paramètres!J1272)","v":""},{"$f":"IF([2]Paramètres!K1272=\"\",\"\",[2]Paramètres!K1272)","v":""},{"$f":"IF([2]Paramètres!L1272=\"\",\"\",[2]Paramètres!L1272)","v":""},{"$f":"IF([2]Paramètres!M1272=\"\",\"\",[2]Paramètres!M1272)","v":""},{"$f":"IF([2]Paramètres!N1272=\"\",\"\",[2]Paramètres!N1272)","v":""},{"$f":"IF([2]Paramètres!O1272=\"\",\"\",[2]Paramètres!O1272)","v":""},{"$f":"IF([2]Paramètres!P1272=\"\",\"\",[2]Paramètres!P1272)","v":""},{"$f":"IF([2]Paramètres!Q1272=\"\",\"\",[2]Paramètres!Q1272)","v":""}]
[null,null,null,null,null,null,null,null,null,{"$f":"IF([2]Paramètres!J1273=\"\",\"\",[2]Paramètres!J1273)","v":""},{"$f":"IF([2]Paramètres!K1273=\"\",\"\",[2]Paramètres!K1273)","v":""},{"$f":"IF([2]Paramètres!L1273=\"\",\"\",[2]Paramètres!L1273)","v":""},{"$f":"IF([2]Paramètres!M1273=\"\",\"\",[2]Paramètres!M1273)","v":""},{"$f":"IF([2]Paramètres!N1273=\"\",\"\",[2]Paramètres!N1273)","v":""},{"$f":"IF([2]Paramètres!O1273=\"\",\"\",[2]Paramètres!O1273)","v":""},{"$f":"IF([2]Paramètres!P1273=\"\",\"\",[2]Paramètres!P1273)","v":""},{"$f":"IF([2]Paramètres!Q1273=\"\",\"\",[2]Paramètres!Q1273)","v":""}]
[null,null,null,null,null,null,null,null,null,{"$f":"IF([2]Paramètres!J1274=\"\",\"\",[2]Paramètres!J1274)","v":""},{"$f":"IF([2]Paramètres!K1274=\"\",\"\",[2]Paramètres!K1274)","v":""},{"$f":"IF([2]Paramètres!L1274=\"\",\"\",[2]Paramètres!L1274)","v":""},{"$f":"IF([2]Paramètres!M1274=\"\",\"\",[2]Paramètres!M1274)","v":""},{"$f":"IF([2]Paramètres!N1274=\"\",\"\",[2]Paramètres!N1274)","v":""},{"$f":"IF([2]Paramètres!O1274=\"\",\"\",[2]Paramètres!O1274)","v":""},{"$f":"IF([2]Paramètres!P1274=\"\",\"\",[2]Paramètres!P1274)","v":""},{"$f":"IF([2]Paramètres!Q1274=\"\",\"\",[2]Paramètres!Q1274)","v":""}]
[null,null,null,null,null,null,null,null,null,{"$f":"IF([2]Paramètres!J1275=\"\",\"\",[2]Paramètres!J1275)","v":""},{"$f":"IF([2]Paramètres!K1275=\"\",\"\",[2]Paramètres!K1275)","v":""},{"$f":"IF([2]Paramètres!L1275=\"\",\"\",[2]Paramètres!L1275)","v":""},{"$f":"IF([2]Paramètres!M1275=\"\",\"\",[2]Paramètres!M1275)","v":""},{"$f":"IF([2]Paramètres!N1275=\"\",\"\",[2]Paramètres!N1275)","v":""},{"$f":"IF([2]Paramètres!O1275=\"\",\"\",[2]Paramètres!O1275)","v":""},{"$f":"IF([2]Paramètres!P1275=\"\",\"\",[2]Paramètres!P1275)","v":""},{"$f":"IF([2]Paramètres!Q1275=\"\",\"\",[2]Paramètres!Q1275)","v":""}]
[null,null,null,null,null,null,null,null,null,{"$f":"IF([2]Paramètres!J1276=\"\",\"\",[2]Paramètres!J1276)","v":""},{"$f":"IF([2]Paramètres!K1276=\"\",\"\",[2]Paramètres!K1276)","v":""},{"$f":"IF([2]Paramètres!L1276=\"\",\"\",[2]Paramètres!L1276)","v":""},{"$f":"IF([2]Paramètres!M1276=\"\",\"\",[2]Paramètres!M1276)","v":""},{"$f":"IF([2]Paramètres!N1276=\"\",\"\",[2]Paramètres!N1276)","v":""},{"$f":"IF([2]Paramètres!O1276=\"\",\"\",[2]Paramètres!O1276)","v":""},{"$f":"IF([2]Paramètres!P1276=\"\",\"\",[2]Paramètres!P1276)","v":""},{"$f":"IF([2]Paramètres!Q1276=\"\",\"\",[2]Paramètres!Q1276)","v":""}]
[null,null,null,null,null,null,null,null,null,{"$f":"IF([2]Paramètres!J1277=\"\",\"\",[2]Paramètres!J1277)","v":""},{"$f":"IF([2]Paramètres!K1277=\"\",\"\",[2]Paramètres!K1277)","v":""},{"$f":"IF([2]Paramètres!L1277=\"\",\"\",[2]Paramètres!L1277)","v":""},{"$f":"IF([2]Paramètres!M1277=\"\",\"\",[2]Paramètres!M1277)","v":""},{"$f":"IF([2]Paramètres!N1277=\"\",\"\",[2]Paramètres!N1277)","v":""},{"$f":"IF([2]Paramètres!O1277=\"\",\"\",[2]Paramètres!O1277)","v":""},{"$f":"IF([2]Paramètres!P1277=\"\",\"\",[2]Paramètres!P1277)","v":""},{"$f":"IF([2]Paramètres!Q1277=\"\",\"\",[2]Paramètres!Q1277)","v":""}]
[null,null,null,null,null,null,null,null,null,{"$f":"IF([2]Paramètres!J1278=\"\",\"\",[2]Paramètres!J1278)","v":""},{"$f":"IF([2]Paramètres!K1278=\"\",\"\",[2]Paramètres!K1278)","v":""},{"$f":"IF([2]Paramètres!L1278=\"\",\"\",[2]Paramètres!L1278)","v":""},{"$f":"IF([2]Paramètres!M1278=\"\",\"\",[2]Paramètres!M1278)","v":""},{"$f":"IF([2]Paramètres!N1278=\"\",\"\",[2]Paramètres!N1278)","v":""},{"$f":"IF([2]Paramètres!O1278=\"\",\"\",[2]Paramètres!O1278)","v":""},{"$f":"IF([2]Paramètres!P1278=\"\",\"\",[2]Paramètres!P1278)","v":""},{"$f":"IF([2]Paramètres!Q1278=\"\",\"\",[2]Paramètres!Q1278)","v":""}]
[null,null,null,null,null,null,null,null,null,{"$f":"IF([2]Paramètres!J1279=\"\",\"\",[2]Paramètres!J1279)","v":""},{"$f":"IF([2]Paramètres!K1279=\"\",\"\",[2]Paramètres!K1279)","v":""},{"$f":"IF([2]Paramètres!L1279=\"\",\"\",[2]Paramètres!L1279)","v":""},{"$f":"IF([2]Paramètres!M1279=\"\",\"\",[2]Paramètres!M1279)","v":""},{"$f":"IF([2]Paramètres!N1279=\"\",\"\",[2]Paramètres!N1279)","v":""},{"$f":"IF([2]Paramètres!O1279=\"\",\"\",[2]Paramètres!O1279)","v":""},{"$f":"IF([2]Paramètres!P1279=\"\",\"\",[2]Paramètres!P1279)","v":""},{"$f":"IF([2]Paramètres!Q1279=\"\",\"\",[2]Paramètres!Q1279)","v":""}]
[null,null,null,null,null,null,null,null,null,{"$f":"IF([2]Paramètres!J1280=\"\",\"\",[2]Paramètres!J1280)","v":""},{"$f":"IF([2]Paramètres!K1280=\"\",\"\",[2]Paramètres!K1280)","v":""},{"$f":"IF([2]Paramètres!L1280=\"\",\"\",[2]Paramètres!L1280)","v":""},{"$f":"IF([2]Paramètres!M1280=\"\",\"\",[2]Paramètres!M1280)","v":""},{"$f":"IF([2]Paramètres!N1280=\"\",\"\",[2]Paramètres!N1280)","v":""},{"$f":"IF([2]Paramètres!O1280=\"\",\"\",[2]Paramètres!O1280)","v":""},{"$f":"IF([2]Paramètres!P1280=\"\",\"\",[2]Paramètres!P1280)","v":""},{"$f":"IF([2]Paramètres!Q1280=\"\",\"\",[2]Paramètres!Q1280)","v":""}]
[null,null,null,null,null,null,null,null,null,{"$f":"IF([2]Paramètres!J1281=\"\",\"\",[2]Paramètres!J1281)","v":""},{"$f":"IF([2]Paramètres!K1281=\"\",\"\",[2]Paramètres!K1281)","v":""},{"$f":"IF([2]Paramètres!L1281=\"\",\"\",[2]Paramètres!L1281)","v":""},{"$f":"IF([2]Paramètres!M1281=\"\",\"\",[2]Paramètres!M1281)","v":""},{"$f":"IF([2]Paramètres!N1281=\"\",\"\",[2]Paramètres!N1281)","v":""},{"$f":"IF([2]Paramètres!O1281=\"\",\"\",[2]Paramètres!O1281)","v":""},{"$f":"IF([2]Paramètres!P1281=\"\",\"\",[2]Paramètres!P1281)","v":""},{"$f":"IF([2]Paramètres!Q1281=\"\",\"\",[2]Paramètres!Q1281)","v":""}]
[null,null,null,null,null,null,null,null,null,{"$f":"IF([2]Paramètres!J1282=\"\",\"\",[2]Paramètres!J1282)","v":""},{"$f":"IF([2]Paramètres!K1282=\"\",\"\",[2]Paramètres!K1282)","v":""},{"$f":"IF([2]Paramètres!L1282=\"\",\"\",[2]Paramètres!L1282)","v":""},{"$f":"IF([2]Paramètres!M1282=\"\",\"\",[2]Paramètres!M1282)","v":""},{"$f":"IF([2]Paramètres!N1282=\"\",\"\",[2]Paramètres!N1282)","v":""},{"$f":"IF([2]Paramètres!O1282=\"\",\"\",[2]Paramètres!O1282)","v":""},{"$f":"IF([2]Paramètres!P1282=\"\",\"\",[2]Paramètres!P1282)","v":""},{"$f":"IF([2]Paramètres!Q1282=\"\",\"\",[2]Paramètres!Q1282)","v":""}]
[null,null,null,null,null,null,null,null,null,{"$f":"IF([2]Paramètres!J1283=\"\",\"\",[2]Paramètres!J1283)","v":""},{"$f":"IF([2]Paramètres!K1283=\"\",\"\",[2]Paramètres!K1283)","v":""},{"$f":"IF([2]Paramètres!L1283=\"\",\"\",[2]Paramètres!L1283)","v":""},{"$f":"IF([2]Paramètres!M1283=\"\",\"\",[2]Paramètres!M1283)","v":""},{"$f":"IF([2]Paramètres!N1283=\"\",\"\",[2]Paramètres!N1283)","v":""},{"$f":"IF([2]Paramètres!O1283=\"\",\"\",[2]Paramètres!O1283)","v":""},{"$f":"IF([2]Paramètres!P1283=\"\",\"\",[2]Paramètres!P1283)","v":""},{"$f":"IF([2]Paramètres!Q1283=\"\",\"\",[2]Paramètres!Q1283)","v":""}]
[null,null,null,null,null,null,null,null,null,{"$f":"IF([2]Paramètres!J1284=\"\",\"\",[2]Paramètres!J1284)","v":""},{"$f":"IF([2]Paramètres!K1284=\"\",\"\",[2]Paramètres!K1284)","v":""},{"$f":"IF([2]Paramètres!L1284=\"\",\"\",[2]Paramètres!L1284)","v":""},{"$f":"IF([2]Paramètres!M1284=\"\",\"\",[2]Paramètres!M1284)","v":""},{"$f":"IF([2]Paramètres!N1284=\"\",\"\",[2]Paramètres!N1284)","v":""},{"$f":"IF([2]Paramètres!O1284=\"\",\"\",[2]Paramètres!O1284)","v":""},{"$f":"IF([2]Paramètres!P1284=\"\",\"\",[2]Paramètres!P1284)","v":""},{"$f":"IF([2]Paramètres!Q1284=\"\",\"\",[2]Paramètres!Q1284)","v":""}]
[null,null,null,null,null,null,null,null,null,{"$f":"IF([2]Paramètres!J1285=\"\",\"\",[2]Paramètres!J1285)","v":""},{"$f":"IF([2]Paramètres!K1285=\"\",\"\",[2]Paramètres!K1285)","v":""},{"$f":"IF([2]Paramètres!L1285=\"\",\"\",[2]Paramètres!L1285)","v":""},{"$f":"IF([2]Paramètres!M1285=\"\",\"\",[2]Paramètres!M1285)","v":""},{"$f":"IF([2]Paramètres!N1285=\"\",\"\",[2]Paramètres!N1285)","v":""},{"$f":"IF([2]Paramètres!O1285=\"\",\"\",[2]Paramètres!O1285)","v":""},{"$f":"IF([2]Paramètres!P1285=\"\",\"\",[2]Paramètres!P1285)","v":""},{"$f":"IF([2]Paramètres!Q1285=\"\",\"\",[2]Paramètres!Q1285)","v":""}]
[null,null,null,null,null,null,null,null,null,{"$f":"IF([2]Paramètres!J1286=\"\",\"\",[2]Paramètres!J1286)","v":""},{"$f":"IF([2]Paramètres!K1286=\"\",\"\",[2]Paramètres!K1286)","v":""},{"$f":"IF([2]Paramètres!L1286=\"\",\"\",[2]Paramètres!L1286)","v":""},{"$f":"IF([2]Paramètres!M1286=\"\",\"\",[2]Paramètres!M1286)","v":""},{"$f":"IF([2]Paramètres!N1286=\"\",\"\",[2]Paramètres!N1286)","v":""},{"$f":"IF([2]Paramètres!O1286=\"\",\"\",[2]Paramètres!O1286)","v":""},{"$f":"IF([2]Paramètres!P1286=\"\",\"\",[2]Paramètres!P1286)","v":""},{"$f":"IF([2]Paramètres!Q1286=\"\",\"\",[2]Paramètres!Q1286)","v":""}]
[null,null,null,null,null,null,null,null,null,{"$f":"IF([2]Paramètres!J1287=\"\",\"\",[2]Paramètres!J1287)","v":""},{"$f":"IF([2]Paramètres!K1287=\"\",\"\",[2]Paramètres!K1287)","v":""},{"$f":"IF([2]Paramètres!L1287=\"\",\"\",[2]Paramètres!L1287)","v":""},{"$f":"IF([2]Paramètres!M1287=\"\",\"\",[2]Paramètres!M1287)","v":""},{"$f":"IF([2]Paramètres!N1287=\"\",\"\",[2]Paramètres!N1287)","v":""},{"$f":"IF([2]Paramètres!O1287=\"\",\"\",[2]Paramètres!O1287)","v":""},{"$f":"IF([2]Paramètres!P1287=\"\",\"\",[2]Paramètres!P1287)","v":""},{"$f":"IF([2]Paramètres!Q1287=\"\",\"\",[2]Paramètres!Q1287)","v":""}]
[null,null,null,null,null,null,null,null,null,{"$f":"IF([2]Paramètres!J1288=\"\",\"\",[2]Paramètres!J1288)","v":""},{"$f":"IF([2]Paramètres!K1288=\"\",\"\",[2]Paramètres!K1288)","v":""},{"$f":"IF([2]Paramètres!L1288=\"\",\"\",[2]Paramètres!L1288)","v":""},{"$f":"IF([2]Paramètres!M1288=\"\",\"\",[2]Paramètres!M1288)","v":""},{"$f":"IF([2]Paramètres!N1288=\"\",\"\",[2]Paramètres!N1288)","v":""},{"$f":"IF([2]Paramètres!O1288=\"\",\"\",[2]Paramètres!O1288)","v":""},{"$f":"IF([2]Paramètres!P1288=\"\",\"\",[2]Paramètres!P1288)","v":""},{"$f":"IF([2]Paramètres!Q1288=\"\",\"\",[2]Paramètres!Q1288)","v":""}]
[null,null,null,null,null,null,null,null,null,{"$f":"IF([2]Paramètres!J1289=\"\",\"\",[2]Paramètres!J1289)","v":""},{"$f":"IF([2]Paramètres!K1289=\"\",\"\",[2]Paramètres!K1289)","v":""},{"$f":"IF([2]Paramètres!L1289=\"\",\"\",[2]Paramètres!L1289)","v":""},{"$f":"IF([2]Paramètres!M1289=\"\",\"\",[2]Paramètres!M1289)","v":""},{"$f":"IF([2]Paramètres!N1289=\"\",\"\",[2]Paramètres!N1289)","v":""},{"$f":"IF([2]Paramètres!O1289=\"\",\"\",[2]Paramètres!O1289)","v":""},{"$f":"IF([2]Paramètres!P1289=\"\",\"\",[2]Paramètres!P1289)","v":""},{"$f":"IF([2]Paramètres!Q1289=\"\",\"\",[2]Paramètres!Q1289)","v":""}]
[null,null,null,null,null,null,null,null,null,{"$f":"IF([2]Paramètres!J1290=\"\",\"\",[2]Paramètres!J1290)","v":""},{"$f":"IF([2]Paramètres!K1290=\"\",\"\",[2]Paramètres!K1290)","v":""},{"$f":"IF([2]Paramètres!L1290=\"\",\"\",[2]Paramètres!L1290)","v":""},{"$f":"IF([2]Paramètres!M1290=\"\",\"\",[2]Paramètres!M1290)","v":""},{"$f":"IF([2]Paramètres!N1290=\"\",\"\",[2]Paramètres!N1290)","v":""},{"$f":"IF([2]Paramètres!O1290=\"\",\"\",[2]Paramètres!O1290)","v":""},{"$f":"IF([2]Paramètres!P1290=\"\",\"\",[2]Paramètres!P1290)","v":""},{"$f":"IF([2]Paramètres!Q1290=\"\",\"\",[2]Paramètres!Q1290)","v":""}]
[null,null,null,null,null,null,null,null,null,{"$f":"IF([2]Paramètres!J1291=\"\",\"\",[2]Paramètres!J1291)","v":""},{"$f":"IF([2]Paramètres!K1291=\"\",\"\",[2]Paramètres!K1291)","v":""},{"$f":"IF([2]Paramètres!L1291=\"\",\"\",[2]Paramètres!L1291)","v":""},{"$f":"IF([2]Paramètres!M1291=\"\",\"\",[2]Paramètres!M1291)","v":""},{"$f":"IF([2]Paramètres!N1291=\"\",\"\",[2]Paramètres!N1291)","v":""},{"$f":"IF([2]Paramètres!O1291=\"\",\"\",[2]Paramètres!O1291)","v":""},{"$f":"IF([2]Paramètres!P1291=\"\",\"\",[2]Paramètres!P1291)","v":""},{"$f":"IF([2]Paramètres!Q1291=\"\",\"\",[2]Paramètres!Q1291)","v":""}]
[null,null,null,null,null,null,null,null,null,{"$f":"IF([2]Paramètres!J1292=\"\",\"\",[2]Paramètres!J1292)","v":""},{"$f":"IF([2]Paramètres!K1292=\"\",\"\",[2]Paramètres!K1292)","v":""},{"$f":"IF([2]Paramètres!L1292=\"\",\"\",[2]Paramètres!L1292)","v":""},{"$f":"IF([2]Paramètres!M1292=\"\",\"\",[2]Paramètres!M1292)","v":""},{"$f":"IF([2]Paramètres!N1292=\"\",\"\",[2]Paramètres!N1292)","v":""},{"$f":"IF([2]Paramètres!O1292=\"\",\"\",[2]Paramètres!O1292)","v":""},{"$f":"IF([2]Paramètres!P1292=\"\",\"\",[2]Paramètres!P1292)","v":""},{"$f":"IF([2]Paramètres!Q1292=\"\",\"\",[2]Paramètres!Q1292)","v":""}]
[null,null,null,null,null,null,null,null,null,{"$f":"IF([2]Paramètres!J1293=\"\",\"\",[2]Paramètres!J1293)","v":""},{"$f":"IF([2]Paramètres!K1293=\"\",\"\",[2]Paramètres!K1293)","v":""},{"$f":"IF([2]Paramètres!L1293=\"\",\"\",[2]Paramètres!L1293)","v":""},{"$f":"IF([2]Paramètres!M1293=\"\",\"\",[2]Paramètres!M1293)","v":""},{"$f":"IF([2]Paramètres!N1293=\"\",\"\",[2]Paramètres!N1293)","v":""},{"$f":"IF([2]Paramètres!O1293=\"\",\"\",[2]Paramètres!O1293)","v":""},{"$f":"IF([2]Paramètres!P1293=\"\",\"\",[2]Paramètres!P1293)","v":""},{"$f":"IF([2]Paramètres!Q1293=\"\",\"\",[2]Paramètres!Q1293)","v":""}]
[null,null,null,null,null,null,null,null,null,{"$f":"IF([2]Paramètres!J1294=\"\",\"\",[2]Paramètres!J1294)","v":""},{"$f":"IF([2]Paramètres!K1294=\"\",\"\",[2]Paramètres!K1294)","v":""},{"$f":"IF([2]Paramètres!L1294=\"\",\"\",[2]Paramètres!L1294)","v":""},{"$f":"IF([2]Paramètres!M1294=\"\",\"\",[2]Paramètres!M1294)","v":""},{"$f":"IF([2]Paramètres!N1294=\"\",\"\",[2]Paramètres!N1294)","v":""},{"$f":"IF([2]Paramètres!O1294=\"\",\"\",[2]Paramètres!O1294)","v":""},{"$f":"IF([2]Paramètres!P1294=\"\",\"\",[2]Paramètres!P1294)","v":""},{"$f":"IF([2]Paramètres!Q1294=\"\",\"\",[2]Paramètres!Q1294)","v":""}]
[null,null,null,null,null,null,null,null,null,{"$f":"IF([2]Paramètres!J1295=\"\",\"\",[2]Paramètres!J1295)","v":""},{"$f":"IF([2]Paramètres!K1295=\"\",\"\",[2]Paramètres!K1295)","v":""},{"$f":"IF([2]Paramètres!L1295=\"\",\"\",[2]Paramètres!L1295)","v":""},{"$f":"IF([2]Paramètres!M1295=\"\",\"\",[2]Paramètres!M1295)","v":""},{"$f":"IF([2]Paramètres!N1295=\"\",\"\",[2]Paramètres!N1295)","v":""},{"$f":"IF([2]Paramètres!O1295=\"\",\"\",[2]Paramètres!O1295)","v":""},{"$f":"IF([2]Paramètres!P1295=\"\",\"\",[2]Paramètres!P1295)","v":""},{"$f":"IF([2]Paramètres!Q1295=\"\",\"\",[2]Paramètres!Q1295)","v":""}]
[null,null,null,null,null,null,null,null,null,{"$f":"IF([2]Paramètres!J1296=\"\",\"\",[2]Paramètres!J1296)","v":""},{"$f":"IF([2]Paramètres!K1296=\"\",\"\",[2]Paramètres!K1296)","v":""},{"$f":"IF([2]Paramètres!L1296=\"\",\"\",[2]Paramètres!L1296)","v":""},{"$f":"IF([2]Paramètres!M1296=\"\",\"\",[2]Paramètres!M1296)","v":""},{"$f":"IF([2]Paramètres!N1296=\"\",\"\",[2]Paramètres!N1296)","v":""},{"$f":"IF([2]Paramètres!O1296=\"\",\"\",[2]Paramètres!O1296)","v":""},{"$f":"IF([2]Paramètres!P1296=\"\",\"\",[2]Paramètres!P1296)","v":""},{"$f":"IF([2]Paramètres!Q1296=\"\",\"\",[2]Paramètres!Q1296)","v":""}]
[null,null,null,null,null,null,null,null,null,{"$f":"IF([2]Paramètres!J1297=\"\",\"\",[2]Paramètres!J1297)","v":""},{"$f":"IF([2]Paramètres!K1297=\"\",\"\",[2]Paramètres!K1297)","v":""},{"$f":"IF([2]Paramètres!L1297=\"\",\"\",[2]Paramètres!L1297)","v":""},{"$f":"IF([2]Paramètres!M1297=\"\",\"\",[2]Paramètres!M1297)","v":""},{"$f":"IF([2]Paramètres!N1297=\"\",\"\",[2]Paramètres!N1297)","v":""},{"$f":"IF([2]Paramètres!O1297=\"\",\"\",[2]Paramètres!O1297)","v":""},{"$f":"IF([2]Paramètres!P1297=\"\",\"\",[2]Paramètres!P1297)","v":""},{"$f":"IF([2]Paramètres!Q1297=\"\",\"\",[2]Paramètres!Q1297)","v":""}]
[null,null,null,null,null,null,null,null,null,{"$f":"IF([2]Paramètres!J1298=\"\",\"\",[2]Paramètres!J1298)","v":""},{"$f":"IF([2]Paramètres!K1298=\"\",\"\",[2]Paramètres!K1298)","v":""},{"$f":"IF([2]Paramètres!L1298=\"\",\"\",[2]Paramètres!L1298)","v":""},{"$f":"IF([2]Paramètres!M1298=\"\",\"\",[2]Paramètres!M1298)","v":""},{"$f":"IF([2]Paramètres!N1298=\"\",\"\",[2]Paramètres!N1298)","v":""},{"$f":"IF([2]Paramètres!O1298=\"\",\"\",[2]Paramètres!O1298)","v":""},{"$f":"IF([2]Paramètres!P1298=\"\",\"\",[2]Paramètres!P1298)","v":""},{"$f":"IF([2]Paramètres!Q1298=\"\",\"\",[2]Paramètres!Q1298)","v":""}]
[null,null,null,null,null,null,null,null,null,{"$f":"IF([2]Paramètres!J1299=\"\",\"\",[2]Paramètres!J1299)","v":""},{"$f":"IF([2]Paramètres!K1299=\"\",\"\",[2]Paramètres!K1299)","v":""},{"$f":"IF([2]Paramètres!L1299=\"\",\"\",[2]Paramètres!L1299)","v":""},{"$f":"IF([2]Paramètres!M1299=\"\",\"\",[2]Paramètres!M1299)","v":""},{"$f":"IF([2]Paramètres!N1299=\"\",\"\",[2]Paramètres!N1299)","v":""},{"$f":"IF([2]Paramètres!O1299=\"\",\"\",[2]Paramètres!O1299)","v":""},{"$f":"IF([2]Paramètres!P1299=\"\",\"\",[2]Paramètres!P1299)","v":""},{"$f":"IF([2]Paramètres!Q1299=\"\",\"\",[2]Paramètres!Q1299)","v":""}]
[null,null,null,null,null,null,null,null,null,{"$f":"IF([2]Paramètres!J1300=\"\",\"\",[2]Paramètres!J1300)","v":""},{"$f":"IF([2]Paramètres!K1300=\"\",\"\",[2]Paramètres!K1300)","v":""},{"$f":"IF([2]Paramètres!L1300=\"\",\"\",[2]Paramètres!L1300)","v":""},{"$f":"IF([2]Paramètres!M1300=\"\",\"\",[2]Paramètres!M1300)","v":""},{"$f":"IF([2]Paramètres!N1300=\"\",\"\",[2]Paramètres!N1300)","v":""},{"$f":"IF([2]Paramètres!O1300=\"\",\"\",[2]Paramètres!O1300)","v":""},{"$f":"IF([2]Paramètres!P1300=\"\",\"\",[2]Paramètres!P1300)","v":""},{"$f":"IF([2]Paramètres!Q1300=\"\",\"\",[2]Paramètres!Q1300)","v":""}]
[null,null,null,null,null,null,null,null,null,{"$f":"IF([2]Paramètres!J1301=\"\",\"\",[2]Paramètres!J1301)","v":""},{"$f":"IF([2]Paramètres!K1301=\"\",\"\",[2]Paramètres!K1301)","v":""},{"$f":"IF([2]Paramètres!L1301=\"\",\"\",[2]Paramètres!L1301)","v":""},{"$f":"IF([2]Paramètres!M1301=\"\",\"\",[2]Paramètres!M1301)","v":""},{"$f":"IF([2]Paramètres!N1301=\"\",\"\",[2]Paramètres!N1301)","v":""},{"$f":"IF([2]Paramètres!O1301=\"\",\"\",[2]Paramètres!O1301)","v":""},{"$f":"IF([2]Paramètres!P1301=\"\",\"\",[2]Paramètres!P1301)","v":""},{"$f":"IF([2]Paramètres!Q1301=\"\",\"\",[2]Paramètres!Q1301)","v":""}]
[null,null,null,null,null,null,null,null,null,{"$f":"IF([2]Paramètres!J1302=\"\",\"\",[2]Paramètres!J1302)","v":""},{"$f":"IF([2]Paramètres!K1302=\"\",\"\",[2]Paramètres!K1302)","v":""},{"$f":"IF([2]Paramètres!L1302=\"\",\"\",[2]Paramètres!L1302)","v":""},{"$f":"IF([2]Paramètres!M1302=\"\",\"\",[2]Paramètres!M1302)","v":""},{"$f":"IF([2]Paramètres!N1302=\"\",\"\",[2]Paramètres!N1302)","v":""},{"$f":"IF([2]Paramètres!O1302=\"\",\"\",[2]Paramètres!O1302)","v":""},{"$f":"IF([2]Paramètres!P1302=\"\",\"\",[2]Paramètres!P1302)","v":""},{"$f":"IF([2]Paramètres!Q1302=\"\",\"\",[2]Paramètres!Q1302)","v":""}]
[null,null,null,null,null,null,null,null,null,{"$f":"IF([2]Paramètres!J1303=\"\",\"\",[2]Paramètres!J1303)","v":""},{"$f":"IF([2]Paramètres!K1303=\"\",\"\",[2]Paramètres!K1303)","v":""},{"$f":"IF([2]Paramètres!L1303=\"\",\"\",[2]Paramètres!L1303)","v":""},{"$f":"IF([2]Paramètres!M1303=\"\",\"\",[2]Paramètres!M1303)","v":""},{"$f":"IF([2]Paramètres!N1303=\"\",\"\",[2]Paramètres!N1303)","v":""},{"$f":"IF([2]Paramètres!O1303=\"\",\"\",[2]Paramètres!O1303)","v":""},{"$f":"IF([2]Paramètres!P1303=\"\",\"\",[2]Paramètres!P1303)","v":""},{"$f":"IF([2]Paramètres!Q1303=\"\",\"\",[2]Paramètres!Q1303)","v":""}]
[null,null,null,null,null,null,null,null,null,{"$f":"IF([2]Paramètres!J1304=\"\",\"\",[2]Paramètres!J1304)","v":""},{"$f":"IF([2]Paramètres!K1304=\"\",\"\",[2]Paramètres!K1304)","v":""},{"$f":"IF([2]Paramètres!L1304=\"\",\"\",[2]Paramètres!L1304)","v":""},{"$f":"IF([2]Paramètres!M1304=\"\",\"\",[2]Paramètres!M1304)","v":""},{"$f":"IF([2]Paramètres!N1304=\"\",\"\",[2]Paramètres!N1304)","v":""},{"$f":"IF([2]Paramètres!O1304=\"\",\"\",[2]Paramètres!O1304)","v":""},{"$f":"IF([2]Paramètres!P1304=\"\",\"\",[2]Paramètres!P1304)","v":""},{"$f":"IF([2]Paramètres!Q1304=\"\",\"\",[2]Paramètres!Q1304)","v":""}]
[null,null,null,null,null,null,null,null,null,{"$f":"IF([2]Paramètres!J1305=\"\",\"\",[2]Paramètres!J1305)","v":""},{"$f":"IF([2]Paramètres!K1305=\"\",\"\",[2]Paramètres!K1305)","v":""},{"$f":"IF([2]Paramètres!L1305=\"\",\"\",[2]Paramètres!L1305)","v":""},{"$f":"IF([2]Paramètres!M1305=\"\",\"\",[2]Paramètres!M1305)","v":""},{"$f":"IF([2]Paramètres!N1305=\"\",\"\",[2]Paramètres!N1305)","v":""},{"$f":"IF([2]Paramètres!O1305=\"\",\"\",[2]Paramètres!O1305)","v":""},{"$f":"IF([2]Paramètres!P1305=\"\",\"\",[2]Paramètres!P1305)","v":""},{"$f":"IF([2]Paramètres!Q1305=\"\",\"\",[2]Paramètres!Q1305)","v":""}]
[null,null,null,null,null,null,null,null,null,{"$f":"IF([2]Paramètres!J1306=\"\",\"\",[2]Paramètres!J1306)","v":""},{"$f":"IF([2]Paramètres!K1306=\"\",\"\",[2]Paramètres!K1306)","v":""},{"$f":"IF([2]Paramètres!L1306=\"\",\"\",[2]Paramètres!L1306)","v":""},{"$f":"IF([2]Paramètres!M1306=\"\",\"\",[2]Paramètres!M1306)","v":""},{"$f":"IF([2]Paramètres!N1306=\"\",\"\",[2]Paramètres!N1306)","v":""},{"$f":"IF([2]Paramètres!O1306=\"\",\"\",[2]Paramètres!O1306)","v":""},{"$f":"IF([2]Paramètres!P1306=\"\",\"\",[2]Paramètres!P1306)","v":""},{"$f":"IF([2]Paramètres!Q1306=\"\",\"\",[2]Paramètres!Q1306)","v":""}]
[null,null,null,null,null,null,null,null,null,{"$f":"IF([2]Paramètres!J1307=\"\",\"\",[2]Paramètres!J1307)","v":""},{"$f":"IF([2]Paramètres!K1307=\"\",\"\",[2]Paramètres!K1307)","v":""},{"$f":"IF([2]Paramètres!L1307=\"\",\"\",[2]Paramètres!L1307)","v":""},{"$f":"IF([2]Paramètres!M1307=\"\",\"\",[2]Paramètres!M1307)","v":""},{"$f":"IF([2]Paramètres!N1307=\"\",\"\",[2]Paramètres!N1307)","v":""},{"$f":"IF([2]Paramètres!O1307=\"\",\"\",[2]Paramètres!O1307)","v":""},{"$f":"IF([2]Paramètres!P1307=\"\",\"\",[2]Paramètres!P1307)","v":""},{"$f":"IF([2]Paramètres!Q1307=\"\",\"\",[2]Paramètres!Q1307)","v":""}]
[null,null,null,null,null,null,null,null,null,{"$f":"IF([2]Paramètres!J1308=\"\",\"\",[2]Paramètres!J1308)","v":""},{"$f":"IF([2]Paramètres!K1308=\"\",\"\",[2]Paramètres!K1308)","v":""},{"$f":"IF([2]Paramètres!L1308=\"\",\"\",[2]Paramètres!L1308)","v":""},{"$f":"IF([2]Paramètres!M1308=\"\",\"\",[2]Paramètres!M1308)","v":""},{"$f":"IF([2]Paramètres!N1308=\"\",\"\",[2]Paramètres!N1308)","v":""},{"$f":"IF([2]Paramètres!O1308=\"\",\"\",[2]Paramètres!O1308)","v":""},{"$f":"IF([2]Paramètres!P1308=\"\",\"\",[2]Paramètres!P1308)","v":""},{"$f":"IF([2]Paramètres!Q1308=\"\",\"\",[2]Paramètres!Q1308)","v":""}]
[null,null,null,null,null,null,null,null,null,{"$f":"IF([2]Paramètres!J1309=\"\",\"\",[2]Paramètres!J1309)","v":""},{"$f":"IF([2]Paramètres!K1309=\"\",\"\",[2]Paramètres!K1309)","v":""},{"$f":"IF([2]Paramètres!L1309=\"\",\"\",[2]Paramètres!L1309)","v":""},{"$f":"IF([2]Paramètres!M1309=\"\",\"\",[2]Paramètres!M1309)","v":""},{"$f":"IF([2]Paramètres!N1309=\"\",\"\",[2]Paramètres!N1309)","v":""},{"$f":"IF([2]Paramètres!O1309=\"\",\"\",[2]Paramètres!O1309)","v":""},{"$f":"IF([2]Paramètres!P1309=\"\",\"\",[2]Paramètres!P1309)","v":""},{"$f":"IF([2]Paramètres!Q1309=\"\",\"\",[2]Paramètres!Q1309)","v":""}]
[null,null,null,null,null,null,null,null,null,{"$f":"IF([2]Paramètres!J1310=\"\",\"\",[2]Paramètres!J1310)","v":""},{"$f":"IF([2]Paramètres!K1310=\"\",\"\",[2]Paramètres!K1310)","v":""},{"$f":"IF([2]Paramètres!L1310=\"\",\"\",[2]Paramètres!L1310)","v":""},{"$f":"IF([2]Paramètres!M1310=\"\",\"\",[2]Paramètres!M1310)","v":""},{"$f":"IF([2]Paramètres!N1310=\"\",\"\",[2]Paramètres!N1310)","v":""},{"$f":"IF([2]Paramètres!O1310=\"\",\"\",[2]Paramètres!O1310)","v":""},{"$f":"IF([2]Paramètres!P1310=\"\",\"\",[2]Paramètres!P1310)","v":""},{"$f":"IF([2]Paramètres!Q1310=\"\",\"\",[2]Paramètres!Q1310)","v":""}]
[null,null,null,null,null,null,null,null,null,{"$f":"IF([2]Paramètres!J1311=\"\",\"\",[2]Paramètres!J1311)","v":""},{"$f":"IF([2]Paramètres!K1311=\"\",\"\",[2]Paramètres!K1311)","v":""},{"$f":"IF([2]Paramètres!L1311=\"\",\"\",[2]Paramètres!L1311)","v":""},{"$f":"IF([2]Paramètres!M1311=\"\",\"\",[2]Paramètres!M1311)","v":""},{"$f":"IF([2]Paramètres!N1311=\"\",\"\",[2]Paramètres!N1311)","v":""},{"$f":"IF([2]Paramètres!O1311=\"\",\"\",[2]Paramètres!O1311)","v":""},{"$f":"IF([2]Paramètres!P1311=\"\",\"\",[2]Paramètres!P1311)","v":""},{"$f":"IF([2]Paramètres!Q1311=\"\",\"\",[2]Paramètres!Q1311)","v":""}]
[null,null,null,null,null,null,null,null,null,{"$f":"IF([2]Paramètres!J1312=\"\",\"\",[2]Paramètres!J1312)","v":""},{"$f":"IF([2]Paramètres!K1312=\"\",\"\",[2]Paramètres!K1312)","v":""},{"$f":"IF([2]Paramètres!L1312=\"\",\"\",[2]Paramètres!L1312)","v":""},{"$f":"IF([2]Paramètres!M1312=\"\",\"\",[2]Paramètres!M1312)","v":""},{"$f":"IF([2]Paramètres!N1312=\"\",\"\",[2]Paramètres!N1312)","v":""},{"$f":"IF([2]Paramètres!O1312=\"\",\"\",[2]Paramètres!O1312)","v":""},{"$f":"IF([2]Paramètres!P1312=\"\",\"\",[2]Paramètres!P1312)","v":""},{"$f":"IF([2]Paramètres!Q1312=\"\",\"\",[2]Paramètres!Q1312)","v":""}]
[null,null,null,null,null,null,null,null,null,{"$f":"IF([2]Paramètres!J1313=\"\",\"\",[2]Paramètres!J1313)","v":""},{"$f":"IF([2]Paramètres!K1313=\"\",\"\",[2]Paramètres!K1313)","v":""},{"$f":"IF([2]Paramètres!L1313=\"\",\"\",[2]Paramètres!L1313)","v":""},{"$f":"IF([2]Paramètres!M1313=\"\",\"\",[2]Paramètres!M1313)","v":""},{"$f":"IF([2]Paramètres!N1313=\"\",\"\",[2]Paramètres!N1313)","v":""},{"$f":"IF([2]Paramètres!O1313=\"\",\"\",[2]Paramètres!O1313)","v":""},{"$f":"IF([2]Paramètres!P1313=\"\",\"\",[2]Paramètres!P1313)","v":""},{"$f":"IF([2]Paramètres!Q1313=\"\",\"\",[2]Paramètres!Q1313)","v":""}]
[null,null,null,null,null,null,null,null,null,{"$f":"IF([2]Paramètres!J1314=\"\",\"\",[2]Paramètres!J1314)","v":""},{"$f":"IF([2]Paramètres!K1314=\"\",\"\",[2]Paramètres!K1314)","v":""},{"$f":"IF([2]Paramètres!L1314=\"\",\"\",[2]Paramètres!L1314)","v":""},{"$f":"IF([2]Paramètres!M1314=\"\",\"\",[2]Paramètres!M1314)","v":""},{"$f":"IF([2]Paramètres!N1314=\"\",\"\",[2]Paramètres!N1314)","v":""},{"$f":"IF([2]Paramètres!O1314=\"\",\"\",[2]Paramètres!O1314)","v":""},{"$f":"IF([2]Paramètres!P1314=\"\",\"\",[2]Paramètres!P1314)","v":""},{"$f":"IF([2]Paramètres!Q1314=\"\",\"\",[2]Paramètres!Q1314)","v":""}]
[null,null,null,null,null,null,null,null,null,{"$f":"IF([2]Paramètres!J1315=\"\",\"\",[2]Paramètres!J1315)","v":""},{"$f":"IF([2]Paramètres!K1315=\"\",\"\",[2]Paramètres!K1315)","v":""},{"$f":"IF([2]Paramètres!L1315=\"\",\"\",[2]Paramètres!L1315)","v":""},{"$f":"IF([2]Paramètres!M1315=\"\",\"\",[2]Paramètres!M1315)","v":""},{"$f":"IF([2]Paramètres!N1315=\"\",\"\",[2]Paramètres!N1315)","v":""},{"$f":"IF([2]Paramètres!O1315=\"\",\"\",[2]Paramètres!O1315)","v":""},{"$f":"IF([2]Paramètres!P1315=\"\",\"\",[2]Paramètres!P1315)","v":""},{"$f":"IF([2]Paramètres!Q1315=\"\",\"\",[2]Paramètres!Q1315)","v":""}]
[null,null,null,null,null,null,null,null,null,{"$f":"IF([2]Paramètres!J1316=\"\",\"\",[2]Paramètres!J1316)","v":""},{"$f":"IF([2]Paramètres!K1316=\"\",\"\",[2]Paramètres!K1316)","v":""},{"$f":"IF([2]Paramètres!L1316=\"\",\"\",[2]Paramètres!L1316)","v":""},{"$f":"IF([2]Paramètres!M1316=\"\",\"\",[2]Paramètres!M1316)","v":""},{"$f":"IF([2]Paramètres!N1316=\"\",\"\",[2]Paramètres!N1316)","v":""},{"$f":"IF([2]Paramètres!O1316=\"\",\"\",[2]Paramètres!O1316)","v":""},{"$f":"IF([2]Paramètres!P1316=\"\",\"\",[2]Paramètres!P1316)","v":""},{"$f":"IF([2]Paramètres!Q1316=\"\",\"\",[2]Paramètres!Q1316)","v":""}]
[null,null,null,null,null,null,null,null,null,{"$f":"IF([2]Paramètres!J1317=\"\",\"\",[2]Paramètres!J1317)","v":""},{"$f":"IF([2]Paramètres!K1317=\"\",\"\",[2]Paramètres!K1317)","v":""},{"$f":"IF([2]Paramètres!L1317=\"\",\"\",[2]Paramètres!L1317)","v":""},{"$f":"IF([2]Paramètres!M1317=\"\",\"\",[2]Paramètres!M1317)","v":""},{"$f":"IF([2]Paramètres!N1317=\"\",\"\",[2]Paramètres!N1317)","v":""},{"$f":"IF([2]Paramètres!O1317=\"\",\"\",[2]Paramètres!O1317)","v":""},{"$f":"IF([2]Paramètres!P1317=\"\",\"\",[2]Paramètres!P1317)","v":""},{"$f":"IF([2]Paramètres!Q1317=\"\",\"\",[2]Paramètres!Q1317)","v":""}]
[null,null,null,null,null,null,null,null,null,{"$f":"IF([2]Paramètres!J1318=\"\",\"\",[2]Paramètres!J1318)","v":""},{"$f":"IF([2]Paramètres!K1318=\"\",\"\",[2]Paramètres!K1318)","v":""},{"$f":"IF([2]Paramètres!L1318=\"\",\"\",[2]Paramètres!L1318)","v":""},{"$f":"IF([2]Paramètres!M1318=\"\",\"\",[2]Paramètres!M1318)","v":""},{"$f":"IF([2]Paramètres!N1318=\"\",\"\",[2]Paramètres!N1318)","v":""},{"$f":"IF([2]Paramètres!O1318=\"\",\"\",[2]Paramètres!O1318)","v":""},{"$f":"IF([2]Paramètres!P1318=\"\",\"\",[2]Paramètres!P1318)","v":""},{"$f":"IF([2]Paramètres!Q1318=\"\",\"\",[2]Paramètres!Q1318)","v":""}]
[null,null,null,null,null,null,null,null,null,{"$f":"IF([2]Paramètres!J1319=\"\",\"\",[2]Paramètres!J1319)","v":""},{"$f":"IF([2]Paramètres!K1319=\"\",\"\",[2]Paramètres!K1319)","v":""},{"$f":"IF([2]Paramètres!L1319=\"\",\"\",[2]Paramètres!L1319)","v":""},{"$f":"IF([2]Paramètres!M1319=\"\",\"\",[2]Paramètres!M1319)","v":""},{"$f":"IF([2]Paramètres!N1319=\"\",\"\",[2]Paramètres!N1319)","v":""},{"$f":"IF([2]Paramètres!O1319=\"\",\"\",[2]Paramètres!O1319)","v":""},{"$f":"IF([2]Paramètres!P1319=\"\",\"\",[2]Paramètres!P1319)","v":""},{"$f":"IF([2]Paramètres!Q1319=\"\",\"\",[2]Paramètres!Q1319)","v":""}]
[null,null,null,null,null,null,null,null,null,{"$f":"IF([2]Paramètres!J1320=\"\",\"\",[2]Paramètres!J1320)","v":""},{"$f":"IF([2]Paramètres!K1320=\"\",\"\",[2]Paramètres!K1320)","v":""},{"$f":"IF([2]Paramètres!L1320=\"\",\"\",[2]Paramètres!L1320)","v":""},{"$f":"IF([2]Paramètres!M1320=\"\",\"\",[2]Paramètres!M1320)","v":""},{"$f":"IF([2]Paramètres!N1320=\"\",\"\",[2]Paramètres!N1320)","v":""},{"$f":"IF([2]Paramètres!O1320=\"\",\"\",[2]Paramètres!O1320)","v":""},{"$f":"IF([2]Paramètres!P1320=\"\",\"\",[2]Paramètres!P1320)","v":""},{"$f":"IF([2]Paramètres!Q1320=\"\",\"\",[2]Paramètres!Q1320)","v":""}]
[null,null,null,null,null,null,null,null,null,{"$f":"IF([2]Paramètres!J1321=\"\",\"\",[2]Paramètres!J1321)","v":""},{"$f":"IF([2]Paramètres!K1321=\"\",\"\",[2]Paramètres!K1321)","v":""},{"$f":"IF([2]Paramètres!L1321=\"\",\"\",[2]Paramètres!L1321)","v":""},{"$f":"IF([2]Paramètres!M1321=\"\",\"\",[2]Paramètres!M1321)","v":""},{"$f":"IF([2]Paramètres!N1321=\"\",\"\",[2]Paramètres!N1321)","v":""},{"$f":"IF([2]Paramètres!O1321=\"\",\"\",[2]Paramètres!O1321)","v":""},{"$f":"IF([2]Paramètres!P1321=\"\",\"\",[2]Paramètres!P1321)","v":""},{"$f":"IF([2]Paramètres!Q1321=\"\",\"\",[2]Paramètres!Q1321)","v":""}]
[null,null,null,null,null,null,null,null,null,{"$f":"IF([2]Paramètres!J1322=\"\",\"\",[2]Paramètres!J1322)","v":""},{"$f":"IF([2]Paramètres!K1322=\"\",\"\",[2]Paramètres!K1322)","v":""},{"$f":"IF([2]Paramètres!L1322=\"\",\"\",[2]Paramètres!L1322)","v":""},{"$f":"IF([2]Paramètres!M1322=\"\",\"\",[2]Paramètres!M1322)","v":""},{"$f":"IF([2]Paramètres!N1322=\"\",\"\",[2]Paramètres!N1322)","v":""},{"$f":"IF([2]Paramètres!O1322=\"\",\"\",[2]Paramètres!O1322)","v":""},{"$f":"IF([2]Paramètres!P1322=\"\",\"\",[2]Paramètres!P1322)","v":""},{"$f":"IF([2]Paramètres!Q1322=\"\",\"\",[2]Paramètres!Q1322)","v":""}]
[null,null,null,null,null,null,null,null,null,{"$f":"IF([2]Paramètres!J1323=\"\",\"\",[2]Paramètres!J1323)","v":""},{"$f":"IF([2]Paramètres!K1323=\"\",\"\",[2]Paramètres!K1323)","v":""},{"$f":"IF([2]Paramètres!L1323=\"\",\"\",[2]Paramètres!L1323)","v":""},{"$f":"IF([2]Paramètres!M1323=\"\",\"\",[2]Paramètres!M1323)","v":""},{"$f":"IF([2]Paramètres!N1323=\"\",\"\",[2]Paramètres!N1323)","v":""},{"$f":"IF([2]Paramètres!O1323=\"\",\"\",[2]Paramètres!O1323)","v":""},{"$f":"IF([2]Paramètres!P1323=\"\",\"\",[2]Paramètres!P1323)","v":""},{"$f":"IF([2]Paramètres!Q1323=\"\",\"\",[2]Paramètres!Q1323)","v":""}]
[null,null,null,null,null,null,null,null,null,{"$f":"IF([2]Paramètres!J1324=\"\",\"\",[2]Paramètres!J1324)","v":""},{"$f":"IF([2]Paramètres!K1324=\"\",\"\",[2]Paramètres!K1324)","v":""},{"$f":"IF([2]Paramètres!L1324=\"\",\"\",[2]Paramètres!L1324)","v":""},{"$f":"IF([2]Paramètres!M1324=\"\",\"\",[2]Paramètres!M1324)","v":""},{"$f":"IF([2]Paramètres!N1324=\"\",\"\",[2]Paramètres!N1324)","v":""},{"$f":"IF([2]Paramètres!O1324=\"\",\"\",[2]Paramètres!O1324)","v":""},{"$f":"IF([2]Paramètres!P1324=\"\",\"\",[2]Paramètres!P1324)","v":""},{"$f":"IF([2]Paramètres!Q1324=\"\",\"\",[2]Paramètres!Q1324)","v":""}]
[null,null,null,null,null,null,null,null,null,{"$f":"IF([2]Paramètres!J1325=\"\",\"\",[2]Paramètres!J1325)","v":""},{"$f":"IF([2]Paramètres!K1325=\"\",\"\",[2]Paramètres!K1325)","v":""},{"$f":"IF([2]Paramètres!L1325=\"\",\"\",[2]Paramètres!L1325)","v":""},{"$f":"IF([2]Paramètres!M1325=\"\",\"\",[2]Paramètres!M1325)","v":""},{"$f":"IF([2]Paramètres!N1325=\"\",\"\",[2]Paramètres!N1325)","v":""},{"$f":"IF([2]Paramètres!O1325=\"\",\"\",[2]Paramètres!O1325)","v":""},{"$f":"IF([2]Paramètres!P1325=\"\",\"\",[2]Paramètres!P1325)","v":""},{"$f":"IF([2]Paramètres!Q1325=\"\",\"\",[2]Paramètres!Q1325)","v":""}]
[null,null,null,null,null,null,null,null,null,{"$f":"IF([2]Paramètres!J1326=\"\",\"\",[2]Paramètres!J1326)","v":""},{"$f":"IF([2]Paramètres!K1326=\"\",\"\",[2]Paramètres!K1326)","v":""},{"$f":"IF([2]Paramètres!L1326=\"\",\"\",[2]Paramètres!L1326)","v":""},{"$f":"IF([2]Paramètres!M1326=\"\",\"\",[2]Paramètres!M1326)","v":""},{"$f":"IF([2]Paramètres!N1326=\"\",\"\",[2]Paramètres!N1326)","v":""},{"$f":"IF([2]Paramètres!O1326=\"\",\"\",[2]Paramètres!O1326)","v":""},{"$f":"IF([2]Paramètres!P1326=\"\",\"\",[2]Paramètres!P1326)","v":""},{"$f":"IF([2]Paramètres!Q1326=\"\",\"\",[2]Paramètres!Q1326)","v":""}]
[null,null,null,null,null,null,null,null,null,{"$f":"IF([2]Paramètres!J1327=\"\",\"\",[2]Paramètres!J1327)","v":""},{"$f":"IF([2]Paramètres!K1327=\"\",\"\",[2]Paramètres!K1327)","v":""},{"$f":"IF([2]Paramètres!L1327=\"\",\"\",[2]Paramètres!L1327)","v":""},{"$f":"IF([2]Paramètres!M1327=\"\",\"\",[2]Paramètres!M1327)","v":""},{"$f":"IF([2]Paramètres!N1327=\"\",\"\",[2]Paramètres!N1327)","v":""},{"$f":"IF([2]Paramètres!O1327=\"\",\"\",[2]Paramètres!O1327)","v":""},{"$f":"IF([2]Paramètres!P1327=\"\",\"\",[2]Paramètres!P1327)","v":""},{"$f":"IF([2]Paramètres!Q1327=\"\",\"\",[2]Paramètres!Q1327)","v":""}]
[null,null,null,null,null,null,null,null,null,{"$f":"IF([2]Paramètres!J1328=\"\",\"\",[2]Paramètres!J1328)","v":""},{"$f":"IF([2]Paramètres!K1328=\"\",\"\",[2]Paramètres!K1328)","v":""},{"$f":"IF([2]Paramètres!L1328=\"\",\"\",[2]Paramètres!L1328)","v":""},{"$f":"IF([2]Paramètres!M1328=\"\",\"\",[2]Paramètres!M1328)","v":""},{"$f":"IF([2]Paramètres!N1328=\"\",\"\",[2]Paramètres!N1328)","v":""},{"$f":"IF([2]Paramètres!O1328=\"\",\"\",[2]Paramètres!O1328)","v":""},{"$f":"IF([2]Paramètres!P1328=\"\",\"\",[2]Paramètres!P1328)","v":""},{"$f":"IF([2]Paramètres!Q1328=\"\",\"\",[2]Paramètres!Q1328)","v":""}]
[null,null,null,null,null,null,null,null,null,{"$f":"IF([2]Paramètres!J1329=\"\",\"\",[2]Paramètres!J1329)","v":""},{"$f":"IF([2]Paramètres!K1329=\"\",\"\",[2]Paramètres!K1329)","v":""},{"$f":"IF([2]Paramètres!L1329=\"\",\"\",[2]Paramètres!L1329)","v":""},{"$f":"IF([2]Paramètres!M1329=\"\",\"\",[2]Paramètres!M1329)","v":""},{"$f":"IF([2]Paramètres!N1329=\"\",\"\",[2]Paramètres!N1329)","v":""},{"$f":"IF([2]Paramètres!O1329=\"\",\"\",[2]Paramètres!O1329)","v":""},{"$f":"IF([2]Paramètres!P1329=\"\",\"\",[2]Paramètres!P1329)","v":""},{"$f":"IF([2]Paramètres!Q1329=\"\",\"\",[2]Paramètres!Q1329)","v":""}]
[null,null,null,null,null,null,null,null,null,{"$f":"IF([2]Paramètres!J1330=\"\",\"\",[2]Paramètres!J1330)","v":""},{"$f":"IF([2]Paramètres!K1330=\"\",\"\",[2]Paramètres!K1330)","v":""},{"$f":"IF([2]Paramètres!L1330=\"\",\"\",[2]Paramètres!L1330)","v":""},{"$f":"IF([2]Paramètres!M1330=\"\",\"\",[2]Paramètres!M1330)","v":""},{"$f":"IF([2]Paramètres!N1330=\"\",\"\",[2]Paramètres!N1330)","v":""},{"$f":"IF([2]Paramètres!O1330=\"\",\"\",[2]Paramètres!O1330)","v":""},{"$f":"IF([2]Paramètres!P1330=\"\",\"\",[2]Paramètres!P1330)","v":""},{"$f":"IF([2]Paramètres!Q1330=\"\",\"\",[2]Paramètres!Q1330)","v":""}]
[null,null,null,null,null,null,null,null,null,{"$f":"IF([2]Paramètres!J1331=\"\",\"\",[2]Paramètres!J1331)","v":""},{"$f":"IF([2]Paramètres!K1331=\"\",\"\",[2]Paramètres!K1331)","v":""},{"$f":"IF([2]Paramètres!L1331=\"\",\"\",[2]Paramètres!L1331)","v":""},{"$f":"IF([2]Paramètres!M1331=\"\",\"\",[2]Paramètres!M1331)","v":""},{"$f":"IF([2]Paramètres!N1331=\"\",\"\",[2]Paramètres!N1331)","v":""},{"$f":"IF([2]Paramètres!O1331=\"\",\"\",[2]Paramètres!O1331)","v":""},{"$f":"IF([2]Paramètres!P1331=\"\",\"\",[2]Paramètres!P1331)","v":""},{"$f":"IF([2]Paramètres!Q1331=\"\",\"\",[2]Paramètres!Q1331)","v":""}]
[null,null,null,null,null,null,null,null,null,{"$f":"IF([2]Paramètres!J1332=\"\",\"\",[2]Paramètres!J1332)","v":""},{"$f":"IF([2]Paramètres!K1332=\"\",\"\",[2]Paramètres!K1332)","v":""},{"$f":"IF([2]Paramètres!L1332=\"\",\"\",[2]Paramètres!L1332)","v":""},{"$f":"IF([2]Paramètres!M1332=\"\",\"\",[2]Paramètres!M1332)","v":""},{"$f":"IF([2]Paramètres!N1332=\"\",\"\",[2]Paramètres!N1332)","v":""},{"$f":"IF([2]Paramètres!O1332=\"\",\"\",[2]Paramètres!O1332)","v":""},{"$f":"IF([2]Paramètres!P1332=\"\",\"\",[2]Paramètres!P1332)","v":""},{"$f":"IF([2]Paramètres!Q1332=\"\",\"\",[2]Paramètres!Q1332)","v":""}]
[null,null,null,null,null,null,null,null,null,{"$f":"IF([2]Paramètres!J1333=\"\",\"\",[2]Paramètres!J1333)","v":""},{"$f":"IF([2]Paramètres!K1333=\"\",\"\",[2]Paramètres!K1333)","v":""},{"$f":"IF([2]Paramètres!L1333=\"\",\"\",[2]Paramètres!L1333)","v":""},{"$f":"IF([2]Paramètres!M1333=\"\",\"\",[2]Paramètres!M1333)","v":""},{"$f":"IF([2]Paramètres!N1333=\"\",\"\",[2]Paramètres!N1333)","v":""},{"$f":"IF([2]Paramètres!O1333=\"\",\"\",[2]Paramètres!O1333)","v":""},{"$f":"IF([2]Paramètres!P1333=\"\",\"\",[2]Paramètres!P1333)","v":""},{"$f":"IF([2]Paramètres!Q1333=\"\",\"\",[2]Paramètres!Q1333)","v":""}]
[null,null,null,null,null,null,null,null,null,{"$f":"IF([2]Paramètres!J1334=\"\",\"\",[2]Paramètres!J1334)","v":""},{"$f":"IF([2]Paramètres!K1334=\"\",\"\",[2]Paramètres!K1334)","v":""},{"$f":"IF([2]Paramètres!L1334=\"\",\"\",[2]Paramètres!L1334)","v":""},{"$f":"IF([2]Paramètres!M1334=\"\",\"\",[2]Paramètres!M1334)","v":""},{"$f":"IF([2]Paramètres!N1334=\"\",\"\",[2]Paramètres!N1334)","v":""},{"$f":"IF([2]Paramètres!O1334=\"\",\"\",[2]Paramètres!O1334)","v":""},{"$f":"IF([2]Paramètres!P1334=\"\",\"\",[2]Paramètres!P1334)","v":""},{"$f":"IF([2]Paramètres!Q1334=\"\",\"\",[2]Paramètres!Q1334)","v":""}]
[null,null,null,null,null,null,null,null,null,{"$f":"IF([2]Paramètres!J1335=\"\",\"\",[2]Paramètres!J1335)","v":""},{"$f":"IF([2]Paramètres!K1335=\"\",\"\",[2]Paramètres!K1335)","v":""},{"$f":"IF([2]Paramètres!L1335=\"\",\"\",[2]Paramètres!L1335)","v":""},{"$f":"IF([2]Paramètres!M1335=\"\",\"\",[2]Paramètres!M1335)","v":""},{"$f":"IF([2]Paramètres!N1335=\"\",\"\",[2]Paramètres!N1335)","v":""},{"$f":"IF([2]Paramètres!O1335=\"\",\"\",[2]Paramètres!O1335)","v":""},{"$f":"IF([2]Paramètres!P1335=\"\",\"\",[2]Paramètres!P1335)","v":""},{"$f":"IF([2]Paramètres!Q1335=\"\",\"\",[2]Paramètres!Q1335)","v":""}]
[null,null,null,null,null,null,null,null,null,{"$f":"IF([2]Paramètres!J1336=\"\",\"\",[2]Paramètres!J1336)","v":""},{"$f":"IF([2]Paramètres!K1336=\"\",\"\",[2]Paramètres!K1336)","v":""},{"$f":"IF([2]Paramètres!L1336=\"\",\"\",[2]Paramètres!L1336)","v":""},{"$f":"IF([2]Paramètres!M1336=\"\",\"\",[2]Paramètres!M1336)","v":""},{"$f":"IF([2]Paramètres!N1336=\"\",\"\",[2]Paramètres!N1336)","v":""},{"$f":"IF([2]Paramètres!O1336=\"\",\"\",[2]Paramètres!O1336)","v":""},{"$f":"IF([2]Paramètres!P1336=\"\",\"\",[2]Paramètres!P1336)","v":""},{"$f":"IF([2]Paramètres!Q1336=\"\",\"\",[2]Paramètres!Q1336)","v":""}]
[null,null,null,null,null,null,null,null,null,{"$f":"IF([2]Paramètres!J1337=\"\",\"\",[2]Paramètres!J1337)","v":""},{"$f":"IF([2]Paramètres!K1337=\"\",\"\",[2]Paramètres!K1337)","v":""},{"$f":"IF([2]Paramètres!L1337=\"\",\"\",[2]Paramètres!L1337)","v":""},{"$f":"IF([2]Paramètres!M1337=\"\",\"\",[2]Paramètres!M1337)","v":""},{"$f":"IF([2]Paramètres!N1337=\"\",\"\",[2]Paramètres!N1337)","v":""},{"$f":"IF([2]Paramètres!O1337=\"\",\"\",[2]Paramètres!O1337)","v":""},{"$f":"IF([2]Paramètres!P1337=\"\",\"\",[2]Paramètres!P1337)","v":""},{"$f":"IF([2]Paramètres!Q1337=\"\",\"\",[2]Paramètres!Q1337)","v":""}]
[null,null,null,null,null,null,null,null,null,{"$f":"IF([2]Paramètres!J1338=\"\",\"\",[2]Paramètres!J1338)","v":""},{"$f":"IF([2]Paramètres!K1338=\"\",\"\",[2]Paramètres!K1338)","v":""},{"$f":"IF([2]Paramètres!L1338=\"\",\"\",[2]Paramètres!L1338)","v":""},{"$f":"IF([2]Paramètres!M1338=\"\",\"\",[2]Paramètres!M1338)","v":""},{"$f":"IF([2]Paramètres!N1338=\"\",\"\",[2]Paramètres!N1338)","v":""},{"$f":"IF([2]Paramètres!O1338=\"\",\"\",[2]Paramètres!O1338)","v":""},{"$f":"IF([2]Paramètres!P1338=\"\",\"\",[2]Paramètres!P1338)","v":""},{"$f":"IF([2]Paramètres!Q1338=\"\",\"\",[2]Paramètres!Q1338)","v":""}]
[null,null,null,null,null,null,null,null,null,{"$f":"IF([2]Paramètres!J1339=\"\",\"\",[2]Paramètres!J1339)","v":""},{"$f":"IF([2]Paramètres!K1339=\"\",\"\",[2]Paramètres!K1339)","v":""},{"$f":"IF([2]Paramètres!L1339=\"\",\"\",[2]Paramètres!L1339)","v":""},{"$f":"IF([2]Paramètres!M1339=\"\",\"\",[2]Paramètres!M1339)","v":""},{"$f":"IF([2]Paramètres!N1339=\"\",\"\",[2]Paramètres!N1339)","v":""},{"$f":"IF([2]Paramètres!O1339=\"\",\"\",[2]Paramètres!O1339)","v":""},{"$f":"IF([2]Paramètres!P1339=\"\",\"\",[2]Paramètres!P1339)","v":""},{"$f":"IF([2]Paramètres!Q1339=\"\",\"\",[2]Paramètres!Q1339)","v":""}]
[null,null,null,null,null,null,null,null,null,{"$f":"IF([2]Paramètres!J1340=\"\",\"\",[2]Paramètres!J1340)","v":""},{"$f":"IF([2]Paramètres!K1340=\"\",\"\",[2]Paramètres!K1340)","v":""},{"$f":"IF([2]Paramètres!L1340=\"\",\"\",[2]Paramètres!L1340)","v":""},{"$f":"IF([2]Paramètres!M1340=\"\",\"\",[2]Paramètres!M1340)","v":""},{"$f":"IF([2]Paramètres!N1340=\"\",\"\",[2]Paramètres!N1340)","v":""},{"$f":"IF([2]Paramètres!O1340=\"\",\"\",[2]Paramètres!O1340)","v":""},{"$f":"IF([2]Paramètres!P1340=\"\",\"\",[2]Paramètres!P1340)","v":""},{"$f":"IF([2]Paramètres!Q1340=\"\",\"\",[2]Paramètres!Q1340)","v":""}]
[null,null,null,null,null,null,null,null,null,{"$f":"IF([2]Paramètres!J1341=\"\",\"\",[2]Paramètres!J1341)","v":""},{"$f":"IF([2]Paramètres!K1341=\"\",\"\",[2]Paramètres!K1341)","v":""},{"$f":"IF([2]Paramètres!L1341=\"\",\"\",[2]Paramètres!L1341)","v":""},{"$f":"IF([2]Paramètres!M1341=\"\",\"\",[2]Paramètres!M1341)","v":""},{"$f":"IF([2]Paramètres!N1341=\"\",\"\",[2]Paramètres!N1341)","v":""},{"$f":"IF([2]Paramètres!O1341=\"\",\"\",[2]Paramètres!O1341)","v":""},{"$f":"IF([2]Paramètres!P1341=\"\",\"\",[2]Paramètres!P1341)","v":""},{"$f":"IF([2]Paramètres!Q1341=\"\",\"\",[2]Paramètres!Q1341)","v":""}]
[null,null,null,null,null,null,null,null,null,{"$f":"IF([2]Paramètres!J1342=\"\",\"\",[2]Paramètres!J1342)","v":""},{"$f":"IF([2]Paramètres!K1342=\"\",\"\",[2]Paramètres!K1342)","v":""},{"$f":"IF([2]Paramètres!L1342=\"\",\"\",[2]Paramètres!L1342)","v":""},{"$f":"IF([2]Paramètres!M1342=\"\",\"\",[2]Paramètres!M1342)","v":""},{"$f":"IF([2]Paramètres!N1342=\"\",\"\",[2]Paramètres!N1342)","v":""},{"$f":"IF([2]Paramètres!O1342=\"\",\"\",[2]Paramètres!O1342)","v":""},{"$f":"IF([2]Paramètres!P1342=\"\",\"\",[2]Paramètres!P1342)","v":""},{"$f":"IF([2]Paramètres!Q1342=\"\",\"\",[2]Paramètres!Q1342)","v":""}]
[null,null,null,null,null,null,null,null,null,{"$f":"IF([2]Paramètres!J1343=\"\",\"\",[2]Paramètres!J1343)","v":""},{"$f":"IF([2]Paramètres!K1343=\"\",\"\",[2]Paramètres!K1343)","v":""},{"$f":"IF([2]Paramètres!L1343=\"\",\"\",[2]Paramètres!L1343)","v":""},{"$f":"IF([2]Paramètres!M1343=\"\",\"\",[2]Paramètres!M1343)","v":""},{"$f":"IF([2]Paramètres!N1343=\"\",\"\",[2]Paramètres!N1343)","v":""},{"$f":"IF([2]Paramètres!O1343=\"\",\"\",[2]Paramètres!O1343)","v":""},{"$f":"IF([2]Paramètres!P1343=\"\",\"\",[2]Paramètres!P1343)","v":""},{"$f":"IF([2]Paramètres!Q1343=\"\",\"\",[2]Paramètres!Q1343)","v":""}]
[null,null,null,null,null,null,null,null,null,{"$f":"IF([2]Paramètres!J1344=\"\",\"\",[2]Paramètres!J1344)","v":""},{"$f":"IF([2]Paramètres!K1344=\"\",\"\",[2]Paramètres!K1344)","v":""},{"$f":"IF([2]Paramètres!L1344=\"\",\"\",[2]Paramètres!L1344)","v":""},{"$f":"IF([2]Paramètres!M1344=\"\",\"\",[2]Paramètres!M1344)","v":""},{"$f":"IF([2]Paramètres!N1344=\"\",\"\",[2]Paramètres!N1344)","v":""},{"$f":"IF([2]Paramètres!O1344=\"\",\"\",[2]Paramètres!O1344)","v":""},{"$f":"IF([2]Paramètres!P1344=\"\",\"\",[2]Paramètres!P1344)","v":""},{"$f":"IF([2]Paramètres!Q1344=\"\",\"\",[2]Paramètres!Q1344)","v":""}]
[null,null,null,null,null,null,null,null,null,{"$f":"IF([2]Paramètres!J1345=\"\",\"\",[2]Paramètres!J1345)","v":""},{"$f":"IF([2]Paramètres!K1345=\"\",\"\",[2]Paramètres!K1345)","v":""},{"$f":"IF([2]Paramètres!L1345=\"\",\"\",[2]Paramètres!L1345)","v":""},{"$f":"IF([2]Paramètres!M1345=\"\",\"\",[2]Paramètres!M1345)","v":""},{"$f":"IF([2]Paramètres!N1345=\"\",\"\",[2]Paramètres!N1345)","v":""},{"$f":"IF([2]Paramètres!O1345=\"\",\"\",[2]Paramètres!O1345)","v":""},{"$f":"IF([2]Paramètres!P1345=\"\",\"\",[2]Paramètres!P1345)","v":""},{"$f":"IF([2]Paramètres!Q1345=\"\",\"\",[2]Paramètres!Q1345)","v":""}]
[null,null,null,null,null,null,null,null,null,{"$f":"IF([2]Paramètres!J1346=\"\",\"\",[2]Paramètres!J1346)","v":""},{"$f":"IF([2]Paramètres!K1346=\"\",\"\",[2]Paramètres!K1346)","v":""},{"$f":"IF([2]Paramètres!L1346=\"\",\"\",[2]Paramètres!L1346)","v":""},{"$f":"IF([2]Paramètres!M1346=\"\",\"\",[2]Paramètres!M1346)","v":""},{"$f":"IF([2]Paramètres!N1346=\"\",\"\",[2]Paramètres!N1346)","v":""},{"$f":"IF([2]Paramètres!O1346=\"\",\"\",[2]Paramètres!O1346)","v":""},{"$f":"IF([2]Paramètres!P1346=\"\",\"\",[2]Paramètres!P1346)","v":""},{"$f":"IF([2]Paramètres!Q1346=\"\",\"\",[2]Paramètres!Q1346)","v":""}]
[null,null,null,null,null,null,null,null,null,{"$f":"IF([2]Paramètres!J1347=\"\",\"\",[2]Paramètres!J1347)","v":""},{"$f":"IF([2]Paramètres!K1347=\"\",\"\",[2]Paramètres!K1347)","v":""},{"$f":"IF([2]Paramètres!L1347=\"\",\"\",[2]Paramètres!L1347)","v":""},{"$f":"IF([2]Paramètres!M1347=\"\",\"\",[2]Paramètres!M1347)","v":""},{"$f":"IF([2]Paramètres!N1347=\"\",\"\",[2]Paramètres!N1347)","v":""},{"$f":"IF([2]Paramètres!O1347=\"\",\"\",[2]Paramètres!O1347)","v":""},{"$f":"IF([2]Paramètres!P1347=\"\",\"\",[2]Paramètres!P1347)","v":""},{"$f":"IF([2]Paramètres!Q1347=\"\",\"\",[2]Paramètres!Q1347)","v":""}]
[null,null,null,null,null,null,null,null,null,{"$f":"IF([2]Paramètres!J1348=\"\",\"\",[2]Paramètres!J1348)","v":""},{"$f":"IF([2]Paramètres!K1348=\"\",\"\",[2]Paramètres!K1348)","v":""},{"$f":"IF([2]Paramètres!L1348=\"\",\"\",[2]Paramètres!L1348)","v":""},{"$f":"IF([2]Paramètres!M1348=\"\",\"\",[2]Paramètres!M1348)","v":""},{"$f":"IF([2]Paramètres!N1348=\"\",\"\",[2]Paramètres!N1348)","v":""},{"$f":"IF([2]Paramètres!O1348=\"\",\"\",[2]Paramètres!O1348)","v":""},{"$f":"IF([2]Paramètres!P1348=\"\",\"\",[2]Paramètres!P1348)","v":""},{"$f":"IF([2]Paramètres!Q1348=\"\",\"\",[2]Paramètres!Q1348)","v":""}]
[null,null,null,null,null,null,null,null,null,{"$f":"IF([2]Paramètres!J1349=\"\",\"\",[2]Paramètres!J1349)","v":""},{"$f":"IF([2]Paramètres!K1349=\"\",\"\",[2]Paramètres!K1349)","v":""},{"$f":"IF([2]Paramètres!L1349=\"\",\"\",[2]Paramètres!L1349)","v":""},{"$f":"IF([2]Paramètres!M1349=\"\",\"\",[2]Paramètres!M1349)","v":""},{"$f":"IF([2]Paramètres!N1349=\"\",\"\",[2]Paramètres!N1349)","v":""},{"$f":"IF([2]Paramètres!O1349=\"\",\"\",[2]Paramètres!O1349)","v":""},{"$f":"IF([2]Paramètres!P1349=\"\",\"\",[2]Paramètres!P1349)","v":""},{"$f":"IF([2]Paramètres!Q1349=\"\",\"\",[2]Paramètres!Q1349)","v":""}]
[null,null,null,null,null,null,null,null,null,{"$f":"IF([2]Paramètres!J1350=\"\",\"\",[2]Paramètres!J1350)","v":""},{"$f":"IF([2]Paramètres!K1350=\"\",\"\",[2]Paramètres!K1350)","v":""},{"$f":"IF([2]Paramètres!L1350=\"\",\"\",[2]Paramètres!L1350)","v":""},{"$f":"IF([2]Paramètres!M1350=\"\",\"\",[2]Paramètres!M1350)","v":""},{"$f":"IF([2]Paramètres!N1350=\"\",\"\",[2]Paramètres!N1350)","v":""},{"$f":"IF([2]Paramètres!O1350=\"\",\"\",[2]Paramètres!O1350)","v":""},{"$f":"IF([2]Paramètres!P1350=\"\",\"\",[2]Paramètres!P1350)","v":""},{"$f":"IF([2]Paramètres!Q1350=\"\",\"\",[2]Paramètres!Q1350)","v":""}]
[null,null,null,null,null,null,null,null,null,{"$f":"IF([2]Paramètres!J1351=\"\",\"\",[2]Paramètres!J1351)","v":""},{"$f":"IF([2]Paramètres!K1351=\"\",\"\",[2]Paramètres!K1351)","v":""},{"$f":"IF([2]Paramètres!L1351=\"\",\"\",[2]Paramètres!L1351)","v":""},{"$f":"IF([2]Paramètres!M1351=\"\",\"\",[2]Paramètres!M1351)","v":""},{"$f":"IF([2]Paramètres!N1351=\"\",\"\",[2]Paramètres!N1351)","v":""},{"$f":"IF([2]Paramètres!O1351=\"\",\"\",[2]Paramètres!O1351)","v":""},{"$f":"IF([2]Paramètres!P1351=\"\",\"\",[2]Paramètres!P1351)","v":""},{"$f":"IF([2]Paramètres!Q1351=\"\",\"\",[2]Paramètres!Q1351)","v":""}]
[null,null,null,null,null,null,null,null,null,{"$f":"IF([2]Paramètres!J1352=\"\",\"\",[2]Paramètres!J1352)","v":""},{"$f":"IF([2]Paramètres!K1352=\"\",\"\",[2]Paramètres!K1352)","v":""},{"$f":"IF([2]Paramètres!L1352=\"\",\"\",[2]Paramètres!L1352)","v":""},{"$f":"IF([2]Paramètres!M1352=\"\",\"\",[2]Paramètres!M1352)","v":""},{"$f":"IF([2]Paramètres!N1352=\"\",\"\",[2]Paramètres!N1352)","v":""},{"$f":"IF([2]Paramètres!O1352=\"\",\"\",[2]Paramètres!O1352)","v":""},{"$f":"IF([2]Paramètres!P1352=\"\",\"\",[2]Paramètres!P1352)","v":""},{"$f":"IF([2]Paramètres!Q1352=\"\",\"\",[2]Paramètres!Q1352)","v":""}]
[null,null,null,null,null,null,null,null,null,{"$f":"IF([2]Paramètres!J1353=\"\",\"\",[2]Paramètres!J1353)","v":""},{"$f":"IF([2]Paramètres!K1353=\"\",\"\",[2]Paramètres!K1353)","v":""},{"$f":"IF([2]Paramètres!L1353=\"\",\"\",[2]Paramètres!L1353)","v":""},{"$f":"IF([2]Paramètres!M1353=\"\",\"\",[2]Paramètres!M1353)","v":""},{"$f":"IF([2]Paramètres!N1353=\"\",\"\",[2]Paramètres!N1353)","v":""},{"$f":"IF([2]Paramètres!O1353=\"\",\"\",[2]Paramètres!O1353)","v":""},{"$f":"IF([2]Paramètres!P1353=\"\",\"\",[2]Paramètres!P1353)","v":""},{"$f":"IF([2]Paramètres!Q1353=\"\",\"\",[2]Paramètres!Q1353)","v":""}]
[null,null,null,null,null,null,null,null,null,{"$f":"IF([2]Paramètres!J1354=\"\",\"\",[2]Paramètres!J1354)","v":""},{"$f":"IF([2]Paramètres!K1354=\"\",\"\",[2]Paramètres!K1354)","v":""},{"$f":"IF([2]Paramètres!L1354=\"\",\"\",[2]Paramètres!L1354)","v":""},{"$f":"IF([2]Paramètres!M1354=\"\",\"\",[2]Paramètres!M1354)","v":""},{"$f":"IF([2]Paramètres!N1354=\"\",\"\",[2]Paramètres!N1354)","v":""},{"$f":"IF([2]Paramètres!O1354=\"\",\"\",[2]Paramètres!O1354)","v":""},{"$f":"IF([2]Paramètres!P1354=\"\",\"\",[2]Paramètres!P1354)","v":""},{"$f":"IF([2]Paramètres!Q1354=\"\",\"\",[2]Paramètres!Q1354)","v":""}]
[null,null,null,null,null,null,null,null,null,{"$f":"IF([2]Paramètres!J1355=\"\",\"\",[2]Paramètres!J1355)","v":""},{"$f":"IF([2]Paramètres!K1355=\"\",\"\",[2]Paramètres!K1355)","v":""},{"$f":"IF([2]Paramètres!L1355=\"\",\"\",[2]Paramètres!L1355)","v":""},{"$f":"IF([2]Paramètres!M1355=\"\",\"\",[2]Paramètres!M1355)","v":""},{"$f":"IF([2]Paramètres!N1355=\"\",\"\",[2]Paramètres!N1355)","v":""},{"$f":"IF([2]Paramètres!O1355=\"\",\"\",[2]Paramètres!O1355)","v":""},{"$f":"IF([2]Paramètres!P1355=\"\",\"\",[2]Paramètres!P1355)","v":""},{"$f":"IF([2]Paramètres!Q1355=\"\",\"\",[2]Paramètres!Q1355)","v":""}]
[null,null,null,null,null,null,null,null,null,{"$f":"IF([2]Paramètres!J1356=\"\",\"\",[2]Paramètres!J1356)","v":""},{"$f":"IF([2]Paramètres!K1356=\"\",\"\",[2]Paramètres!K1356)","v":""},{"$f":"IF([2]Paramètres!L1356=\"\",\"\",[2]Paramètres!L1356)","v":""},{"$f":"IF([2]Paramètres!M1356=\"\",\"\",[2]Paramètres!M1356)","v":""},{"$f":"IF([2]Paramètres!N1356=\"\",\"\",[2]Paramètres!N1356)","v":""},{"$f":"IF([2]Paramètres!O1356=\"\",\"\",[2]Paramètres!O1356)","v":""},{"$f":"IF([2]Paramètres!P1356=\"\",\"\",[2]Paramètres!P1356)","v":""},{"$f":"IF([2]Paramètres!Q1356=\"\",\"\",[2]Paramètres!Q1356)","v":""}]
[null,null,null,null,null,null,null,null,null,{"$f":"IF([2]Paramètres!J1357=\"\",\"\",[2]Paramètres!J1357)","v":""},{"$f":"IF([2]Paramètres!K1357=\"\",\"\",[2]Paramètres!K1357)","v":""},{"$f":"IF([2]Paramètres!L1357=\"\",\"\",[2]Paramètres!L1357)","v":""},{"$f":"IF([2]Paramètres!M1357=\"\",\"\",[2]Paramètres!M1357)","v":""},{"$f":"IF([2]Paramètres!N1357=\"\",\"\",[2]Paramètres!N1357)","v":""},{"$f":"IF([2]Paramètres!O1357=\"\",\"\",[2]Paramètres!O1357)","v":""},{"$f":"IF([2]Paramètres!P1357=\"\",\"\",[2]Paramètres!P1357)","v":""},{"$f":"IF([2]Paramètres!Q1357=\"\",\"\",[2]Paramètres!Q1357)","v":""}]
[null,null,null,null,null,null,null,null,null,{"$f":"IF([2]Paramètres!J1358=\"\",\"\",[2]Paramètres!J1358)","v":""},{"$f":"IF([2]Paramètres!K1358=\"\",\"\",[2]Paramètres!K1358)","v":""},{"$f":"IF([2]Paramètres!L1358=\"\",\"\",[2]Paramètres!L1358)","v":""},{"$f":"IF([2]Paramètres!M1358=\"\",\"\",[2]Paramètres!M1358)","v":""},{"$f":"IF([2]Paramètres!N1358=\"\",\"\",[2]Paramètres!N1358)","v":""},{"$f":"IF([2]Paramètres!O1358=\"\",\"\",[2]Paramètres!O1358)","v":""},{"$f":"IF([2]Paramètres!P1358=\"\",\"\",[2]Paramètres!P1358)","v":""},{"$f":"IF([2]Paramètres!Q1358=\"\",\"\",[2]Paramètres!Q1358)","v":""}]
[null,null,null,null,null,null,null,null,null,{"$f":"IF([2]Paramètres!J1359=\"\",\"\",[2]Paramètres!J1359)","v":""},{"$f":"IF([2]Paramètres!K1359=\"\",\"\",[2]Paramètres!K1359)","v":""},{"$f":"IF([2]Paramètres!L1359=\"\",\"\",[2]Paramètres!L1359)","v":""},{"$f":"IF([2]Paramètres!M1359=\"\",\"\",[2]Paramètres!M1359)","v":""},{"$f":"IF([2]Paramètres!N1359=\"\",\"\",[2]Paramètres!N1359)","v":""},{"$f":"IF([2]Paramètres!O1359=\"\",\"\",[2]Paramètres!O1359)","v":""},{"$f":"IF([2]Paramètres!P1359=\"\",\"\",[2]Paramètres!P1359)","v":""},{"$f":"IF([2]Paramètres!Q1359=\"\",\"\",[2]Paramètres!Q1359)","v":""}]
[null,null,null,null,null,null,null,null,null,{"$f":"IF([2]Paramètres!J1360=\"\",\"\",[2]Paramètres!J1360)","v":""},{"$f":"IF([2]Paramètres!K1360=\"\",\"\",[2]Paramètres!K1360)","v":""},{"$f":"IF([2]Paramètres!L1360=\"\",\"\",[2]Paramètres!L1360)","v":""},{"$f":"IF([2]Paramètres!M1360=\"\",\"\",[2]Paramètres!M1360)","v":""},{"$f":"IF([2]Paramètres!N1360=\"\",\"\",[2]Paramètres!N1360)","v":""},{"$f":"IF([2]Paramètres!O1360=\"\",\"\",[2]Paramètres!O1360)","v":""},{"$f":"IF([2]Paramètres!P1360=\"\",\"\",[2]Paramètres!P1360)","v":""},{"$f":"IF([2]Paramètres!Q1360=\"\",\"\",[2]Paramètres!Q1360)","v":""}]
[null,null,null,null,null,null,null,null,null,{"$f":"IF([2]Paramètres!J1361=\"\",\"\",[2]Paramètres!J1361)","v":""},{"$f":"IF([2]Paramètres!K1361=\"\",\"\",[2]Paramètres!K1361)","v":""},{"$f":"IF([2]Paramètres!L1361=\"\",\"\",[2]Paramètres!L1361)","v":""},{"$f":"IF([2]Paramètres!M1361=\"\",\"\",[2]Paramètres!M1361)","v":""},{"$f":"IF([2]Paramètres!N1361=\"\",\"\",[2]Paramètres!N1361)","v":""},{"$f":"IF([2]Paramètres!O1361=\"\",\"\",[2]Paramètres!O1361)","v":""},{"$f":"IF([2]Paramètres!P1361=\"\",\"\",[2]Paramètres!P1361)","v":""},{"$f":"IF([2]Paramètres!Q1361=\"\",\"\",[2]Paramètres!Q1361)","v":""}]
[null,null,null,null,null,null,null,null,null,{"$f":"IF([2]Paramètres!J1362=\"\",\"\",[2]Paramètres!J1362)","v":""},{"$f":"IF([2]Paramètres!K1362=\"\",\"\",[2]Paramètres!K1362)","v":""},{"$f":"IF([2]Paramètres!L1362=\"\",\"\",[2]Paramètres!L1362)","v":""},{"$f":"IF([2]Paramètres!M1362=\"\",\"\",[2]Paramètres!M1362)","v":""},{"$f":"IF([2]Paramètres!N1362=\"\",\"\",[2]Paramètres!N1362)","v":""},{"$f":"IF([2]Paramètres!O1362=\"\",\"\",[2]Paramètres!O1362)","v":""},{"$f":"IF([2]Paramètres!P1362=\"\",\"\",[2]Paramètres!P1362)","v":""},{"$f":"IF([2]Paramètres!Q1362=\"\",\"\",[2]Paramètres!Q1362)","v":""}]
[null,null,null,null,null,null,null,null,null,{"$f":"IF([2]Paramètres!J1363=\"\",\"\",[2]Paramètres!J1363)","v":""},{"$f":"IF([2]Paramètres!K1363=\"\",\"\",[2]Paramètres!K1363)","v":""},{"$f":"IF([2]Paramètres!L1363=\"\",\"\",[2]Paramètres!L1363)","v":""},{"$f":"IF([2]Paramètres!M1363=\"\",\"\",[2]Paramètres!M1363)","v":""},{"$f":"IF([2]Paramètres!N1363=\"\",\"\",[2]Paramètres!N1363)","v":""},{"$f":"IF([2]Paramètres!O1363=\"\",\"\",[2]Paramètres!O1363)","v":""},{"$f":"IF([2]Paramètres!P1363=\"\",\"\",[2]Paramètres!P1363)","v":""},{"$f":"IF([2]Paramètres!Q1363=\"\",\"\",[2]Paramètres!Q1363)","v":""}]
[null,null,null,null,null,null,null,null,null,{"$f":"IF([2]Paramètres!J1364=\"\",\"\",[2]Paramètres!J1364)","v":""},{"$f":"IF([2]Paramètres!K1364=\"\",\"\",[2]Paramètres!K1364)","v":""},{"$f":"IF([2]Paramètres!L1364=\"\",\"\",[2]Paramètres!L1364)","v":""},{"$f":"IF([2]Paramètres!M1364=\"\",\"\",[2]Paramètres!M1364)","v":""},{"$f":"IF([2]Paramètres!N1364=\"\",\"\",[2]Paramètres!N1364)","v":""},{"$f":"IF([2]Paramètres!O1364=\"\",\"\",[2]Paramètres!O1364)","v":""},{"$f":"IF([2]Paramètres!P1364=\"\",\"\",[2]Paramètres!P1364)","v":""},{"$f":"IF([2]Paramètres!Q1364=\"\",\"\",[2]Paramètres!Q1364)","v":""}]
[null,null,null,null,null,null,null,null,null,{"$f":"IF([2]Paramètres!J1365=\"\",\"\",[2]Paramètres!J1365)","v":""},{"$f":"IF([2]Paramètres!K1365=\"\",\"\",[2]Paramètres!K1365)","v":""},{"$f":"IF([2]Paramètres!L1365=\"\",\"\",[2]Paramètres!L1365)","v":""},{"$f":"IF([2]Paramètres!M1365=\"\",\"\",[2]Paramètres!M1365)","v":""},{"$f":"IF([2]Paramètres!N1365=\"\",\"\",[2]Paramètres!N1365)","v":""},{"$f":"IF([2]Paramètres!O1365=\"\",\"\",[2]Paramètres!O1365)","v":""},{"$f":"IF([2]Paramètres!P1365=\"\",\"\",[2]Paramètres!P1365)","v":""},{"$f":"IF([2]Paramètres!Q1365=\"\",\"\",[2]Paramètres!Q1365)","v":""}]
[null,null,null,null,null,null,null,null,null,{"$f":"IF([2]Paramètres!J1366=\"\",\"\",[2]Paramètres!J1366)","v":""},{"$f":"IF([2]Paramètres!K1366=\"\",\"\",[2]Paramètres!K1366)","v":""},{"$f":"IF([2]Paramètres!L1366=\"\",\"\",[2]Paramètres!L1366)","v":""},{"$f":"IF([2]Paramètres!M1366=\"\",\"\",[2]Paramètres!M1366)","v":""},{"$f":"IF([2]Paramètres!N1366=\"\",\"\",[2]Paramètres!N1366)","v":""},{"$f":"IF([2]Paramètres!O1366=\"\",\"\",[2]Paramètres!O1366)","v":""},{"$f":"IF([2]Paramètres!P1366=\"\",\"\",[2]Paramètres!P1366)","v":""},{"$f":"IF([2]Paramètres!Q1366=\"\",\"\",[2]Paramètres!Q1366)","v":""}]
[null,null,null,null,null,null,null,null,null,{"$f":"IF([2]Paramètres!J1367=\"\",\"\",[2]Paramètres!J1367)","v":""},{"$f":"IF([2]Paramètres!K1367=\"\",\"\",[2]Paramètres!K1367)","v":""},{"$f":"IF([2]Paramètres!L1367=\"\",\"\",[2]Paramètres!L1367)","v":""},{"$f":"IF([2]Paramètres!M1367=\"\",\"\",[2]Paramètres!M1367)","v":""},{"$f":"IF([2]Paramètres!N1367=\"\",\"\",[2]Paramètres!N1367)","v":""},{"$f":"IF([2]Paramètres!O1367=\"\",\"\",[2]Paramètres!O1367)","v":""},{"$f":"IF([2]Paramètres!P1367=\"\",\"\",[2]Paramètres!P1367)","v":""},{"$f":"IF([2]Paramètres!Q1367=\"\",\"\",[2]Paramètres!Q1367)","v":""}]
[null,null,null,null,null,null,null,null,null,{"$f":"IF([2]Paramètres!J1368=\"\",\"\",[2]Paramètres!J1368)","v":""},{"$f":"IF([2]Paramètres!K1368=\"\",\"\",[2]Paramètres!K1368)","v":""},{"$f":"IF([2]Paramètres!L1368=\"\",\"\",[2]Paramètres!L1368)","v":""},{"$f":"IF([2]Paramètres!M1368=\"\",\"\",[2]Paramètres!M1368)","v":""},{"$f":"IF([2]Paramètres!N1368=\"\",\"\",[2]Paramètres!N1368)","v":""},{"$f":"IF([2]Paramètres!O1368=\"\",\"\",[2]Paramètres!O1368)","v":""},{"$f":"IF([2]Paramètres!P1368=\"\",\"\",[2]Paramètres!P1368)","v":""},{"$f":"IF([2]Paramètres!Q1368=\"\",\"\",[2]Paramètres!Q1368)","v":""}]
[null,null,null,null,null,null,null,null,null,{"$f":"IF([2]Paramètres!J1369=\"\",\"\",[2]Paramètres!J1369)","v":""},{"$f":"IF([2]Paramètres!K1369=\"\",\"\",[2]Paramètres!K1369)","v":""},{"$f":"IF([2]Paramètres!L1369=\"\",\"\",[2]Paramètres!L1369)","v":""},{"$f":"IF([2]Paramètres!M1369=\"\",\"\",[2]Paramètres!M1369)","v":""},{"$f":"IF([2]Paramètres!N1369=\"\",\"\",[2]Paramètres!N1369)","v":""},{"$f":"IF([2]Paramètres!O1369=\"\",\"\",[2]Paramètres!O1369)","v":""},{"$f":"IF([2]Paramètres!P1369=\"\",\"\",[2]Paramètres!P1369)","v":""},{"$f":"IF([2]Paramètres!Q1369=\"\",\"\",[2]Paramètres!Q1369)","v":""}]
[null,null,null,null,null,null,null,null,null,{"$f":"IF([2]Paramètres!J1370=\"\",\"\",[2]Paramètres!J1370)","v":""},{"$f":"IF([2]Paramètres!K1370=\"\",\"\",[2]Paramètres!K1370)","v":""},{"$f":"IF([2]Paramètres!L1370=\"\",\"\",[2]Paramètres!L1370)","v":""},{"$f":"IF([2]Paramètres!M1370=\"\",\"\",[2]Paramètres!M1370)","v":""},{"$f":"IF([2]Paramètres!N1370=\"\",\"\",[2]Paramètres!N1370)","v":""},{"$f":"IF([2]Paramètres!O1370=\"\",\"\",[2]Paramètres!O1370)","v":""},{"$f":"IF([2]Paramètres!P1370=\"\",\"\",[2]Paramètres!P1370)","v":""},{"$f":"IF([2]Paramètres!Q1370=\"\",\"\",[2]Paramètres!Q1370)","v":""}]
[null,null,null,null,null,null,null,null,null,{"$f":"IF([2]Paramètres!J1371=\"\",\"\",[2]Paramètres!J1371)","v":""},{"$f":"IF([2]Paramètres!K1371=\"\",\"\",[2]Paramètres!K1371)","v":""},{"$f":"IF([2]Paramètres!L1371=\"\",\"\",[2]Paramètres!L1371)","v":""},{"$f":"IF([2]Paramètres!M1371=\"\",\"\",[2]Paramètres!M1371)","v":""},{"$f":"IF([2]Paramètres!N1371=\"\",\"\",[2]Paramètres!N1371)","v":""},{"$f":"IF([2]Paramètres!O1371=\"\",\"\",[2]Paramètres!O1371)","v":""},{"$f":"IF([2]Paramètres!P1371=\"\",\"\",[2]Paramètres!P1371)","v":""},{"$f":"IF([2]Paramètres!Q1371=\"\",\"\",[2]Paramètres!Q1371)","v":""}]
[null,null,null,null,null,null,null,null,null,{"$f":"IF([2]Paramètres!J1372=\"\",\"\",[2]Paramètres!J1372)","v":""},{"$f":"IF([2]Paramètres!K1372=\"\",\"\",[2]Paramètres!K1372)","v":""},{"$f":"IF([2]Paramètres!L1372=\"\",\"\",[2]Paramètres!L1372)","v":""},{"$f":"IF([2]Paramètres!M1372=\"\",\"\",[2]Paramètres!M1372)","v":""},{"$f":"IF([2]Paramètres!N1372=\"\",\"\",[2]Paramètres!N1372)","v":""},{"$f":"IF([2]Paramètres!O1372=\"\",\"\",[2]Paramètres!O1372)","v":""},{"$f":"IF([2]Paramètres!P1372=\"\",\"\",[2]Paramètres!P1372)","v":""},{"$f":"IF([2]Paramètres!Q1372=\"\",\"\",[2]Paramètres!Q1372)","v":""}]
[null,null,null,null,null,null,null,null,null,{"$f":"IF([2]Paramètres!J1373=\"\",\"\",[2]Paramètres!J1373)","v":""},{"$f":"IF([2]Paramètres!K1373=\"\",\"\",[2]Paramètres!K1373)","v":""},{"$f":"IF([2]Paramètres!L1373=\"\",\"\",[2]Paramètres!L1373)","v":""},{"$f":"IF([2]Paramètres!M1373=\"\",\"\",[2]Paramètres!M1373)","v":""},{"$f":"IF([2]Paramètres!N1373=\"\",\"\",[2]Paramètres!N1373)","v":""},{"$f":"IF([2]Paramètres!O1373=\"\",\"\",[2]Paramètres!O1373)","v":""},{"$f":"IF([2]Paramètres!P1373=\"\",\"\",[2]Paramètres!P1373)","v":""},{"$f":"IF([2]Paramètres!Q1373=\"\",\"\",[2]Paramètres!Q1373)","v":""}]
[null,null,null,null,null,null,null,null,null,{"$f":"IF([2]Paramètres!J1374=\"\",\"\",[2]Paramètres!J1374)","v":""},{"$f":"IF([2]Paramètres!K1374=\"\",\"\",[2]Paramètres!K1374)","v":""},{"$f":"IF([2]Paramètres!L1374=\"\",\"\",[2]Paramètres!L1374)","v":""},{"$f":"IF([2]Paramètres!M1374=\"\",\"\",[2]Paramètres!M1374)","v":""},{"$f":"IF([2]Paramètres!N1374=\"\",\"\",[2]Paramètres!N1374)","v":""},{"$f":"IF([2]Paramètres!O1374=\"\",\"\",[2]Paramètres!O1374)","v":""},{"$f":"IF([2]Paramètres!P1374=\"\",\"\",[2]Paramètres!P1374)","v":""},{"$f":"IF([2]Paramètres!Q1374=\"\",\"\",[2]Paramètres!Q1374)","v":""}]
[null,null,null,null,null,null,null,null,null,{"$f":"IF([2]Paramètres!J1375=\"\",\"\",[2]Paramètres!J1375)","v":""},{"$f":"IF([2]Paramètres!K1375=\"\",\"\",[2]Paramètres!K1375)","v":""},{"$f":"IF([2]Paramètres!L1375=\"\",\"\",[2]Paramètres!L1375)","v":""},{"$f":"IF([2]Paramètres!M1375=\"\",\"\",[2]Paramètres!M1375)","v":""},{"$f":"IF([2]Paramètres!N1375=\"\",\"\",[2]Paramètres!N1375)","v":""},{"$f":"IF([2]Paramètres!O1375=\"\",\"\",[2]Paramètres!O1375)","v":""},{"$f":"IF([2]Paramètres!P1375=\"\",\"\",[2]Paramètres!P1375)","v":""},{"$f":"IF([2]Paramètres!Q1375=\"\",\"\",[2]Paramètres!Q1375)","v":""}]
[null,null,null,null,null,null,null,null,null,{"$f":"IF([2]Paramètres!J1376=\"\",\"\",[2]Paramètres!J1376)","v":""},{"$f":"IF([2]Paramètres!K1376=\"\",\"\",[2]Paramètres!K1376)","v":""},{"$f":"IF([2]Paramètres!L1376=\"\",\"\",[2]Paramètres!L1376)","v":""},{"$f":"IF([2]Paramètres!M1376=\"\",\"\",[2]Paramètres!M1376)","v":""},{"$f":"IF([2]Paramètres!N1376=\"\",\"\",[2]Paramètres!N1376)","v":""},{"$f":"IF([2]Paramètres!O1376=\"\",\"\",[2]Paramètres!O1376)","v":""},{"$f":"IF([2]Paramètres!P1376=\"\",\"\",[2]Paramètres!P1376)","v":""},{"$f":"IF([2]Paramètres!Q1376=\"\",\"\",[2]Paramètres!Q1376)","v":""}]
[null,null,null,null,null,null,null,null,null,{"$f":"IF([2]Paramètres!J1377=\"\",\"\",[2]Paramètres!J1377)","v":""},{"$f":"IF([2]Paramètres!K1377=\"\",\"\",[2]Paramètres!K1377)","v":""},{"$f":"IF([2]Paramètres!L1377=\"\",\"\",[2]Paramètres!L1377)","v":""},{"$f":"IF([2]Paramètres!M1377=\"\",\"\",[2]Paramètres!M1377)","v":""},{"$f":"IF([2]Paramètres!N1377=\"\",\"\",[2]Paramètres!N1377)","v":""},{"$f":"IF([2]Paramètres!O1377=\"\",\"\",[2]Paramètres!O1377)","v":""},{"$f":"IF([2]Paramètres!P1377=\"\",\"\",[2]Paramètres!P1377)","v":""},{"$f":"IF([2]Paramètres!Q1377=\"\",\"\",[2]Paramètres!Q1377)","v":""}]
[null,null,null,null,null,null,null,null,null,{"$f":"IF([2]Paramètres!J1378=\"\",\"\",[2]Paramètres!J1378)","v":""},{"$f":"IF([2]Paramètres!K1378=\"\",\"\",[2]Paramètres!K1378)","v":""},{"$f":"IF([2]Paramètres!L1378=\"\",\"\",[2]Paramètres!L1378)","v":""},{"$f":"IF([2]Paramètres!M1378=\"\",\"\",[2]Paramètres!M1378)","v":""},{"$f":"IF([2]Paramètres!N1378=\"\",\"\",[2]Paramètres!N1378)","v":""},{"$f":"IF([2]Paramètres!O1378=\"\",\"\",[2]Paramètres!O1378)","v":""},{"$f":"IF([2]Paramètres!P1378=\"\",\"\",[2]Paramètres!P1378)","v":""},{"$f":"IF([2]Paramètres!Q1378=\"\",\"\",[2]Paramètres!Q1378)","v":""}]
[null,null,null,null,null,null,null,null,null,{"$f":"IF([2]Paramètres!J1379=\"\",\"\",[2]Paramètres!J1379)","v":""},{"$f":"IF([2]Paramètres!K1379=\"\",\"\",[2]Paramètres!K1379)","v":""},{"$f":"IF([2]Paramètres!L1379=\"\",\"\",[2]Paramètres!L1379)","v":""},{"$f":"IF([2]Paramètres!M1379=\"\",\"\",[2]Paramètres!M1379)","v":""},{"$f":"IF([2]Paramètres!N1379=\"\",\"\",[2]Paramètres!N1379)","v":""},{"$f":"IF([2]Paramètres!O1379=\"\",\"\",[2]Paramètres!O1379)","v":""},{"$f":"IF([2]Paramètres!P1379=\"\",\"\",[2]Paramètres!P1379)","v":""},{"$f":"IF([2]Paramètres!Q1379=\"\",\"\",[2]Paramètres!Q1379)","v":""}]
[null,null,null,null,null,null,null,null,null,{"$f":"IF([2]Paramètres!J1380=\"\",\"\",[2]Paramètres!J1380)","v":""},{"$f":"IF([2]Paramètres!K1380=\"\",\"\",[2]Paramètres!K1380)","v":""},{"$f":"IF([2]Paramètres!L1380=\"\",\"\",[2]Paramètres!L1380)","v":""},{"$f":"IF([2]Paramètres!M1380=\"\",\"\",[2]Paramètres!M1380)","v":""},{"$f":"IF([2]Paramètres!N1380=\"\",\"\",[2]Paramètres!N1380)","v":""},{"$f":"IF([2]Paramètres!O1380=\"\",\"\",[2]Paramètres!O1380)","v":""},{"$f":"IF([2]Paramètres!P1380=\"\",\"\",[2]Paramètres!P1380)","v":""},{"$f":"IF([2]Paramètres!Q1380=\"\",\"\",[2]Paramètres!Q1380)","v":""}]
[null,null,null,null,null,null,null,null,null,{"$f":"IF([2]Paramètres!J1381=\"\",\"\",[2]Paramètres!J1381)","v":""},{"$f":"IF([2]Paramètres!K1381=\"\",\"\",[2]Paramètres!K1381)","v":""},{"$f":"IF([2]Paramètres!L1381=\"\",\"\",[2]Paramètres!L1381)","v":""},{"$f":"IF([2]Paramètres!M1381=\"\",\"\",[2]Paramètres!M1381)","v":""},{"$f":"IF([2]Paramètres!N1381=\"\",\"\",[2]Paramètres!N1381)","v":""},{"$f":"IF([2]Paramètres!O1381=\"\",\"\",[2]Paramètres!O1381)","v":""},{"$f":"IF([2]Paramètres!P1381=\"\",\"\",[2]Paramètres!P1381)","v":""},{"$f":"IF([2]Paramètres!Q1381=\"\",\"\",[2]Paramètres!Q1381)","v":""}]
[null,null,null,null,null,null,null,null,null,{"$f":"IF([2]Paramètres!J1382=\"\",\"\",[2]Paramètres!J1382)","v":""},{"$f":"IF([2]Paramètres!K1382=\"\",\"\",[2]Paramètres!K1382)","v":""},{"$f":"IF([2]Paramètres!L1382=\"\",\"\",[2]Paramètres!L1382)","v":""},{"$f":"IF([2]Paramètres!M1382=\"\",\"\",[2]Paramètres!M1382)","v":""},{"$f":"IF([2]Paramètres!N1382=\"\",\"\",[2]Paramètres!N1382)","v":""},{"$f":"IF([2]Paramètres!O1382=\"\",\"\",[2]Paramètres!O1382)","v":""},{"$f":"IF([2]Paramètres!P1382=\"\",\"\",[2]Paramètres!P1382)","v":""},{"$f":"IF([2]Paramètres!Q1382=\"\",\"\",[2]Paramètres!Q1382)","v":""}]
[null,null,null,null,null,null,null,null,null,{"$f":"IF([2]Paramètres!J1383=\"\",\"\",[2]Paramètres!J1383)","v":""},{"$f":"IF([2]Paramètres!K1383=\"\",\"\",[2]Paramètres!K1383)","v":""},{"$f":"IF([2]Paramètres!L1383=\"\",\"\",[2]Paramètres!L1383)","v":""},{"$f":"IF([2]Paramètres!M1383=\"\",\"\",[2]Paramètres!M1383)","v":""},{"$f":"IF([2]Paramètres!N1383=\"\",\"\",[2]Paramètres!N1383)","v":""},{"$f":"IF([2]Paramètres!O1383=\"\",\"\",[2]Paramètres!O1383)","v":""},{"$f":"IF([2]Paramètres!P1383=\"\",\"\",[2]Paramètres!P1383)","v":""},{"$f":"IF([2]Paramètres!Q1383=\"\",\"\",[2]Paramètres!Q1383)","v":""}]
[null,null,null,null,null,null,null,null,null,{"$f":"IF([2]Paramètres!J1384=\"\",\"\",[2]Paramètres!J1384)","v":""},{"$f":"IF([2]Paramètres!K1384=\"\",\"\",[2]Paramètres!K1384)","v":""},{"$f":"IF([2]Paramètres!L1384=\"\",\"\",[2]Paramètres!L1384)","v":""},{"$f":"IF([2]Paramètres!M1384=\"\",\"\",[2]Paramètres!M1384)","v":""},{"$f":"IF([2]Paramètres!N1384=\"\",\"\",[2]Paramètres!N1384)","v":""},{"$f":"IF([2]Paramètres!O1384=\"\",\"\",[2]Paramètres!O1384)","v":""},{"$f":"IF([2]Paramètres!P1384=\"\",\"\",[2]Paramètres!P1384)","v":""},{"$f":"IF([2]Paramètres!Q1384=\"\",\"\",[2]Paramètres!Q1384)","v":""}]
[null,null,null,null,null,null,null,null,null,{"$f":"IF([2]Paramètres!J1385=\"\",\"\",[2]Paramètres!J1385)","v":""},{"$f":"IF([2]Paramètres!K1385=\"\",\"\",[2]Paramètres!K1385)","v":""},{"$f":"IF([2]Paramètres!L1385=\"\",\"\",[2]Paramètres!L1385)","v":""},{"$f":"IF([2]Paramètres!M1385=\"\",\"\",[2]Paramètres!M1385)","v":""},{"$f":"IF([2]Paramètres!N1385=\"\",\"\",[2]Paramètres!N1385)","v":""},{"$f":"IF([2]Paramètres!O1385=\"\",\"\",[2]Paramètres!O1385)","v":""},{"$f":"IF([2]Paramètres!P1385=\"\",\"\",[2]Paramètres!P1385)","v":""},{"$f":"IF([2]Paramètres!Q1385=\"\",\"\",[2]Paramètres!Q1385)","v":""}]
[null,null,null,null,null,null,null,null,null,{"$f":"IF([2]Paramètres!J1386=\"\",\"\",[2]Paramètres!J1386)","v":""},{"$f":"IF([2]Paramètres!K1386=\"\",\"\",[2]Paramètres!K1386)","v":""},{"$f":"IF([2]Paramètres!L1386=\"\",\"\",[2]Paramètres!L1386)","v":""},{"$f":"IF([2]Paramètres!M1386=\"\",\"\",[2]Paramètres!M1386)","v":""},{"$f":"IF([2]Paramètres!N1386=\"\",\"\",[2]Paramètres!N1386)","v":""},{"$f":"IF([2]Paramètres!O1386=\"\",\"\",[2]Paramètres!O1386)","v":""},{"$f":"IF([2]Paramètres!P1386=\"\",\"\",[2]Paramètres!P1386)","v":""},{"$f":"IF([2]Paramètres!Q1386=\"\",\"\",[2]Paramètres!Q1386)","v":""}]
[null,null,null,null,null,null,null,null,null,{"$f":"IF([2]Paramètres!J1387=\"\",\"\",[2]Paramètres!J1387)","v":""},{"$f":"IF([2]Paramètres!K1387=\"\",\"\",[2]Paramètres!K1387)","v":""},{"$f":"IF([2]Paramètres!L1387=\"\",\"\",[2]Paramètres!L1387)","v":""},{"$f":"IF([2]Paramètres!M1387=\"\",\"\",[2]Paramètres!M1387)","v":""},{"$f":"IF([2]Paramètres!N1387=\"\",\"\",[2]Paramètres!N1387)","v":""},{"$f":"IF([2]Paramètres!O1387=\"\",\"\",[2]Paramètres!O1387)","v":""},{"$f":"IF([2]Paramètres!P1387=\"\",\"\",[2]Paramètres!P1387)","v":""},{"$f":"IF([2]Paramètres!Q1387=\"\",\"\",[2]Paramètres!Q1387)","v":""}]
[null,null,null,null,null,null,null,null,null,{"$f":"IF([2]Paramètres!J1388=\"\",\"\",[2]Paramètres!J1388)","v":""},{"$f":"IF([2]Paramètres!K1388=\"\",\"\",[2]Paramètres!K1388)","v":""},{"$f":"IF([2]Paramètres!L1388=\"\",\"\",[2]Paramètres!L1388)","v":""},{"$f":"IF([2]Paramètres!M1388=\"\",\"\",[2]Paramètres!M1388)","v":""},{"$f":"IF([2]Paramètres!N1388=\"\",\"\",[2]Paramètres!N1388)","v":""},{"$f":"IF([2]Paramètres!O1388=\"\",\"\",[2]Paramètres!O1388)","v":""},{"$f":"IF([2]Paramètres!P1388=\"\",\"\",[2]Paramètres!P1388)","v":""},{"$f":"IF([2]Paramètres!Q1388=\"\",\"\",[2]Paramètres!Q1388)","v":""}]
[null,null,null,null,null,null,null,null,null,{"$f":"IF([2]Paramètres!J1389=\"\",\"\",[2]Paramètres!J1389)","v":""},{"$f":"IF([2]Paramètres!K1389=\"\",\"\",[2]Paramètres!K1389)","v":""},{"$f":"IF([2]Paramètres!L1389=\"\",\"\",[2]Paramètres!L1389)","v":""},{"$f":"IF([2]Paramètres!M1389=\"\",\"\",[2]Paramètres!M1389)","v":""},{"$f":"IF([2]Paramètres!N1389=\"\",\"\",[2]Paramètres!N1389)","v":""},{"$f":"IF([2]Paramètres!O1389=\"\",\"\",[2]Paramètres!O1389)","v":""},{"$f":"IF([2]Paramètres!P1389=\"\",\"\",[2]Paramètres!P1389)","v":""},{"$f":"IF([2]Paramètres!Q1389=\"\",\"\",[2]Paramètres!Q1389)","v":""}]
[null,null,null,null,null,null,null,null,null,{"$f":"IF([2]Paramètres!J1390=\"\",\"\",[2]Paramètres!J1390)","v":""},{"$f":"IF([2]Paramètres!K1390=\"\",\"\",[2]Paramètres!K1390)","v":""},{"$f":"IF([2]Paramètres!L1390=\"\",\"\",[2]Paramètres!L1390)","v":""},{"$f":"IF([2]Paramètres!M1390=\"\",\"\",[2]Paramètres!M1390)","v":""},{"$f":"IF([2]Paramètres!N1390=\"\",\"\",[2]Paramètres!N1390)","v":""},{"$f":"IF([2]Paramètres!O1390=\"\",\"\",[2]Paramètres!O1390)","v":""},{"$f":"IF([2]Paramètres!P1390=\"\",\"\",[2]Paramètres!P1390)","v":""},{"$f":"IF([2]Paramètres!Q1390=\"\",\"\",[2]Paramètres!Q1390)","v":""}]
[null,null,null,null,null,null,null,null,null,{"$f":"IF([2]Paramètres!J1391=\"\",\"\",[2]Paramètres!J1391)","v":""},{"$f":"IF([2]Paramètres!K1391=\"\",\"\",[2]Paramètres!K1391)","v":""},{"$f":"IF([2]Paramètres!L1391=\"\",\"\",[2]Paramètres!L1391)","v":""},{"$f":"IF([2]Paramètres!M1391=\"\",\"\",[2]Paramètres!M1391)","v":""},{"$f":"IF([2]Paramètres!N1391=\"\",\"\",[2]Paramètres!N1391)","v":""},{"$f":"IF([2]Paramètres!O1391=\"\",\"\",[2]Paramètres!O1391)","v":""},{"$f":"IF([2]Paramètres!P1391=\"\",\"\",[2]Paramètres!P1391)","v":""},{"$f":"IF([2]Paramètres!Q1391=\"\",\"\",[2]Paramètres!Q1391)","v":""}]
[null,null,null,null,null,null,null,null,null,{"$f":"IF([2]Paramètres!J1392=\"\",\"\",[2]Paramètres!J1392)","v":""},{"$f":"IF([2]Paramètres!K1392=\"\",\"\",[2]Paramètres!K1392)","v":""},{"$f":"IF([2]Paramètres!L1392=\"\",\"\",[2]Paramètres!L1392)","v":""},{"$f":"IF([2]Paramètres!M1392=\"\",\"\",[2]Paramètres!M1392)","v":""},{"$f":"IF([2]Paramètres!N1392=\"\",\"\",[2]Paramètres!N1392)","v":""},{"$f":"IF([2]Paramètres!O1392=\"\",\"\",[2]Paramètres!O1392)","v":""},{"$f":"IF([2]Paramètres!P1392=\"\",\"\",[2]Paramètres!P1392)","v":""},{"$f":"IF([2]Paramètres!Q1392=\"\",\"\",[2]Paramètres!Q1392)","v":""}]
[null,null,null,null,null,null,null,null,null,{"$f":"IF([2]Paramètres!J1393=\"\",\"\",[2]Paramètres!J1393)","v":""},{"$f":"IF([2]Paramètres!K1393=\"\",\"\",[2]Paramètres!K1393)","v":""},{"$f":"IF([2]Paramètres!L1393=\"\",\"\",[2]Paramètres!L1393)","v":""},{"$f":"IF([2]Paramètres!M1393=\"\",\"\",[2]Paramètres!M1393)","v":""},{"$f":"IF([2]Paramètres!N1393=\"\",\"\",[2]Paramètres!N1393)","v":""},{"$f":"IF([2]Paramètres!O1393=\"\",\"\",[2]Paramètres!O1393)","v":""},{"$f":"IF([2]Paramètres!P1393=\"\",\"\",[2]Paramètres!P1393)","v":""},{"$f":"IF([2]Paramètres!Q1393=\"\",\"\",[2]Paramètres!Q1393)","v":""}]
[null,null,null,null,null,null,null,null,null,{"$f":"IF([2]Paramètres!J1394=\"\",\"\",[2]Paramètres!J1394)","v":""},{"$f":"IF([2]Paramètres!K1394=\"\",\"\",[2]Paramètres!K1394)","v":""},{"$f":"IF([2]Paramètres!L1394=\"\",\"\",[2]Paramètres!L1394)","v":""},{"$f":"IF([2]Paramètres!M1394=\"\",\"\",[2]Paramètres!M1394)","v":""},{"$f":"IF([2]Paramètres!N1394=\"\",\"\",[2]Paramètres!N1394)","v":""},{"$f":"IF([2]Paramètres!O1394=\"\",\"\",[2]Paramètres!O1394)","v":""},{"$f":"IF([2]Paramètres!P1394=\"\",\"\",[2]Paramètres!P1394)","v":""},{"$f":"IF([2]Paramètres!Q1394=\"\",\"\",[2]Paramètres!Q1394)","v":""}]
[null,null,null,null,null,null,null,null,null,{"$f":"IF([2]Paramètres!J1395=\"\",\"\",[2]Paramètres!J1395)","v":""},{"$f":"IF([2]Paramètres!K1395=\"\",\"\",[2]Paramètres!K1395)","v":""},{"$f":"IF([2]Paramètres!L1395=\"\",\"\",[2]Paramètres!L1395)","v":""},{"$f":"IF([2]Paramètres!M1395=\"\",\"\",[2]Paramètres!M1395)","v":""},{"$f":"IF([2]Paramètres!N1395=\"\",\"\",[2]Paramètres!N1395)","v":""},{"$f":"IF([2]Paramètres!O1395=\"\",\"\",[2]Paramètres!O1395)","v":""},{"$f":"IF([2]Paramètres!P1395=\"\",\"\",[2]Paramètres!P1395)","v":""},{"$f":"IF([2]Paramètres!Q1395=\"\",\"\",[2]Paramètres!Q1395)","v":""}]
[null,null,null,null,null,null,null,null,null,{"$f":"IF([2]Paramètres!J1396=\"\",\"\",[2]Paramètres!J1396)","v":""},{"$f":"IF([2]Paramètres!K1396=\"\",\"\",[2]Paramètres!K1396)","v":""},{"$f":"IF([2]Paramètres!L1396=\"\",\"\",[2]Paramètres!L1396)","v":""},{"$f":"IF([2]Paramètres!M1396=\"\",\"\",[2]Paramètres!M1396)","v":""},{"$f":"IF([2]Paramètres!N1396=\"\",\"\",[2]Paramètres!N1396)","v":""},{"$f":"IF([2]Paramètres!O1396=\"\",\"\",[2]Paramètres!O1396)","v":""},{"$f":"IF([2]Paramètres!P1396=\"\",\"\",[2]Paramètres!P1396)","v":""},{"$f":"IF([2]Paramètres!Q1396=\"\",\"\",[2]Paramètres!Q1396)","v":""}]
[null,null,null,null,null,null,null,null,null,{"$f":"IF([2]Paramètres!J1397=\"\",\"\",[2]Paramètres!J1397)","v":""},{"$f":"IF([2]Paramètres!K1397=\"\",\"\",[2]Paramètres!K1397)","v":""},{"$f":"IF([2]Paramètres!L1397=\"\",\"\",[2]Paramètres!L1397)","v":""},{"$f":"IF([2]Paramètres!M1397=\"\",\"\",[2]Paramètres!M1397)","v":""},{"$f":"IF([2]Paramètres!N1397=\"\",\"\",[2]Paramètres!N1397)","v":""},{"$f":"IF([2]Paramètres!O1397=\"\",\"\",[2]Paramètres!O1397)","v":""},{"$f":"IF([2]Paramètres!P1397=\"\",\"\",[2]Paramètres!P1397)","v":""},{"$f":"IF([2]Paramètres!Q1397=\"\",\"\",[2]Paramètres!Q1397)","v":""}]
[null,null,null,null,null,null,null,null,null,{"$f":"IF([2]Paramètres!J1398=\"\",\"\",[2]Paramètres!J1398)","v":""},{"$f":"IF([2]Paramètres!K1398=\"\",\"\",[2]Paramètres!K1398)","v":""},{"$f":"IF([2]Paramètres!L1398=\"\",\"\",[2]Paramètres!L1398)","v":""},{"$f":"IF([2]Paramètres!M1398=\"\",\"\",[2]Paramètres!M1398)","v":""},{"$f":"IF([2]Paramètres!N1398=\"\",\"\",[2]Paramètres!N1398)","v":""},{"$f":"IF([2]Paramètres!O1398=\"\",\"\",[2]Paramètres!O1398)","v":""},{"$f":"IF([2]Paramètres!P1398=\"\",\"\",[2]Paramètres!P1398)","v":""},{"$f":"IF([2]Paramètres!Q1398=\"\",\"\",[2]Paramètres!Q1398)","v":""}]
[null,null,null,null,null,null,null,null,null,{"$f":"IF([2]Paramètres!J1399=\"\",\"\",[2]Paramètres!J1399)","v":""},{"$f":"IF([2]Paramètres!K1399=\"\",\"\",[2]Paramètres!K1399)","v":""},{"$f":"IF([2]Paramètres!L1399=\"\",\"\",[2]Paramètres!L1399)","v":""},{"$f":"IF([2]Paramètres!M1399=\"\",\"\",[2]Paramètres!M1399)","v":""},{"$f":"IF([2]Paramètres!N1399=\"\",\"\",[2]Paramètres!N1399)","v":""},{"$f":"IF([2]Paramètres!O1399=\"\",\"\",[2]Paramètres!O1399)","v":""},{"$f":"IF([2]Paramètres!P1399=\"\",\"\",[2]Paramètres!P1399)","v":""},{"$f":"IF([2]Paramètres!Q1399=\"\",\"\",[2]Paramètres!Q1399)","v":""}]
[null,null,null,null,null,null,null,null,null,{"$f":"IF([2]Paramètres!J1400=\"\",\"\",[2]Paramètres!J1400)","v":""},{"$f":"IF([2]Paramètres!K1400=\"\",\"\",[2]Paramètres!K1400)","v":""},{"$f":"IF([2]Paramètres!L1400=\"\",\"\",[2]Paramètres!L1400)","v":""},{"$f":"IF([2]Paramètres!M1400=\"\",\"\",[2]Paramètres!M1400)","v":""},{"$f":"IF([2]Paramètres!N1400=\"\",\"\",[2]Paramètres!N1400)","v":""},{"$f":"IF([2]Paramètres!O1400=\"\",\"\",[2]Paramètres!O1400)","v":""},{"$f":"IF([2]Paramètres!P1400=\"\",\"\",[2]Paramètres!P1400)","v":""},{"$f":"IF([2]Paramètres!Q1400=\"\",\"\",[2]Paramètres!Q1400)","v":""}]
[null,null,null,null,null,null,null,null,null,{"$f":"IF([2]Paramètres!J1401=\"\",\"\",[2]Paramètres!J1401)","v":""},{"$f":"IF([2]Paramètres!K1401=\"\",\"\",[2]Paramètres!K1401)","v":""},{"$f":"IF([2]Paramètres!L1401=\"\",\"\",[2]Paramètres!L1401)","v":""},{"$f":"IF([2]Paramètres!M1401=\"\",\"\",[2]Paramètres!M1401)","v":""},{"$f":"IF([2]Paramètres!N1401=\"\",\"\",[2]Paramètres!N1401)","v":""},{"$f":"IF([2]Paramètres!O1401=\"\",\"\",[2]Paramètres!O1401)","v":""},{"$f":"IF([2]Paramètres!P1401=\"\",\"\",[2]Paramètres!P1401)","v":""},{"$f":"IF([2]Paramètres!Q1401=\"\",\"\",[2]Paramètres!Q1401)","v":""}]
[null,null,null,null,null,null,null,null,null,{"$f":"IF([2]Paramètres!J1402=\"\",\"\",[2]Paramètres!J1402)","v":""},{"$f":"IF([2]Paramètres!K1402=\"\",\"\",[2]Paramètres!K1402)","v":""},{"$f":"IF([2]Paramètres!L1402=\"\",\"\",[2]Paramètres!L1402)","v":""},{"$f":"IF([2]Paramètres!M1402=\"\",\"\",[2]Paramètres!M1402)","v":""},{"$f":"IF([2]Paramètres!N1402=\"\",\"\",[2]Paramètres!N1402)","v":""},{"$f":"IF([2]Paramètres!O1402=\"\",\"\",[2]Paramètres!O1402)","v":""},{"$f":"IF([2]Paramètres!P1402=\"\",\"\",[2]Paramètres!P1402)","v":""},{"$f":"IF([2]Paramètres!Q1402=\"\",\"\",[2]Paramètres!Q1402)","v":""}]
[null,null,null,null,null,null,null,null,null,{"$f":"IF([2]Paramètres!J1403=\"\",\"\",[2]Paramètres!J1403)","v":""},{"$f":"IF([2]Paramètres!K1403=\"\",\"\",[2]Paramètres!K1403)","v":""},{"$f":"IF([2]Paramètres!L1403=\"\",\"\",[2]Paramètres!L1403)","v":""},{"$f":"IF([2]Paramètres!M1403=\"\",\"\",[2]Paramètres!M1403)","v":""},{"$f":"IF([2]Paramètres!N1403=\"\",\"\",[2]Paramètres!N1403)","v":""},{"$f":"IF([2]Paramètres!O1403=\"\",\"\",[2]Paramètres!O1403)","v":""},{"$f":"IF([2]Paramètres!P1403=\"\",\"\",[2]Paramètres!P1403)","v":""},{"$f":"IF([2]Paramètres!Q1403=\"\",\"\",[2]Paramètres!Q1403)","v":""}]
[null,null,null,null,null,null,null,null,null,{"$f":"IF([2]Paramètres!J1404=\"\",\"\",[2]Paramètres!J1404)","v":""},{"$f":"IF([2]Paramètres!K1404=\"\",\"\",[2]Paramètres!K1404)","v":""},{"$f":"IF([2]Paramètres!L1404=\"\",\"\",[2]Paramètres!L1404)","v":""},{"$f":"IF([2]Paramètres!M1404=\"\",\"\",[2]Paramètres!M1404)","v":""},{"$f":"IF([2]Paramètres!N1404=\"\",\"\",[2]Paramètres!N1404)","v":""},{"$f":"IF([2]Paramètres!O1404=\"\",\"\",[2]Paramètres!O1404)","v":""},{"$f":"IF([2]Paramètres!P1404=\"\",\"\",[2]Paramètres!P1404)","v":""},{"$f":"IF([2]Paramètres!Q1404=\"\",\"\",[2]Paramètres!Q1404)","v":""}]
[null,null,null,null,null,null,null,null,null,{"$f":"IF([2]Paramètres!J1405=\"\",\"\",[2]Paramètres!J1405)","v":""},{"$f":"IF([2]Paramètres!K1405=\"\",\"\",[2]Paramètres!K1405)","v":""},{"$f":"IF([2]Paramètres!L1405=\"\",\"\",[2]Paramètres!L1405)","v":""},{"$f":"IF([2]Paramètres!M1405=\"\",\"\",[2]Paramètres!M1405)","v":""},{"$f":"IF([2]Paramètres!N1405=\"\",\"\",[2]Paramètres!N1405)","v":""},{"$f":"IF([2]Paramètres!O1405=\"\",\"\",[2]Paramètres!O1405)","v":""},{"$f":"IF([2]Paramètres!P1405=\"\",\"\",[2]Paramètres!P1405)","v":""},{"$f":"IF([2]Paramètres!Q1405=\"\",\"\",[2]Paramètres!Q1405)","v":""}]
[null,null,null,null,null,null,null,null,null,{"$f":"IF([2]Paramètres!J1406=\"\",\"\",[2]Paramètres!J1406)","v":""},{"$f":"IF([2]Paramètres!K1406=\"\",\"\",[2]Paramètres!K1406)","v":""},{"$f":"IF([2]Paramètres!L1406=\"\",\"\",[2]Paramètres!L1406)","v":""},{"$f":"IF([2]Paramètres!M1406=\"\",\"\",[2]Paramètres!M1406)","v":""},{"$f":"IF([2]Paramètres!N1406=\"\",\"\",[2]Paramètres!N1406)","v":""},{"$f":"IF([2]Paramètres!O1406=\"\",\"\",[2]Paramètres!O1406)","v":""},{"$f":"IF([2]Paramètres!P1406=\"\",\"\",[2]Paramètres!P1406)","v":""},{"$f":"IF([2]Paramètres!Q1406=\"\",\"\",[2]Paramètres!Q1406)","v":""}]
[null,null,null,null,null,null,null,null,null,{"$f":"IF([2]Paramètres!J1407=\"\",\"\",[2]Paramètres!J1407)","v":""},{"$f":"IF([2]Paramètres!K1407=\"\",\"\",[2]Paramètres!K1407)","v":""},{"$f":"IF([2]Paramètres!L1407=\"\",\"\",[2]Paramètres!L1407)","v":""},{"$f":"IF([2]Paramètres!M1407=\"\",\"\",[2]Paramètres!M1407)","v":""},{"$f":"IF([2]Paramètres!N1407=\"\",\"\",[2]Paramètres!N1407)","v":""},{"$f":"IF([2]Paramètres!O1407=\"\",\"\",[2]Paramètres!O1407)","v":""},{"$f":"IF([2]Paramètres!P1407=\"\",\"\",[2]Paramètres!P1407)","v":""},{"$f":"IF([2]Paramètres!Q1407=\"\",\"\",[2]Paramètres!Q1407)","v":""}]
[null,null,null,null,null,null,null,null,null,{"$f":"IF([2]Paramètres!J1408=\"\",\"\",[2]Paramètres!J1408)","v":""},{"$f":"IF([2]Paramètres!K1408=\"\",\"\",[2]Paramètres!K1408)","v":""},{"$f":"IF([2]Paramètres!L1408=\"\",\"\",[2]Paramètres!L1408)","v":""},{"$f":"IF([2]Paramètres!M1408=\"\",\"\",[2]Paramètres!M1408)","v":""},{"$f":"IF([2]Paramètres!N1408=\"\",\"\",[2]Paramètres!N1408)","v":""},{"$f":"IF([2]Paramètres!O1408=\"\",\"\",[2]Paramètres!O1408)","v":""},{"$f":"IF([2]Paramètres!P1408=\"\",\"\",[2]Paramètres!P1408)","v":""},{"$f":"IF([2]Paramètres!Q1408=\"\",\"\",[2]Paramètres!Q1408)","v":""}]
[null,null,null,null,null,null,null,null,null,{"$f":"IF([2]Paramètres!J1409=\"\",\"\",[2]Paramètres!J1409)","v":""},{"$f":"IF([2]Paramètres!K1409=\"\",\"\",[2]Paramètres!K1409)","v":""},{"$f":"IF([2]Paramètres!L1409=\"\",\"\",[2]Paramètres!L1409)","v":""},{"$f":"IF([2]Paramètres!M1409=\"\",\"\",[2]Paramètres!M1409)","v":""},{"$f":"IF([2]Paramètres!N1409=\"\",\"\",[2]Paramètres!N1409)","v":""},{"$f":"IF([2]Paramètres!O1409=\"\",\"\",[2]Paramètres!O1409)","v":""},{"$f":"IF([2]Paramètres!P1409=\"\",\"\",[2]Paramètres!P1409)","v":""},{"$f":"IF([2]Paramètres!Q1409=\"\",\"\",[2]Paramètres!Q1409)","v":""}]
[null,null,null,null,null,null,null,null,null,{"$f":"IF([2]Paramètres!J1410=\"\",\"\",[2]Paramètres!J1410)","v":""},{"$f":"IF([2]Paramètres!K1410=\"\",\"\",[2]Paramètres!K1410)","v":""},{"$f":"IF([2]Paramètres!L1410=\"\",\"\",[2]Paramètres!L1410)","v":""},{"$f":"IF([2]Paramètres!M1410=\"\",\"\",[2]Paramètres!M1410)","v":""},{"$f":"IF([2]Paramètres!N1410=\"\",\"\",[2]Paramètres!N1410)","v":""},{"$f":"IF([2]Paramètres!O1410=\"\",\"\",[2]Paramètres!O1410)","v":""},{"$f":"IF([2]Paramètres!P1410=\"\",\"\",[2]Paramètres!P1410)","v":""},{"$f":"IF([2]Paramètres!Q1410=\"\",\"\",[2]Paramètres!Q1410)","v":""}]
[null,null,null,null,null,null,null,null,null,{"$f":"IF([2]Paramètres!J1411=\"\",\"\",[2]Paramètres!J1411)","v":""},{"$f":"IF([2]Paramètres!K1411=\"\",\"\",[2]Paramètres!K1411)","v":""},{"$f":"IF([2]Paramètres!L1411=\"\",\"\",[2]Paramètres!L1411)","v":""},{"$f":"IF([2]Paramètres!M1411=\"\",\"\",[2]Paramètres!M1411)","v":""},{"$f":"IF([2]Paramètres!N1411=\"\",\"\",[2]Paramètres!N1411)","v":""},{"$f":"IF([2]Paramètres!O1411=\"\",\"\",[2]Paramètres!O1411)","v":""},{"$f":"IF([2]Paramètres!P1411=\"\",\"\",[2]Paramètres!P1411)","v":""},{"$f":"IF([2]Paramètres!Q1411=\"\",\"\",[2]Paramètres!Q1411)","v":""}]
[null,null,null,null,null,null,null,null,null,{"$f":"IF([2]Paramètres!J1412=\"\",\"\",[2]Paramètres!J1412)","v":""},{"$f":"IF([2]Paramètres!K1412=\"\",\"\",[2]Paramètres!K1412)","v":""},{"$f":"IF([2]Paramètres!L1412=\"\",\"\",[2]Paramètres!L1412)","v":""},{"$f":"IF([2]Paramètres!M1412=\"\",\"\",[2]Paramètres!M1412)","v":""},{"$f":"IF([2]Paramètres!N1412=\"\",\"\",[2]Paramètres!N1412)","v":""},{"$f":"IF([2]Paramètres!O1412=\"\",\"\",[2]Paramètres!O1412)","v":""},{"$f":"IF([2]Paramètres!P1412=\"\",\"\",[2]Paramètres!P1412)","v":""},{"$f":"IF([2]Paramètres!Q1412=\"\",\"\",[2]Paramètres!Q1412)","v":""}]
[null,null,null,null,null,null,null,null,null,{"$f":"IF([2]Paramètres!J1413=\"\",\"\",[2]Paramètres!J1413)","v":""},{"$f":"IF([2]Paramètres!K1413=\"\",\"\",[2]Paramètres!K1413)","v":""},{"$f":"IF([2]Paramètres!L1413=\"\",\"\",[2]Paramètres!L1413)","v":""},{"$f":"IF([2]Paramètres!M1413=\"\",\"\",[2]Paramètres!M1413)","v":""},{"$f":"IF([2]Paramètres!N1413=\"\",\"\",[2]Paramètres!N1413)","v":""},{"$f":"IF([2]Paramètres!O1413=\"\",\"\",[2]Paramètres!O1413)","v":""},{"$f":"IF([2]Paramètres!P1413=\"\",\"\",[2]Paramètres!P1413)","v":""},{"$f":"IF([2]Paramètres!Q1413=\"\",\"\",[2]Paramètres!Q1413)","v":""}]
[null,null,null,null,null,null,null,null,null,{"$f":"IF([2]Paramètres!J1414=\"\",\"\",[2]Paramètres!J1414)","v":""},{"$f":"IF([2]Paramètres!K1414=\"\",\"\",[2]Paramètres!K1414)","v":""},{"$f":"IF([2]Paramètres!L1414=\"\",\"\",[2]Paramètres!L1414)","v":""},{"$f":"IF([2]Paramètres!M1414=\"\",\"\",[2]Paramètres!M1414)","v":""},{"$f":"IF([2]Paramètres!N1414=\"\",\"\",[2]Paramètres!N1414)","v":""},{"$f":"IF([2]Paramètres!O1414=\"\",\"\",[2]Paramètres!O1414)","v":""},{"$f":"IF([2]Paramètres!P1414=\"\",\"\",[2]Paramètres!P1414)","v":""},{"$f":"IF([2]Paramètres!Q1414=\"\",\"\",[2]Paramètres!Q1414)","v":""}]
[null,null,null,null,null,null,null,null,null,{"$f":"IF([2]Paramètres!J1415=\"\",\"\",[2]Paramètres!J1415)","v":""},{"$f":"IF([2]Paramètres!K1415=\"\",\"\",[2]Paramètres!K1415)","v":""},{"$f":"IF([2]Paramètres!L1415=\"\",\"\",[2]Paramètres!L1415)","v":""},{"$f":"IF([2]Paramètres!M1415=\"\",\"\",[2]Paramètres!M1415)","v":""},{"$f":"IF([2]Paramètres!N1415=\"\",\"\",[2]Paramètres!N1415)","v":""},{"$f":"IF([2]Paramètres!O1415=\"\",\"\",[2]Paramètres!O1415)","v":""},{"$f":"IF([2]Paramètres!P1415=\"\",\"\",[2]Paramètres!P1415)","v":""},{"$f":"IF([2]Paramètres!Q1415=\"\",\"\",[2]Paramètres!Q1415)","v":""}]
[null,null,null,null,null,null,null,null,null,{"$f":"IF([2]Paramètres!J1416=\"\",\"\",[2]Paramètres!J1416)","v":""},{"$f":"IF([2]Paramètres!K1416=\"\",\"\",[2]Paramètres!K1416)","v":""},{"$f":"IF([2]Paramètres!L1416=\"\",\"\",[2]Paramètres!L1416)","v":""},{"$f":"IF([2]Paramètres!M1416=\"\",\"\",[2]Paramètres!M1416)","v":""},{"$f":"IF([2]Paramètres!N1416=\"\",\"\",[2]Paramètres!N1416)","v":""},{"$f":"IF([2]Paramètres!O1416=\"\",\"\",[2]Paramètres!O1416)","v":""},{"$f":"IF([2]Paramètres!P1416=\"\",\"\",[2]Paramètres!P1416)","v":""},{"$f":"IF([2]Paramètres!Q1416=\"\",\"\",[2]Paramètres!Q1416)","v":""}]
[null,null,null,null,null,null,null,null,null,{"$f":"IF([2]Paramètres!J1417=\"\",\"\",[2]Paramètres!J1417)","v":""},{"$f":"IF([2]Paramètres!K1417=\"\",\"\",[2]Paramètres!K1417)","v":""},{"$f":"IF([2]Paramètres!L1417=\"\",\"\",[2]Paramètres!L1417)","v":""},{"$f":"IF([2]Paramètres!M1417=\"\",\"\",[2]Paramètres!M1417)","v":""},{"$f":"IF([2]Paramètres!N1417=\"\",\"\",[2]Paramètres!N1417)","v":""},{"$f":"IF([2]Paramètres!O1417=\"\",\"\",[2]Paramètres!O1417)","v":""},{"$f":"IF([2]Paramètres!P1417=\"\",\"\",[2]Paramètres!P1417)","v":""},{"$f":"IF([2]Paramètres!Q1417=\"\",\"\",[2]Paramètres!Q1417)","v":""}]
[null,null,null,null,null,null,null,null,null,{"$f":"IF([2]Paramètres!J1418=\"\",\"\",[2]Paramètres!J1418)","v":""},{"$f":"IF([2]Paramètres!K1418=\"\",\"\",[2]Paramètres!K1418)","v":""},{"$f":"IF([2]Paramètres!L1418=\"\",\"\",[2]Paramètres!L1418)","v":""},{"$f":"IF([2]Paramètres!M1418=\"\",\"\",[2]Paramètres!M1418)","v":""},{"$f":"IF([2]Paramètres!N1418=\"\",\"\",[2]Paramètres!N1418)","v":""},{"$f":"IF([2]Paramètres!O1418=\"\",\"\",[2]Paramètres!O1418)","v":""},{"$f":"IF([2]Paramètres!P1418=\"\",\"\",[2]Paramètres!P1418)","v":""},{"$f":"IF([2]Paramètres!Q1418=\"\",\"\",[2]Paramètres!Q1418)","v":""}]
[null,null,null,null,null,null,null,null,null,{"$f":"IF([2]Paramètres!J1419=\"\",\"\",[2]Paramètres!J1419)","v":""},{"$f":"IF([2]Paramètres!K1419=\"\",\"\",[2]Paramètres!K1419)","v":""},{"$f":"IF([2]Paramètres!L1419=\"\",\"\",[2]Paramètres!L1419)","v":""},{"$f":"IF([2]Paramètres!M1419=\"\",\"\",[2]Paramètres!M1419)","v":""},{"$f":"IF([2]Paramètres!N1419=\"\",\"\",[2]Paramètres!N1419)","v":""},{"$f":"IF([2]Paramètres!O1419=\"\",\"\",[2]Paramètres!O1419)","v":""},{"$f":"IF([2]Paramètres!P1419=\"\",\"\",[2]Paramètres!P1419)","v":""},{"$f":"IF([2]Paramètres!Q1419=\"\",\"\",[2]Paramètres!Q1419)","v":""}]
[null,null,null,null,null,null,null,null,null,{"$f":"IF([2]Paramètres!J1420=\"\",\"\",[2]Paramètres!J1420)","v":""},{"$f":"IF([2]Paramètres!K1420=\"\",\"\",[2]Paramètres!K1420)","v":""},{"$f":"IF([2]Paramètres!L1420=\"\",\"\",[2]Paramètres!L1420)","v":""},{"$f":"IF([2]Paramètres!M1420=\"\",\"\",[2]Paramètres!M1420)","v":""},{"$f":"IF([2]Paramètres!N1420=\"\",\"\",[2]Paramètres!N1420)","v":""},{"$f":"IF([2]Paramètres!O1420=\"\",\"\",[2]Paramètres!O1420)","v":""},{"$f":"IF([2]Paramètres!P1420=\"\",\"\",[2]Paramètres!P1420)","v":""},{"$f":"IF([2]Paramètres!Q1420=\"\",\"\",[2]Paramètres!Q1420)","v":""}]
[null,null,null,null,null,null,null,null,null,{"$f":"IF([2]Paramètres!J1421=\"\",\"\",[2]Paramètres!J1421)","v":""},{"$f":"IF([2]Paramètres!K1421=\"\",\"\",[2]Paramètres!K1421)","v":""},{"$f":"IF([2]Paramètres!L1421=\"\",\"\",[2]Paramètres!L1421)","v":""},{"$f":"IF([2]Paramètres!M1421=\"\",\"\",[2]Paramètres!M1421)","v":""},{"$f":"IF([2]Paramètres!N1421=\"\",\"\",[2]Paramètres!N1421)","v":""},{"$f":"IF([2]Paramètres!O1421=\"\",\"\",[2]Paramètres!O1421)","v":""},{"$f":"IF([2]Paramètres!P1421=\"\",\"\",[2]Paramètres!P1421)","v":""},{"$f":"IF([2]Paramètres!Q1421=\"\",\"\",[2]Paramètres!Q1421)","v":""}]
[null,null,null,null,null,null,null,null,null,{"$f":"IF([2]Paramètres!J1422=\"\",\"\",[2]Paramètres!J1422)","v":""},{"$f":"IF([2]Paramètres!K1422=\"\",\"\",[2]Paramètres!K1422)","v":""},{"$f":"IF([2]Paramètres!L1422=\"\",\"\",[2]Paramètres!L1422)","v":""},{"$f":"IF([2]Paramètres!M1422=\"\",\"\",[2]Paramètres!M1422)","v":""},{"$f":"IF([2]Paramètres!N1422=\"\",\"\",[2]Paramètres!N1422)","v":""},{"$f":"IF([2]Paramètres!O1422=\"\",\"\",[2]Paramètres!O1422)","v":""},{"$f":"IF([2]Paramètres!P1422=\"\",\"\",[2]Paramètres!P1422)","v":""},{"$f":"IF([2]Paramètres!Q1422=\"\",\"\",[2]Paramètres!Q1422)","v":""}]
[null,null,null,null,null,null,null,null,null,{"$f":"IF([2]Paramètres!J1423=\"\",\"\",[2]Paramètres!J1423)","v":""},{"$f":"IF([2]Paramètres!K1423=\"\",\"\",[2]Paramètres!K1423)","v":""},{"$f":"IF([2]Paramètres!L1423=\"\",\"\",[2]Paramètres!L1423)","v":""},{"$f":"IF([2]Paramètres!M1423=\"\",\"\",[2]Paramètres!M1423)","v":""},{"$f":"IF([2]Paramètres!N1423=\"\",\"\",[2]Paramètres!N1423)","v":""},{"$f":"IF([2]Paramètres!O1423=\"\",\"\",[2]Paramètres!O1423)","v":""},{"$f":"IF([2]Paramètres!P1423=\"\",\"\",[2]Paramètres!P1423)","v":""},{"$f":"IF([2]Paramètres!Q1423=\"\",\"\",[2]Paramètres!Q1423)","v":""}]
[null,null,null,null,null,null,null,null,null,{"$f":"IF([2]Paramètres!J1424=\"\",\"\",[2]Paramètres!J1424)","v":""},{"$f":"IF([2]Paramètres!K1424=\"\",\"\",[2]Paramètres!K1424)","v":""},{"$f":"IF([2]Paramètres!L1424=\"\",\"\",[2]Paramètres!L1424)","v":""},{"$f":"IF([2]Paramètres!M1424=\"\",\"\",[2]Paramètres!M1424)","v":""},{"$f":"IF([2]Paramètres!N1424=\"\",\"\",[2]Paramètres!N1424)","v":""},{"$f":"IF([2]Paramètres!O1424=\"\",\"\",[2]Paramètres!O1424)","v":""},{"$f":"IF([2]Paramètres!P1424=\"\",\"\",[2]Paramètres!P1424)","v":""},{"$f":"IF([2]Paramètres!Q1424=\"\",\"\",[2]Paramètres!Q1424)","v":""}]
[null,null,null,null,null,null,null,null,null,{"$f":"IF([2]Paramètres!J1425=\"\",\"\",[2]Paramètres!J1425)","v":""},{"$f":"IF([2]Paramètres!K1425=\"\",\"\",[2]Paramètres!K1425)","v":""},{"$f":"IF([2]Paramètres!L1425=\"\",\"\",[2]Paramètres!L1425)","v":""},{"$f":"IF([2]Paramètres!M1425=\"\",\"\",[2]Paramètres!M1425)","v":""},{"$f":"IF([2]Paramètres!N1425=\"\",\"\",[2]Paramètres!N1425)","v":""},{"$f":"IF([2]Paramètres!O1425=\"\",\"\",[2]Paramètres!O1425)","v":""},{"$f":"IF([2]Paramètres!P1425=\"\",\"\",[2]Paramètres!P1425)","v":""},{"$f":"IF([2]Paramètres!Q1425=\"\",\"\",[2]Paramètres!Q1425)","v":""}]
[null,null,null,null,null,null,null,null,null,{"$f":"IF([2]Paramètres!J1426=\"\",\"\",[2]Paramètres!J1426)","v":""},{"$f":"IF([2]Paramètres!K1426=\"\",\"\",[2]Paramètres!K1426)","v":""},{"$f":"IF([2]Paramètres!L1426=\"\",\"\",[2]Paramètres!L1426)","v":""},{"$f":"IF([2]Paramètres!M1426=\"\",\"\",[2]Paramètres!M1426)","v":""},{"$f":"IF([2]Paramètres!N1426=\"\",\"\",[2]Paramètres!N1426)","v":""},{"$f":"IF([2]Paramètres!O1426=\"\",\"\",[2]Paramètres!O1426)","v":""},{"$f":"IF([2]Paramètres!P1426=\"\",\"\",[2]Paramètres!P1426)","v":""},{"$f":"IF([2]Paramètres!Q1426=\"\",\"\",[2]Paramètres!Q1426)","v":""}]
[null,null,null,null,null,null,null,null,null,{"$f":"IF([2]Paramètres!J1427=\"\",\"\",[2]Paramètres!J1427)","v":""},{"$f":"IF([2]Paramètres!K1427=\"\",\"\",[2]Paramètres!K1427)","v":""},{"$f":"IF([2]Paramètres!L1427=\"\",\"\",[2]Paramètres!L1427)","v":""},{"$f":"IF([2]Paramètres!M1427=\"\",\"\",[2]Paramètres!M1427)","v":""},{"$f":"IF([2]Paramètres!N1427=\"\",\"\",[2]Paramètres!N1427)","v":""},{"$f":"IF([2]Paramètres!O1427=\"\",\"\",[2]Paramètres!O1427)","v":""},{"$f":"IF([2]Paramètres!P1427=\"\",\"\",[2]Paramètres!P1427)","v":""},{"$f":"IF([2]Paramètres!Q1427=\"\",\"\",[2]Paramètres!Q1427)","v":""}]
[null,null,null,null,null,null,null,null,null,{"$f":"IF([2]Paramètres!J1428=\"\",\"\",[2]Paramètres!J1428)","v":""},{"$f":"IF([2]Paramètres!K1428=\"\",\"\",[2]Paramètres!K1428)","v":""},{"$f":"IF([2]Paramètres!L1428=\"\",\"\",[2]Paramètres!L1428)","v":""},{"$f":"IF([2]Paramètres!M1428=\"\",\"\",[2]Paramètres!M1428)","v":""},{"$f":"IF([2]Paramètres!N1428=\"\",\"\",[2]Paramètres!N1428)","v":""},{"$f":"IF([2]Paramètres!O1428=\"\",\"\",[2]Paramètres!O1428)","v":""},{"$f":"IF([2]Paramètres!P1428=\"\",\"\",[2]Paramètres!P1428)","v":""},{"$f":"IF([2]Paramètres!Q1428=\"\",\"\",[2]Paramètres!Q1428)","v":""}]
[null,null,null,null,null,null,null,null,null,{"$f":"IF([2]Paramètres!J1429=\"\",\"\",[2]Paramètres!J1429)","v":""},{"$f":"IF([2]Paramètres!K1429=\"\",\"\",[2]Paramètres!K1429)","v":""},{"$f":"IF([2]Paramètres!L1429=\"\",\"\",[2]Paramètres!L1429)","v":""},{"$f":"IF([2]Paramètres!M1429=\"\",\"\",[2]Paramètres!M1429)","v":""},{"$f":"IF([2]Paramètres!N1429=\"\",\"\",[2]Paramètres!N1429)","v":""},{"$f":"IF([2]Paramètres!O1429=\"\",\"\",[2]Paramètres!O1429)","v":""},{"$f":"IF([2]Paramètres!P1429=\"\",\"\",[2]Paramètres!P1429)","v":""},{"$f":"IF([2]Paramètres!Q1429=\"\",\"\",[2]Paramètres!Q1429)","v":""}]
[null,null,null,null,null,null,null,null,null,{"$f":"IF([2]Paramètres!J1430=\"\",\"\",[2]Paramètres!J1430)","v":""},{"$f":"IF([2]Paramètres!K1430=\"\",\"\",[2]Paramètres!K1430)","v":""},{"$f":"IF([2]Paramètres!L1430=\"\",\"\",[2]Paramètres!L1430)","v":""},{"$f":"IF([2]Paramètres!M1430=\"\",\"\",[2]Paramètres!M1430)","v":""},{"$f":"IF([2]Paramètres!N1430=\"\",\"\",[2]Paramètres!N1430)","v":""},{"$f":"IF([2]Paramètres!O1430=\"\",\"\",[2]Paramètres!O1430)","v":""},{"$f":"IF([2]Paramètres!P1430=\"\",\"\",[2]Paramètres!P1430)","v":""},{"$f":"IF([2]Paramètres!Q1430=\"\",\"\",[2]Paramètres!Q1430)","v":""}]
[null,null,null,null,null,null,null,null,null,{"$f":"IF([2]Paramètres!J1431=\"\",\"\",[2]Paramètres!J1431)","v":""},{"$f":"IF([2]Paramètres!K1431=\"\",\"\",[2]Paramètres!K1431)","v":""},{"$f":"IF([2]Paramètres!L1431=\"\",\"\",[2]Paramètres!L1431)","v":""},{"$f":"IF([2]Paramètres!M1431=\"\",\"\",[2]Paramètres!M1431)","v":""},{"$f":"IF([2]Paramètres!N1431=\"\",\"\",[2]Paramètres!N1431)","v":""},{"$f":"IF([2]Paramètres!O1431=\"\",\"\",[2]Paramètres!O1431)","v":""},{"$f":"IF([2]Paramètres!P1431=\"\",\"\",[2]Paramètres!P1431)","v":""},{"$f":"IF([2]Paramètres!Q1431=\"\",\"\",[2]Paramètres!Q1431)","v":""}]
[null,null,null,null,null,null,null,null,null,{"$f":"IF([2]Paramètres!J1432=\"\",\"\",[2]Paramètres!J1432)","v":""},{"$f":"IF([2]Paramètres!K1432=\"\",\"\",[2]Paramètres!K1432)","v":""},{"$f":"IF([2]Paramètres!L1432=\"\",\"\",[2]Paramètres!L1432)","v":""},{"$f":"IF([2]Paramètres!M1432=\"\",\"\",[2]Paramètres!M1432)","v":""},{"$f":"IF([2]Paramètres!N1432=\"\",\"\",[2]Paramètres!N1432)","v":""},{"$f":"IF([2]Paramètres!O1432=\"\",\"\",[2]Paramètres!O1432)","v":""},{"$f":"IF([2]Paramètres!P1432=\"\",\"\",[2]Paramètres!P1432)","v":""},{"$f":"IF([2]Paramètres!Q1432=\"\",\"\",[2]Paramètres!Q1432)","v":""}]
[null,null,null,null,null,null,null,null,null,{"$f":"IF([2]Paramètres!J1433=\"\",\"\",[2]Paramètres!J1433)","v":""},{"$f":"IF([2]Paramètres!K1433=\"\",\"\",[2]Paramètres!K1433)","v":""},{"$f":"IF([2]Paramètres!L1433=\"\",\"\",[2]Paramètres!L1433)","v":""},{"$f":"IF([2]Paramètres!M1433=\"\",\"\",[2]Paramètres!M1433)","v":""},{"$f":"IF([2]Paramètres!N1433=\"\",\"\",[2]Paramètres!N1433)","v":""},{"$f":"IF([2]Paramètres!O1433=\"\",\"\",[2]Paramètres!O1433)","v":""},{"$f":"IF([2]Paramètres!P1433=\"\",\"\",[2]Paramètres!P1433)","v":""},{"$f":"IF([2]Paramètres!Q1433=\"\",\"\",[2]Paramètres!Q1433)","v":""}]
[null,null,null,null,null,null,null,null,null,{"$f":"IF([2]Paramètres!J1434=\"\",\"\",[2]Paramètres!J1434)","v":""},{"$f":"IF([2]Paramètres!K1434=\"\",\"\",[2]Paramètres!K1434)","v":""},{"$f":"IF([2]Paramètres!L1434=\"\",\"\",[2]Paramètres!L1434)","v":""},{"$f":"IF([2]Paramètres!M1434=\"\",\"\",[2]Paramètres!M1434)","v":""},{"$f":"IF([2]Paramètres!N1434=\"\",\"\",[2]Paramètres!N1434)","v":""},{"$f":"IF([2]Paramètres!O1434=\"\",\"\",[2]Paramètres!O1434)","v":""},{"$f":"IF([2]Paramètres!P1434=\"\",\"\",[2]Paramètres!P1434)","v":""},{"$f":"IF([2]Paramètres!Q1434=\"\",\"\",[2]Paramètres!Q1434)","v":""}]
[null,null,null,null,null,null,null,null,null,{"$f":"IF([2]Paramètres!J1435=\"\",\"\",[2]Paramètres!J1435)","v":""},{"$f":"IF([2]Paramètres!K1435=\"\",\"\",[2]Paramètres!K1435)","v":""},{"$f":"IF([2]Paramètres!L1435=\"\",\"\",[2]Paramètres!L1435)","v":""},{"$f":"IF([2]Paramètres!M1435=\"\",\"\",[2]Paramètres!M1435)","v":""},{"$f":"IF([2]Paramètres!N1435=\"\",\"\",[2]Paramètres!N1435)","v":""},{"$f":"IF([2]Paramètres!O1435=\"\",\"\",[2]Paramètres!O1435)","v":""},{"$f":"IF([2]Paramètres!P1435=\"\",\"\",[2]Paramètres!P1435)","v":""},{"$f":"IF([2]Paramètres!Q1435=\"\",\"\",[2]Paramètres!Q1435)","v":""}]
[null,null,null,null,null,null,null,null,null,{"$f":"IF([2]Paramètres!J1436=\"\",\"\",[2]Paramètres!J1436)","v":""},{"$f":"IF([2]Paramètres!K1436=\"\",\"\",[2]Paramètres!K1436)","v":""},{"$f":"IF([2]Paramètres!L1436=\"\",\"\",[2]Paramètres!L1436)","v":""},{"$f":"IF([2]Paramètres!M1436=\"\",\"\",[2]Paramètres!M1436)","v":""},{"$f":"IF([2]Paramètres!N1436=\"\",\"\",[2]Paramètres!N1436)","v":""},{"$f":"IF([2]Paramètres!O1436=\"\",\"\",[2]Paramètres!O1436)","v":""},{"$f":"IF([2]Paramètres!P1436=\"\",\"\",[2]Paramètres!P1436)","v":""},{"$f":"IF([2]Paramètres!Q1436=\"\",\"\",[2]Paramètres!Q1436)","v":""}]
[null,null,null,null,null,null,null,null,null,{"$f":"IF([2]Paramètres!J1437=\"\",\"\",[2]Paramètres!J1437)","v":""},{"$f":"IF([2]Paramètres!K1437=\"\",\"\",[2]Paramètres!K1437)","v":""},{"$f":"IF([2]Paramètres!L1437=\"\",\"\",[2]Paramètres!L1437)","v":""},{"$f":"IF([2]Paramètres!M1437=\"\",\"\",[2]Paramètres!M1437)","v":""},{"$f":"IF([2]Paramètres!N1437=\"\",\"\",[2]Paramètres!N1437)","v":""},{"$f":"IF([2]Paramètres!O1437=\"\",\"\",[2]Paramètres!O1437)","v":""},{"$f":"IF([2]Paramètres!P1437=\"\",\"\",[2]Paramètres!P1437)","v":""},{"$f":"IF([2]Paramètres!Q1437=\"\",\"\",[2]Paramètres!Q1437)","v":""}]
[null,null,null,null,null,null,null,null,null,{"$f":"IF([2]Paramètres!J1438=\"\",\"\",[2]Paramètres!J1438)","v":""},{"$f":"IF([2]Paramètres!K1438=\"\",\"\",[2]Paramètres!K1438)","v":""},{"$f":"IF([2]Paramètres!L1438=\"\",\"\",[2]Paramètres!L1438)","v":""},{"$f":"IF([2]Paramètres!M1438=\"\",\"\",[2]Paramètres!M1438)","v":""},{"$f":"IF([2]Paramètres!N1438=\"\",\"\",[2]Paramètres!N1438)","v":""},{"$f":"IF([2]Paramètres!O1438=\"\",\"\",[2]Paramètres!O1438)","v":""},{"$f":"IF([2]Paramètres!P1438=\"\",\"\",[2]Paramètres!P1438)","v":""},{"$f":"IF([2]Paramètres!Q1438=\"\",\"\",[2]Paramètres!Q1438)","v":""}]
[null,null,null,null,null,null,null,null,null,{"$f":"IF([2]Paramètres!J1439=\"\",\"\",[2]Paramètres!J1439)","v":""},{"$f":"IF([2]Paramètres!K1439=\"\",\"\",[2]Paramètres!K1439)","v":""},{"$f":"IF([2]Paramètres!L1439=\"\",\"\",[2]Paramètres!L1439)","v":""},{"$f":"IF([2]Paramètres!M1439=\"\",\"\",[2]Paramètres!M1439)","v":""},{"$f":"IF([2]Paramètres!N1439=\"\",\"\",[2]Paramètres!N1439)","v":""},{"$f":"IF([2]Paramètres!O1439=\"\",\"\",[2]Paramètres!O1439)","v":""},{"$f":"IF([2]Paramètres!P1439=\"\",\"\",[2]Paramètres!P1439)","v":""},{"$f":"IF([2]Paramètres!Q1439=\"\",\"\",[2]Paramètres!Q1439)","v":""}]
[null,null,null,null,null,null,null,null,null,{"$f":"IF([2]Paramètres!J1440=\"\",\"\",[2]Paramètres!J1440)","v":""},{"$f":"IF([2]Paramètres!K1440=\"\",\"\",[2]Paramètres!K1440)","v":""},{"$f":"IF([2]Paramètres!L1440=\"\",\"\",[2]Paramètres!L1440)","v":""},{"$f":"IF([2]Paramètres!M1440=\"\",\"\",[2]Paramètres!M1440)","v":""},{"$f":"IF([2]Paramètres!N1440=\"\",\"\",[2]Paramètres!N1440)","v":""},{"$f":"IF([2]Paramètres!O1440=\"\",\"\",[2]Paramètres!O1440)","v":""},{"$f":"IF([2]Paramètres!P1440=\"\",\"\",[2]Paramètres!P1440)","v":""},{"$f":"IF([2]Paramètres!Q1440=\"\",\"\",[2]Paramètres!Q1440)","v":""}]
[null,null,null,null,null,null,null,null,null,{"$f":"IF([2]Paramètres!J1441=\"\",\"\",[2]Paramètres!J1441)","v":""},{"$f":"IF([2]Paramètres!K1441=\"\",\"\",[2]Paramètres!K1441)","v":""},{"$f":"IF([2]Paramètres!L1441=\"\",\"\",[2]Paramètres!L1441)","v":""},{"$f":"IF([2]Paramètres!M1441=\"\",\"\",[2]Paramètres!M1441)","v":""},{"$f":"IF([2]Paramètres!N1441=\"\",\"\",[2]Paramètres!N1441)","v":""},{"$f":"IF([2]Paramètres!O1441=\"\",\"\",[2]Paramètres!O1441)","v":""},{"$f":"IF([2]Paramètres!P1441=\"\",\"\",[2]Paramètres!P1441)","v":""},{"$f":"IF([2]Paramètres!Q1441=\"\",\"\",[2]Paramètres!Q1441)","v":""}]
[null,null,null,null,null,null,null,null,null,{"$f":"IF([2]Paramètres!J1442=\"\",\"\",[2]Paramètres!J1442)","v":""},{"$f":"IF([2]Paramètres!K1442=\"\",\"\",[2]Paramètres!K1442)","v":""},{"$f":"IF([2]Paramètres!L1442=\"\",\"\",[2]Paramètres!L1442)","v":""},{"$f":"IF([2]Paramètres!M1442=\"\",\"\",[2]Paramètres!M1442)","v":""},{"$f":"IF([2]Paramètres!N1442=\"\",\"\",[2]Paramètres!N1442)","v":""},{"$f":"IF([2]Paramètres!O1442=\"\",\"\",[2]Paramètres!O1442)","v":""},{"$f":"IF([2]Paramètres!P1442=\"\",\"\",[2]Paramètres!P1442)","v":""},{"$f":"IF([2]Paramètres!Q1442=\"\",\"\",[2]Paramètres!Q1442)","v":""}]
[null,null,null,null,null,null,null,null,null,{"$f":"IF([2]Paramètres!J1443=\"\",\"\",[2]Paramètres!J1443)","v":""},{"$f":"IF([2]Paramètres!K1443=\"\",\"\",[2]Paramètres!K1443)","v":""},{"$f":"IF([2]Paramètres!L1443=\"\",\"\",[2]Paramètres!L1443)","v":""},{"$f":"IF([2]Paramètres!M1443=\"\",\"\",[2]Paramètres!M1443)","v":""},{"$f":"IF([2]Paramètres!N1443=\"\",\"\",[2]Paramètres!N1443)","v":""},{"$f":"IF([2]Paramètres!O1443=\"\",\"\",[2]Paramètres!O1443)","v":""},{"$f":"IF([2]Paramètres!P1443=\"\",\"\",[2]Paramètres!P1443)","v":""},{"$f":"IF([2]Paramètres!Q1443=\"\",\"\",[2]Paramètres!Q1443)","v":""}]
[null,null,null,null,null,null,null,null,null,{"$f":"IF([2]Paramètres!J1444=\"\",\"\",[2]Paramètres!J1444)","v":""},{"$f":"IF([2]Paramètres!K1444=\"\",\"\",[2]Paramètres!K1444)","v":""},{"$f":"IF([2]Paramètres!L1444=\"\",\"\",[2]Paramètres!L1444)","v":""},{"$f":"IF([2]Paramètres!M1444=\"\",\"\",[2]Paramètres!M1444)","v":""},{"$f":"IF([2]Paramètres!N1444=\"\",\"\",[2]Paramètres!N1444)","v":""},{"$f":"IF([2]Paramètres!O1444=\"\",\"\",[2]Paramètres!O1444)","v":""},{"$f":"IF([2]Paramètres!P1444=\"\",\"\",[2]Paramètres!P1444)","v":""},{"$f":"IF([2]Paramètres!Q1444=\"\",\"\",[2]Paramètres!Q1444)","v":""}]
[null,null,null,null,null,null,null,null,null,{"$f":"IF([2]Paramètres!J1445=\"\",\"\",[2]Paramètres!J1445)","v":""},{"$f":"IF([2]Paramètres!K1445=\"\",\"\",[2]Paramètres!K1445)","v":""},{"$f":"IF([2]Paramètres!L1445=\"\",\"\",[2]Paramètres!L1445)","v":""},{"$f":"IF([2]Paramètres!M1445=\"\",\"\",[2]Paramètres!M1445)","v":""},{"$f":"IF([2]Paramètres!N1445=\"\",\"\",[2]Paramètres!N1445)","v":""},{"$f":"IF([2]Paramètres!O1445=\"\",\"\",[2]Paramètres!O1445)","v":""},{"$f":"IF([2]Paramètres!P1445=\"\",\"\",[2]Paramètres!P1445)","v":""},{"$f":"IF([2]Paramètres!Q1445=\"\",\"\",[2]Paramètres!Q1445)","v":""}]
[null,null,null,null,null,null,null,null,null,{"$f":"IF([2]Paramètres!J1446=\"\",\"\",[2]Paramètres!J1446)","v":""},{"$f":"IF([2]Paramètres!K1446=\"\",\"\",[2]Paramètres!K1446)","v":""},{"$f":"IF([2]Paramètres!L1446=\"\",\"\",[2]Paramètres!L1446)","v":""},{"$f":"IF([2]Paramètres!M1446=\"\",\"\",[2]Paramètres!M1446)","v":""},{"$f":"IF([2]Paramètres!N1446=\"\",\"\",[2]Paramètres!N1446)","v":""},{"$f":"IF([2]Paramètres!O1446=\"\",\"\",[2]Paramètres!O1446)","v":""},{"$f":"IF([2]Paramètres!P1446=\"\",\"\",[2]Paramètres!P1446)","v":""},{"$f":"IF([2]Paramètres!Q1446=\"\",\"\",[2]Paramètres!Q1446)","v":""}]
[null,null,null,null,null,null,null,null,null,{"$f":"IF([2]Paramètres!J1447=\"\",\"\",[2]Paramètres!J1447)","v":""},{"$f":"IF([2]Paramètres!K1447=\"\",\"\",[2]Paramètres!K1447)","v":""},{"$f":"IF([2]Paramètres!L1447=\"\",\"\",[2]Paramètres!L1447)","v":""},{"$f":"IF([2]Paramètres!M1447=\"\",\"\",[2]Paramètres!M1447)","v":""},{"$f":"IF([2]Paramètres!N1447=\"\",\"\",[2]Paramètres!N1447)","v":""},{"$f":"IF([2]Paramètres!O1447=\"\",\"\",[2]Paramètres!O1447)","v":""},{"$f":"IF([2]Paramètres!P1447=\"\",\"\",[2]Paramètres!P1447)","v":""},{"$f":"IF([2]Paramètres!Q1447=\"\",\"\",[2]Paramètres!Q1447)","v":""}]
[null,null,null,null,null,null,null,null,null,{"$f":"IF([2]Paramètres!J1448=\"\",\"\",[2]Paramètres!J1448)","v":""},{"$f":"IF([2]Paramètres!K1448=\"\",\"\",[2]Paramètres!K1448)","v":""},{"$f":"IF([2]Paramètres!L1448=\"\",\"\",[2]Paramètres!L1448)","v":""},{"$f":"IF([2]Paramètres!M1448=\"\",\"\",[2]Paramètres!M1448)","v":""},{"$f":"IF([2]Paramètres!N1448=\"\",\"\",[2]Paramètres!N1448)","v":""},{"$f":"IF([2]Paramètres!O1448=\"\",\"\",[2]Paramètres!O1448)","v":""},{"$f":"IF([2]Paramètres!P1448=\"\",\"\",[2]Paramètres!P1448)","v":""},{"$f":"IF([2]Paramètres!Q1448=\"\",\"\",[2]Paramètres!Q1448)","v":""}]
[null,null,null,null,null,null,null,null,null,{"$f":"IF([2]Paramètres!J1449=\"\",\"\",[2]Paramètres!J1449)","v":""},{"$f":"IF([2]Paramètres!K1449=\"\",\"\",[2]Paramètres!K1449)","v":""},{"$f":"IF([2]Paramètres!L1449=\"\",\"\",[2]Paramètres!L1449)","v":""},{"$f":"IF([2]Paramètres!M1449=\"\",\"\",[2]Paramètres!M1449)","v":""},{"$f":"IF([2]Paramètres!N1449=\"\",\"\",[2]Paramètres!N1449)","v":""},{"$f":"IF([2]Paramètres!O1449=\"\",\"\",[2]Paramètres!O1449)","v":""},{"$f":"IF([2]Paramètres!P1449=\"\",\"\",[2]Paramètres!P1449)","v":""},{"$f":"IF([2]Paramètres!Q1449=\"\",\"\",[2]Paramètres!Q1449)","v":""}]
[null,null,null,null,null,null,null,null,null,{"$f":"IF([2]Paramètres!J1450=\"\",\"\",[2]Paramètres!J1450)","v":""},{"$f":"IF([2]Paramètres!K1450=\"\",\"\",[2]Paramètres!K1450)","v":""},{"$f":"IF([2]Paramètres!L1450=\"\",\"\",[2]Paramètres!L1450)","v":""},{"$f":"IF([2]Paramètres!M1450=\"\",\"\",[2]Paramètres!M1450)","v":""},{"$f":"IF([2]Paramètres!N1450=\"\",\"\",[2]Paramètres!N1450)","v":""},{"$f":"IF([2]Paramètres!O1450=\"\",\"\",[2]Paramètres!O1450)","v":""},{"$f":"IF([2]Paramètres!P1450=\"\",\"\",[2]Paramètres!P1450)","v":""},{"$f":"IF([2]Paramètres!Q1450=\"\",\"\",[2]Paramètres!Q1450)","v":""}]
[null,null,null,null,null,null,null,null,null,{"$f":"IF([2]Paramètres!J1451=\"\",\"\",[2]Paramètres!J1451)","v":""},{"$f":"IF([2]Paramètres!K1451=\"\",\"\",[2]Paramètres!K1451)","v":""},{"$f":"IF([2]Paramètres!L1451=\"\",\"\",[2]Paramètres!L1451)","v":""},{"$f":"IF([2]Paramètres!M1451=\"\",\"\",[2]Paramètres!M1451)","v":""},{"$f":"IF([2]Paramètres!N1451=\"\",\"\",[2]Paramètres!N1451)","v":""},{"$f":"IF([2]Paramètres!O1451=\"\",\"\",[2]Paramètres!O1451)","v":""},{"$f":"IF([2]Paramètres!P1451=\"\",\"\",[2]Paramètres!P1451)","v":""},{"$f":"IF([2]Paramètres!Q1451=\"\",\"\",[2]Paramètres!Q1451)","v":""}]
[null,null,null,null,null,null,null,null,null,{"$f":"IF([2]Paramètres!J1452=\"\",\"\",[2]Paramètres!J1452)","v":""},{"$f":"IF([2]Paramètres!K1452=\"\",\"\",[2]Paramètres!K1452)","v":""},{"$f":"IF([2]Paramètres!L1452=\"\",\"\",[2]Paramètres!L1452)","v":""},{"$f":"IF([2]Paramètres!M1452=\"\",\"\",[2]Paramètres!M1452)","v":""},{"$f":"IF([2]Paramètres!N1452=\"\",\"\",[2]Paramètres!N1452)","v":""},{"$f":"IF([2]Paramètres!O1452=\"\",\"\",[2]Paramètres!O1452)","v":""},{"$f":"IF([2]Paramètres!P1452=\"\",\"\",[2]Paramètres!P1452)","v":""},{"$f":"IF([2]Paramètres!Q1452=\"\",\"\",[2]Paramètres!Q1452)","v":""}]
[null,null,null,null,null,null,null,null,null,{"$f":"IF([2]Paramètres!J1453=\"\",\"\",[2]Paramètres!J1453)","v":""},{"$f":"IF([2]Paramètres!K1453=\"\",\"\",[2]Paramètres!K1453)","v":""},{"$f":"IF([2]Paramètres!L1453=\"\",\"\",[2]Paramètres!L1453)","v":""},{"$f":"IF([2]Paramètres!M1453=\"\",\"\",[2]Paramètres!M1453)","v":""},{"$f":"IF([2]Paramètres!N1453=\"\",\"\",[2]Paramètres!N1453)","v":""},{"$f":"IF([2]Paramètres!O1453=\"\",\"\",[2]Paramètres!O1453)","v":""},{"$f":"IF([2]Paramètres!P1453=\"\",\"\",[2]Paramètres!P1453)","v":""},{"$f":"IF([2]Paramètres!Q1453=\"\",\"\",[2]Paramètres!Q1453)","v":""}]
[null,null,null,null,null,null,null,null,null,{"$f":"IF([2]Paramètres!J1454=\"\",\"\",[2]Paramètres!J1454)","v":""},{"$f":"IF([2]Paramètres!K1454=\"\",\"\",[2]Paramètres!K1454)","v":""},{"$f":"IF([2]Paramètres!L1454=\"\",\"\",[2]Paramètres!L1454)","v":""},{"$f":"IF([2]Paramètres!M1454=\"\",\"\",[2]Paramètres!M1454)","v":""},{"$f":"IF([2]Paramètres!N1454=\"\",\"\",[2]Paramètres!N1454)","v":""},{"$f":"IF([2]Paramètres!O1454=\"\",\"\",[2]Paramètres!O1454)","v":""},{"$f":"IF([2]Paramètres!P1454=\"\",\"\",[2]Paramètres!P1454)","v":""},{"$f":"IF([2]Paramètres!Q1454=\"\",\"\",[2]Paramètres!Q1454)","v":""}]
[null,null,null,null,null,null,null,null,null,{"$f":"IF([2]Paramètres!J1455=\"\",\"\",[2]Paramètres!J1455)","v":""},{"$f":"IF([2]Paramètres!K1455=\"\",\"\",[2]Paramètres!K1455)","v":""},{"$f":"IF([2]Paramètres!L1455=\"\",\"\",[2]Paramètres!L1455)","v":""},{"$f":"IF([2]Paramètres!M1455=\"\",\"\",[2]Paramètres!M1455)","v":""},{"$f":"IF([2]Paramètres!N1455=\"\",\"\",[2]Paramètres!N1455)","v":""},{"$f":"IF([2]Paramètres!O1455=\"\",\"\",[2]Paramètres!O1455)","v":""},{"$f":"IF([2]Paramètres!P1455=\"\",\"\",[2]Paramètres!P1455)","v":""},{"$f":"IF([2]Paramètres!Q1455=\"\",\"\",[2]Paramètres!Q1455)","v":""}]
[null,null,null,null,null,null,null,null,null,{"$f":"IF([2]Paramètres!J1456=\"\",\"\",[2]Paramètres!J1456)","v":""},{"$f":"IF([2]Paramètres!K1456=\"\",\"\",[2]Paramètres!K1456)","v":""},{"$f":"IF([2]Paramètres!L1456=\"\",\"\",[2]Paramètres!L1456)","v":""},{"$f":"IF([2]Paramètres!M1456=\"\",\"\",[2]Paramètres!M1456)","v":""},{"$f":"IF([2]Paramètres!N1456=\"\",\"\",[2]Paramètres!N1456)","v":""},{"$f":"IF([2]Paramètres!O1456=\"\",\"\",[2]Paramètres!O1456)","v":""},{"$f":"IF([2]Paramètres!P1456=\"\",\"\",[2]Paramètres!P1456)","v":""},{"$f":"IF([2]Paramètres!Q1456=\"\",\"\",[2]Paramètres!Q1456)","v":""}]
[null,null,null,null,null,null,null,null,null,{"$f":"IF([2]Paramètres!J1457=\"\",\"\",[2]Paramètres!J1457)","v":""},{"$f":"IF([2]Paramètres!K1457=\"\",\"\",[2]Paramètres!K1457)","v":""},{"$f":"IF([2]Paramètres!L1457=\"\",\"\",[2]Paramètres!L1457)","v":""},{"$f":"IF([2]Paramètres!M1457=\"\",\"\",[2]Paramètres!M1457)","v":""},{"$f":"IF([2]Paramètres!N1457=\"\",\"\",[2]Paramètres!N1457)","v":""},{"$f":"IF([2]Paramètres!O1457=\"\",\"\",[2]Paramètres!O1457)","v":""},{"$f":"IF([2]Paramètres!P1457=\"\",\"\",[2]Paramètres!P1457)","v":""},{"$f":"IF([2]Paramètres!Q1457=\"\",\"\",[2]Paramètres!Q1457)","v":""}]
[null,null,null,null,null,null,null,null,null,{"$f":"IF([2]Paramètres!J1458=\"\",\"\",[2]Paramètres!J1458)","v":""},{"$f":"IF([2]Paramètres!K1458=\"\",\"\",[2]Paramètres!K1458)","v":""},{"$f":"IF([2]Paramètres!L1458=\"\",\"\",[2]Paramètres!L1458)","v":""},{"$f":"IF([2]Paramètres!M1458=\"\",\"\",[2]Paramètres!M1458)","v":""},{"$f":"IF([2]Paramètres!N1458=\"\",\"\",[2]Paramètres!N1458)","v":""},{"$f":"IF([2]Paramètres!O1458=\"\",\"\",[2]Paramètres!O1458)","v":""},{"$f":"IF([2]Paramètres!P1458=\"\",\"\",[2]Paramètres!P1458)","v":""},{"$f":"IF([2]Paramètres!Q1458=\"\",\"\",[2]Paramètres!Q1458)","v":""}]
[null,null,null,null,null,null,null,null,null,{"$f":"IF([2]Paramètres!J1459=\"\",\"\",[2]Paramètres!J1459)","v":""},{"$f":"IF([2]Paramètres!K1459=\"\",\"\",[2]Paramètres!K1459)","v":""},{"$f":"IF([2]Paramètres!L1459=\"\",\"\",[2]Paramètres!L1459)","v":""},{"$f":"IF([2]Paramètres!M1459=\"\",\"\",[2]Paramètres!M1459)","v":""},{"$f":"IF([2]Paramètres!N1459=\"\",\"\",[2]Paramètres!N1459)","v":""},{"$f":"IF([2]Paramètres!O1459=\"\",\"\",[2]Paramètres!O1459)","v":""},{"$f":"IF([2]Paramètres!P1459=\"\",\"\",[2]Paramètres!P1459)","v":""},{"$f":"IF([2]Paramètres!Q1459=\"\",\"\",[2]Paramètres!Q1459)","v":""}]
[null,null,null,null,null,null,null,null,null,{"$f":"IF([2]Paramètres!J1460=\"\",\"\",[2]Paramètres!J1460)","v":""},{"$f":"IF([2]Paramètres!K1460=\"\",\"\",[2]Paramètres!K1460)","v":""},{"$f":"IF([2]Paramètres!L1460=\"\",\"\",[2]Paramètres!L1460)","v":""},{"$f":"IF([2]Paramètres!M1460=\"\",\"\",[2]Paramètres!M1460)","v":""},{"$f":"IF([2]Paramètres!N1460=\"\",\"\",[2]Paramètres!N1460)","v":""},{"$f":"IF([2]Paramètres!O1460=\"\",\"\",[2]Paramètres!O1460)","v":""},{"$f":"IF([2]Paramètres!P1460=\"\",\"\",[2]Paramètres!P1460)","v":""},{"$f":"IF([2]Paramètres!Q1460=\"\",\"\",[2]Paramètres!Q1460)","v":""}]
[null,null,null,null,null,null,null,null,null,{"$f":"IF([2]Paramètres!J1461=\"\",\"\",[2]Paramètres!J1461)","v":""},{"$f":"IF([2]Paramètres!K1461=\"\",\"\",[2]Paramètres!K1461)","v":""},{"$f":"IF([2]Paramètres!L1461=\"\",\"\",[2]Paramètres!L1461)","v":""},{"$f":"IF([2]Paramètres!M1461=\"\",\"\",[2]Paramètres!M1461)","v":""},{"$f":"IF([2]Paramètres!N1461=\"\",\"\",[2]Paramètres!N1461)","v":""},{"$f":"IF([2]Paramètres!O1461=\"\",\"\",[2]Paramètres!O1461)","v":""},{"$f":"IF([2]Paramètres!P1461=\"\",\"\",[2]Paramètres!P1461)","v":""},{"$f":"IF([2]Paramètres!Q1461=\"\",\"\",[2]Paramètres!Q1461)","v":""}]
[null,null,null,null,null,null,null,null,null,{"$f":"IF([2]Paramètres!J1462=\"\",\"\",[2]Paramètres!J1462)","v":""},{"$f":"IF([2]Paramètres!K1462=\"\",\"\",[2]Paramètres!K1462)","v":""},{"$f":"IF([2]Paramètres!L1462=\"\",\"\",[2]Paramètres!L1462)","v":""},{"$f":"IF([2]Paramètres!M1462=\"\",\"\",[2]Paramètres!M1462)","v":""},{"$f":"IF([2]Paramètres!N1462=\"\",\"\",[2]Paramètres!N1462)","v":""},{"$f":"IF([2]Paramètres!O1462=\"\",\"\",[2]Paramètres!O1462)","v":""},{"$f":"IF([2]Paramètres!P1462=\"\",\"\",[2]Paramètres!P1462)","v":""},{"$f":"IF([2]Paramètres!Q1462=\"\",\"\",[2]Paramètres!Q1462)","v":""}]
[null,null,null,null,null,null,null,null,null,{"$f":"IF([2]Paramètres!J1463=\"\",\"\",[2]Paramètres!J1463)","v":""},{"$f":"IF([2]Paramètres!K1463=\"\",\"\",[2]Paramètres!K1463)","v":""},{"$f":"IF([2]Paramètres!L1463=\"\",\"\",[2]Paramètres!L1463)","v":""},{"$f":"IF([2]Paramètres!M1463=\"\",\"\",[2]Paramètres!M1463)","v":""},{"$f":"IF([2]Paramètres!N1463=\"\",\"\",[2]Paramètres!N1463)","v":""},{"$f":"IF([2]Paramètres!O1463=\"\",\"\",[2]Paramètres!O1463)","v":""},{"$f":"IF([2]Paramètres!P1463=\"\",\"\",[2]Paramètres!P1463)","v":""},{"$f":"IF([2]Paramètres!Q1463=\"\",\"\",[2]Paramètres!Q1463)","v":""}]
[null,null,null,null,null,null,null,null,null,{"$f":"IF([2]Paramètres!J1464=\"\",\"\",[2]Paramètres!J1464)","v":""},{"$f":"IF([2]Paramètres!K1464=\"\",\"\",[2]Paramètres!K1464)","v":""},{"$f":"IF([2]Paramètres!L1464=\"\",\"\",[2]Paramètres!L1464)","v":""},{"$f":"IF([2]Paramètres!M1464=\"\",\"\",[2]Paramètres!M1464)","v":""},{"$f":"IF([2]Paramètres!N1464=\"\",\"\",[2]Paramètres!N1464)","v":""},{"$f":"IF([2]Paramètres!O1464=\"\",\"\",[2]Paramètres!O1464)","v":""},{"$f":"IF([2]Paramètres!P1464=\"\",\"\",[2]Paramètres!P1464)","v":""},{"$f":"IF([2]Paramètres!Q1464=\"\",\"\",[2]Paramètres!Q1464)","v":""}]
[null,null,null,null,null,null,null,null,null,{"$f":"IF([2]Paramètres!J1465=\"\",\"\",[2]Paramètres!J1465)","v":""},{"$f":"IF([2]Paramètres!K1465=\"\",\"\",[2]Paramètres!K1465)","v":""},{"$f":"IF([2]Paramètres!L1465=\"\",\"\",[2]Paramètres!L1465)","v":""},{"$f":"IF([2]Paramètres!M1465=\"\",\"\",[2]Paramètres!M1465)","v":""},{"$f":"IF([2]Paramètres!N1465=\"\",\"\",[2]Paramètres!N1465)","v":""},{"$f":"IF([2]Paramètres!O1465=\"\",\"\",[2]Paramètres!O1465)","v":""},{"$f":"IF([2]Paramètres!P1465=\"\",\"\",[2]Paramètres!P1465)","v":""},{"$f":"IF([2]Paramètres!Q1465=\"\",\"\",[2]Paramètres!Q1465)","v":""}]
[null,null,null,null,null,null,null,null,null,{"$f":"IF([2]Paramètres!J1466=\"\",\"\",[2]Paramètres!J1466)","v":""},{"$f":"IF([2]Paramètres!K1466=\"\",\"\",[2]Paramètres!K1466)","v":""},{"$f":"IF([2]Paramètres!L1466=\"\",\"\",[2]Paramètres!L1466)","v":""},{"$f":"IF([2]Paramètres!M1466=\"\",\"\",[2]Paramètres!M1466)","v":""},{"$f":"IF([2]Paramètres!N1466=\"\",\"\",[2]Paramètres!N1466)","v":""},{"$f":"IF([2]Paramètres!O1466=\"\",\"\",[2]Paramètres!O1466)","v":""},{"$f":"IF([2]Paramètres!P1466=\"\",\"\",[2]Paramètres!P1466)","v":""},{"$f":"IF([2]Paramètres!Q1466=\"\",\"\",[2]Paramètres!Q1466)","v":""}]
[null,null,null,null,null,null,null,null,null,{"$f":"IF([2]Paramètres!J1467=\"\",\"\",[2]Paramètres!J1467)","v":""},{"$f":"IF([2]Paramètres!K1467=\"\",\"\",[2]Paramètres!K1467)","v":""},{"$f":"IF([2]Paramètres!L1467=\"\",\"\",[2]Paramètres!L1467)","v":""},{"$f":"IF([2]Paramètres!M1467=\"\",\"\",[2]Paramètres!M1467)","v":""},{"$f":"IF([2]Paramètres!N1467=\"\",\"\",[2]Paramètres!N1467)","v":""},{"$f":"IF([2]Paramètres!O1467=\"\",\"\",[2]Paramètres!O1467)","v":""},{"$f":"IF([2]Paramètres!P1467=\"\",\"\",[2]Paramètres!P1467)","v":""},{"$f":"IF([2]Paramètres!Q1467=\"\",\"\",[2]Paramètres!Q1467)","v":""}]
[null,null,null,null,null,null,null,null,null,{"$f":"IF([2]Paramètres!J1468=\"\",\"\",[2]Paramètres!J1468)","v":""},{"$f":"IF([2]Paramètres!K1468=\"\",\"\",[2]Paramètres!K1468)","v":""},{"$f":"IF([2]Paramètres!L1468=\"\",\"\",[2]Paramètres!L1468)","v":""},{"$f":"IF([2]Paramètres!M1468=\"\",\"\",[2]Paramètres!M1468)","v":""},{"$f":"IF([2]Paramètres!N1468=\"\",\"\",[2]Paramètres!N1468)","v":""},{"$f":"IF([2]Paramètres!O1468=\"\",\"\",[2]Paramètres!O1468)","v":""},{"$f":"IF([2]Paramètres!P1468=\"\",\"\",[2]Paramètres!P1468)","v":""},{"$f":"IF([2]Paramètres!Q1468=\"\",\"\",[2]Paramètres!Q1468)","v":""}]
[null,null,null,null,null,null,null,null,null,{"$f":"IF([2]Paramètres!J1469=\"\",\"\",[2]Paramètres!J1469)","v":""},{"$f":"IF([2]Paramètres!K1469=\"\",\"\",[2]Paramètres!K1469)","v":""},{"$f":"IF([2]Paramètres!L1469=\"\",\"\",[2]Paramètres!L1469)","v":""},{"$f":"IF([2]Paramètres!M1469=\"\",\"\",[2]Paramètres!M1469)","v":""},{"$f":"IF([2]Paramètres!N1469=\"\",\"\",[2]Paramètres!N1469)","v":""},{"$f":"IF([2]Paramètres!O1469=\"\",\"\",[2]Paramètres!O1469)","v":""},{"$f":"IF([2]Paramètres!P1469=\"\",\"\",[2]Paramètres!P1469)","v":""},{"$f":"IF([2]Paramètres!Q1469=\"\",\"\",[2]Paramètres!Q1469)","v":""}]
[null,null,null,null,null,null,null,null,null,{"$f":"IF([2]Paramètres!J1470=\"\",\"\",[2]Paramètres!J1470)","v":""},{"$f":"IF([2]Paramètres!K1470=\"\",\"\",[2]Paramètres!K1470)","v":""},{"$f":"IF([2]Paramètres!L1470=\"\",\"\",[2]Paramètres!L1470)","v":""},{"$f":"IF([2]Paramètres!M1470=\"\",\"\",[2]Paramètres!M1470)","v":""},{"$f":"IF([2]Paramètres!N1470=\"\",\"\",[2]Paramètres!N1470)","v":""},{"$f":"IF([2]Paramètres!O1470=\"\",\"\",[2]Paramètres!O1470)","v":""},{"$f":"IF([2]Paramètres!P1470=\"\",\"\",[2]Paramètres!P1470)","v":""},{"$f":"IF([2]Paramètres!Q1470=\"\",\"\",[2]Paramètres!Q1470)","v":""}]
[null,null,null,null,null,null,null,null,null,{"$f":"IF([2]Paramètres!J1471=\"\",\"\",[2]Paramètres!J1471)","v":""},{"$f":"IF([2]Paramètres!K1471=\"\",\"\",[2]Paramètres!K1471)","v":""},{"$f":"IF([2]Paramètres!L1471=\"\",\"\",[2]Paramètres!L1471)","v":""},{"$f":"IF([2]Paramètres!M1471=\"\",\"\",[2]Paramètres!M1471)","v":""},{"$f":"IF([2]Paramètres!N1471=\"\",\"\",[2]Paramètres!N1471)","v":""},{"$f":"IF([2]Paramètres!O1471=\"\",\"\",[2]Paramètres!O1471)","v":""},{"$f":"IF([2]Paramètres!P1471=\"\",\"\",[2]Paramètres!P1471)","v":""},{"$f":"IF([2]Paramètres!Q1471=\"\",\"\",[2]Paramètres!Q1471)","v":""}]
[null,null,null,null,null,null,null,null,null,{"$f":"IF([2]Paramètres!J1472=\"\",\"\",[2]Paramètres!J1472)","v":""},{"$f":"IF([2]Paramètres!K1472=\"\",\"\",[2]Paramètres!K1472)","v":""},{"$f":"IF([2]Paramètres!L1472=\"\",\"\",[2]Paramètres!L1472)","v":""},{"$f":"IF([2]Paramètres!M1472=\"\",\"\",[2]Paramètres!M1472)","v":""},{"$f":"IF([2]Paramètres!N1472=\"\",\"\",[2]Paramètres!N1472)","v":""},{"$f":"IF([2]Paramètres!O1472=\"\",\"\",[2]Paramètres!O1472)","v":""},{"$f":"IF([2]Paramètres!P1472=\"\",\"\",[2]Paramètres!P1472)","v":""},{"$f":"IF([2]Paramètres!Q1472=\"\",\"\",[2]Paramètres!Q1472)","v":""}]
[null,null,null,null,null,null,null,null,null,{"$f":"IF([2]Paramètres!J1473=\"\",\"\",[2]Paramètres!J1473)","v":""},{"$f":"IF([2]Paramètres!K1473=\"\",\"\",[2]Paramètres!K1473)","v":""},{"$f":"IF([2]Paramètres!L1473=\"\",\"\",[2]Paramètres!L1473)","v":""},{"$f":"IF([2]Paramètres!M1473=\"\",\"\",[2]Paramètres!M1473)","v":""},{"$f":"IF([2]Paramètres!N1473=\"\",\"\",[2]Paramètres!N1473)","v":""},{"$f":"IF([2]Paramètres!O1473=\"\",\"\",[2]Paramètres!O1473)","v":""},{"$f":"IF([2]Paramètres!P1473=\"\",\"\",[2]Paramètres!P1473)","v":""},{"$f":"IF([2]Paramètres!Q1473=\"\",\"\",[2]Paramètres!Q1473)","v":""}]
[null,null,null,null,null,null,null,null,null,{"$f":"IF([2]Paramètres!J1474=\"\",\"\",[2]Paramètres!J1474)","v":""},{"$f":"IF([2]Paramètres!K1474=\"\",\"\",[2]Paramètres!K1474)","v":""},{"$f":"IF([2]Paramètres!L1474=\"\",\"\",[2]Paramètres!L1474)","v":""},{"$f":"IF([2]Paramètres!M1474=\"\",\"\",[2]Paramètres!M1474)","v":""},{"$f":"IF([2]Paramètres!N1474=\"\",\"\",[2]Paramètres!N1474)","v":""},{"$f":"IF([2]Paramètres!O1474=\"\",\"\",[2]Paramètres!O1474)","v":""},{"$f":"IF([2]Paramètres!P1474=\"\",\"\",[2]Paramètres!P1474)","v":""},{"$f":"IF([2]Paramètres!Q1474=\"\",\"\",[2]Paramètres!Q1474)","v":""}]
[null,null,null,null,null,null,null,null,null,{"$f":"IF([2]Paramètres!J1475=\"\",\"\",[2]Paramètres!J1475)","v":""},{"$f":"IF([2]Paramètres!K1475=\"\",\"\",[2]Paramètres!K1475)","v":""},{"$f":"IF([2]Paramètres!L1475=\"\",\"\",[2]Paramètres!L1475)","v":""},{"$f":"IF([2]Paramètres!M1475=\"\",\"\",[2]Paramètres!M1475)","v":""},{"$f":"IF([2]Paramètres!N1475=\"\",\"\",[2]Paramètres!N1475)","v":""},{"$f":"IF([2]Paramètres!O1475=\"\",\"\",[2]Paramètres!O1475)","v":""},{"$f":"IF([2]Paramètres!P1475=\"\",\"\",[2]Paramètres!P1475)","v":""},{"$f":"IF([2]Paramètres!Q1475=\"\",\"\",[2]Paramètres!Q1475)","v":""}]
[null,null,null,null,null,null,null,null,null,{"$f":"IF([2]Paramètres!J1476=\"\",\"\",[2]Paramètres!J1476)","v":""},{"$f":"IF([2]Paramètres!K1476=\"\",\"\",[2]Paramètres!K1476)","v":""},{"$f":"IF([2]Paramètres!L1476=\"\",\"\",[2]Paramètres!L1476)","v":""},{"$f":"IF([2]Paramètres!M1476=\"\",\"\",[2]Paramètres!M1476)","v":""},{"$f":"IF([2]Paramètres!N1476=\"\",\"\",[2]Paramètres!N1476)","v":""},{"$f":"IF([2]Paramètres!O1476=\"\",\"\",[2]Paramètres!O1476)","v":""},{"$f":"IF([2]Paramètres!P1476=\"\",\"\",[2]Paramètres!P1476)","v":""},{"$f":"IF([2]Paramètres!Q1476=\"\",\"\",[2]Paramètres!Q1476)","v":""}]
[null,null,null,null,null,null,null,null,null,{"$f":"IF([2]Paramètres!J1477=\"\",\"\",[2]Paramètres!J1477)","v":""},{"$f":"IF([2]Paramètres!K1477=\"\",\"\",[2]Paramètres!K1477)","v":""},{"$f":"IF([2]Paramètres!L1477=\"\",\"\",[2]Paramètres!L1477)","v":""},{"$f":"IF([2]Paramètres!M1477=\"\",\"\",[2]Paramètres!M1477)","v":""},{"$f":"IF([2]Paramètres!N1477=\"\",\"\",[2]Paramètres!N1477)","v":""},{"$f":"IF([2]Paramètres!O1477=\"\",\"\",[2]Paramètres!O1477)","v":""},{"$f":"IF([2]Paramètres!P1477=\"\",\"\",[2]Paramètres!P1477)","v":""},{"$f":"IF([2]Paramètres!Q1477=\"\",\"\",[2]Paramètres!Q1477)","v":""}]
[null,null,null,null,null,null,null,null,null,{"$f":"IF([2]Paramètres!J1478=\"\",\"\",[2]Paramètres!J1478)","v":""},{"$f":"IF([2]Paramètres!K1478=\"\",\"\",[2]Paramètres!K1478)","v":""},{"$f":"IF([2]Paramètres!L1478=\"\",\"\",[2]Paramètres!L1478)","v":""},{"$f":"IF([2]Paramètres!M1478=\"\",\"\",[2]Paramètres!M1478)","v":""},{"$f":"IF([2]Paramètres!N1478=\"\",\"\",[2]Paramètres!N1478)","v":""},{"$f":"IF([2]Paramètres!O1478=\"\",\"\",[2]Paramètres!O1478)","v":""},{"$f":"IF([2]Paramètres!P1478=\"\",\"\",[2]Paramètres!P1478)","v":""},{"$f":"IF([2]Paramètres!Q1478=\"\",\"\",[2]Paramètres!Q1478)","v":""}]
[null,null,null,null,null,null,null,null,null,{"$f":"IF([2]Paramètres!J1479=\"\",\"\",[2]Paramètres!J1479)","v":""},{"$f":"IF([2]Paramètres!K1479=\"\",\"\",[2]Paramètres!K1479)","v":""},{"$f":"IF([2]Paramètres!L1479=\"\",\"\",[2]Paramètres!L1479)","v":""},{"$f":"IF([2]Paramètres!M1479=\"\",\"\",[2]Paramètres!M1479)","v":""},{"$f":"IF([2]Paramètres!N1479=\"\",\"\",[2]Paramètres!N1479)","v":""},{"$f":"IF([2]Paramètres!O1479=\"\",\"\",[2]Paramètres!O1479)","v":""},{"$f":"IF([2]Paramètres!P1479=\"\",\"\",[2]Paramètres!P1479)","v":""},{"$f":"IF([2]Paramètres!Q1479=\"\",\"\",[2]Paramètres!Q1479)","v":""}]
[null,null,null,null,null,null,null,null,null,{"$f":"IF([2]Paramètres!J1480=\"\",\"\",[2]Paramètres!J1480)","v":""},{"$f":"IF([2]Paramètres!K1480=\"\",\"\",[2]Paramètres!K1480)","v":""},{"$f":"IF([2]Paramètres!L1480=\"\",\"\",[2]Paramètres!L1480)","v":""},{"$f":"IF([2]Paramètres!M1480=\"\",\"\",[2]Paramètres!M1480)","v":""},{"$f":"IF([2]Paramètres!N1480=\"\",\"\",[2]Paramètres!N1480)","v":""},{"$f":"IF([2]Paramètres!O1480=\"\",\"\",[2]Paramètres!O1480)","v":""},{"$f":"IF([2]Paramètres!P1480=\"\",\"\",[2]Paramètres!P1480)","v":""},{"$f":"IF([2]Paramètres!Q1480=\"\",\"\",[2]Paramètres!Q1480)","v":""}]
[null,null,null,null,null,null,null,null,null,{"$f":"IF([2]Paramètres!J1481=\"\",\"\",[2]Paramètres!J1481)","v":""},{"$f":"IF([2]Paramètres!K1481=\"\",\"\",[2]Paramètres!K1481)","v":""},{"$f":"IF([2]Paramètres!L1481=\"\",\"\",[2]Paramètres!L1481)","v":""},{"$f":"IF([2]Paramètres!M1481=\"\",\"\",[2]Paramètres!M1481)","v":""},{"$f":"IF([2]Paramètres!N1481=\"\",\"\",[2]Paramètres!N1481)","v":""},{"$f":"IF([2]Paramètres!O1481=\"\",\"\",[2]Paramètres!O1481)","v":""},{"$f":"IF([2]Paramètres!P1481=\"\",\"\",[2]Paramètres!P1481)","v":""},{"$f":"IF([2]Paramètres!Q1481=\"\",\"\",[2]Paramètres!Q1481)","v":""}]
[null,null,null,null,null,null,null,null,null,{"$f":"IF([2]Paramètres!J1482=\"\",\"\",[2]Paramètres!J1482)","v":""},{"$f":"IF([2]Paramètres!K1482=\"\",\"\",[2]Paramètres!K1482)","v":""},{"$f":"IF([2]Paramètres!L1482=\"\",\"\",[2]Paramètres!L1482)","v":""},{"$f":"IF([2]Paramètres!M1482=\"\",\"\",[2]Paramètres!M1482)","v":""},{"$f":"IF([2]Paramètres!N1482=\"\",\"\",[2]Paramètres!N1482)","v":""},{"$f":"IF([2]Paramètres!O1482=\"\",\"\",[2]Paramètres!O1482)","v":""},{"$f":"IF([2]Paramètres!P1482=\"\",\"\",[2]Paramètres!P1482)","v":""},{"$f":"IF([2]Paramètres!Q1482=\"\",\"\",[2]Paramètres!Q1482)","v":""}]
[null,null,null,null,null,null,null,null,null,{"$f":"IF([2]Paramètres!J1483=\"\",\"\",[2]Paramètres!J1483)","v":""},{"$f":"IF([2]Paramètres!K1483=\"\",\"\",[2]Paramètres!K1483)","v":""},{"$f":"IF([2]Paramètres!L1483=\"\",\"\",[2]Paramètres!L1483)","v":""},{"$f":"IF([2]Paramètres!M1483=\"\",\"\",[2]Paramètres!M1483)","v":""},{"$f":"IF([2]Paramètres!N1483=\"\",\"\",[2]Paramètres!N1483)","v":""},{"$f":"IF([2]Paramètres!O1483=\"\",\"\",[2]Paramètres!O1483)","v":""},{"$f":"IF([2]Paramètres!P1483=\"\",\"\",[2]Paramètres!P1483)","v":""},{"$f":"IF([2]Paramètres!Q1483=\"\",\"\",[2]Paramètres!Q1483)","v":""}]
[null,null,null,null,null,null,null,null,null,{"$f":"IF([2]Paramètres!J1484=\"\",\"\",[2]Paramètres!J1484)","v":""},{"$f":"IF([2]Paramètres!K1484=\"\",\"\",[2]Paramètres!K1484)","v":""},{"$f":"IF([2]Paramètres!L1484=\"\",\"\",[2]Paramètres!L1484)","v":""},{"$f":"IF([2]Paramètres!M1484=\"\",\"\",[2]Paramètres!M1484)","v":""},{"$f":"IF([2]Paramètres!N1484=\"\",\"\",[2]Paramètres!N1484)","v":""},{"$f":"IF([2]Paramètres!O1484=\"\",\"\",[2]Paramètres!O1484)","v":""},{"$f":"IF([2]Paramètres!P1484=\"\",\"\",[2]Paramètres!P1484)","v":""},{"$f":"IF([2]Paramètres!Q1484=\"\",\"\",[2]Paramètres!Q1484)","v":""}]
[null,null,null,null,null,null,null,null,null,{"$f":"IF([2]Paramètres!J1485=\"\",\"\",[2]Paramètres!J1485)","v":""},{"$f":"IF([2]Paramètres!K1485=\"\",\"\",[2]Paramètres!K1485)","v":""},{"$f":"IF([2]Paramètres!L1485=\"\",\"\",[2]Paramètres!L1485)","v":""},{"$f":"IF([2]Paramètres!M1485=\"\",\"\",[2]Paramètres!M1485)","v":""},{"$f":"IF([2]Paramètres!N1485=\"\",\"\",[2]Paramètres!N1485)","v":""},{"$f":"IF([2]Paramètres!O1485=\"\",\"\",[2]Paramètres!O1485)","v":""},{"$f":"IF([2]Paramètres!P1485=\"\",\"\",[2]Paramètres!P1485)","v":""},{"$f":"IF([2]Paramètres!Q1485=\"\",\"\",[2]Paramètres!Q1485)","v":""}]
[null,null,null,null,null,null,null,null,null,{"$f":"IF([2]Paramètres!J1486=\"\",\"\",[2]Paramètres!J1486)","v":""},{"$f":"IF([2]Paramètres!K1486=\"\",\"\",[2]Paramètres!K1486)","v":""},{"$f":"IF([2]Paramètres!L1486=\"\",\"\",[2]Paramètres!L1486)","v":""},{"$f":"IF([2]Paramètres!M1486=\"\",\"\",[2]Paramètres!M1486)","v":""},{"$f":"IF([2]Paramètres!N1486=\"\",\"\",[2]Paramètres!N1486)","v":""},{"$f":"IF([2]Paramètres!O1486=\"\",\"\",[2]Paramètres!O1486)","v":""},{"$f":"IF([2]Paramètres!P1486=\"\",\"\",[2]Paramètres!P1486)","v":""},{"$f":"IF([2]Paramètres!Q1486=\"\",\"\",[2]Paramètres!Q1486)","v":""}]
[null,null,null,null,null,null,null,null,null,{"$f":"IF([2]Paramètres!J1487=\"\",\"\",[2]Paramètres!J1487)","v":""},{"$f":"IF([2]Paramètres!K1487=\"\",\"\",[2]Paramètres!K1487)","v":""},{"$f":"IF([2]Paramètres!L1487=\"\",\"\",[2]Paramètres!L1487)","v":""},{"$f":"IF([2]Paramètres!M1487=\"\",\"\",[2]Paramètres!M1487)","v":""},{"$f":"IF([2]Paramètres!N1487=\"\",\"\",[2]Paramètres!N1487)","v":""},{"$f":"IF([2]Paramètres!O1487=\"\",\"\",[2]Paramètres!O1487)","v":""},{"$f":"IF([2]Paramètres!P1487=\"\",\"\",[2]Paramètres!P1487)","v":""},{"$f":"IF([2]Paramètres!Q1487=\"\",\"\",[2]Paramètres!Q1487)","v":""}]
[null,null,null,null,null,null,null,null,null,{"$f":"IF([2]Paramètres!J1488=\"\",\"\",[2]Paramètres!J1488)","v":""},{"$f":"IF([2]Paramètres!K1488=\"\",\"\",[2]Paramètres!K1488)","v":""},{"$f":"IF([2]Paramètres!L1488=\"\",\"\",[2]Paramètres!L1488)","v":""},{"$f":"IF([2]Paramètres!M1488=\"\",\"\",[2]Paramètres!M1488)","v":""},{"$f":"IF([2]Paramètres!N1488=\"\",\"\",[2]Paramètres!N1488)","v":""},{"$f":"IF([2]Paramètres!O1488=\"\",\"\",[2]Paramètres!O1488)","v":""},{"$f":"IF([2]Paramètres!P1488=\"\",\"\",[2]Paramètres!P1488)","v":""},{"$f":"IF([2]Paramètres!Q1488=\"\",\"\",[2]Paramètres!Q1488)","v":""}]
[null,null,null,null,null,null,null,null,null,{"$f":"IF([2]Paramètres!J1489=\"\",\"\",[2]Paramètres!J1489)","v":""},{"$f":"IF([2]Paramètres!K1489=\"\",\"\",[2]Paramètres!K1489)","v":""},{"$f":"IF([2]Paramètres!L1489=\"\",\"\",[2]Paramètres!L1489)","v":""},{"$f":"IF([2]Paramètres!M1489=\"\",\"\",[2]Paramètres!M1489)","v":""},{"$f":"IF([2]Paramètres!N1489=\"\",\"\",[2]Paramètres!N1489)","v":""},{"$f":"IF([2]Paramètres!O1489=\"\",\"\",[2]Paramètres!O1489)","v":""},{"$f":"IF([2]Paramètres!P1489=\"\",\"\",[2]Paramètres!P1489)","v":""},{"$f":"IF([2]Paramètres!Q1489=\"\",\"\",[2]Paramètres!Q1489)","v":""}]
[null,null,null,null,null,null,null,null,null,{"$f":"IF([2]Paramètres!J1490=\"\",\"\",[2]Paramètres!J1490)","v":""},{"$f":"IF([2]Paramètres!K1490=\"\",\"\",[2]Paramètres!K1490)","v":""},{"$f":"IF([2]Paramètres!L1490=\"\",\"\",[2]Paramètres!L1490)","v":""},{"$f":"IF([2]Paramètres!M1490=\"\",\"\",[2]Paramètres!M1490)","v":""},{"$f":"IF([2]Paramètres!N1490=\"\",\"\",[2]Paramètres!N1490)","v":""},{"$f":"IF([2]Paramètres!O1490=\"\",\"\",[2]Paramètres!O1490)","v":""},{"$f":"IF([2]Paramètres!P1490=\"\",\"\",[2]Paramètres!P1490)","v":""},{"$f":"IF([2]Paramètres!Q1490=\"\",\"\",[2]Paramètres!Q1490)","v":""}]
[null,null,null,null,null,null,null,null,null,{"$f":"IF([2]Paramètres!J1491=\"\",\"\",[2]Paramètres!J1491)","v":""},{"$f":"IF([2]Paramètres!K1491=\"\",\"\",[2]Paramètres!K1491)","v":""},{"$f":"IF([2]Paramètres!L1491=\"\",\"\",[2]Paramètres!L1491)","v":""},{"$f":"IF([2]Paramètres!M1491=\"\",\"\",[2]Paramètres!M1491)","v":""},{"$f":"IF([2]Paramètres!N1491=\"\",\"\",[2]Paramètres!N1491)","v":""},{"$f":"IF([2]Paramètres!O1491=\"\",\"\",[2]Paramètres!O1491)","v":""},{"$f":"IF([2]Paramètres!P1491=\"\",\"\",[2]Paramètres!P1491)","v":""},{"$f":"IF([2]Paramètres!Q1491=\"\",\"\",[2]Paramètres!Q1491)","v":""}]
[null,null,null,null,null,null,null,null,null,{"$f":"IF([2]Paramètres!J1492=\"\",\"\",[2]Paramètres!J1492)","v":""},{"$f":"IF([2]Paramètres!K1492=\"\",\"\",[2]Paramètres!K1492)","v":""},{"$f":"IF([2]Paramètres!L1492=\"\",\"\",[2]Paramètres!L1492)","v":""},{"$f":"IF([2]Paramètres!M1492=\"\",\"\",[2]Paramètres!M1492)","v":""},{"$f":"IF([2]Paramètres!N1492=\"\",\"\",[2]Paramètres!N1492)","v":""},{"$f":"IF([2]Paramètres!O1492=\"\",\"\",[2]Paramètres!O1492)","v":""},{"$f":"IF([2]Paramètres!P1492=\"\",\"\",[2]Paramètres!P1492)","v":""},{"$f":"IF([2]Paramètres!Q1492=\"\",\"\",[2]Paramètres!Q1492)","v":""}]
[null,null,null,null,null,null,null,null,null,{"$f":"IF([2]Paramètres!J1493=\"\",\"\",[2]Paramètres!J1493)","v":""},{"$f":"IF([2]Paramètres!K1493=\"\",\"\",[2]Paramètres!K1493)","v":""},{"$f":"IF([2]Paramètres!L1493=\"\",\"\",[2]Paramètres!L1493)","v":""},{"$f":"IF([2]Paramètres!M1493=\"\",\"\",[2]Paramètres!M1493)","v":""},{"$f":"IF([2]Paramètres!N1493=\"\",\"\",[2]Paramètres!N1493)","v":""},{"$f":"IF([2]Paramètres!O1493=\"\",\"\",[2]Paramètres!O1493)","v":""},{"$f":"IF([2]Paramètres!P1493=\"\",\"\",[2]Paramètres!P1493)","v":""},{"$f":"IF([2]Paramètres!Q1493=\"\",\"\",[2]Paramètres!Q1493)","v":""}]
[null,null,null,null,null,null,null,null,null,{"$f":"IF([2]Paramètres!J1494=\"\",\"\",[2]Paramètres!J1494)","v":""},{"$f":"IF([2]Paramètres!K1494=\"\",\"\",[2]Paramètres!K1494)","v":""},{"$f":"IF([2]Paramètres!L1494=\"\",\"\",[2]Paramètres!L1494)","v":""},{"$f":"IF([2]Paramètres!M1494=\"\",\"\",[2]Paramètres!M1494)","v":""},{"$f":"IF([2]Paramètres!N1494=\"\",\"\",[2]Paramètres!N1494)","v":""},{"$f":"IF([2]Paramètres!O1494=\"\",\"\",[2]Paramètres!O1494)","v":""},{"$f":"IF([2]Paramètres!P1494=\"\",\"\",[2]Paramètres!P1494)","v":""},{"$f":"IF([2]Paramètres!Q1494=\"\",\"\",[2]Paramètres!Q1494)","v":""}]
[null,null,null,null,null,null,null,null,null,{"$f":"IF([2]Paramètres!J1495=\"\",\"\",[2]Paramètres!J1495)","v":""},{"$f":"IF([2]Paramètres!K1495=\"\",\"\",[2]Paramètres!K1495)","v":""},{"$f":"IF([2]Paramètres!L1495=\"\",\"\",[2]Paramètres!L1495)","v":""},{"$f":"IF([2]Paramètres!M1495=\"\",\"\",[2]Paramètres!M1495)","v":""},{"$f":"IF([2]Paramètres!N1495=\"\",\"\",[2]Paramètres!N1495)","v":""},{"$f":"IF([2]Paramètres!O1495=\"\",\"\",[2]Paramètres!O1495)","v":""},{"$f":"IF([2]Paramètres!P1495=\"\",\"\",[2]Paramètres!P1495)","v":""},{"$f":"IF([2]Paramètres!Q1495=\"\",\"\",[2]Paramètres!Q1495)","v":""}]
[null,null,null,null,null,null,null,null,null,{"$f":"IF([2]Paramètres!J1496=\"\",\"\",[2]Paramètres!J1496)","v":""},{"$f":"IF([2]Paramètres!K1496=\"\",\"\",[2]Paramètres!K1496)","v":""},{"$f":"IF([2]Paramètres!L1496=\"\",\"\",[2]Paramètres!L1496)","v":""},{"$f":"IF([2]Paramètres!M1496=\"\",\"\",[2]Paramètres!M1496)","v":""},{"$f":"IF([2]Paramètres!N1496=\"\",\"\",[2]Paramètres!N1496)","v":""},{"$f":"IF([2]Paramètres!O1496=\"\",\"\",[2]Paramètres!O1496)","v":""},{"$f":"IF([2]Paramètres!P1496=\"\",\"\",[2]Paramètres!P1496)","v":""},{"$f":"IF([2]Paramètres!Q1496=\"\",\"\",[2]Paramètres!Q1496)","v":""}]
[null,null,null,null,null,null,null,null,null,{"$f":"IF([2]Paramètres!J1497=\"\",\"\",[2]Paramètres!J1497)","v":""},{"$f":"IF([2]Paramètres!K1497=\"\",\"\",[2]Paramètres!K1497)","v":""},{"$f":"IF([2]Paramètres!L1497=\"\",\"\",[2]Paramètres!L1497)","v":""},{"$f":"IF([2]Paramètres!M1497=\"\",\"\",[2]Paramètres!M1497)","v":""},{"$f":"IF([2]Paramètres!N1497=\"\",\"\",[2]Paramètres!N1497)","v":""},{"$f":"IF([2]Paramètres!O1497=\"\",\"\",[2]Paramètres!O1497)","v":""},{"$f":"IF([2]Paramètres!P1497=\"\",\"\",[2]Paramètres!P1497)","v":""},{"$f":"IF([2]Paramètres!Q1497=\"\",\"\",[2]Paramètres!Q1497)","v":""}]
[null,null,null,null,null,null,null,null,null,{"$f":"IF([2]Paramètres!J1498=\"\",\"\",[2]Paramètres!J1498)","v":""},{"$f":"IF([2]Paramètres!K1498=\"\",\"\",[2]Paramètres!K1498)","v":""},{"$f":"IF([2]Paramètres!L1498=\"\",\"\",[2]Paramètres!L1498)","v":""},{"$f":"IF([2]Paramètres!M1498=\"\",\"\",[2]Paramètres!M1498)","v":""},{"$f":"IF([2]Paramètres!N1498=\"\",\"\",[2]Paramètres!N1498)","v":""},{"$f":"IF([2]Paramètres!O1498=\"\",\"\",[2]Paramètres!O1498)","v":""},{"$f":"IF([2]Paramètres!P1498=\"\",\"\",[2]Paramètres!P1498)","v":""},{"$f":"IF([2]Paramètres!Q1498=\"\",\"\",[2]Paramètres!Q1498)","v":""}]
[null,null,null,null,null,null,null,null,null,{"$f":"IF([2]Paramètres!J1499=\"\",\"\",[2]Paramètres!J1499)","v":""},{"$f":"IF([2]Paramètres!K1499=\"\",\"\",[2]Paramètres!K1499)","v":""},{"$f":"IF([2]Paramètres!L1499=\"\",\"\",[2]Paramètres!L1499)","v":""},{"$f":"IF([2]Paramètres!M1499=\"\",\"\",[2]Paramètres!M1499)","v":""},{"$f":"IF([2]Paramètres!N1499=\"\",\"\",[2]Paramètres!N1499)","v":""},{"$f":"IF([2]Paramètres!O1499=\"\",\"\",[2]Paramètres!O1499)","v":""},{"$f":"IF([2]Paramètres!P1499=\"\",\"\",[2]Paramètres!P1499)","v":""},{"$f":"IF([2]Paramètres!Q1499=\"\",\"\",[2]Paramètres!Q1499)","v":""}]
[null,null,null,null,null,null,null,null,null,{"$f":"IF([2]Paramètres!J1500=\"\",\"\",[2]Paramètres!J1500)","v":""},{"$f":"IF([2]Paramètres!K1500=\"\",\"\",[2]Paramètres!K1500)","v":""},{"$f":"IF([2]Paramètres!L1500=\"\",\"\",[2]Paramètres!L1500)","v":""},{"$f":"IF([2]Paramètres!M1500=\"\",\"\",[2]Paramètres!M1500)","v":""},{"$f":"IF([2]Paramètres!N1500=\"\",\"\",[2]Paramètres!N1500)","v":""},{"$f":"IF([2]Paramètres!O1500=\"\",\"\",[2]Paramètres!O1500)","v":""},{"$f":"IF([2]Paramètres!P1500=\"\",\"\",[2]Paramètres!P1500)","v":""},{"$f":"IF([2]Paramètres!Q1500=\"\",\"\",[2]Paramètres!Q1500)","v":""}]
[null,null,null,null,null,null,null,null,null,{"$f":"IF([2]Paramètres!J1501=\"\",\"\",[2]Paramètres!J1501)","v":""},{"$f":"IF([2]Paramètres!K1501=\"\",\"\",[2]Paramètres!K1501)","v":""},{"$f":"IF([2]Paramètres!L1501=\"\",\"\",[2]Paramètres!L1501)","v":""},{"$f":"IF([2]Paramètres!M1501=\"\",\"\",[2]Paramètres!M1501)","v":""},{"$f":"IF([2]Paramètres!N1501=\"\",\"\",[2]Paramètres!N1501)","v":""},{"$f":"IF([2]Paramètres!O1501=\"\",\"\",[2]Paramètres!O1501)","v":""},{"$f":"IF([2]Paramètres!P1501=\"\",\"\",[2]Paramètres!P1501)","v":""},{"$f":"IF([2]Paramètres!Q1501=\"\",\"\",[2]Paramètres!Q1501)","v":""}]
[null,null,null,null,null,null,null,null,null,{"$f":"IF([2]Paramètres!J1502=\"\",\"\",[2]Paramètres!J1502)","v":""},{"$f":"IF([2]Paramètres!K1502=\"\",\"\",[2]Paramètres!K1502)","v":""},{"$f":"IF([2]Paramètres!L1502=\"\",\"\",[2]Paramètres!L1502)","v":""},{"$f":"IF([2]Paramètres!M1502=\"\",\"\",[2]Paramètres!M1502)","v":""},{"$f":"IF([2]Paramètres!N1502=\"\",\"\",[2]Paramètres!N1502)","v":""},{"$f":"IF([2]Paramètres!O1502=\"\",\"\",[2]Paramètres!O1502)","v":""},{"$f":"IF([2]Paramètres!P1502=\"\",\"\",[2]Paramètres!P1502)","v":""},{"$f":"IF([2]Paramètres!Q1502=\"\",\"\",[2]Paramètres!Q1502)","v":""}]
[null,null,null,null,null,null,null,null,null,{"$f":"IF([2]Paramètres!J1503=\"\",\"\",[2]Paramètres!J1503)","v":""},{"$f":"IF([2]Paramètres!K1503=\"\",\"\",[2]Paramètres!K1503)","v":""},{"$f":"IF([2]Paramètres!L1503=\"\",\"\",[2]Paramètres!L1503)","v":""},{"$f":"IF([2]Paramètres!M1503=\"\",\"\",[2]Paramètres!M1503)","v":""},{"$f":"IF([2]Paramètres!N1503=\"\",\"\",[2]Paramètres!N1503)","v":""},{"$f":"IF([2]Paramètres!O1503=\"\",\"\",[2]Paramètres!O1503)","v":""},{"$f":"IF([2]Paramètres!P1503=\"\",\"\",[2]Paramètres!P1503)","v":""},{"$f":"IF([2]Paramètres!Q1503=\"\",\"\",[2]Paramètres!Q1503)","v":""}]
[null,null,null,null,null,null,null,null,null,{"$f":"IF([2]Paramètres!J1504=\"\",\"\",[2]Paramètres!J1504)","v":""},{"$f":"IF([2]Paramètres!K1504=\"\",\"\",[2]Paramètres!K1504)","v":""},{"$f":"IF([2]Paramètres!L1504=\"\",\"\",[2]Paramètres!L1504)","v":""},{"$f":"IF([2]Paramètres!M1504=\"\",\"\",[2]Paramètres!M1504)","v":""},{"$f":"IF([2]Paramètres!N1504=\"\",\"\",[2]Paramètres!N1504)","v":""},{"$f":"IF([2]Paramètres!O1504=\"\",\"\",[2]Paramètres!O1504)","v":""},{"$f":"IF([2]Paramètres!P1504=\"\",\"\",[2]Paramètres!P1504)","v":""},{"$f":"IF([2]Paramètres!Q1504=\"\",\"\",[2]Paramètres!Q1504)","v":""}]
[null,null,null,null,null,null,null,null,null,{"$f":"IF([2]Paramètres!J1505=\"\",\"\",[2]Paramètres!J1505)","v":""},{"$f":"IF([2]Paramètres!K1505=\"\",\"\",[2]Paramètres!K1505)","v":""},{"$f":"IF([2]Paramètres!L1505=\"\",\"\",[2]Paramètres!L1505)","v":""},{"$f":"IF([2]Paramètres!M1505=\"\",\"\",[2]Paramètres!M1505)","v":""},{"$f":"IF([2]Paramètres!N1505=\"\",\"\",[2]Paramètres!N1505)","v":""},{"$f":"IF([2]Paramètres!O1505=\"\",\"\",[2]Paramètres!O1505)","v":""},{"$f":"IF([2]Paramètres!P1505=\"\",\"\",[2]Paramètres!P1505)","v":""},{"$f":"IF([2]Paramètres!Q1505=\"\",\"\",[2]Paramètres!Q1505)","v":""}]
[null,null,null,null,null,null,null,null,null,{"$f":"IF([2]Paramètres!J1506=\"\",\"\",[2]Paramètres!J1506)","v":""},{"$f":"IF([2]Paramètres!K1506=\"\",\"\",[2]Paramètres!K1506)","v":""},{"$f":"IF([2]Paramètres!L1506=\"\",\"\",[2]Paramètres!L1506)","v":""},{"$f":"IF([2]Paramètres!M1506=\"\",\"\",[2]Paramètres!M1506)","v":""},{"$f":"IF([2]Paramètres!N1506=\"\",\"\",[2]Paramètres!N1506)","v":""},{"$f":"IF([2]Paramètres!O1506=\"\",\"\",[2]Paramètres!O1506)","v":""},{"$f":"IF([2]Paramètres!P1506=\"\",\"\",[2]Paramètres!P1506)","v":""},{"$f":"IF([2]Paramètres!Q1506=\"\",\"\",[2]Paramètres!Q1506)","v":""}]
[null,null,null,null,null,null,null,null,null,{"$f":"IF([2]Paramètres!J1507=\"\",\"\",[2]Paramètres!J1507)","v":""},{"$f":"IF([2]Paramètres!K1507=\"\",\"\",[2]Paramètres!K1507)","v":""},{"$f":"IF([2]Paramètres!L1507=\"\",\"\",[2]Paramètres!L1507)","v":""},{"$f":"IF([2]Paramètres!M1507=\"\",\"\",[2]Paramètres!M1507)","v":""},{"$f":"IF([2]Paramètres!N1507=\"\",\"\",[2]Paramètres!N1507)","v":""},{"$f":"IF([2]Paramètres!O1507=\"\",\"\",[2]Paramètres!O1507)","v":""},{"$f":"IF([2]Paramètres!P1507=\"\",\"\",[2]Paramètres!P1507)","v":""},{"$f":"IF([2]Paramètres!Q1507=\"\",\"\",[2]Paramètres!Q1507)","v":""}]
[null,null,null,null,null,null,null,null,null,{"$f":"IF([2]Paramètres!J1508=\"\",\"\",[2]Paramètres!J1508)","v":""},{"$f":"IF([2]Paramètres!K1508=\"\",\"\",[2]Paramètres!K1508)","v":""},{"$f":"IF([2]Paramètres!L1508=\"\",\"\",[2]Paramètres!L1508)","v":""},{"$f":"IF([2]Paramètres!M1508=\"\",\"\",[2]Paramètres!M1508)","v":""},{"$f":"IF([2]Paramètres!N1508=\"\",\"\",[2]Paramètres!N1508)","v":""},{"$f":"IF([2]Paramètres!O1508=\"\",\"\",[2]Paramètres!O1508)","v":""},{"$f":"IF([2]Paramètres!P1508=\"\",\"\",[2]Paramètres!P1508)","v":""},{"$f":"IF([2]Paramètres!Q1508=\"\",\"\",[2]Paramètres!Q1508)","v":""}]
[null,null,null,null,null,null,null,null,null,{"$f":"IF([2]Paramètres!J1509=\"\",\"\",[2]Paramètres!J1509)","v":""},{"$f":"IF([2]Paramètres!K1509=\"\",\"\",[2]Paramètres!K1509)","v":""},{"$f":"IF([2]Paramètres!L1509=\"\",\"\",[2]Paramètres!L1509)","v":""},{"$f":"IF([2]Paramètres!M1509=\"\",\"\",[2]Paramètres!M1509)","v":""},{"$f":"IF([2]Paramètres!N1509=\"\",\"\",[2]Paramètres!N1509)","v":""},{"$f":"IF([2]Paramètres!O1509=\"\",\"\",[2]Paramètres!O1509)","v":""},{"$f":"IF([2]Paramètres!P1509=\"\",\"\",[2]Paramètres!P1509)","v":""},{"$f":"IF([2]Paramètres!Q1509=\"\",\"\",[2]Paramètres!Q1509)","v":""}]
[null,null,null,null,null,null,null,null,null,{"$f":"IF([2]Paramètres!J1510=\"\",\"\",[2]Paramètres!J1510)","v":""},{"$f":"IF([2]Paramètres!K1510=\"\",\"\",[2]Paramètres!K1510)","v":""},{"$f":"IF([2]Paramètres!L1510=\"\",\"\",[2]Paramètres!L1510)","v":""},{"$f":"IF([2]Paramètres!M1510=\"\",\"\",[2]Paramètres!M1510)","v":""},{"$f":"IF([2]Paramètres!N1510=\"\",\"\",[2]Paramètres!N1510)","v":""},{"$f":"IF([2]Paramètres!O1510=\"\",\"\",[2]Paramètres!O1510)","v":""},{"$f":"IF([2]Paramètres!P1510=\"\",\"\",[2]Paramètres!P1510)","v":""},{"$f":"IF([2]Paramètres!Q1510=\"\",\"\",[2]Paramètres!Q1510)","v":""}]
[null,null,null,null,null,null,null,null,null,{"$f":"IF([2]Paramètres!J1511=\"\",\"\",[2]Paramètres!J1511)","v":""},{"$f":"IF([2]Paramètres!K1511=\"\",\"\",[2]Paramètres!K1511)","v":""},{"$f":"IF([2]Paramètres!L1511=\"\",\"\",[2]Paramètres!L1511)","v":""},{"$f":"IF([2]Paramètres!M1511=\"\",\"\",[2]Paramètres!M1511)","v":""},{"$f":"IF([2]Paramètres!N1511=\"\",\"\",[2]Paramètres!N1511)","v":""},{"$f":"IF([2]Paramètres!O1511=\"\",\"\",[2]Paramètres!O1511)","v":""},{"$f":"IF([2]Paramètres!P1511=\"\",\"\",[2]Paramètres!P1511)","v":""},{"$f":"IF([2]Paramètres!Q1511=\"\",\"\",[2]Paramètres!Q1511)","v":""}]
[null,null,null,null,null,null,null,null,null,{"$f":"IF([2]Paramètres!J1512=\"\",\"\",[2]Paramètres!J1512)","v":""},{"$f":"IF([2]Paramètres!K1512=\"\",\"\",[2]Paramètres!K1512)","v":""},{"$f":"IF([2]Paramètres!L1512=\"\",\"\",[2]Paramètres!L1512)","v":""},{"$f":"IF([2]Paramètres!M1512=\"\",\"\",[2]Paramètres!M1512)","v":""},{"$f":"IF([2]Paramètres!N1512=\"\",\"\",[2]Paramètres!N1512)","v":""},{"$f":"IF([2]Paramètres!O1512=\"\",\"\",[2]Paramètres!O1512)","v":""},{"$f":"IF([2]Paramètres!P1512=\"\",\"\",[2]Paramètres!P1512)","v":""},{"$f":"IF([2]Paramètres!Q1512=\"\",\"\",[2]Paramètres!Q1512)","v":""}]
[null,null,null,null,null,null,null,null,null,{"$f":"IF([2]Paramètres!J1513=\"\",\"\",[2]Paramètres!J1513)","v":""},{"$f":"IF([2]Paramètres!K1513=\"\",\"\",[2]Paramètres!K1513)","v":""},{"$f":"IF([2]Paramètres!L1513=\"\",\"\",[2]Paramètres!L1513)","v":""},{"$f":"IF([2]Paramètres!M1513=\"\",\"\",[2]Paramètres!M1513)","v":""},{"$f":"IF([2]Paramètres!N1513=\"\",\"\",[2]Paramètres!N1513)","v":""},{"$f":"IF([2]Paramètres!O1513=\"\",\"\",[2]Paramètres!O1513)","v":""},{"$f":"IF([2]Paramètres!P1513=\"\",\"\",[2]Paramètres!P1513)","v":""},{"$f":"IF([2]Paramètres!Q1513=\"\",\"\",[2]Paramètres!Q1513)","v":""}]
[null,null,null,null,null,null,null,null,null,{"$f":"IF([2]Paramètres!J1514=\"\",\"\",[2]Paramètres!J1514)","v":""},{"$f":"IF([2]Paramètres!K1514=\"\",\"\",[2]Paramètres!K1514)","v":""},{"$f":"IF([2]Paramètres!L1514=\"\",\"\",[2]Paramètres!L1514)","v":""},{"$f":"IF([2]Paramètres!M1514=\"\",\"\",[2]Paramètres!M1514)","v":""},{"$f":"IF([2]Paramètres!N1514=\"\",\"\",[2]Paramètres!N1514)","v":""},{"$f":"IF([2]Paramètres!O1514=\"\",\"\",[2]Paramètres!O1514)","v":""},{"$f":"IF([2]Paramètres!P1514=\"\",\"\",[2]Paramètres!P1514)","v":""},{"$f":"IF([2]Paramètres!Q1514=\"\",\"\",[2]Paramètres!Q1514)","v":""}]
[null,null,null,null,null,null,null,null,null,{"$f":"IF([2]Paramètres!J1515=\"\",\"\",[2]Paramètres!J1515)","v":""},{"$f":"IF([2]Paramètres!K1515=\"\",\"\",[2]Paramètres!K1515)","v":""},{"$f":"IF([2]Paramètres!L1515=\"\",\"\",[2]Paramètres!L1515)","v":""},{"$f":"IF([2]Paramètres!M1515=\"\",\"\",[2]Paramètres!M1515)","v":""},{"$f":"IF([2]Paramètres!N1515=\"\",\"\",[2]Paramètres!N1515)","v":""},{"$f":"IF([2]Paramètres!O1515=\"\",\"\",[2]Paramètres!O1515)","v":""},{"$f":"IF([2]Paramètres!P1515=\"\",\"\",[2]Paramètres!P1515)","v":""},{"$f":"IF([2]Paramètres!Q1515=\"\",\"\",[2]Paramètres!Q1515)","v":""}]
[null,null,null,null,null,null,null,null,null,{"$f":"IF([2]Paramètres!J1516=\"\",\"\",[2]Paramètres!J1516)","v":""},{"$f":"IF([2]Paramètres!K1516=\"\",\"\",[2]Paramètres!K1516)","v":""},{"$f":"IF([2]Paramètres!L1516=\"\",\"\",[2]Paramètres!L1516)","v":""},{"$f":"IF([2]Paramètres!M1516=\"\",\"\",[2]Paramètres!M1516)","v":""},{"$f":"IF([2]Paramètres!N1516=\"\",\"\",[2]Paramètres!N1516)","v":""},{"$f":"IF([2]Paramètres!O1516=\"\",\"\",[2]Paramètres!O1516)","v":""},{"$f":"IF([2]Paramètres!P1516=\"\",\"\",[2]Paramètres!P1516)","v":""},{"$f":"IF([2]Paramètres!Q1516=\"\",\"\",[2]Paramètres!Q1516)","v":""}]
[null,null,null,null,null,null,null,null,null,{"$f":"IF([2]Paramètres!J1517=\"\",\"\",[2]Paramètres!J1517)","v":""},{"$f":"IF([2]Paramètres!K1517=\"\",\"\",[2]Paramètres!K1517)","v":""},{"$f":"IF([2]Paramètres!L1517=\"\",\"\",[2]Paramètres!L1517)","v":""},{"$f":"IF([2]Paramètres!M1517=\"\",\"\",[2]Paramètres!M1517)","v":""},{"$f":"IF([2]Paramètres!N1517=\"\",\"\",[2]Paramètres!N1517)","v":""},{"$f":"IF([2]Paramètres!O1517=\"\",\"\",[2]Paramètres!O1517)","v":""},{"$f":"IF([2]Paramètres!P1517=\"\",\"\",[2]Paramètres!P1517)","v":""},{"$f":"IF([2]Paramètres!Q1517=\"\",\"\",[2]Paramètres!Q1517)","v":""}]
[null,null,null,null,null,null,null,null,null,{"$f":"IF([2]Paramètres!J1518=\"\",\"\",[2]Paramètres!J1518)","v":""},{"$f":"IF([2]Paramètres!K1518=\"\",\"\",[2]Paramètres!K1518)","v":""},{"$f":"IF([2]Paramètres!L1518=\"\",\"\",[2]Paramètres!L1518)","v":""},{"$f":"IF([2]Paramètres!M1518=\"\",\"\",[2]Paramètres!M1518)","v":""},{"$f":"IF([2]Paramètres!N1518=\"\",\"\",[2]Paramètres!N1518)","v":""},{"$f":"IF([2]Paramètres!O1518=\"\",\"\",[2]Paramètres!O1518)","v":""},{"$f":"IF([2]Paramètres!P1518=\"\",\"\",[2]Paramètres!P1518)","v":""},{"$f":"IF([2]Paramètres!Q1518=\"\",\"\",[2]Paramètres!Q1518)","v":""}]
[null,null,null,null,null,null,null,null,null,{"$f":"IF([2]Paramètres!J1519=\"\",\"\",[2]Paramètres!J1519)","v":""},{"$f":"IF([2]Paramètres!K1519=\"\",\"\",[2]Paramètres!K1519)","v":""},{"$f":"IF([2]Paramètres!L1519=\"\",\"\",[2]Paramètres!L1519)","v":""},{"$f":"IF([2]Paramètres!M1519=\"\",\"\",[2]Paramètres!M1519)","v":""},{"$f":"IF([2]Paramètres!N1519=\"\",\"\",[2]Paramètres!N1519)","v":""},{"$f":"IF([2]Paramètres!O1519=\"\",\"\",[2]Paramètres!O1519)","v":""},{"$f":"IF([2]Paramètres!P1519=\"\",\"\",[2]Paramètres!P1519)","v":""},{"$f":"IF([2]Paramètres!Q1519=\"\",\"\",[2]Paramètres!Q1519)","v":""}]
[null,null,null,null,null,null,null,null,null,{"$f":"IF([2]Paramètres!J1520=\"\",\"\",[2]Paramètres!J1520)","v":""},{"$f":"IF([2]Paramètres!K1520=\"\",\"\",[2]Paramètres!K1520)","v":""},{"$f":"IF([2]Paramètres!L1520=\"\",\"\",[2]Paramètres!L1520)","v":""},{"$f":"IF([2]Paramètres!M1520=\"\",\"\",[2]Paramètres!M1520)","v":""},{"$f":"IF([2]Paramètres!N1520=\"\",\"\",[2]Paramètres!N1520)","v":""},{"$f":"IF([2]Paramètres!O1520=\"\",\"\",[2]Paramètres!O1520)","v":""},{"$f":"IF([2]Paramètres!P1520=\"\",\"\",[2]Paramètres!P1520)","v":""},{"$f":"IF([2]Paramètres!Q1520=\"\",\"\",[2]Paramètres!Q1520)","v":""}]
[null,null,null,null,null,null,null,null,null,{"$f":"IF([2]Paramètres!J1521=\"\",\"\",[2]Paramètres!J1521)","v":""},{"$f":"IF([2]Paramètres!K1521=\"\",\"\",[2]Paramètres!K1521)","v":""},{"$f":"IF([2]Paramètres!L1521=\"\",\"\",[2]Paramètres!L1521)","v":""},{"$f":"IF([2]Paramètres!M1521=\"\",\"\",[2]Paramètres!M1521)","v":""},{"$f":"IF([2]Paramètres!N1521=\"\",\"\",[2]Paramètres!N1521)","v":""},{"$f":"IF([2]Paramètres!O1521=\"\",\"\",[2]Paramètres!O1521)","v":""},{"$f":"IF([2]Paramètres!P1521=\"\",\"\",[2]Paramètres!P1521)","v":""},{"$f":"IF([2]Paramètres!Q1521=\"\",\"\",[2]Paramètres!Q1521)","v":""}]
[null,null,null,null,null,null,null,null,null,{"$f":"IF([2]Paramètres!J1522=\"\",\"\",[2]Paramètres!J1522)","v":""},{"$f":"IF([2]Paramètres!K1522=\"\",\"\",[2]Paramètres!K1522)","v":""},{"$f":"IF([2]Paramètres!L1522=\"\",\"\",[2]Paramètres!L1522)","v":""},{"$f":"IF([2]Paramètres!M1522=\"\",\"\",[2]Paramètres!M1522)","v":""},{"$f":"IF([2]Paramètres!N1522=\"\",\"\",[2]Paramètres!N1522)","v":""},{"$f":"IF([2]Paramètres!O1522=\"\",\"\",[2]Paramètres!O1522)","v":""},{"$f":"IF([2]Paramètres!P1522=\"\",\"\",[2]Paramètres!P1522)","v":""},{"$f":"IF([2]Paramètres!Q1522=\"\",\"\",[2]Paramètres!Q1522)","v":""}]
[null,null,null,null,null,null,null,null,null,{"$f":"IF([2]Paramètres!J1523=\"\",\"\",[2]Paramètres!J1523)","v":""},{"$f":"IF([2]Paramètres!K1523=\"\",\"\",[2]Paramètres!K1523)","v":""},{"$f":"IF([2]Paramètres!L1523=\"\",\"\",[2]Paramètres!L1523)","v":""},{"$f":"IF([2]Paramètres!M1523=\"\",\"\",[2]Paramètres!M1523)","v":""},{"$f":"IF([2]Paramètres!N1523=\"\",\"\",[2]Paramètres!N1523)","v":""},{"$f":"IF([2]Paramètres!O1523=\"\",\"\",[2]Paramètres!O1523)","v":""},{"$f":"IF([2]Paramètres!P1523=\"\",\"\",[2]Paramètres!P1523)","v":""},{"$f":"IF([2]Paramètres!Q1523=\"\",\"\",[2]Paramètres!Q1523)","v":""}]
[null,null,null,null,null,null,null,null,null,{"$f":"IF([2]Paramètres!J1524=\"\",\"\",[2]Paramètres!J1524)","v":""},{"$f":"IF([2]Paramètres!K1524=\"\",\"\",[2]Paramètres!K1524)","v":""},{"$f":"IF([2]Paramètres!L1524=\"\",\"\",[2]Paramètres!L1524)","v":""},{"$f":"IF([2]Paramètres!M1524=\"\",\"\",[2]Paramètres!M1524)","v":""},{"$f":"IF([2]Paramètres!N1524=\"\",\"\",[2]Paramètres!N1524)","v":""},{"$f":"IF([2]Paramètres!O1524=\"\",\"\",[2]Paramètres!O1524)","v":""},{"$f":"IF([2]Paramètres!P1524=\"\",\"\",[2]Paramètres!P1524)","v":""},{"$f":"IF([2]Paramètres!Q1524=\"\",\"\",[2]Paramètres!Q1524)","v":""}]
[null,null,null,null,null,null,null,null,null,{"$f":"IF([2]Paramètres!J1525=\"\",\"\",[2]Paramètres!J1525)","v":""},{"$f":"IF([2]Paramètres!K1525=\"\",\"\",[2]Paramètres!K1525)","v":""},{"$f":"IF([2]Paramètres!L1525=\"\",\"\",[2]Paramètres!L1525)","v":""},{"$f":"IF([2]Paramètres!M1525=\"\",\"\",[2]Paramètres!M1525)","v":""},{"$f":"IF([2]Paramètres!N1525=\"\",\"\",[2]Paramètres!N1525)","v":""},{"$f":"IF([2]Paramètres!O1525=\"\",\"\",[2]Paramètres!O1525)","v":""},{"$f":"IF([2]Paramètres!P1525=\"\",\"\",[2]Paramètres!P1525)","v":""},{"$f":"IF([2]Paramètres!Q1525=\"\",\"\",[2]Paramètres!Q1525)","v":""}]
[null,null,null,null,null,null,null,null,null,{"$f":"IF([2]Paramètres!J1526=\"\",\"\",[2]Paramètres!J1526)","v":""},{"$f":"IF([2]Paramètres!K1526=\"\",\"\",[2]Paramètres!K1526)","v":""},{"$f":"IF([2]Paramètres!L1526=\"\",\"\",[2]Paramètres!L1526)","v":""},{"$f":"IF([2]Paramètres!M1526=\"\",\"\",[2]Paramètres!M1526)","v":""},{"$f":"IF([2]Paramètres!N1526=\"\",\"\",[2]Paramètres!N1526)","v":""},{"$f":"IF([2]Paramètres!O1526=\"\",\"\",[2]Paramètres!O1526)","v":""},{"$f":"IF([2]Paramètres!P1526=\"\",\"\",[2]Paramètres!P1526)","v":""},{"$f":"IF([2]Paramètres!Q1526=\"\",\"\",[2]Paramètres!Q1526)","v":""}]
[null,null,null,null,null,null,null,null,null,{"$f":"IF([2]Paramètres!J1527=\"\",\"\",[2]Paramètres!J1527)","v":""},{"$f":"IF([2]Paramètres!K1527=\"\",\"\",[2]Paramètres!K1527)","v":""},{"$f":"IF([2]Paramètres!L1527=\"\",\"\",[2]Paramètres!L1527)","v":""},{"$f":"IF([2]Paramètres!M1527=\"\",\"\",[2]Paramètres!M1527)","v":""},{"$f":"IF([2]Paramètres!N1527=\"\",\"\",[2]Paramètres!N1527)","v":""},{"$f":"IF([2]Paramètres!O1527=\"\",\"\",[2]Paramètres!O1527)","v":""},{"$f":"IF([2]Paramètres!P1527=\"\",\"\",[2]Paramètres!P1527)","v":""},{"$f":"IF([2]Paramètres!Q1527=\"\",\"\",[2]Paramètres!Q1527)","v":""}]
[null,null,null,null,null,null,null,null,null,{"$f":"IF([2]Paramètres!J1528=\"\",\"\",[2]Paramètres!J1528)","v":""},{"$f":"IF([2]Paramètres!K1528=\"\",\"\",[2]Paramètres!K1528)","v":""},{"$f":"IF([2]Paramètres!L1528=\"\",\"\",[2]Paramètres!L1528)","v":""},{"$f":"IF([2]Paramètres!M1528=\"\",\"\",[2]Paramètres!M1528)","v":""},{"$f":"IF([2]Paramètres!N1528=\"\",\"\",[2]Paramètres!N1528)","v":""},{"$f":"IF([2]Paramètres!O1528=\"\",\"\",[2]Paramètres!O1528)","v":""},{"$f":"IF([2]Paramètres!P1528=\"\",\"\",[2]Paramètres!P1528)","v":""},{"$f":"IF([2]Paramètres!Q1528=\"\",\"\",[2]Paramètres!Q1528)","v":""}]
[null,null,null,null,null,null,null,null,null,{"$f":"IF([2]Paramètres!J1529=\"\",\"\",[2]Paramètres!J1529)","v":""},{"$f":"IF([2]Paramètres!K1529=\"\",\"\",[2]Paramètres!K1529)","v":""},{"$f":"IF([2]Paramètres!L1529=\"\",\"\",[2]Paramètres!L1529)","v":""},{"$f":"IF([2]Paramètres!M1529=\"\",\"\",[2]Paramètres!M1529)","v":""},{"$f":"IF([2]Paramètres!N1529=\"\",\"\",[2]Paramètres!N1529)","v":""},{"$f":"IF([2]Paramètres!O1529=\"\",\"\",[2]Paramètres!O1529)","v":""},{"$f":"IF([2]Paramètres!P1529=\"\",\"\",[2]Paramètres!P1529)","v":""},{"$f":"IF([2]Paramètres!Q1529=\"\",\"\",[2]Paramètres!Q1529)","v":""}]
[null,null,null,null,null,null,null,null,null,{"$f":"IF([2]Paramètres!J1530=\"\",\"\",[2]Paramètres!J1530)","v":""},{"$f":"IF([2]Paramètres!K1530=\"\",\"\",[2]Paramètres!K1530)","v":""},{"$f":"IF([2]Paramètres!L1530=\"\",\"\",[2]Paramètres!L1530)","v":""},{"$f":"IF([2]Paramètres!M1530=\"\",\"\",[2]Paramètres!M1530)","v":""},{"$f":"IF([2]Paramètres!N1530=\"\",\"\",[2]Paramètres!N1530)","v":""},{"$f":"IF([2]Paramètres!O1530=\"\",\"\",[2]Paramètres!O1530)","v":""},{"$f":"IF([2]Paramètres!P1530=\"\",\"\",[2]Paramètres!P1530)","v":""},{"$f":"IF([2]Paramètres!Q1530=\"\",\"\",[2]Paramètres!Q1530)","v":""}]
[null,null,null,null,null,null,null,null,null,{"$f":"IF([2]Paramètres!J1531=\"\",\"\",[2]Paramètres!J1531)","v":""},{"$f":"IF([2]Paramètres!K1531=\"\",\"\",[2]Paramètres!K1531)","v":""},{"$f":"IF([2]Paramètres!L1531=\"\",\"\",[2]Paramètres!L1531)","v":""},{"$f":"IF([2]Paramètres!M1531=\"\",\"\",[2]Paramètres!M1531)","v":""},{"$f":"IF([2]Paramètres!N1531=\"\",\"\",[2]Paramètres!N1531)","v":""},{"$f":"IF([2]Paramètres!O1531=\"\",\"\",[2]Paramètres!O1531)","v":""},{"$f":"IF([2]Paramètres!P1531=\"\",\"\",[2]Paramètres!P1531)","v":""},{"$f":"IF([2]Paramètres!Q1531=\"\",\"\",[2]Paramètres!Q1531)","v":""}]
[null,null,null,null,null,null,null,null,null,{"$f":"IF([2]Paramètres!J1532=\"\",\"\",[2]Paramètres!J1532)","v":""},{"$f":"IF([2]Paramètres!K1532=\"\",\"\",[2]Paramètres!K1532)","v":""},{"$f":"IF([2]Paramètres!L1532=\"\",\"\",[2]Paramètres!L1532)","v":""},{"$f":"IF([2]Paramètres!M1532=\"\",\"\",[2]Paramètres!M1532)","v":""},{"$f":"IF([2]Paramètres!N1532=\"\",\"\",[2]Paramètres!N1532)","v":""},{"$f":"IF([2]Paramètres!O1532=\"\",\"\",[2]Paramètres!O1532)","v":""},{"$f":"IF([2]Paramètres!P1532=\"\",\"\",[2]Paramètres!P1532)","v":""},{"$f":"IF([2]Paramètres!Q1532=\"\",\"\",[2]Paramètres!Q1532)","v":""}]
[null,null,null,null,null,null,null,null,null,{"$f":"IF([2]Paramètres!J1533=\"\",\"\",[2]Paramètres!J1533)","v":""},{"$f":"IF([2]Paramètres!K1533=\"\",\"\",[2]Paramètres!K1533)","v":""},{"$f":"IF([2]Paramètres!L1533=\"\",\"\",[2]Paramètres!L1533)","v":""},{"$f":"IF([2]Paramètres!M1533=\"\",\"\",[2]Paramètres!M1533)","v":""},{"$f":"IF([2]Paramètres!N1533=\"\",\"\",[2]Paramètres!N1533)","v":""},{"$f":"IF([2]Paramètres!O1533=\"\",\"\",[2]Paramètres!O1533)","v":""},{"$f":"IF([2]Paramètres!P1533=\"\",\"\",[2]Paramètres!P1533)","v":""},{"$f":"IF([2]Paramètres!Q1533=\"\",\"\",[2]Paramètres!Q1533)","v":""}]
[null,null,null,null,null,null,null,null,null,{"$f":"IF([2]Paramètres!J1534=\"\",\"\",[2]Paramètres!J1534)","v":""},{"$f":"IF([2]Paramètres!K1534=\"\",\"\",[2]Paramètres!K1534)","v":""},{"$f":"IF([2]Paramètres!L1534=\"\",\"\",[2]Paramètres!L1534)","v":""},{"$f":"IF([2]Paramètres!M1534=\"\",\"\",[2]Paramètres!M1534)","v":""},{"$f":"IF([2]Paramètres!N1534=\"\",\"\",[2]Paramètres!N1534)","v":""},{"$f":"IF([2]Paramètres!O1534=\"\",\"\",[2]Paramètres!O1534)","v":""},{"$f":"IF([2]Paramètres!P1534=\"\",\"\",[2]Paramètres!P1534)","v":""},{"$f":"IF([2]Paramètres!Q1534=\"\",\"\",[2]Paramètres!Q1534)","v":""}]
[null,null,null,null,null,null,null,null,null,{"$f":"IF([2]Paramètres!J1535=\"\",\"\",[2]Paramètres!J1535)","v":""},{"$f":"IF([2]Paramètres!K1535=\"\",\"\",[2]Paramètres!K1535)","v":""},{"$f":"IF([2]Paramètres!L1535=\"\",\"\",[2]Paramètres!L1535)","v":""},{"$f":"IF([2]Paramètres!M1535=\"\",\"\",[2]Paramètres!M1535)","v":""},{"$f":"IF([2]Paramètres!N1535=\"\",\"\",[2]Paramètres!N1535)","v":""},{"$f":"IF([2]Paramètres!O1535=\"\",\"\",[2]Paramètres!O1535)","v":""},{"$f":"IF([2]Paramètres!P1535=\"\",\"\",[2]Paramètres!P1535)","v":""},{"$f":"IF([2]Paramètres!Q1535=\"\",\"\",[2]Paramètres!Q1535)","v":""}]
[null,null,null,null,null,null,null,null,null,{"$f":"IF([2]Paramètres!J1536=\"\",\"\",[2]Paramètres!J1536)","v":""},{"$f":"IF([2]Paramètres!K1536=\"\",\"\",[2]Paramètres!K1536)","v":""},{"$f":"IF([2]Paramètres!L1536=\"\",\"\",[2]Paramètres!L1536)","v":""},{"$f":"IF([2]Paramètres!M1536=\"\",\"\",[2]Paramètres!M1536)","v":""},{"$f":"IF([2]Paramètres!N1536=\"\",\"\",[2]Paramètres!N1536)","v":""},{"$f":"IF([2]Paramètres!O1536=\"\",\"\",[2]Paramètres!O1536)","v":""},{"$f":"IF([2]Paramètres!P1536=\"\",\"\",[2]Paramètres!P1536)","v":""},{"$f":"IF([2]Paramètres!Q1536=\"\",\"\",[2]Paramètres!Q1536)","v":""}]
[null,null,null,null,null,null,null,null,null,{"$f":"IF([2]Paramètres!J1537=\"\",\"\",[2]Paramètres!J1537)","v":""},{"$f":"IF([2]Paramètres!K1537=\"\",\"\",[2]Paramètres!K1537)","v":""},{"$f":"IF([2]Paramètres!L1537=\"\",\"\",[2]Paramètres!L1537)","v":""},{"$f":"IF([2]Paramètres!M1537=\"\",\"\",[2]Paramètres!M1537)","v":""},{"$f":"IF([2]Paramètres!N1537=\"\",\"\",[2]Paramètres!N1537)","v":""},{"$f":"IF([2]Paramètres!O1537=\"\",\"\",[2]Paramètres!O1537)","v":""},{"$f":"IF([2]Paramètres!P1537=\"\",\"\",[2]Paramètres!P1537)","v":""},{"$f":"IF([2]Paramètres!Q1537=\"\",\"\",[2]Paramètres!Q1537)","v":""}]
[null,null,null,null,null,null,null,null,null,{"$f":"IF([2]Paramètres!J1538=\"\",\"\",[2]Paramètres!J1538)","v":""},{"$f":"IF([2]Paramètres!K1538=\"\",\"\",[2]Paramètres!K1538)","v":""},{"$f":"IF([2]Paramètres!L1538=\"\",\"\",[2]Paramètres!L1538)","v":""},{"$f":"IF([2]Paramètres!M1538=\"\",\"\",[2]Paramètres!M1538)","v":""},{"$f":"IF([2]Paramètres!N1538=\"\",\"\",[2]Paramètres!N1538)","v":""},{"$f":"IF([2]Paramètres!O1538=\"\",\"\",[2]Paramètres!O1538)","v":""},{"$f":"IF([2]Paramètres!P1538=\"\",\"\",[2]Paramètres!P1538)","v":""},{"$f":"IF([2]Paramètres!Q1538=\"\",\"\",[2]Paramètres!Q1538)","v":""}]
[null,null,null,null,null,null,null,null,null,{"$f":"IF([2]Paramètres!J1539=\"\",\"\",[2]Paramètres!J1539)","v":""},{"$f":"IF([2]Paramètres!K1539=\"\",\"\",[2]Paramètres!K1539)","v":""},{"$f":"IF([2]Paramètres!L1539=\"\",\"\",[2]Paramètres!L1539)","v":""},{"$f":"IF([2]Paramètres!M1539=\"\",\"\",[2]Paramètres!M1539)","v":""},{"$f":"IF([2]Paramètres!N1539=\"\",\"\",[2]Paramètres!N1539)","v":""},{"$f":"IF([2]Paramètres!O1539=\"\",\"\",[2]Paramètres!O1539)","v":""},{"$f":"IF([2]Paramètres!P1539=\"\",\"\",[2]Paramètres!P1539)","v":""},{"$f":"IF([2]Paramètres!Q1539=\"\",\"\",[2]Paramètres!Q1539)","v":""}]
[null,null,null,null,null,null,null,null,null,{"$f":"IF([2]Paramètres!J1540=\"\",\"\",[2]Paramètres!J1540)","v":""},{"$f":"IF([2]Paramètres!K1540=\"\",\"\",[2]Paramètres!K1540)","v":""},{"$f":"IF([2]Paramètres!L1540=\"\",\"\",[2]Paramètres!L1540)","v":""},{"$f":"IF([2]Paramètres!M1540=\"\",\"\",[2]Paramètres!M1540)","v":""},{"$f":"IF([2]Paramètres!N1540=\"\",\"\",[2]Paramètres!N1540)","v":""},{"$f":"IF([2]Paramètres!O1540=\"\",\"\",[2]Paramètres!O1540)","v":""},{"$f":"IF([2]Paramètres!P1540=\"\",\"\",[2]Paramètres!P1540)","v":""},{"$f":"IF([2]Paramètres!Q1540=\"\",\"\",[2]Paramètres!Q1540)","v":""}]
[null,null,null,null,null,null,null,null,null,{"$f":"IF([2]Paramètres!J1541=\"\",\"\",[2]Paramètres!J1541)","v":""},{"$f":"IF([2]Paramètres!K1541=\"\",\"\",[2]Paramètres!K1541)","v":""},{"$f":"IF([2]Paramètres!L1541=\"\",\"\",[2]Paramètres!L1541)","v":""},{"$f":"IF([2]Paramètres!M1541=\"\",\"\",[2]Paramètres!M1541)","v":""},{"$f":"IF([2]Paramètres!N1541=\"\",\"\",[2]Paramètres!N1541)","v":""},{"$f":"IF([2]Paramètres!O1541=\"\",\"\",[2]Paramètres!O1541)","v":""},{"$f":"IF([2]Paramètres!P1541=\"\",\"\",[2]Paramètres!P1541)","v":""},{"$f":"IF([2]Paramètres!Q1541=\"\",\"\",[2]Paramètres!Q1541)","v":""}]
[null,null,null,null,null,null,null,null,null,{"$f":"IF([2]Paramètres!J1542=\"\",\"\",[2]Paramètres!J1542)","v":""},{"$f":"IF([2]Paramètres!K1542=\"\",\"\",[2]Paramètres!K1542)","v":""},{"$f":"IF([2]Paramètres!L1542=\"\",\"\",[2]Paramètres!L1542)","v":""},{"$f":"IF([2]Paramètres!M1542=\"\",\"\",[2]Paramètres!M1542)","v":""},{"$f":"IF([2]Paramètres!N1542=\"\",\"\",[2]Paramètres!N1542)","v":""},{"$f":"IF([2]Paramètres!O1542=\"\",\"\",[2]Paramètres!O1542)","v":""},{"$f":"IF([2]Paramètres!P1542=\"\",\"\",[2]Paramètres!P1542)","v":""},{"$f":"IF([2]Paramètres!Q1542=\"\",\"\",[2]Paramètres!Q1542)","v":""}]
[null,null,null,null,null,null,null,null,null,{"$f":"IF([2]Paramètres!J1543=\"\",\"\",[2]Paramètres!J1543)","v":""},{"$f":"IF([2]Paramètres!K1543=\"\",\"\",[2]Paramètres!K1543)","v":""},{"$f":"IF([2]Paramètres!L1543=\"\",\"\",[2]Paramètres!L1543)","v":""},{"$f":"IF([2]Paramètres!M1543=\"\",\"\",[2]Paramètres!M1543)","v":""},{"$f":"IF([2]Paramètres!N1543=\"\",\"\",[2]Paramètres!N1543)","v":""},{"$f":"IF([2]Paramètres!O1543=\"\",\"\",[2]Paramètres!O1543)","v":""},{"$f":"IF([2]Paramètres!P1543=\"\",\"\",[2]Paramètres!P1543)","v":""},{"$f":"IF([2]Paramètres!Q1543=\"\",\"\",[2]Paramètres!Q1543)","v":""}]
[null,null,null,null,null,null,null,null,null,{"$f":"IF([2]Paramètres!J1544=\"\",\"\",[2]Paramètres!J1544)","v":""},{"$f":"IF([2]Paramètres!K1544=\"\",\"\",[2]Paramètres!K1544)","v":""},{"$f":"IF([2]Paramètres!L1544=\"\",\"\",[2]Paramètres!L1544)","v":""},{"$f":"IF([2]Paramètres!M1544=\"\",\"\",[2]Paramètres!M1544)","v":""},{"$f":"IF([2]Paramètres!N1544=\"\",\"\",[2]Paramètres!N1544)","v":""},{"$f":"IF([2]Paramètres!O1544=\"\",\"\",[2]Paramètres!O1544)","v":""},{"$f":"IF([2]Paramètres!P1544=\"\",\"\",[2]Paramètres!P1544)","v":""},{"$f":"IF([2]Paramètres!Q1544=\"\",\"\",[2]Paramètres!Q1544)","v":""}]
[null,null,null,null,null,null,null,null,null,{"$f":"IF([2]Paramètres!J1545=\"\",\"\",[2]Paramètres!J1545)","v":""},{"$f":"IF([2]Paramètres!K1545=\"\",\"\",[2]Paramètres!K1545)","v":""},{"$f":"IF([2]Paramètres!L1545=\"\",\"\",[2]Paramètres!L1545)","v":""},{"$f":"IF([2]Paramètres!M1545=\"\",\"\",[2]Paramètres!M1545)","v":""},{"$f":"IF([2]Paramètres!N1545=\"\",\"\",[2]Paramètres!N1545)","v":""},{"$f":"IF([2]Paramètres!O1545=\"\",\"\",[2]Paramètres!O1545)","v":""},{"$f":"IF([2]Paramètres!P1545=\"\",\"\",[2]Paramètres!P1545)","v":""},{"$f":"IF([2]Paramètres!Q1545=\"\",\"\",[2]Paramètres!Q1545)","v":""}]
[null,null,null,null,null,null,null,null,null,{"$f":"IF([2]Paramètres!J1546=\"\",\"\",[2]Paramètres!J1546)","v":""},{"$f":"IF([2]Paramètres!K1546=\"\",\"\",[2]Paramètres!K1546)","v":""},{"$f":"IF([2]Paramètres!L1546=\"\",\"\",[2]Paramètres!L1546)","v":""},{"$f":"IF([2]Paramètres!M1546=\"\",\"\",[2]Paramètres!M1546)","v":""},{"$f":"IF([2]Paramètres!N1546=\"\",\"\",[2]Paramètres!N1546)","v":""},{"$f":"IF([2]Paramètres!O1546=\"\",\"\",[2]Paramètres!O1546)","v":""},{"$f":"IF([2]Paramètres!P1546=\"\",\"\",[2]Paramètres!P1546)","v":""},{"$f":"IF([2]Paramètres!Q1546=\"\",\"\",[2]Paramètres!Q1546)","v":""}]
[null,null,null,null,null,null,null,null,null,{"$f":"IF([2]Paramètres!J1547=\"\",\"\",[2]Paramètres!J1547)","v":""},{"$f":"IF([2]Paramètres!K1547=\"\",\"\",[2]Paramètres!K1547)","v":""},{"$f":"IF([2]Paramètres!L1547=\"\",\"\",[2]Paramètres!L1547)","v":""},{"$f":"IF([2]Paramètres!M1547=\"\",\"\",[2]Paramètres!M1547)","v":""},{"$f":"IF([2]Paramètres!N1547=\"\",\"\",[2]Paramètres!N1547)","v":""},{"$f":"IF([2]Paramètres!O1547=\"\",\"\",[2]Paramètres!O1547)","v":""},{"$f":"IF([2]Paramètres!P1547=\"\",\"\",[2]Paramètres!P1547)","v":""},{"$f":"IF([2]Paramètres!Q1547=\"\",\"\",[2]Paramètres!Q1547)","v":""}]
[null,null,null,null,null,null,null,null,null,{"$f":"IF([2]Paramètres!J1548=\"\",\"\",[2]Paramètres!J1548)","v":""},{"$f":"IF([2]Paramètres!K1548=\"\",\"\",[2]Paramètres!K1548)","v":""},{"$f":"IF([2]Paramètres!L1548=\"\",\"\",[2]Paramètres!L1548)","v":""},{"$f":"IF([2]Paramètres!M1548=\"\",\"\",[2]Paramètres!M1548)","v":""},{"$f":"IF([2]Paramètres!N1548=\"\",\"\",[2]Paramètres!N1548)","v":""},{"$f":"IF([2]Paramètres!O1548=\"\",\"\",[2]Paramètres!O1548)","v":""},{"$f":"IF([2]Paramètres!P1548=\"\",\"\",[2]Paramètres!P1548)","v":""},{"$f":"IF([2]Paramètres!Q1548=\"\",\"\",[2]Paramètres!Q1548)","v":""}]
[null,null,null,null,null,null,null,null,null,{"$f":"IF([2]Paramètres!J1549=\"\",\"\",[2]Paramètres!J1549)","v":""},{"$f":"IF([2]Paramètres!K1549=\"\",\"\",[2]Paramètres!K1549)","v":""},{"$f":"IF([2]Paramètres!L1549=\"\",\"\",[2]Paramètres!L1549)","v":""},{"$f":"IF([2]Paramètres!M1549=\"\",\"\",[2]Paramètres!M1549)","v":""},{"$f":"IF([2]Paramètres!N1549=\"\",\"\",[2]Paramètres!N1549)","v":""},{"$f":"IF([2]Paramètres!O1549=\"\",\"\",[2]Paramètres!O1549)","v":""},{"$f":"IF([2]Paramètres!P1549=\"\",\"\",[2]Paramètres!P1549)","v":""},{"$f":"IF([2]Paramètres!Q1549=\"\",\"\",[2]Paramètres!Q1549)","v":""}]
[null,null,null,null,null,null,null,null,null,{"$f":"IF([2]Paramètres!J1550=\"\",\"\",[2]Paramètres!J1550)","v":""},{"$f":"IF([2]Paramètres!K1550=\"\",\"\",[2]Paramètres!K1550)","v":""},{"$f":"IF([2]Paramètres!L1550=\"\",\"\",[2]Paramètres!L1550)","v":""},{"$f":"IF([2]Paramètres!M1550=\"\",\"\",[2]Paramètres!M1550)","v":""},{"$f":"IF([2]Paramètres!N1550=\"\",\"\",[2]Paramètres!N1550)","v":""},{"$f":"IF([2]Paramètres!O1550=\"\",\"\",[2]Paramètres!O1550)","v":""},{"$f":"IF([2]Paramètres!P1550=\"\",\"\",[2]Paramètres!P1550)","v":""},{"$f":"IF([2]Paramètres!Q1550=\"\",\"\",[2]Paramètres!Q1550)","v":""}]
[null,null,null,null,null,null,null,null,null,{"$f":"IF([2]Paramètres!J1551=\"\",\"\",[2]Paramètres!J1551)","v":""},{"$f":"IF([2]Paramètres!K1551=\"\",\"\",[2]Paramètres!K1551)","v":""},{"$f":"IF([2]Paramètres!L1551=\"\",\"\",[2]Paramètres!L1551)","v":""},{"$f":"IF([2]Paramètres!M1551=\"\",\"\",[2]Paramètres!M1551)","v":""},{"$f":"IF([2]Paramètres!N1551=\"\",\"\",[2]Paramètres!N1551)","v":""},{"$f":"IF([2]Paramètres!O1551=\"\",\"\",[2]Paramètres!O1551)","v":""},{"$f":"IF([2]Paramètres!P1551=\"\",\"\",[2]Paramètres!P1551)","v":""},{"$f":"IF([2]Paramètres!Q1551=\"\",\"\",[2]Paramètres!Q1551)","v":""}]
[null,null,null,null,null,null,null,null,null,{"$f":"IF([2]Paramètres!J1552=\"\",\"\",[2]Paramètres!J1552)","v":""},{"$f":"IF([2]Paramètres!K1552=\"\",\"\",[2]Paramètres!K1552)","v":""},{"$f":"IF([2]Paramètres!L1552=\"\",\"\",[2]Paramètres!L1552)","v":""},{"$f":"IF([2]Paramètres!M1552=\"\",\"\",[2]Paramètres!M1552)","v":""},{"$f":"IF([2]Paramètres!N1552=\"\",\"\",[2]Paramètres!N1552)","v":""},{"$f":"IF([2]Paramètres!O1552=\"\",\"\",[2]Paramètres!O1552)","v":""},{"$f":"IF([2]Paramètres!P1552=\"\",\"\",[2]Paramètres!P1552)","v":""},{"$f":"IF([2]Paramètres!Q1552=\"\",\"\",[2]Paramètres!Q1552)","v":""}]
[null,null,null,null,null,null,null,null,null,{"$f":"IF([2]Paramètres!J1553=\"\",\"\",[2]Paramètres!J1553)","v":""},{"$f":"IF([2]Paramètres!K1553=\"\",\"\",[2]Paramètres!K1553)","v":""},{"$f":"IF([2]Paramètres!L1553=\"\",\"\",[2]Paramètres!L1553)","v":""},{"$f":"IF([2]Paramètres!M1553=\"\",\"\",[2]Paramètres!M1553)","v":""},{"$f":"IF([2]Paramètres!N1553=\"\",\"\",[2]Paramètres!N1553)","v":""},{"$f":"IF([2]Paramètres!O1553=\"\",\"\",[2]Paramètres!O1553)","v":""},{"$f":"IF([2]Paramètres!P1553=\"\",\"\",[2]Paramètres!P1553)","v":""},{"$f":"IF([2]Paramètres!Q1553=\"\",\"\",[2]Paramètres!Q1553)","v":""}]
[null,null,null,null,null,null,null,null,null,{"$f":"IF([2]Paramètres!J1554=\"\",\"\",[2]Paramètres!J1554)","v":""},{"$f":"IF([2]Paramètres!K1554=\"\",\"\",[2]Paramètres!K1554)","v":""},{"$f":"IF([2]Paramètres!L1554=\"\",\"\",[2]Paramètres!L1554)","v":""},{"$f":"IF([2]Paramètres!M1554=\"\",\"\",[2]Paramètres!M1554)","v":""},{"$f":"IF([2]Paramètres!N1554=\"\",\"\",[2]Paramètres!N1554)","v":""},{"$f":"IF([2]Paramètres!O1554=\"\",\"\",[2]Paramètres!O1554)","v":""},{"$f":"IF([2]Paramètres!P1554=\"\",\"\",[2]Paramètres!P1554)","v":""},{"$f":"IF([2]Paramètres!Q1554=\"\",\"\",[2]Paramètres!Q1554)","v":""}]
[null,null,null,null,null,null,null,null,null,{"$f":"IF([2]Paramètres!J1555=\"\",\"\",[2]Paramètres!J1555)","v":""},{"$f":"IF([2]Paramètres!K1555=\"\",\"\",[2]Paramètres!K1555)","v":""},{"$f":"IF([2]Paramètres!L1555=\"\",\"\",[2]Paramètres!L1555)","v":""},{"$f":"IF([2]Paramètres!M1555=\"\",\"\",[2]Paramètres!M1555)","v":""},{"$f":"IF([2]Paramètres!N1555=\"\",\"\",[2]Paramètres!N1555)","v":""},{"$f":"IF([2]Paramètres!O1555=\"\",\"\",[2]Paramètres!O1555)","v":""},{"$f":"IF([2]Paramètres!P1555=\"\",\"\",[2]Paramètres!P1555)","v":""},{"$f":"IF([2]Paramètres!Q1555=\"\",\"\",[2]Paramètres!Q1555)","v":""}]
[null,null,null,null,null,null,null,null,null,{"$f":"IF([2]Paramètres!J1556=\"\",\"\",[2]Paramètres!J1556)","v":""},{"$f":"IF([2]Paramètres!K1556=\"\",\"\",[2]Paramètres!K1556)","v":""},{"$f":"IF([2]Paramètres!L1556=\"\",\"\",[2]Paramètres!L1556)","v":""},{"$f":"IF([2]Paramètres!M1556=\"\",\"\",[2]Paramètres!M1556)","v":""},{"$f":"IF([2]Paramètres!N1556=\"\",\"\",[2]Paramètres!N1556)","v":""},{"$f":"IF([2]Paramètres!O1556=\"\",\"\",[2]Paramètres!O1556)","v":""},{"$f":"IF([2]Paramètres!P1556=\"\",\"\",[2]Paramètres!P1556)","v":""},{"$f":"IF([2]Paramètres!Q1556=\"\",\"\",[2]Paramètres!Q1556)","v":""}]
[null,null,null,null,null,null,null,null,null,{"$f":"IF([2]Paramètres!J1557=\"\",\"\",[2]Paramètres!J1557)","v":""},{"$f":"IF([2]Paramètres!K1557=\"\",\"\",[2]Paramètres!K1557)","v":""},{"$f":"IF([2]Paramètres!L1557=\"\",\"\",[2]Paramètres!L1557)","v":""},{"$f":"IF([2]Paramètres!M1557=\"\",\"\",[2]Paramètres!M1557)","v":""},{"$f":"IF([2]Paramètres!N1557=\"\",\"\",[2]Paramètres!N1557)","v":""},{"$f":"IF([2]Paramètres!O1557=\"\",\"\",[2]Paramètres!O1557)","v":""},{"$f":"IF([2]Paramètres!P1557=\"\",\"\",[2]Paramètres!P1557)","v":""},{"$f":"IF([2]Paramètres!Q1557=\"\",\"\",[2]Paramètres!Q1557)","v":""}]
[null,null,null,null,null,null,null,null,null,{"$f":"IF([2]Paramètres!J1558=\"\",\"\",[2]Paramètres!J1558)","v":""},{"$f":"IF([2]Paramètres!K1558=\"\",\"\",[2]Paramètres!K1558)","v":""},{"$f":"IF([2]Paramètres!L1558=\"\",\"\",[2]Paramètres!L1558)","v":""},{"$f":"IF([2]Paramètres!M1558=\"\",\"\",[2]Paramètres!M1558)","v":""},{"$f":"IF([2]Paramètres!N1558=\"\",\"\",[2]Paramètres!N1558)","v":""},{"$f":"IF([2]Paramètres!O1558=\"\",\"\",[2]Paramètres!O1558)","v":""},{"$f":"IF([2]Paramètres!P1558=\"\",\"\",[2]Paramètres!P1558)","v":""},{"$f":"IF([2]Paramètres!Q1558=\"\",\"\",[2]Paramètres!Q1558)","v":""}]
[null,null,null,null,null,null,null,null,null,{"$f":"IF([2]Paramètres!J1559=\"\",\"\",[2]Paramètres!J1559)","v":""},{"$f":"IF([2]Paramètres!K1559=\"\",\"\",[2]Paramètres!K1559)","v":""},{"$f":"IF([2]Paramètres!L1559=\"\",\"\",[2]Paramètres!L1559)","v":""},{"$f":"IF([2]Paramètres!M1559=\"\",\"\",[2]Paramètres!M1559)","v":""},{"$f":"IF([2]Paramètres!N1559=\"\",\"\",[2]Paramètres!N1559)","v":""},{"$f":"IF([2]Paramètres!O1559=\"\",\"\",[2]Paramètres!O1559)","v":""},{"$f":"IF([2]Paramètres!P1559=\"\",\"\",[2]Paramètres!P1559)","v":""},{"$f":"IF([2]Paramètres!Q1559=\"\",\"\",[2]Paramètres!Q1559)","v":""}]
[null,null,null,null,null,null,null,null,null,{"$f":"IF([2]Paramètres!J1560=\"\",\"\",[2]Paramètres!J1560)","v":""},{"$f":"IF([2]Paramètres!K1560=\"\",\"\",[2]Paramètres!K1560)","v":""},{"$f":"IF([2]Paramètres!L1560=\"\",\"\",[2]Paramètres!L1560)","v":""},{"$f":"IF([2]Paramètres!M1560=\"\",\"\",[2]Paramètres!M1560)","v":""},{"$f":"IF([2]Paramètres!N1560=\"\",\"\",[2]Paramètres!N1560)","v":""},{"$f":"IF([2]Paramètres!O1560=\"\",\"\",[2]Paramètres!O1560)","v":""},{"$f":"IF([2]Paramètres!P1560=\"\",\"\",[2]Paramètres!P1560)","v":""},{"$f":"IF([2]Paramètres!Q1560=\"\",\"\",[2]Paramètres!Q1560)","v":""}]
[null,null,null,null,null,null,null,null,null,{"$f":"IF([2]Paramètres!J1561=\"\",\"\",[2]Paramètres!J1561)","v":""},{"$f":"IF([2]Paramètres!K1561=\"\",\"\",[2]Paramètres!K1561)","v":""},{"$f":"IF([2]Paramètres!L1561=\"\",\"\",[2]Paramètres!L1561)","v":""},{"$f":"IF([2]Paramètres!M1561=\"\",\"\",[2]Paramètres!M1561)","v":""},{"$f":"IF([2]Paramètres!N1561=\"\",\"\",[2]Paramètres!N1561)","v":""},{"$f":"IF([2]Paramètres!O1561=\"\",\"\",[2]Paramètres!O1561)","v":""},{"$f":"IF([2]Paramètres!P1561=\"\",\"\",[2]Paramètres!P1561)","v":""},{"$f":"IF([2]Paramètres!Q1561=\"\",\"\",[2]Paramètres!Q1561)","v":""}]
[null,null,null,null,null,null,null,null,null,{"$f":"IF([2]Paramètres!J1562=\"\",\"\",[2]Paramètres!J1562)","v":""},{"$f":"IF([2]Paramètres!K1562=\"\",\"\",[2]Paramètres!K1562)","v":""},{"$f":"IF([2]Paramètres!L1562=\"\",\"\",[2]Paramètres!L1562)","v":""},{"$f":"IF([2]Paramètres!M1562=\"\",\"\",[2]Paramètres!M1562)","v":""},{"$f":"IF([2]Paramètres!N1562=\"\",\"\",[2]Paramètres!N1562)","v":""},{"$f":"IF([2]Paramètres!O1562=\"\",\"\",[2]Paramètres!O1562)","v":""},{"$f":"IF([2]Paramètres!P1562=\"\",\"\",[2]Paramètres!P1562)","v":""},{"$f":"IF([2]Paramètres!Q1562=\"\",\"\",[2]Paramètres!Q1562)","v":""}]
[null,null,null,null,null,null,null,null,null,{"$f":"IF([2]Paramètres!J1563=\"\",\"\",[2]Paramètres!J1563)","v":""},{"$f":"IF([2]Paramètres!K1563=\"\",\"\",[2]Paramètres!K1563)","v":""},{"$f":"IF([2]Paramètres!L1563=\"\",\"\",[2]Paramètres!L1563)","v":""},{"$f":"IF([2]Paramètres!M1563=\"\",\"\",[2]Paramètres!M1563)","v":""},{"$f":"IF([2]Paramètres!N1563=\"\",\"\",[2]Paramètres!N1563)","v":""},{"$f":"IF([2]Paramètres!O1563=\"\",\"\",[2]Paramètres!O1563)","v":""},{"$f":"IF([2]Paramètres!P1563=\"\",\"\",[2]Paramètres!P1563)","v":""},{"$f":"IF([2]Paramètres!Q1563=\"\",\"\",[2]Paramètres!Q1563)","v":""}]
[null,null,null,null,null,null,null,null,null,{"$f":"IF([2]Paramètres!J1564=\"\",\"\",[2]Paramètres!J1564)","v":""},{"$f":"IF([2]Paramètres!K1564=\"\",\"\",[2]Paramètres!K1564)","v":""},{"$f":"IF([2]Paramètres!L1564=\"\",\"\",[2]Paramètres!L1564)","v":""},{"$f":"IF([2]Paramètres!M1564=\"\",\"\",[2]Paramètres!M1564)","v":""},{"$f":"IF([2]Paramètres!N1564=\"\",\"\",[2]Paramètres!N1564)","v":""},{"$f":"IF([2]Paramètres!O1564=\"\",\"\",[2]Paramètres!O1564)","v":""},{"$f":"IF([2]Paramètres!P1564=\"\",\"\",[2]Paramètres!P1564)","v":""},{"$f":"IF([2]Paramètres!Q1564=\"\",\"\",[2]Paramètres!Q1564)","v":""}]
[null,null,null,null,null,null,null,null,null,{"$f":"IF([2]Paramètres!J1565=\"\",\"\",[2]Paramètres!J1565)","v":""},{"$f":"IF([2]Paramètres!K1565=\"\",\"\",[2]Paramètres!K1565)","v":""},{"$f":"IF([2]Paramètres!L1565=\"\",\"\",[2]Paramètres!L1565)","v":""},{"$f":"IF([2]Paramètres!M1565=\"\",\"\",[2]Paramètres!M1565)","v":""},{"$f":"IF([2]Paramètres!N1565=\"\",\"\",[2]Paramètres!N1565)","v":""},{"$f":"IF([2]Paramètres!O1565=\"\",\"\",[2]Paramètres!O1565)","v":""},{"$f":"IF([2]Paramètres!P1565=\"\",\"\",[2]Paramètres!P1565)","v":""},{"$f":"IF([2]Paramètres!Q1565=\"\",\"\",[2]Paramètres!Q1565)","v":""}]
[null,null,null,null,null,null,null,null,null,{"$f":"IF([2]Paramètres!J1566=\"\",\"\",[2]Paramètres!J1566)","v":""},{"$f":"IF([2]Paramètres!K1566=\"\",\"\",[2]Paramètres!K1566)","v":""},{"$f":"IF([2]Paramètres!L1566=\"\",\"\",[2]Paramètres!L1566)","v":""},{"$f":"IF([2]Paramètres!M1566=\"\",\"\",[2]Paramètres!M1566)","v":""},{"$f":"IF([2]Paramètres!N1566=\"\",\"\",[2]Paramètres!N1566)","v":""},{"$f":"IF([2]Paramètres!O1566=\"\",\"\",[2]Paramètres!O1566)","v":""},{"$f":"IF([2]Paramètres!P1566=\"\",\"\",[2]Paramètres!P1566)","v":""},{"$f":"IF([2]Paramètres!Q1566=\"\",\"\",[2]Paramètres!Q1566)","v":""}]
[null,null,null,null,null,null,null,null,null,{"$f":"IF([2]Paramètres!J1567=\"\",\"\",[2]Paramètres!J1567)","v":""},{"$f":"IF([2]Paramètres!K1567=\"\",\"\",[2]Paramètres!K1567)","v":""},{"$f":"IF([2]Paramètres!L1567=\"\",\"\",[2]Paramètres!L1567)","v":""},{"$f":"IF([2]Paramètres!M1567=\"\",\"\",[2]Paramètres!M1567)","v":""},{"$f":"IF([2]Paramètres!N1567=\"\",\"\",[2]Paramètres!N1567)","v":""},{"$f":"IF([2]Paramètres!O1567=\"\",\"\",[2]Paramètres!O1567)","v":""},{"$f":"IF([2]Paramètres!P1567=\"\",\"\",[2]Paramètres!P1567)","v":""},{"$f":"IF([2]Paramètres!Q1567=\"\",\"\",[2]Paramètres!Q1567)","v":""}]
[null,null,null,null,null,null,null,null,null,{"$f":"IF([2]Paramètres!J1568=\"\",\"\",[2]Paramètres!J1568)","v":""},{"$f":"IF([2]Paramètres!K1568=\"\",\"\",[2]Paramètres!K1568)","v":""},{"$f":"IF([2]Paramètres!L1568=\"\",\"\",[2]Paramètres!L1568)","v":""},{"$f":"IF([2]Paramètres!M1568=\"\",\"\",[2]Paramètres!M1568)","v":""},{"$f":"IF([2]Paramètres!N1568=\"\",\"\",[2]Paramètres!N1568)","v":""},{"$f":"IF([2]Paramètres!O1568=\"\",\"\",[2]Paramètres!O1568)","v":""},{"$f":"IF([2]Paramètres!P1568=\"\",\"\",[2]Paramètres!P1568)","v":""},{"$f":"IF([2]Paramètres!Q1568=\"\",\"\",[2]Paramètres!Q1568)","v":""}]
[null,null,null,null,null,null,null,null,null,{"$f":"IF([2]Paramètres!J1569=\"\",\"\",[2]Paramètres!J1569)","v":""},{"$f":"IF([2]Paramètres!K1569=\"\",\"\",[2]Paramètres!K1569)","v":""},{"$f":"IF([2]Paramètres!L1569=\"\",\"\",[2]Paramètres!L1569)","v":""},{"$f":"IF([2]Paramètres!M1569=\"\",\"\",[2]Paramètres!M1569)","v":""},{"$f":"IF([2]Paramètres!N1569=\"\",\"\",[2]Paramètres!N1569)","v":""},{"$f":"IF([2]Paramètres!O1569=\"\",\"\",[2]Paramètres!O1569)","v":""},{"$f":"IF([2]Paramètres!P1569=\"\",\"\",[2]Paramètres!P1569)","v":""},{"$f":"IF([2]Paramètres!Q1569=\"\",\"\",[2]Paramètres!Q1569)","v":""}]
[null,null,null,null,null,null,null,null,null,{"$f":"IF([2]Paramètres!J1570=\"\",\"\",[2]Paramètres!J1570)","v":""},{"$f":"IF([2]Paramètres!K1570=\"\",\"\",[2]Paramètres!K1570)","v":""},{"$f":"IF([2]Paramètres!L1570=\"\",\"\",[2]Paramètres!L1570)","v":""},{"$f":"IF([2]Paramètres!M1570=\"\",\"\",[2]Paramètres!M1570)","v":""},{"$f":"IF([2]Paramètres!N1570=\"\",\"\",[2]Paramètres!N1570)","v":""},{"$f":"IF([2]Paramètres!O1570=\"\",\"\",[2]Paramètres!O1570)","v":""},{"$f":"IF([2]Paramètres!P1570=\"\",\"\",[2]Paramètres!P1570)","v":""},{"$f":"IF([2]Paramètres!Q1570=\"\",\"\",[2]Paramètres!Q1570)","v":""}]
[null,null,null,null,null,null,null,null,null,{"$f":"IF([2]Paramètres!J1571=\"\",\"\",[2]Paramètres!J1571)","v":""},{"$f":"IF([2]Paramètres!K1571=\"\",\"\",[2]Paramètres!K1571)","v":""},{"$f":"IF([2]Paramètres!L1571=\"\",\"\",[2]Paramètres!L1571)","v":""},{"$f":"IF([2]Paramètres!M1571=\"\",\"\",[2]Paramètres!M1571)","v":""},{"$f":"IF([2]Paramètres!N1571=\"\",\"\",[2]Paramètres!N1571)","v":""},{"$f":"IF([2]Paramètres!O1571=\"\",\"\",[2]Paramètres!O1571)","v":""},{"$f":"IF([2]Paramètres!P1571=\"\",\"\",[2]Paramètres!P1571)","v":""},{"$f":"IF([2]Paramètres!Q1571=\"\",\"\",[2]Paramètres!Q1571)","v":""}]
[null,null,null,null,null,null,null,null,null,{"$f":"IF([2]Paramètres!J1572=\"\",\"\",[2]Paramètres!J1572)","v":""},{"$f":"IF([2]Paramètres!K1572=\"\",\"\",[2]Paramètres!K1572)","v":""},{"$f":"IF([2]Paramètres!L1572=\"\",\"\",[2]Paramètres!L1572)","v":""},{"$f":"IF([2]Paramètres!M1572=\"\",\"\",[2]Paramètres!M1572)","v":""},{"$f":"IF([2]Paramètres!N1572=\"\",\"\",[2]Paramètres!N1572)","v":""},{"$f":"IF([2]Paramètres!O1572=\"\",\"\",[2]Paramètres!O1572)","v":""},{"$f":"IF([2]Paramètres!P1572=\"\",\"\",[2]Paramètres!P1572)","v":""},{"$f":"IF([2]Paramètres!Q1572=\"\",\"\",[2]Paramètres!Q1572)","v":""}]
[null,null,null,null,null,null,null,null,null,{"$f":"IF([2]Paramètres!J1573=\"\",\"\",[2]Paramètres!J1573)","v":""},{"$f":"IF([2]Paramètres!K1573=\"\",\"\",[2]Paramètres!K1573)","v":""},{"$f":"IF([2]Paramètres!L1573=\"\",\"\",[2]Paramètres!L1573)","v":""},{"$f":"IF([2]Paramètres!M1573=\"\",\"\",[2]Paramètres!M1573)","v":""},{"$f":"IF([2]Paramètres!N1573=\"\",\"\",[2]Paramètres!N1573)","v":""},{"$f":"IF([2]Paramètres!O1573=\"\",\"\",[2]Paramètres!O1573)","v":""},{"$f":"IF([2]Paramètres!P1573=\"\",\"\",[2]Paramètres!P1573)","v":""},{"$f":"IF([2]Paramètres!Q1573=\"\",\"\",[2]Paramètres!Q1573)","v":""}]
[null,null,null,null,null,null,null,null,null,{"$f":"IF([2]Paramètres!J1574=\"\",\"\",[2]Paramètres!J1574)","v":""},{"$f":"IF([2]Paramètres!K1574=\"\",\"\",[2]Paramètres!K1574)","v":""},{"$f":"IF([2]Paramètres!L1574=\"\",\"\",[2]Paramètres!L1574)","v":""},{"$f":"IF([2]Paramètres!M1574=\"\",\"\",[2]Paramètres!M1574)","v":""},{"$f":"IF([2]Paramètres!N1574=\"\",\"\",[2]Paramètres!N1574)","v":""},{"$f":"IF([2]Paramètres!O1574=\"\",\"\",[2]Paramètres!O1574)","v":""},{"$f":"IF([2]Paramètres!P1574=\"\",\"\",[2]Paramètres!P1574)","v":""},{"$f":"IF([2]Paramètres!Q1574=\"\",\"\",[2]Paramètres!Q1574)","v":""}]
[null,null,null,null,null,null,null,null,null,{"$f":"IF([2]Paramètres!J1575=\"\",\"\",[2]Paramètres!J1575)","v":""},{"$f":"IF([2]Paramètres!K1575=\"\",\"\",[2]Paramètres!K1575)","v":""},{"$f":"IF([2]Paramètres!L1575=\"\",\"\",[2]Paramètres!L1575)","v":""},{"$f":"IF([2]Paramètres!M1575=\"\",\"\",[2]Paramètres!M1575)","v":""},{"$f":"IF([2]Paramètres!N1575=\"\",\"\",[2]Paramètres!N1575)","v":""},{"$f":"IF([2]Paramètres!O1575=\"\",\"\",[2]Paramètres!O1575)","v":""},{"$f":"IF([2]Paramètres!P1575=\"\",\"\",[2]Paramètres!P1575)","v":""},{"$f":"IF([2]Paramètres!Q1575=\"\",\"\",[2]Paramètres!Q1575)","v":""}]
[null,null,null,null,null,null,null,null,null,{"$f":"IF([2]Paramètres!J1576=\"\",\"\",[2]Paramètres!J1576)","v":""},{"$f":"IF([2]Paramètres!K1576=\"\",\"\",[2]Paramètres!K1576)","v":""},{"$f":"IF([2]Paramètres!L1576=\"\",\"\",[2]Paramètres!L1576)","v":""},{"$f":"IF([2]Paramètres!M1576=\"\",\"\",[2]Paramètres!M1576)","v":""},{"$f":"IF([2]Paramètres!N1576=\"\",\"\",[2]Paramètres!N1576)","v":""},{"$f":"IF([2]Paramètres!O1576=\"\",\"\",[2]Paramètres!O1576)","v":""},{"$f":"IF([2]Paramètres!P1576=\"\",\"\",[2]Paramètres!P1576)","v":""},{"$f":"IF([2]Paramètres!Q1576=\"\",\"\",[2]Paramètres!Q1576)","v":""}]
[null,null,null,null,null,null,null,null,null,{"$f":"IF([2]Paramètres!J1577=\"\",\"\",[2]Paramètres!J1577)","v":""},{"$f":"IF([2]Paramètres!K1577=\"\",\"\",[2]Paramètres!K1577)","v":""},{"$f":"IF([2]Paramètres!L1577=\"\",\"\",[2]Paramètres!L1577)","v":""},{"$f":"IF([2]Paramètres!M1577=\"\",\"\",[2]Paramètres!M1577)","v":""},{"$f":"IF([2]Paramètres!N1577=\"\",\"\",[2]Paramètres!N1577)","v":""},{"$f":"IF([2]Paramètres!O1577=\"\",\"\",[2]Paramètres!O1577)","v":""},{"$f":"IF([2]Paramètres!P1577=\"\",\"\",[2]Paramètres!P1577)","v":""},{"$f":"IF([2]Paramètres!Q1577=\"\",\"\",[2]Paramètres!Q1577)","v":""}]
[null,null,null,null,null,null,null,null,null,{"$f":"IF([2]Paramètres!J1578=\"\",\"\",[2]Paramètres!J1578)","v":""},{"$f":"IF([2]Paramètres!K1578=\"\",\"\",[2]Paramètres!K1578)","v":""},{"$f":"IF([2]Paramètres!L1578=\"\",\"\",[2]Paramètres!L1578)","v":""},{"$f":"IF([2]Paramètres!M1578=\"\",\"\",[2]Paramètres!M1578)","v":""},{"$f":"IF([2]Paramètres!N1578=\"\",\"\",[2]Paramètres!N1578)","v":""},{"$f":"IF([2]Paramètres!O1578=\"\",\"\",[2]Paramètres!O1578)","v":""},{"$f":"IF([2]Paramètres!P1578=\"\",\"\",[2]Paramètres!P1578)","v":""},{"$f":"IF([2]Paramètres!Q1578=\"\",\"\",[2]Paramètres!Q1578)","v":""}]
[null,null,null,null,null,null,null,null,null,{"$f":"IF([2]Paramètres!J1579=\"\",\"\",[2]Paramètres!J1579)","v":""},{"$f":"IF([2]Paramètres!K1579=\"\",\"\",[2]Paramètres!K1579)","v":""},{"$f":"IF([2]Paramètres!L1579=\"\",\"\",[2]Paramètres!L1579)","v":""},{"$f":"IF([2]Paramètres!M1579=\"\",\"\",[2]Paramètres!M1579)","v":""},{"$f":"IF([2]Paramètres!N1579=\"\",\"\",[2]Paramètres!N1579)","v":""},{"$f":"IF([2]Paramètres!O1579=\"\",\"\",[2]Paramètres!O1579)","v":""},{"$f":"IF([2]Paramètres!P1579=\"\",\"\",[2]Paramètres!P1579)","v":""},{"$f":"IF([2]Paramètres!Q1579=\"\",\"\",[2]Paramètres!Q1579)","v":""}]
[null,null,null,null,null,null,null,null,null,{"$f":"IF([2]Paramètres!J1580=\"\",\"\",[2]Paramètres!J1580)","v":""},{"$f":"IF([2]Paramètres!K1580=\"\",\"\",[2]Paramètres!K1580)","v":""},{"$f":"IF([2]Paramètres!L1580=\"\",\"\",[2]Paramètres!L1580)","v":""},{"$f":"IF([2]Paramètres!M1580=\"\",\"\",[2]Paramètres!M1580)","v":""},{"$f":"IF([2]Paramètres!N1580=\"\",\"\",[2]Paramètres!N1580)","v":""},{"$f":"IF([2]Paramètres!O1580=\"\",\"\",[2]Paramètres!O1580)","v":""},{"$f":"IF([2]Paramètres!P1580=\"\",\"\",[2]Paramètres!P1580)","v":""},{"$f":"IF([2]Paramètres!Q1580=\"\",\"\",[2]Paramètres!Q1580)","v":""}]
[null,null,null,null,null,null,null,null,null,{"$f":"IF([2]Paramètres!J1581=\"\",\"\",[2]Paramètres!J1581)","v":""},{"$f":"IF([2]Paramètres!K1581=\"\",\"\",[2]Paramètres!K1581)","v":""},{"$f":"IF([2]Paramètres!L1581=\"\",\"\",[2]Paramètres!L1581)","v":""},{"$f":"IF([2]Paramètres!M1581=\"\",\"\",[2]Paramètres!M1581)","v":""},{"$f":"IF([2]Paramètres!N1581=\"\",\"\",[2]Paramètres!N1581)","v":""},{"$f":"IF([2]Paramètres!O1581=\"\",\"\",[2]Paramètres!O1581)","v":""},{"$f":"IF([2]Paramètres!P1581=\"\",\"\",[2]Paramètres!P1581)","v":""},{"$f":"IF([2]Paramètres!Q1581=\"\",\"\",[2]Paramètres!Q1581)","v":""}]
[null,null,null,null,null,null,null,null,null,{"$f":"IF([2]Paramètres!J1582=\"\",\"\",[2]Paramètres!J1582)","v":""},{"$f":"IF([2]Paramètres!K1582=\"\",\"\",[2]Paramètres!K1582)","v":""},{"$f":"IF([2]Paramètres!L1582=\"\",\"\",[2]Paramètres!L1582)","v":""},{"$f":"IF([2]Paramètres!M1582=\"\",\"\",[2]Paramètres!M1582)","v":""},{"$f":"IF([2]Paramètres!N1582=\"\",\"\",[2]Paramètres!N1582)","v":""},{"$f":"IF([2]Paramètres!O1582=\"\",\"\",[2]Paramètres!O1582)","v":""},{"$f":"IF([2]Paramètres!P1582=\"\",\"\",[2]Paramètres!P1582)","v":""},{"$f":"IF([2]Paramètres!Q1582=\"\",\"\",[2]Paramètres!Q1582)","v":""}]
[null,null,null,null,null,null,null,null,null,{"$f":"IF([2]Paramètres!J1583=\"\",\"\",[2]Paramètres!J1583)","v":""},{"$f":"IF([2]Paramètres!K1583=\"\",\"\",[2]Paramètres!K1583)","v":""},{"$f":"IF([2]Paramètres!L1583=\"\",\"\",[2]Paramètres!L1583)","v":""},{"$f":"IF([2]Paramètres!M1583=\"\",\"\",[2]Paramètres!M1583)","v":""},{"$f":"IF([2]Paramètres!N1583=\"\",\"\",[2]Paramètres!N1583)","v":""},{"$f":"IF([2]Paramètres!O1583=\"\",\"\",[2]Paramètres!O1583)","v":""},{"$f":"IF([2]Paramètres!P1583=\"\",\"\",[2]Paramètres!P1583)","v":""},{"$f":"IF([2]Paramètres!Q1583=\"\",\"\",[2]Paramètres!Q1583)","v":""}]
[null,null,null,null,null,null,null,null,null,{"$f":"IF([2]Paramètres!J1584=\"\",\"\",[2]Paramètres!J1584)","v":""},{"$f":"IF([2]Paramètres!K1584=\"\",\"\",[2]Paramètres!K1584)","v":""},{"$f":"IF([2]Paramètres!L1584=\"\",\"\",[2]Paramètres!L1584)","v":""},{"$f":"IF([2]Paramètres!M1584=\"\",\"\",[2]Paramètres!M1584)","v":""},{"$f":"IF([2]Paramètres!N1584=\"\",\"\",[2]Paramètres!N1584)","v":""},{"$f":"IF([2]Paramètres!O1584=\"\",\"\",[2]Paramètres!O1584)","v":""},{"$f":"IF([2]Paramètres!P1584=\"\",\"\",[2]Paramètres!P1584)","v":""},{"$f":"IF([2]Paramètres!Q1584=\"\",\"\",[2]Paramètres!Q1584)","v":""}]
[null,null,null,null,null,null,null,null,null,{"$f":"IF([2]Paramètres!J1585=\"\",\"\",[2]Paramètres!J1585)","v":""},{"$f":"IF([2]Paramètres!K1585=\"\",\"\",[2]Paramètres!K1585)","v":""},{"$f":"IF([2]Paramètres!L1585=\"\",\"\",[2]Paramètres!L1585)","v":""},{"$f":"IF([2]Paramètres!M1585=\"\",\"\",[2]Paramètres!M1585)","v":""},{"$f":"IF([2]Paramètres!N1585=\"\",\"\",[2]Paramètres!N1585)","v":""},{"$f":"IF([2]Paramètres!O1585=\"\",\"\",[2]Paramètres!O1585)","v":""},{"$f":"IF([2]Paramètres!P1585=\"\",\"\",[2]Paramètres!P1585)","v":""},{"$f":"IF([2]Paramètres!Q1585=\"\",\"\",[2]Paramètres!Q1585)","v":""}]
[null,null,null,null,null,null,null,null,null,{"$f":"IF([2]Paramètres!J1586=\"\",\"\",[2]Paramètres!J1586)","v":""},{"$f":"IF([2]Paramètres!K1586=\"\",\"\",[2]Paramètres!K1586)","v":""},{"$f":"IF([2]Paramètres!L1586=\"\",\"\",[2]Paramètres!L1586)","v":""},{"$f":"IF([2]Paramètres!M1586=\"\",\"\",[2]Paramètres!M1586)","v":""},{"$f":"IF([2]Paramètres!N1586=\"\",\"\",[2]Paramètres!N1586)","v":""},{"$f":"IF([2]Paramètres!O1586=\"\",\"\",[2]Paramètres!O1586)","v":""},{"$f":"IF([2]Paramètres!P1586=\"\",\"\",[2]Paramètres!P1586)","v":""},{"$f":"IF([2]Paramètres!Q1586=\"\",\"\",[2]Paramètres!Q1586)","v":""}]
[null,null,null,null,null,null,null,null,null,{"$f":"IF([2]Paramètres!J1587=\"\",\"\",[2]Paramètres!J1587)","v":""},{"$f":"IF([2]Paramètres!K1587=\"\",\"\",[2]Paramètres!K1587)","v":""},{"$f":"IF([2]Paramètres!L1587=\"\",\"\",[2]Paramètres!L1587)","v":""},{"$f":"IF([2]Paramètres!M1587=\"\",\"\",[2]Paramètres!M1587)","v":""},{"$f":"IF([2]Paramètres!N1587=\"\",\"\",[2]Paramètres!N1587)","v":""},{"$f":"IF([2]Paramètres!O1587=\"\",\"\",[2]Paramètres!O1587)","v":""},{"$f":"IF([2]Paramètres!P1587=\"\",\"\",[2]Paramètres!P1587)","v":""},{"$f":"IF([2]Paramètres!Q1587=\"\",\"\",[2]Paramètres!Q1587)","v":""}]
[null,null,null,null,null,null,null,null,null,{"$f":"IF([2]Paramètres!J1588=\"\",\"\",[2]Paramètres!J1588)","v":""},{"$f":"IF([2]Paramètres!K1588=\"\",\"\",[2]Paramètres!K1588)","v":""},{"$f":"IF([2]Paramètres!L1588=\"\",\"\",[2]Paramètres!L1588)","v":""},{"$f":"IF([2]Paramètres!M1588=\"\",\"\",[2]Paramètres!M1588)","v":""},{"$f":"IF([2]Paramètres!N1588=\"\",\"\",[2]Paramètres!N1588)","v":""},{"$f":"IF([2]Paramètres!O1588=\"\",\"\",[2]Paramètres!O1588)","v":""},{"$f":"IF([2]Paramètres!P1588=\"\",\"\",[2]Paramètres!P1588)","v":""},{"$f":"IF([2]Paramètres!Q1588=\"\",\"\",[2]Paramètres!Q1588)","v":""}]
[null,null,null,null,null,null,null,null,null,{"$f":"IF([2]Paramètres!J1589=\"\",\"\",[2]Paramètres!J1589)","v":""},{"$f":"IF([2]Paramètres!K1589=\"\",\"\",[2]Paramètres!K1589)","v":""},{"$f":"IF([2]Paramètres!L1589=\"\",\"\",[2]Paramètres!L1589)","v":""},{"$f":"IF([2]Paramètres!M1589=\"\",\"\",[2]Paramètres!M1589)","v":""},{"$f":"IF([2]Paramètres!N1589=\"\",\"\",[2]Paramètres!N1589)","v":""},{"$f":"IF([2]Paramètres!O1589=\"\",\"\",[2]Paramètres!O1589)","v":""},{"$f":"IF([2]Paramètres!P1589=\"\",\"\",[2]Paramètres!P1589)","v":""},{"$f":"IF([2]Paramètres!Q1589=\"\",\"\",[2]Paramètres!Q1589)","v":""}]
[null,null,null,null,null,null,null,null,null,{"$f":"IF([2]Paramètres!J1590=\"\",\"\",[2]Paramètres!J1590)","v":""},{"$f":"IF([2]Paramètres!K1590=\"\",\"\",[2]Paramètres!K1590)","v":""},{"$f":"IF([2]Paramètres!L1590=\"\",\"\",[2]Paramètres!L1590)","v":""},{"$f":"IF([2]Paramètres!M1590=\"\",\"\",[2]Paramètres!M1590)","v":""},{"$f":"IF([2]Paramètres!N1590=\"\",\"\",[2]Paramètres!N1590)","v":""},{"$f":"IF([2]Paramètres!O1590=\"\",\"\",[2]Paramètres!O1590)","v":""},{"$f":"IF([2]Paramètres!P1590=\"\",\"\",[2]Paramètres!P1590)","v":""},{"$f":"IF([2]Paramètres!Q1590=\"\",\"\",[2]Paramètres!Q1590)","v":""}]
[null,null,null,null,null,null,null,null,null,{"$f":"IF([2]Paramètres!J1591=\"\",\"\",[2]Paramètres!J1591)","v":""},{"$f":"IF([2]Paramètres!K1591=\"\",\"\",[2]Paramètres!K1591)","v":""},{"$f":"IF([2]Paramètres!L1591=\"\",\"\",[2]Paramètres!L1591)","v":""},{"$f":"IF([2]Paramètres!M1591=\"\",\"\",[2]Paramètres!M1591)","v":""},{"$f":"IF([2]Paramètres!N1591=\"\",\"\",[2]Paramètres!N1591)","v":""},{"$f":"IF([2]Paramètres!O1591=\"\",\"\",[2]Paramètres!O1591)","v":""},{"$f":"IF([2]Paramètres!P1591=\"\",\"\",[2]Paramètres!P1591)","v":""},{"$f":"IF([2]Paramètres!Q1591=\"\",\"\",[2]Paramètres!Q1591)","v":""}]
[null,null,null,null,null,null,null,null,null,{"$f":"IF([2]Paramètres!J1592=\"\",\"\",[2]Paramètres!J1592)","v":""},{"$f":"IF([2]Paramètres!K1592=\"\",\"\",[2]Paramètres!K1592)","v":""},{"$f":"IF([2]Paramètres!L1592=\"\",\"\",[2]Paramètres!L1592)","v":""},{"$f":"IF([2]Paramètres!M1592=\"\",\"\",[2]Paramètres!M1592)","v":""},{"$f":"IF([2]Paramètres!N1592=\"\",\"\",[2]Paramètres!N1592)","v":""},{"$f":"IF([2]Paramètres!O1592=\"\",\"\",[2]Paramètres!O1592)","v":""},{"$f":"IF([2]Paramètres!P1592=\"\",\"\",[2]Paramètres!P1592)","v":""},{"$f":"IF([2]Paramètres!Q1592=\"\",\"\",[2]Paramètres!Q1592)","v":""}]
[null,null,null,null,null,null,null,null,null,{"$f":"IF([2]Paramètres!J1593=\"\",\"\",[2]Paramètres!J1593)","v":""},{"$f":"IF([2]Paramètres!K1593=\"\",\"\",[2]Paramètres!K1593)","v":""},{"$f":"IF([2]Paramètres!L1593=\"\",\"\",[2]Paramètres!L1593)","v":""},{"$f":"IF([2]Paramètres!M1593=\"\",\"\",[2]Paramètres!M1593)","v":""},{"$f":"IF([2]Paramètres!N1593=\"\",\"\",[2]Paramètres!N1593)","v":""},{"$f":"IF([2]Paramètres!O1593=\"\",\"\",[2]Paramètres!O1593)","v":""},{"$f":"IF([2]Paramètres!P1593=\"\",\"\",[2]Paramètres!P1593)","v":""},{"$f":"IF([2]Paramètres!Q1593=\"\",\"\",[2]Paramètres!Q1593)","v":""}]
[null,null,null,null,null,null,null,null,null,{"$f":"IF([2]Paramètres!J1594=\"\",\"\",[2]Paramètres!J1594)","v":""},{"$f":"IF([2]Paramètres!K1594=\"\",\"\",[2]Paramètres!K1594)","v":""},{"$f":"IF([2]Paramètres!L1594=\"\",\"\",[2]Paramètres!L1594)","v":""},{"$f":"IF([2]Paramètres!M1594=\"\",\"\",[2]Paramètres!M1594)","v":""},{"$f":"IF([2]Paramètres!N1594=\"\",\"\",[2]Paramètres!N1594)","v":""},{"$f":"IF([2]Paramètres!O1594=\"\",\"\",[2]Paramètres!O1594)","v":""},{"$f":"IF([2]Paramètres!P1594=\"\",\"\",[2]Paramètres!P1594)","v":""},{"$f":"IF([2]Paramètres!Q1594=\"\",\"\",[2]Paramètres!Q1594)","v":""}]
[null,null,null,null,null,null,null,null,null,{"$f":"IF([2]Paramètres!J1595=\"\",\"\",[2]Paramètres!J1595)","v":""},{"$f":"IF([2]Paramètres!K1595=\"\",\"\",[2]Paramètres!K1595)","v":""},{"$f":"IF([2]Paramètres!L1595=\"\",\"\",[2]Paramètres!L1595)","v":""},{"$f":"IF([2]Paramètres!M1595=\"\",\"\",[2]Paramètres!M1595)","v":""},{"$f":"IF([2]Paramètres!N1595=\"\",\"\",[2]Paramètres!N1595)","v":""},{"$f":"IF([2]Paramètres!O1595=\"\",\"\",[2]Paramètres!O1595)","v":""},{"$f":"IF([2]Paramètres!P1595=\"\",\"\",[2]Paramètres!P1595)","v":""},{"$f":"IF([2]Paramètres!Q1595=\"\",\"\",[2]Paramètres!Q1595)","v":""}]
[null,null,null,null,null,null,null,null,null,{"$f":"IF([2]Paramètres!J1596=\"\",\"\",[2]Paramètres!J1596)","v":""},{"$f":"IF([2]Paramètres!K1596=\"\",\"\",[2]Paramètres!K1596)","v":""},{"$f":"IF([2]Paramètres!L1596=\"\",\"\",[2]Paramètres!L1596)","v":""},{"$f":"IF([2]Paramètres!M1596=\"\",\"\",[2]Paramètres!M1596)","v":""},{"$f":"IF([2]Paramètres!N1596=\"\",\"\",[2]Paramètres!N1596)","v":""},{"$f":"IF([2]Paramètres!O1596=\"\",\"\",[2]Paramètres!O1596)","v":""},{"$f":"IF([2]Paramètres!P1596=\"\",\"\",[2]Paramètres!P1596)","v":""},{"$f":"IF([2]Paramètres!Q1596=\"\",\"\",[2]Paramètres!Q1596)","v":""}]
[null,null,null,null,null,null,null,null,null,{"$f":"IF([2]Paramètres!J1597=\"\",\"\",[2]Paramètres!J1597)","v":""},{"$f":"IF([2]Paramètres!K1597=\"\",\"\",[2]Paramètres!K1597)","v":""},{"$f":"IF([2]Paramètres!L1597=\"\",\"\",[2]Paramètres!L1597)","v":""},{"$f":"IF([2]Paramètres!M1597=\"\",\"\",[2]Paramètres!M1597)","v":""},{"$f":"IF([2]Paramètres!N1597=\"\",\"\",[2]Paramètres!N1597)","v":""},{"$f":"IF([2]Paramètres!O1597=\"\",\"\",[2]Paramètres!O1597)","v":""},{"$f":"IF([2]Paramètres!P1597=\"\",\"\",[2]Paramètres!P1597)","v":""},{"$f":"IF([2]Paramètres!Q1597=\"\",\"\",[2]Paramètres!Q1597)","v":""}]
[null,null,null,null,null,null,null,null,null,{"$f":"IF([2]Paramètres!J1598=\"\",\"\",[2]Paramètres!J1598)","v":""},{"$f":"IF([2]Paramètres!K1598=\"\",\"\",[2]Paramètres!K1598)","v":""},{"$f":"IF([2]Paramètres!L1598=\"\",\"\",[2]Paramètres!L1598)","v":""},{"$f":"IF([2]Paramètres!M1598=\"\",\"\",[2]Paramètres!M1598)","v":""},{"$f":"IF([2]Paramètres!N1598=\"\",\"\",[2]Paramètres!N1598)","v":""},{"$f":"IF([2]Paramètres!O1598=\"\",\"\",[2]Paramètres!O1598)","v":""},{"$f":"IF([2]Paramètres!P1598=\"\",\"\",[2]Paramètres!P1598)","v":""},{"$f":"IF([2]Paramètres!Q1598=\"\",\"\",[2]Paramètres!Q1598)","v":""}]
[null,null,null,null,null,null,null,null,null,{"$f":"IF([2]Paramètres!J1599=\"\",\"\",[2]Paramètres!J1599)","v":""},{"$f":"IF([2]Paramètres!K1599=\"\",\"\",[2]Paramètres!K1599)","v":""},{"$f":"IF([2]Paramètres!L1599=\"\",\"\",[2]Paramètres!L1599)","v":""},{"$f":"IF([2]Paramètres!M1599=\"\",\"\",[2]Paramètres!M1599)","v":""},{"$f":"IF([2]Paramètres!N1599=\"\",\"\",[2]Paramètres!N1599)","v":""},{"$f":"IF([2]Paramètres!O1599=\"\",\"\",[2]Paramètres!O1599)","v":""},{"$f":"IF([2]Paramètres!P1599=\"\",\"\",[2]Paramètres!P1599)","v":""},{"$f":"IF([2]Paramètres!Q1599=\"\",\"\",[2]Paramètres!Q1599)","v":""}]
[null,null,null,null,null,null,null,null,null,{"$f":"IF([2]Paramètres!J1600=\"\",\"\",[2]Paramètres!J1600)","v":""},{"$f":"IF([2]Paramètres!K1600=\"\",\"\",[2]Paramètres!K1600)","v":""},{"$f":"IF([2]Paramètres!L1600=\"\",\"\",[2]Paramètres!L1600)","v":""},{"$f":"IF([2]Paramètres!M1600=\"\",\"\",[2]Paramètres!M1600)","v":""},{"$f":"IF([2]Paramètres!N1600=\"\",\"\",[2]Paramètres!N1600)","v":""},{"$f":"IF([2]Paramètres!O1600=\"\",\"\",[2]Paramètres!O1600)","v":""},{"$f":"IF([2]Paramètres!P1600=\"\",\"\",[2]Paramètres!P1600)","v":""},{"$f":"IF([2]Paramètres!Q1600=\"\",\"\",[2]Paramètres!Q1600)","v":""}]
[null,null,null,null,null,null,null,null,null,{"$f":"IF([2]Paramètres!J1601=\"\",\"\",[2]Paramètres!J1601)","v":""},{"$f":"IF([2]Paramètres!K1601=\"\",\"\",[2]Paramètres!K1601)","v":""},{"$f":"IF([2]Paramètres!L1601=\"\",\"\",[2]Paramètres!L1601)","v":""},{"$f":"IF([2]Paramètres!M1601=\"\",\"\",[2]Paramètres!M1601)","v":""},{"$f":"IF([2]Paramètres!N1601=\"\",\"\",[2]Paramètres!N1601)","v":""},{"$f":"IF([2]Paramètres!O1601=\"\",\"\",[2]Paramètres!O1601)","v":""},{"$f":"IF([2]Paramètres!P1601=\"\",\"\",[2]Paramètres!P1601)","v":""},{"$f":"IF([2]Paramètres!Q1601=\"\",\"\",[2]Paramètres!Q1601)","v":""}]
[null,null,null,null,null,null,null,null,null,{"$f":"IF([2]Paramètres!J1602=\"\",\"\",[2]Paramètres!J1602)","v":""},{"$f":"IF([2]Paramètres!K1602=\"\",\"\",[2]Paramètres!K1602)","v":""},{"$f":"IF([2]Paramètres!L1602=\"\",\"\",[2]Paramètres!L1602)","v":""},{"$f":"IF([2]Paramètres!M1602=\"\",\"\",[2]Paramètres!M1602)","v":""},{"$f":"IF([2]Paramètres!N1602=\"\",\"\",[2]Paramètres!N1602)","v":""},{"$f":"IF([2]Paramètres!O1602=\"\",\"\",[2]Paramètres!O1602)","v":""},{"$f":"IF([2]Paramètres!P1602=\"\",\"\",[2]Paramètres!P1602)","v":""},{"$f":"IF([2]Paramètres!Q1602=\"\",\"\",[2]Paramètres!Q1602)","v":""}]
[null,null,null,null,null,null,null,null,null,{"$f":"IF([2]Paramètres!J1603=\"\",\"\",[2]Paramètres!J1603)","v":""},{"$f":"IF([2]Paramètres!K1603=\"\",\"\",[2]Paramètres!K1603)","v":""},{"$f":"IF([2]Paramètres!L1603=\"\",\"\",[2]Paramètres!L1603)","v":""},{"$f":"IF([2]Paramètres!M1603=\"\",\"\",[2]Paramètres!M1603)","v":""},{"$f":"IF([2]Paramètres!N1603=\"\",\"\",[2]Paramètres!N1603)","v":""},{"$f":"IF([2]Paramètres!O1603=\"\",\"\",[2]Paramètres!O1603)","v":""},{"$f":"IF([2]Paramètres!P1603=\"\",\"\",[2]Paramètres!P1603)","v":""},{"$f":"IF([2]Paramètres!Q1603=\"\",\"\",[2]Paramètres!Q1603)","v":""}]
[null,null,null,null,null,null,null,null,null,{"$f":"IF([2]Paramètres!J1604=\"\",\"\",[2]Paramètres!J1604)","v":""},{"$f":"IF([2]Paramètres!K1604=\"\",\"\",[2]Paramètres!K1604)","v":""},{"$f":"IF([2]Paramètres!L1604=\"\",\"\",[2]Paramètres!L1604)","v":""},{"$f":"IF([2]Paramètres!M1604=\"\",\"\",[2]Paramètres!M1604)","v":""},{"$f":"IF([2]Paramètres!N1604=\"\",\"\",[2]Paramètres!N1604)","v":""},{"$f":"IF([2]Paramètres!O1604=\"\",\"\",[2]Paramètres!O1604)","v":""},{"$f":"IF([2]Paramètres!P1604=\"\",\"\",[2]Paramètres!P1604)","v":""},{"$f":"IF([2]Paramètres!Q1604=\"\",\"\",[2]Paramètres!Q1604)","v":""}]
[null,null,null,null,null,null,null,null,null,{"$f":"IF([2]Paramètres!J1605=\"\",\"\",[2]Paramètres!J1605)","v":""},{"$f":"IF([2]Paramètres!K1605=\"\",\"\",[2]Paramètres!K1605)","v":""},{"$f":"IF([2]Paramètres!L1605=\"\",\"\",[2]Paramètres!L1605)","v":""},{"$f":"IF([2]Paramètres!M1605=\"\",\"\",[2]Paramètres!M1605)","v":""},{"$f":"IF([2]Paramètres!N1605=\"\",\"\",[2]Paramètres!N1605)","v":""},{"$f":"IF([2]Paramètres!O1605=\"\",\"\",[2]Paramètres!O1605)","v":""},{"$f":"IF([2]Paramètres!P1605=\"\",\"\",[2]Paramètres!P1605)","v":""},{"$f":"IF([2]Paramètres!Q1605=\"\",\"\",[2]Paramètres!Q1605)","v":""}]
[null,null,null,null,null,null,null,null,null,{"$f":"IF([2]Paramètres!J1606=\"\",\"\",[2]Paramètres!J1606)","v":""},{"$f":"IF([2]Paramètres!K1606=\"\",\"\",[2]Paramètres!K1606)","v":""},{"$f":"IF([2]Paramètres!L1606=\"\",\"\",[2]Paramètres!L1606)","v":""},{"$f":"IF([2]Paramètres!M1606=\"\",\"\",[2]Paramètres!M1606)","v":""},{"$f":"IF([2]Paramètres!N1606=\"\",\"\",[2]Paramètres!N1606)","v":""},{"$f":"IF([2]Paramètres!O1606=\"\",\"\",[2]Paramètres!O1606)","v":""},{"$f":"IF([2]Paramètres!P1606=\"\",\"\",[2]Paramètres!P1606)","v":""},{"$f":"IF([2]Paramètres!Q1606=\"\",\"\",[2]Paramètres!Q1606)","v":""}]
[null,null,null,null,null,null,null,null,null,{"$f":"IF([2]Paramètres!J1607=\"\",\"\",[2]Paramètres!J1607)","v":""},{"$f":"IF([2]Paramètres!K1607=\"\",\"\",[2]Paramètres!K1607)","v":""},{"$f":"IF([2]Paramètres!L1607=\"\",\"\",[2]Paramètres!L1607)","v":""},{"$f":"IF([2]Paramètres!M1607=\"\",\"\",[2]Paramètres!M1607)","v":""},{"$f":"IF([2]Paramètres!N1607=\"\",\"\",[2]Paramètres!N1607)","v":""},{"$f":"IF([2]Paramètres!O1607=\"\",\"\",[2]Paramètres!O1607)","v":""},{"$f":"IF([2]Paramètres!P1607=\"\",\"\",[2]Paramètres!P1607)","v":""},{"$f":"IF([2]Paramètres!Q1607=\"\",\"\",[2]Paramètres!Q1607)","v":""}]
[null,null,null,null,null,null,null,null,null,{"$f":"IF([2]Paramètres!J1608=\"\",\"\",[2]Paramètres!J1608)","v":""},{"$f":"IF([2]Paramètres!K1608=\"\",\"\",[2]Paramètres!K1608)","v":""},{"$f":"IF([2]Paramètres!L1608=\"\",\"\",[2]Paramètres!L1608)","v":""},{"$f":"IF([2]Paramètres!M1608=\"\",\"\",[2]Paramètres!M1608)","v":""},{"$f":"IF([2]Paramètres!N1608=\"\",\"\",[2]Paramètres!N1608)","v":""},{"$f":"IF([2]Paramètres!O1608=\"\",\"\",[2]Paramètres!O1608)","v":""},{"$f":"IF([2]Paramètres!P1608=\"\",\"\",[2]Paramètres!P1608)","v":""},{"$f":"IF([2]Paramètres!Q1608=\"\",\"\",[2]Paramètres!Q1608)","v":""}]
[null,null,null,null,null,null,null,null,null,{"$f":"IF([2]Paramètres!J1609=\"\",\"\",[2]Paramètres!J1609)","v":""},{"$f":"IF([2]Paramètres!K1609=\"\",\"\",[2]Paramètres!K1609)","v":""},{"$f":"IF([2]Paramètres!L1609=\"\",\"\",[2]Paramètres!L1609)","v":""},{"$f":"IF([2]Paramètres!M1609=\"\",\"\",[2]Paramètres!M1609)","v":""},{"$f":"IF([2]Paramètres!N1609=\"\",\"\",[2]Paramètres!N1609)","v":""},{"$f":"IF([2]Paramètres!O1609=\"\",\"\",[2]Paramètres!O1609)","v":""},{"$f":"IF([2]Paramètres!P1609=\"\",\"\",[2]Paramètres!P1609)","v":""},{"$f":"IF([2]Paramètres!Q1609=\"\",\"\",[2]Paramètres!Q1609)","v":""}]
[null,null,null,null,null,null,null,null,null,{"$f":"IF([2]Paramètres!J1610=\"\",\"\",[2]Paramètres!J1610)","v":""},{"$f":"IF([2]Paramètres!K1610=\"\",\"\",[2]Paramètres!K1610)","v":""},{"$f":"IF([2]Paramètres!L1610=\"\",\"\",[2]Paramètres!L1610)","v":""},{"$f":"IF([2]Paramètres!M1610=\"\",\"\",[2]Paramètres!M1610)","v":""},{"$f":"IF([2]Paramètres!N1610=\"\",\"\",[2]Paramètres!N1610)","v":""},{"$f":"IF([2]Paramètres!O1610=\"\",\"\",[2]Paramètres!O1610)","v":""},{"$f":"IF([2]Paramètres!P1610=\"\",\"\",[2]Paramètres!P1610)","v":""},{"$f":"IF([2]Paramètres!Q1610=\"\",\"\",[2]Paramètres!Q1610)","v":""}]
[null,null,null,null,null,null,null,null,null,{"$f":"IF([2]Paramètres!J1611=\"\",\"\",[2]Paramètres!J1611)","v":""},{"$f":"IF([2]Paramètres!K1611=\"\",\"\",[2]Paramètres!K1611)","v":""},{"$f":"IF([2]Paramètres!L1611=\"\",\"\",[2]Paramètres!L1611)","v":""},{"$f":"IF([2]Paramètres!M1611=\"\",\"\",[2]Paramètres!M1611)","v":""},{"$f":"IF([2]Paramètres!N1611=\"\",\"\",[2]Paramètres!N1611)","v":""},{"$f":"IF([2]Paramètres!O1611=\"\",\"\",[2]Paramètres!O1611)","v":""},{"$f":"IF([2]Paramètres!P1611=\"\",\"\",[2]Paramètres!P1611)","v":""},{"$f":"IF([2]Paramètres!Q1611=\"\",\"\",[2]Paramètres!Q1611)","v":""}]
[null,null,null,null,null,null,null,null,null,{"$f":"IF([2]Paramètres!J1612=\"\",\"\",[2]Paramètres!J1612)","v":""},{"$f":"IF([2]Paramètres!K1612=\"\",\"\",[2]Paramètres!K1612)","v":""},{"$f":"IF([2]Paramètres!L1612=\"\",\"\",[2]Paramètres!L1612)","v":""},{"$f":"IF([2]Paramètres!M1612=\"\",\"\",[2]Paramètres!M1612)","v":""},{"$f":"IF([2]Paramètres!N1612=\"\",\"\",[2]Paramètres!N1612)","v":""},{"$f":"IF([2]Paramètres!O1612=\"\",\"\",[2]Paramètres!O1612)","v":""},{"$f":"IF([2]Paramètres!P1612=\"\",\"\",[2]Paramètres!P1612)","v":""},{"$f":"IF([2]Paramètres!Q1612=\"\",\"\",[2]Paramètres!Q1612)","v":""}]
[null,null,null,null,null,null,null,null,null,{"$f":"IF([2]Paramètres!J1613=\"\",\"\",[2]Paramètres!J1613)","v":""},{"$f":"IF([2]Paramètres!K1613=\"\",\"\",[2]Paramètres!K1613)","v":""},{"$f":"IF([2]Paramètres!L1613=\"\",\"\",[2]Paramètres!L1613)","v":""},{"$f":"IF([2]Paramètres!M1613=\"\",\"\",[2]Paramètres!M1613)","v":""},{"$f":"IF([2]Paramètres!N1613=\"\",\"\",[2]Paramètres!N1613)","v":""},{"$f":"IF([2]Paramètres!O1613=\"\",\"\",[2]Paramètres!O1613)","v":""},{"$f":"IF([2]Paramètres!P1613=\"\",\"\",[2]Paramètres!P1613)","v":""},{"$f":"IF([2]Paramètres!Q1613=\"\",\"\",[2]Paramètres!Q1613)","v":""}]
[null,null,null,null,null,null,null,null,null,{"$f":"IF([2]Paramètres!J1614=\"\",\"\",[2]Paramètres!J1614)","v":""},{"$f":"IF([2]Paramètres!K1614=\"\",\"\",[2]Paramètres!K1614)","v":""},{"$f":"IF([2]Paramètres!L1614=\"\",\"\",[2]Paramètres!L1614)","v":""},{"$f":"IF([2]Paramètres!M1614=\"\",\"\",[2]Paramètres!M1614)","v":""},{"$f":"IF([2]Paramètres!N1614=\"\",\"\",[2]Paramètres!N1614)","v":""},{"$f":"IF([2]Paramètres!O1614=\"\",\"\",[2]Paramètres!O1614)","v":""},{"$f":"IF([2]Paramètres!P1614=\"\",\"\",[2]Paramètres!P1614)","v":""},{"$f":"IF([2]Paramètres!Q1614=\"\",\"\",[2]Paramètres!Q1614)","v":""}]
[null,null,null,null,null,null,null,null,null,{"$f":"IF([2]Paramètres!J1615=\"\",\"\",[2]Paramètres!J1615)","v":""},{"$f":"IF([2]Paramètres!K1615=\"\",\"\",[2]Paramètres!K1615)","v":""},{"$f":"IF([2]Paramètres!L1615=\"\",\"\",[2]Paramètres!L1615)","v":""},{"$f":"IF([2]Paramètres!M1615=\"\",\"\",[2]Paramètres!M1615)","v":""},{"$f":"IF([2]Paramètres!N1615=\"\",\"\",[2]Paramètres!N1615)","v":""},{"$f":"IF([2]Paramètres!O1615=\"\",\"\",[2]Paramètres!O1615)","v":""},{"$f":"IF([2]Paramètres!P1615=\"\",\"\",[2]Paramètres!P1615)","v":""},{"$f":"IF([2]Paramètres!Q1615=\"\",\"\",[2]Paramètres!Q1615)","v":""}]
[null,null,null,null,null,null,null,null,null,{"$f":"IF([2]Paramètres!J1616=\"\",\"\",[2]Paramètres!J1616)","v":""},{"$f":"IF([2]Paramètres!K1616=\"\",\"\",[2]Paramètres!K1616)","v":""},{"$f":"IF([2]Paramètres!L1616=\"\",\"\",[2]Paramètres!L1616)","v":""},{"$f":"IF([2]Paramètres!M1616=\"\",\"\",[2]Paramètres!M1616)","v":""},{"$f":"IF([2]Paramètres!N1616=\"\",\"\",[2]Paramètres!N1616)","v":""},{"$f":"IF([2]Paramètres!O1616=\"\",\"\",[2]Paramètres!O1616)","v":""},{"$f":"IF([2]Paramètres!P1616=\"\",\"\",[2]Paramètres!P1616)","v":""},{"$f":"IF([2]Paramètres!Q1616=\"\",\"\",[2]Paramètres!Q1616)","v":""}]
[null,null,null,null,null,null,null,null,null,{"$f":"IF([2]Paramètres!J1617=\"\",\"\",[2]Paramètres!J1617)","v":""},{"$f":"IF([2]Paramètres!K1617=\"\",\"\",[2]Paramètres!K1617)","v":""},{"$f":"IF([2]Paramètres!L1617=\"\",\"\",[2]Paramètres!L1617)","v":""},{"$f":"IF([2]Paramètres!M1617=\"\",\"\",[2]Paramètres!M1617)","v":""},{"$f":"IF([2]Paramètres!N1617=\"\",\"\",[2]Paramètres!N1617)","v":""},{"$f":"IF([2]Paramètres!O1617=\"\",\"\",[2]Paramètres!O1617)","v":""},{"$f":"IF([2]Paramètres!P1617=\"\",\"\",[2]Paramètres!P1617)","v":""},{"$f":"IF([2]Paramètres!Q1617=\"\",\"\",[2]Paramètres!Q1617)","v":""}]
[null,null,null,null,null,null,null,null,null,{"$f":"IF([2]Paramètres!J1618=\"\",\"\",[2]Paramètres!J1618)","v":""},{"$f":"IF([2]Paramètres!K1618=\"\",\"\",[2]Paramètres!K1618)","v":""},{"$f":"IF([2]Paramètres!L1618=\"\",\"\",[2]Paramètres!L1618)","v":""},{"$f":"IF([2]Paramètres!M1618=\"\",\"\",[2]Paramètres!M1618)","v":""},{"$f":"IF([2]Paramètres!N1618=\"\",\"\",[2]Paramètres!N1618)","v":""},{"$f":"IF([2]Paramètres!O1618=\"\",\"\",[2]Paramètres!O1618)","v":""},{"$f":"IF([2]Paramètres!P1618=\"\",\"\",[2]Paramètres!P1618)","v":""},{"$f":"IF([2]Paramètres!Q1618=\"\",\"\",[2]Paramètres!Q1618)","v":""}]
[null,null,null,null,null,null,null,null,null,{"$f":"IF([2]Paramètres!J1619=\"\",\"\",[2]Paramètres!J1619)","v":""},{"$f":"IF([2]Paramètres!K1619=\"\",\"\",[2]Paramètres!K1619)","v":""},{"$f":"IF([2]Paramètres!L1619=\"\",\"\",[2]Paramètres!L1619)","v":""},{"$f":"IF([2]Paramètres!M1619=\"\",\"\",[2]Paramètres!M1619)","v":""},{"$f":"IF([2]Paramètres!N1619=\"\",\"\",[2]Paramètres!N1619)","v":""},{"$f":"IF([2]Paramètres!O1619=\"\",\"\",[2]Paramètres!O1619)","v":""},{"$f":"IF([2]Paramètres!P1619=\"\",\"\",[2]Paramètres!P1619)","v":""},{"$f":"IF([2]Paramètres!Q1619=\"\",\"\",[2]Paramètres!Q1619)","v":""}]
[null,null,null,null,null,null,null,null,null,{"$f":"IF([2]Paramètres!J1620=\"\",\"\",[2]Paramètres!J1620)","v":""},{"$f":"IF([2]Paramètres!K1620=\"\",\"\",[2]Paramètres!K1620)","v":""},{"$f":"IF([2]Paramètres!L1620=\"\",\"\",[2]Paramètres!L1620)","v":""},{"$f":"IF([2]Paramètres!M1620=\"\",\"\",[2]Paramètres!M1620)","v":""},{"$f":"IF([2]Paramètres!N1620=\"\",\"\",[2]Paramètres!N1620)","v":""},{"$f":"IF([2]Paramètres!O1620=\"\",\"\",[2]Paramètres!O1620)","v":""},{"$f":"IF([2]Paramètres!P1620=\"\",\"\",[2]Paramètres!P1620)","v":""},{"$f":"IF([2]Paramètres!Q1620=\"\",\"\",[2]Paramètres!Q1620)","v":""}]
[null,null,null,null,null,null,null,null,null,{"$f":"IF([2]Paramètres!J1621=\"\",\"\",[2]Paramètres!J1621)","v":""},{"$f":"IF([2]Paramètres!K1621=\"\",\"\",[2]Paramètres!K1621)","v":""},{"$f":"IF([2]Paramètres!L1621=\"\",\"\",[2]Paramètres!L1621)","v":""},{"$f":"IF([2]Paramètres!M1621=\"\",\"\",[2]Paramètres!M1621)","v":""},{"$f":"IF([2]Paramètres!N1621=\"\",\"\",[2]Paramètres!N1621)","v":""},{"$f":"IF([2]Paramètres!O1621=\"\",\"\",[2]Paramètres!O1621)","v":""},{"$f":"IF([2]Paramètres!P1621=\"\",\"\",[2]Paramètres!P1621)","v":""},{"$f":"IF([2]Paramètres!Q1621=\"\",\"\",[2]Paramètres!Q1621)","v":""}]
[null,null,null,null,null,null,null,null,null,{"$f":"IF([2]Paramètres!J1622=\"\",\"\",[2]Paramètres!J1622)","v":""},{"$f":"IF([2]Paramètres!K1622=\"\",\"\",[2]Paramètres!K1622)","v":""},{"$f":"IF([2]Paramètres!L1622=\"\",\"\",[2]Paramètres!L1622)","v":""},{"$f":"IF([2]Paramètres!M1622=\"\",\"\",[2]Paramètres!M1622)","v":""},{"$f":"IF([2]Paramètres!N1622=\"\",\"\",[2]Paramètres!N1622)","v":""},{"$f":"IF([2]Paramètres!O1622=\"\",\"\",[2]Paramètres!O1622)","v":""},{"$f":"IF([2]Paramètres!P1622=\"\",\"\",[2]Paramètres!P1622)","v":""},{"$f":"IF([2]Paramètres!Q1622=\"\",\"\",[2]Paramètres!Q1622)","v":""}]
[null,null,null,null,null,null,null,null,null,{"$f":"IF([2]Paramètres!J1623=\"\",\"\",[2]Paramètres!J1623)","v":""},{"$f":"IF([2]Paramètres!K1623=\"\",\"\",[2]Paramètres!K1623)","v":""},{"$f":"IF([2]Paramètres!L1623=\"\",\"\",[2]Paramètres!L1623)","v":""},{"$f":"IF([2]Paramètres!M1623=\"\",\"\",[2]Paramètres!M1623)","v":""},{"$f":"IF([2]Paramètres!N1623=\"\",\"\",[2]Paramètres!N1623)","v":""},{"$f":"IF([2]Paramètres!O1623=\"\",\"\",[2]Paramètres!O1623)","v":""},{"$f":"IF([2]Paramètres!P1623=\"\",\"\",[2]Paramètres!P1623)","v":""},{"$f":"IF([2]Paramètres!Q1623=\"\",\"\",[2]Paramètres!Q1623)","v":""}]
[null,null,null,null,null,null,null,null,null,{"$f":"IF([2]Paramètres!J1624=\"\",\"\",[2]Paramètres!J1624)","v":""},{"$f":"IF([2]Paramètres!K1624=\"\",\"\",[2]Paramètres!K1624)","v":""},{"$f":"IF([2]Paramètres!L1624=\"\",\"\",[2]Paramètres!L1624)","v":""},{"$f":"IF([2]Paramètres!M1624=\"\",\"\",[2]Paramètres!M1624)","v":""},{"$f":"IF([2]Paramètres!N1624=\"\",\"\",[2]Paramètres!N1624)","v":""},{"$f":"IF([2]Paramètres!O1624=\"\",\"\",[2]Paramètres!O1624)","v":""},{"$f":"IF([2]Paramètres!P1624=\"\",\"\",[2]Paramètres!P1624)","v":""},{"$f":"IF([2]Paramètres!Q1624=\"\",\"\",[2]Paramètres!Q1624)","v":""}]
[null,null,null,null,null,null,null,null,null,{"$f":"IF([2]Paramètres!J1625=\"\",\"\",[2]Paramètres!J1625)","v":""},{"$f":"IF([2]Paramètres!K1625=\"\",\"\",[2]Paramètres!K1625)","v":""},{"$f":"IF([2]Paramètres!L1625=\"\",\"\",[2]Paramètres!L1625)","v":""},{"$f":"IF([2]Paramètres!M1625=\"\",\"\",[2]Paramètres!M1625)","v":""},{"$f":"IF([2]Paramètres!N1625=\"\",\"\",[2]Paramètres!N1625)","v":""},{"$f":"IF([2]Paramètres!O1625=\"\",\"\",[2]Paramètres!O1625)","v":""},{"$f":"IF([2]Paramètres!P1625=\"\",\"\",[2]Paramètres!P1625)","v":""},{"$f":"IF([2]Paramètres!Q1625=\"\",\"\",[2]Paramètres!Q1625)","v":""}]
[null,null,null,null,null,null,null,null,null,{"$f":"IF([2]Paramètres!J1626=\"\",\"\",[2]Paramètres!J1626)","v":""},{"$f":"IF([2]Paramètres!K1626=\"\",\"\",[2]Paramètres!K1626)","v":""},{"$f":"IF([2]Paramètres!L1626=\"\",\"\",[2]Paramètres!L1626)","v":""},{"$f":"IF([2]Paramètres!M1626=\"\",\"\",[2]Paramètres!M1626)","v":""},{"$f":"IF([2]Paramètres!N1626=\"\",\"\",[2]Paramètres!N1626)","v":""},{"$f":"IF([2]Paramètres!O1626=\"\",\"\",[2]Paramètres!O1626)","v":""},{"$f":"IF([2]Paramètres!P1626=\"\",\"\",[2]Paramètres!P1626)","v":""},{"$f":"IF([2]Paramètres!Q1626=\"\",\"\",[2]Paramètres!Q1626)","v":""}]
[null,null,null,null,null,null,null,null,null,{"$f":"IF([2]Paramètres!J1627=\"\",\"\",[2]Paramètres!J1627)","v":""},{"$f":"IF([2]Paramètres!K1627=\"\",\"\",[2]Paramètres!K1627)","v":""},{"$f":"IF([2]Paramètres!L1627=\"\",\"\",[2]Paramètres!L1627)","v":""},{"$f":"IF([2]Paramètres!M1627=\"\",\"\",[2]Paramètres!M1627)","v":""},{"$f":"IF([2]Paramètres!N1627=\"\",\"\",[2]Paramètres!N1627)","v":""},{"$f":"IF([2]Paramètres!O1627=\"\",\"\",[2]Paramètres!O1627)","v":""},{"$f":"IF([2]Paramètres!P1627=\"\",\"\",[2]Paramètres!P1627)","v":""},{"$f":"IF([2]Paramètres!Q1627=\"\",\"\",[2]Paramètres!Q1627)","v":""}]
[null,null,null,null,null,null,null,null,null,{"$f":"IF([2]Paramètres!J1628=\"\",\"\",[2]Paramètres!J1628)","v":""},{"$f":"IF([2]Paramètres!K1628=\"\",\"\",[2]Paramètres!K1628)","v":""},{"$f":"IF([2]Paramètres!L1628=\"\",\"\",[2]Paramètres!L1628)","v":""},{"$f":"IF([2]Paramètres!M1628=\"\",\"\",[2]Paramètres!M1628)","v":""},{"$f":"IF([2]Paramètres!N1628=\"\",\"\",[2]Paramètres!N1628)","v":""},{"$f":"IF([2]Paramètres!O1628=\"\",\"\",[2]Paramètres!O1628)","v":""},{"$f":"IF([2]Paramètres!P1628=\"\",\"\",[2]Paramètres!P1628)","v":""},{"$f":"IF([2]Paramètres!Q1628=\"\",\"\",[2]Paramètres!Q1628)","v":""}]
[null,null,null,null,null,null,null,null,null,{"$f":"IF([2]Paramètres!J1629=\"\",\"\",[2]Paramètres!J1629)","v":""},{"$f":"IF([2]Paramètres!K1629=\"\",\"\",[2]Paramètres!K1629)","v":""},{"$f":"IF([2]Paramètres!L1629=\"\",\"\",[2]Paramètres!L1629)","v":""},{"$f":"IF([2]Paramètres!M1629=\"\",\"\",[2]Paramètres!M1629)","v":""},{"$f":"IF([2]Paramètres!N1629=\"\",\"\",[2]Paramètres!N1629)","v":""},{"$f":"IF([2]Paramètres!O1629=\"\",\"\",[2]Paramètres!O1629)","v":""},{"$f":"IF([2]Paramètres!P1629=\"\",\"\",[2]Paramètres!P1629)","v":""},{"$f":"IF([2]Paramètres!Q1629=\"\",\"\",[2]Paramètres!Q1629)","v":""}]
[null,null,null,null,null,null,null,null,null,{"$f":"IF([2]Paramètres!J1630=\"\",\"\",[2]Paramètres!J1630)","v":""},{"$f":"IF([2]Paramètres!K1630=\"\",\"\",[2]Paramètres!K1630)","v":""},{"$f":"IF([2]Paramètres!L1630=\"\",\"\",[2]Paramètres!L1630)","v":""},{"$f":"IF([2]Paramètres!M1630=\"\",\"\",[2]Paramètres!M1630)","v":""},{"$f":"IF([2]Paramètres!N1630=\"\",\"\",[2]Paramètres!N1630)","v":""},{"$f":"IF([2]Paramètres!O1630=\"\",\"\",[2]Paramètres!O1630)","v":""},{"$f":"IF([2]Paramètres!P1630=\"\",\"\",[2]Paramètres!P1630)","v":""},{"$f":"IF([2]Paramètres!Q1630=\"\",\"\",[2]Paramètres!Q1630)","v":""}]
[null,null,null,null,null,null,null,null,null,{"$f":"IF([2]Paramètres!J1631=\"\",\"\",[2]Paramètres!J1631)","v":""},{"$f":"IF([2]Paramètres!K1631=\"\",\"\",[2]Paramètres!K1631)","v":""},{"$f":"IF([2]Paramètres!L1631=\"\",\"\",[2]Paramètres!L1631)","v":""},{"$f":"IF([2]Paramètres!M1631=\"\",\"\",[2]Paramètres!M1631)","v":""},{"$f":"IF([2]Paramètres!N1631=\"\",\"\",[2]Paramètres!N1631)","v":""},{"$f":"IF([2]Paramètres!O1631=\"\",\"\",[2]Paramètres!O1631)","v":""},{"$f":"IF([2]Paramètres!P1631=\"\",\"\",[2]Paramètres!P1631)","v":""},{"$f":"IF([2]Paramètres!Q1631=\"\",\"\",[2]Paramètres!Q1631)","v":""}]
[null,null,null,null,null,null,null,null,null,{"$f":"IF([2]Paramètres!J1632=\"\",\"\",[2]Paramètres!J1632)","v":""},{"$f":"IF([2]Paramètres!K1632=\"\",\"\",[2]Paramètres!K1632)","v":""},{"$f":"IF([2]Paramètres!L1632=\"\",\"\",[2]Paramètres!L1632)","v":""},{"$f":"IF([2]Paramètres!M1632=\"\",\"\",[2]Paramètres!M1632)","v":""},{"$f":"IF([2]Paramètres!N1632=\"\",\"\",[2]Paramètres!N1632)","v":""},{"$f":"IF([2]Paramètres!O1632=\"\",\"\",[2]Paramètres!O1632)","v":""},{"$f":"IF([2]Paramètres!P1632=\"\",\"\",[2]Paramètres!P1632)","v":""},{"$f":"IF([2]Paramètres!Q1632=\"\",\"\",[2]Paramètres!Q1632)","v":""}]
[null,null,null,null,null,null,null,null,null,{"$f":"IF([2]Paramètres!J1633=\"\",\"\",[2]Paramètres!J1633)","v":""},{"$f":"IF([2]Paramètres!K1633=\"\",\"\",[2]Paramètres!K1633)","v":""},{"$f":"IF([2]Paramètres!L1633=\"\",\"\",[2]Paramètres!L1633)","v":""},{"$f":"IF([2]Paramètres!M1633=\"\",\"\",[2]Paramètres!M1633)","v":""},{"$f":"IF([2]Paramètres!N1633=\"\",\"\",[2]Paramètres!N1633)","v":""},{"$f":"IF([2]Paramètres!O1633=\"\",\"\",[2]Paramètres!O1633)","v":""},{"$f":"IF([2]Paramètres!P1633=\"\",\"\",[2]Paramètres!P1633)","v":""},{"$f":"IF([2]Paramètres!Q1633=\"\",\"\",[2]Paramètres!Q1633)","v":""}]
[null,null,null,null,null,null,null,null,null,{"$f":"IF([2]Paramètres!J1634=\"\",\"\",[2]Paramètres!J1634)","v":""},{"$f":"IF([2]Paramètres!K1634=\"\",\"\",[2]Paramètres!K1634)","v":""},{"$f":"IF([2]Paramètres!L1634=\"\",\"\",[2]Paramètres!L1634)","v":""},{"$f":"IF([2]Paramètres!M1634=\"\",\"\",[2]Paramètres!M1634)","v":""},{"$f":"IF([2]Paramètres!N1634=\"\",\"\",[2]Paramètres!N1634)","v":""},{"$f":"IF([2]Paramètres!O1634=\"\",\"\",[2]Paramètres!O1634)","v":""},{"$f":"IF([2]Paramètres!P1634=\"\",\"\",[2]Paramètres!P1634)","v":""},{"$f":"IF([2]Paramètres!Q1634=\"\",\"\",[2]Paramètres!Q1634)","v":""}]
[null,null,null,null,null,null,null,null,null,{"$f":"IF([2]Paramètres!J1635=\"\",\"\",[2]Paramètres!J1635)","v":""},{"$f":"IF([2]Paramètres!K1635=\"\",\"\",[2]Paramètres!K1635)","v":""},{"$f":"IF([2]Paramètres!L1635=\"\",\"\",[2]Paramètres!L1635)","v":""},{"$f":"IF([2]Paramètres!M1635=\"\",\"\",[2]Paramètres!M1635)","v":""},{"$f":"IF([2]Paramètres!N1635=\"\",\"\",[2]Paramètres!N1635)","v":""},{"$f":"IF([2]Paramètres!O1635=\"\",\"\",[2]Paramètres!O1635)","v":""},{"$f":"IF([2]Paramètres!P1635=\"\",\"\",[2]Paramètres!P1635)","v":""},{"$f":"IF([2]Paramètres!Q1635=\"\",\"\",[2]Paramètres!Q1635)","v":""}]
[null,null,null,null,null,null,null,null,null,{"$f":"IF([2]Paramètres!J1636=\"\",\"\",[2]Paramètres!J1636)","v":""},{"$f":"IF([2]Paramètres!K1636=\"\",\"\",[2]Paramètres!K1636)","v":""},{"$f":"IF([2]Paramètres!L1636=\"\",\"\",[2]Paramètres!L1636)","v":""},{"$f":"IF([2]Paramètres!M1636=\"\",\"\",[2]Paramètres!M1636)","v":""},{"$f":"IF([2]Paramètres!N1636=\"\",\"\",[2]Paramètres!N1636)","v":""},{"$f":"IF([2]Paramètres!O1636=\"\",\"\",[2]Paramètres!O1636)","v":""},{"$f":"IF([2]Paramètres!P1636=\"\",\"\",[2]Paramètres!P1636)","v":""},{"$f":"IF([2]Paramètres!Q1636=\"\",\"\",[2]Paramètres!Q1636)","v":""}]
[null,null,null,null,null,null,null,null,null,{"$f":"IF([2]Paramètres!J1637=\"\",\"\",[2]Paramètres!J1637)","v":""},{"$f":"IF([2]Paramètres!K1637=\"\",\"\",[2]Paramètres!K1637)","v":""},{"$f":"IF([2]Paramètres!L1637=\"\",\"\",[2]Paramètres!L1637)","v":""},{"$f":"IF([2]Paramètres!M1637=\"\",\"\",[2]Paramètres!M1637)","v":""},{"$f":"IF([2]Paramètres!N1637=\"\",\"\",[2]Paramètres!N1637)","v":""},{"$f":"IF([2]Paramètres!O1637=\"\",\"\",[2]Paramètres!O1637)","v":""},{"$f":"IF([2]Paramètres!P1637=\"\",\"\",[2]Paramètres!P1637)","v":""},{"$f":"IF([2]Paramètres!Q1637=\"\",\"\",[2]Paramètres!Q1637)","v":""}]
[null,null,null,null,null,null,null,null,null,{"$f":"IF([2]Paramètres!J1638=\"\",\"\",[2]Paramètres!J1638)","v":""},{"$f":"IF([2]Paramètres!K1638=\"\",\"\",[2]Paramètres!K1638)","v":""},{"$f":"IF([2]Paramètres!L1638=\"\",\"\",[2]Paramètres!L1638)","v":""},{"$f":"IF([2]Paramètres!M1638=\"\",\"\",[2]Paramètres!M1638)","v":""},{"$f":"IF([2]Paramètres!N1638=\"\",\"\",[2]Paramètres!N1638)","v":""},{"$f":"IF([2]Paramètres!O1638=\"\",\"\",[2]Paramètres!O1638)","v":""},{"$f":"IF([2]Paramètres!P1638=\"\",\"\",[2]Paramètres!P1638)","v":""},{"$f":"IF([2]Paramètres!Q1638=\"\",\"\",[2]Paramètres!Q1638)","v":""}]
[null,null,null,null,null,null,null,null,null,{"$f":"IF([2]Paramètres!J1639=\"\",\"\",[2]Paramètres!J1639)","v":""},{"$f":"IF([2]Paramètres!K1639=\"\",\"\",[2]Paramètres!K1639)","v":""},{"$f":"IF([2]Paramètres!L1639=\"\",\"\",[2]Paramètres!L1639)","v":""},{"$f":"IF([2]Paramètres!M1639=\"\",\"\",[2]Paramètres!M1639)","v":""},{"$f":"IF([2]Paramètres!N1639=\"\",\"\",[2]Paramètres!N1639)","v":""},{"$f":"IF([2]Paramètres!O1639=\"\",\"\",[2]Paramètres!O1639)","v":""},{"$f":"IF([2]Paramètres!P1639=\"\",\"\",[2]Paramètres!P1639)","v":""},{"$f":"IF([2]Paramètres!Q1639=\"\",\"\",[2]Paramètres!Q1639)","v":""}]
[null,null,null,null,null,null,null,null,null,{"$f":"IF([2]Paramètres!J1640=\"\",\"\",[2]Paramètres!J1640)","v":""},{"$f":"IF([2]Paramètres!K1640=\"\",\"\",[2]Paramètres!K1640)","v":""},{"$f":"IF([2]Paramètres!L1640=\"\",\"\",[2]Paramètres!L1640)","v":""},{"$f":"IF([2]Paramètres!M1640=\"\",\"\",[2]Paramètres!M1640)","v":""},{"$f":"IF([2]Paramètres!N1640=\"\",\"\",[2]Paramètres!N1640)","v":""},{"$f":"IF([2]Paramètres!O1640=\"\",\"\",[2]Paramètres!O1640)","v":""},{"$f":"IF([2]Paramètres!P1640=\"\",\"\",[2]Paramètres!P1640)","v":""},{"$f":"IF([2]Paramètres!Q1640=\"\",\"\",[2]Paramètres!Q1640)","v":""}]
[null,null,null,null,null,null,null,null,null,{"$f":"IF([2]Paramètres!J1641=\"\",\"\",[2]Paramètres!J1641)","v":""},{"$f":"IF([2]Paramètres!K1641=\"\",\"\",[2]Paramètres!K1641)","v":""},{"$f":"IF([2]Paramètres!L1641=\"\",\"\",[2]Paramètres!L1641)","v":""},{"$f":"IF([2]Paramètres!M1641=\"\",\"\",[2]Paramètres!M1641)","v":""},{"$f":"IF([2]Paramètres!N1641=\"\",\"\",[2]Paramètres!N1641)","v":""},{"$f":"IF([2]Paramètres!O1641=\"\",\"\",[2]Paramètres!O1641)","v":""},{"$f":"IF([2]Paramètres!P1641=\"\",\"\",[2]Paramètres!P1641)","v":""},{"$f":"IF([2]Paramètres!Q1641=\"\",\"\",[2]Paramètres!Q1641)","v":""}]
[null,null,null,null,null,null,null,null,null,{"$f":"IF([2]Paramètres!J1642=\"\",\"\",[2]Paramètres!J1642)","v":""},{"$f":"IF([2]Paramètres!K1642=\"\",\"\",[2]Paramètres!K1642)","v":""},{"$f":"IF([2]Paramètres!L1642=\"\",\"\",[2]Paramètres!L1642)","v":""},{"$f":"IF([2]Paramètres!M1642=\"\",\"\",[2]Paramètres!M1642)","v":""},{"$f":"IF([2]Paramètres!N1642=\"\",\"\",[2]Paramètres!N1642)","v":""},{"$f":"IF([2]Paramètres!O1642=\"\",\"\",[2]Paramètres!O1642)","v":""},{"$f":"IF([2]Paramètres!P1642=\"\",\"\",[2]Paramètres!P1642)","v":""},{"$f":"IF([2]Paramètres!Q1642=\"\",\"\",[2]Paramètres!Q1642)","v":""}]
[null,null,null,null,null,null,null,null,null,{"$f":"IF([2]Paramètres!J1643=\"\",\"\",[2]Paramètres!J1643)","v":""},{"$f":"IF([2]Paramètres!K1643=\"\",\"\",[2]Paramètres!K1643)","v":""},{"$f":"IF([2]Paramètres!L1643=\"\",\"\",[2]Paramètres!L1643)","v":""},{"$f":"IF([2]Paramètres!M1643=\"\",\"\",[2]Paramètres!M1643)","v":""},{"$f":"IF([2]Paramètres!N1643=\"\",\"\",[2]Paramètres!N1643)","v":""},{"$f":"IF([2]Paramètres!O1643=\"\",\"\",[2]Paramètres!O1643)","v":""},{"$f":"IF([2]Paramètres!P1643=\"\",\"\",[2]Paramètres!P1643)","v":""},{"$f":"IF([2]Paramètres!Q1643=\"\",\"\",[2]Paramètres!Q1643)","v":""}]
[null,null,null,null,null,null,null,null,null,{"$f":"IF([2]Paramètres!J1644=\"\",\"\",[2]Paramètres!J1644)","v":""},{"$f":"IF([2]Paramètres!K1644=\"\",\"\",[2]Paramètres!K1644)","v":""},{"$f":"IF([2]Paramètres!L1644=\"\",\"\",[2]Paramètres!L1644)","v":""},{"$f":"IF([2]Paramètres!M1644=\"\",\"\",[2]Paramètres!M1644)","v":""},{"$f":"IF([2]Paramètres!N1644=\"\",\"\",[2]Paramètres!N1644)","v":""},{"$f":"IF([2]Paramètres!O1644=\"\",\"\",[2]Paramètres!O1644)","v":""},{"$f":"IF([2]Paramètres!P1644=\"\",\"\",[2]Paramètres!P1644)","v":""},{"$f":"IF([2]Paramètres!Q1644=\"\",\"\",[2]Paramètres!Q1644)","v":""}]
[null,null,null,null,null,null,null,null,null,{"$f":"IF([2]Paramètres!J1645=\"\",\"\",[2]Paramètres!J1645)","v":""},{"$f":"IF([2]Paramètres!K1645=\"\",\"\",[2]Paramètres!K1645)","v":""},{"$f":"IF([2]Paramètres!L1645=\"\",\"\",[2]Paramètres!L1645)","v":""},{"$f":"IF([2]Paramètres!M1645=\"\",\"\",[2]Paramètres!M1645)","v":""},{"$f":"IF([2]Paramètres!N1645=\"\",\"\",[2]Paramètres!N1645)","v":""},{"$f":"IF([2]Paramètres!O1645=\"\",\"\",[2]Paramètres!O1645)","v":""},{"$f":"IF([2]Paramètres!P1645=\"\",\"\",[2]Paramètres!P1645)","v":""},{"$f":"IF([2]Paramètres!Q1645=\"\",\"\",[2]Paramètres!Q1645)","v":""}]
[null,null,null,null,null,null,null,null,null,{"$f":"IF([2]Paramètres!J1646=\"\",\"\",[2]Paramètres!J1646)","v":""},{"$f":"IF([2]Paramètres!K1646=\"\",\"\",[2]Paramètres!K1646)","v":""},{"$f":"IF([2]Paramètres!L1646=\"\",\"\",[2]Paramètres!L1646)","v":""},{"$f":"IF([2]Paramètres!M1646=\"\",\"\",[2]Paramètres!M1646)","v":""},{"$f":"IF([2]Paramètres!N1646=\"\",\"\",[2]Paramètres!N1646)","v":""},{"$f":"IF([2]Paramètres!O1646=\"\",\"\",[2]Paramètres!O1646)","v":""},{"$f":"IF([2]Paramètres!P1646=\"\",\"\",[2]Paramètres!P1646)","v":""},{"$f":"IF([2]Paramètres!Q1646=\"\",\"\",[2]Paramètres!Q1646)","v":""}]
[null,null,null,null,null,null,null,null,null,{"$f":"IF([2]Paramètres!J1647=\"\",\"\",[2]Paramètres!J1647)","v":""},{"$f":"IF([2]Paramètres!K1647=\"\",\"\",[2]Paramètres!K1647)","v":""},{"$f":"IF([2]Paramètres!L1647=\"\",\"\",[2]Paramètres!L1647)","v":""},{"$f":"IF([2]Paramètres!M1647=\"\",\"\",[2]Paramètres!M1647)","v":""},{"$f":"IF([2]Paramètres!N1647=\"\",\"\",[2]Paramètres!N1647)","v":""},{"$f":"IF([2]Paramètres!O1647=\"\",\"\",[2]Paramètres!O1647)","v":""},{"$f":"IF([2]Paramètres!P1647=\"\",\"\",[2]Paramètres!P1647)","v":""},{"$f":"IF([2]Paramètres!Q1647=\"\",\"\",[2]Paramètres!Q1647)","v":""}]
[null,null,null,null,null,null,null,null,null,{"$f":"IF([2]Paramètres!J1648=\"\",\"\",[2]Paramètres!J1648)","v":""},{"$f":"IF([2]Paramètres!K1648=\"\",\"\",[2]Paramètres!K1648)","v":""},{"$f":"IF([2]Paramètres!L1648=\"\",\"\",[2]Paramètres!L1648)","v":""},{"$f":"IF([2]Paramètres!M1648=\"\",\"\",[2]Paramètres!M1648)","v":""},{"$f":"IF([2]Paramètres!N1648=\"\",\"\",[2]Paramètres!N1648)","v":""},{"$f":"IF([2]Paramètres!O1648=\"\",\"\",[2]Paramètres!O1648)","v":""},{"$f":"IF([2]Paramètres!P1648=\"\",\"\",[2]Paramètres!P1648)","v":""},{"$f":"IF([2]Paramètres!Q1648=\"\",\"\",[2]Paramètres!Q1648)","v":""}]
[null,null,null,null,null,null,null,null,null,{"$f":"IF([2]Paramètres!J1649=\"\",\"\",[2]Paramètres!J1649)","v":""},{"$f":"IF([2]Paramètres!K1649=\"\",\"\",[2]Paramètres!K1649)","v":""},{"$f":"IF([2]Paramètres!L1649=\"\",\"\",[2]Paramètres!L1649)","v":""},{"$f":"IF([2]Paramètres!M1649=\"\",\"\",[2]Paramètres!M1649)","v":""},{"$f":"IF([2]Paramètres!N1649=\"\",\"\",[2]Paramètres!N1649)","v":""},{"$f":"IF([2]Paramètres!O1649=\"\",\"\",[2]Paramètres!O1649)","v":""},{"$f":"IF([2]Paramètres!P1649=\"\",\"\",[2]Paramètres!P1649)","v":""},{"$f":"IF([2]Paramètres!Q1649=\"\",\"\",[2]Paramètres!Q1649)","v":""}]
[null,null,null,null,null,null,null,null,null,{"$f":"IF([2]Paramètres!J1650=\"\",\"\",[2]Paramètres!J1650)","v":""},{"$f":"IF([2]Paramètres!K1650=\"\",\"\",[2]Paramètres!K1650)","v":""},{"$f":"IF([2]Paramètres!L1650=\"\",\"\",[2]Paramètres!L1650)","v":""},{"$f":"IF([2]Paramètres!M1650=\"\",\"\",[2]Paramètres!M1650)","v":""},{"$f":"IF([2]Paramètres!N1650=\"\",\"\",[2]Paramètres!N1650)","v":""},{"$f":"IF([2]Paramètres!O1650=\"\",\"\",[2]Paramètres!O1650)","v":""},{"$f":"IF([2]Paramètres!P1650=\"\",\"\",[2]Paramètres!P1650)","v":""},{"$f":"IF([2]Paramètres!Q1650=\"\",\"\",[2]Paramètres!Q1650)","v":""}]
[null,null,null,null,null,null,null,null,null,{"$f":"IF([2]Paramètres!J1651=\"\",\"\",[2]Paramètres!J1651)","v":""},{"$f":"IF([2]Paramètres!K1651=\"\",\"\",[2]Paramètres!K1651)","v":""},{"$f":"IF([2]Paramètres!L1651=\"\",\"\",[2]Paramètres!L1651)","v":""},{"$f":"IF([2]Paramètres!M1651=\"\",\"\",[2]Paramètres!M1651)","v":""},{"$f":"IF([2]Paramètres!N1651=\"\",\"\",[2]Paramètres!N1651)","v":""},{"$f":"IF([2]Paramètres!O1651=\"\",\"\",[2]Paramètres!O1651)","v":""},{"$f":"IF([2]Paramètres!P1651=\"\",\"\",[2]Paramètres!P1651)","v":""},{"$f":"IF([2]Paramètres!Q1651=\"\",\"\",[2]Paramètres!Q1651)","v":""}]
[null,null,null,null,null,null,null,null,null,{"$f":"IF([2]Paramètres!J1652=\"\",\"\",[2]Paramètres!J1652)","v":""},{"$f":"IF([2]Paramètres!K1652=\"\",\"\",[2]Paramètres!K1652)","v":""},{"$f":"IF([2]Paramètres!L1652=\"\",\"\",[2]Paramètres!L1652)","v":""},{"$f":"IF([2]Paramètres!M1652=\"\",\"\",[2]Paramètres!M1652)","v":""},{"$f":"IF([2]Paramètres!N1652=\"\",\"\",[2]Paramètres!N1652)","v":""},{"$f":"IF([2]Paramètres!O1652=\"\",\"\",[2]Paramètres!O1652)","v":""},{"$f":"IF([2]Paramètres!P1652=\"\",\"\",[2]Paramètres!P1652)","v":""},{"$f":"IF([2]Paramètres!Q1652=\"\",\"\",[2]Paramètres!Q1652)","v":""}]
[null,null,null,null,null,null,null,null,null,{"$f":"IF([2]Paramètres!J1653=\"\",\"\",[2]Paramètres!J1653)","v":""},{"$f":"IF([2]Paramètres!K1653=\"\",\"\",[2]Paramètres!K1653)","v":""},{"$f":"IF([2]Paramètres!L1653=\"\",\"\",[2]Paramètres!L1653)","v":""},{"$f":"IF([2]Paramètres!M1653=\"\",\"\",[2]Paramètres!M1653)","v":""},{"$f":"IF([2]Paramètres!N1653=\"\",\"\",[2]Paramètres!N1653)","v":""},{"$f":"IF([2]Paramètres!O1653=\"\",\"\",[2]Paramètres!O1653)","v":""},{"$f":"IF([2]Paramètres!P1653=\"\",\"\",[2]Paramètres!P1653)","v":""},{"$f":"IF([2]Paramètres!Q1653=\"\",\"\",[2]Paramètres!Q1653)","v":""}]
[null,null,null,null,null,null,null,null,null,{"$f":"IF([2]Paramètres!J1654=\"\",\"\",[2]Paramètres!J1654)","v":""},{"$f":"IF([2]Paramètres!K1654=\"\",\"\",[2]Paramètres!K1654)","v":""},{"$f":"IF([2]Paramètres!L1654=\"\",\"\",[2]Paramètres!L1654)","v":""},{"$f":"IF([2]Paramètres!M1654=\"\",\"\",[2]Paramètres!M1654)","v":""},{"$f":"IF([2]Paramètres!N1654=\"\",\"\",[2]Paramètres!N1654)","v":""},{"$f":"IF([2]Paramètres!O1654=\"\",\"\",[2]Paramètres!O1654)","v":""},{"$f":"IF([2]Paramètres!P1654=\"\",\"\",[2]Paramètres!P1654)","v":""},{"$f":"IF([2]Paramètres!Q1654=\"\",\"\",[2]Paramètres!Q1654)","v":""}]
[null,null,null,null,null,null,null,null,null,{"$f":"IF([2]Paramètres!J1655=\"\",\"\",[2]Paramètres!J1655)","v":""},{"$f":"IF([2]Paramètres!K1655=\"\",\"\",[2]Paramètres!K1655)","v":""},{"$f":"IF([2]Paramètres!L1655=\"\",\"\",[2]Paramètres!L1655)","v":""},{"$f":"IF([2]Paramètres!M1655=\"\",\"\",[2]Paramètres!M1655)","v":""},{"$f":"IF([2]Paramètres!N1655=\"\",\"\",[2]Paramètres!N1655)","v":""},{"$f":"IF([2]Paramètres!O1655=\"\",\"\",[2]Paramètres!O1655)","v":""},{"$f":"IF([2]Paramètres!P1655=\"\",\"\",[2]Paramètres!P1655)","v":""},{"$f":"IF([2]Paramètres!Q1655=\"\",\"\",[2]Paramètres!Q1655)","v":""}]
[null,null,null,null,null,null,null,null,null,{"$f":"IF([2]Paramètres!J1656=\"\",\"\",[2]Paramètres!J1656)","v":""},{"$f":"IF([2]Paramètres!K1656=\"\",\"\",[2]Paramètres!K1656)","v":""},{"$f":"IF([2]Paramètres!L1656=\"\",\"\",[2]Paramètres!L1656)","v":""},{"$f":"IF([2]Paramètres!M1656=\"\",\"\",[2]Paramètres!M1656)","v":""},{"$f":"IF([2]Paramètres!N1656=\"\",\"\",[2]Paramètres!N1656)","v":""},{"$f":"IF([2]Paramètres!O1656=\"\",\"\",[2]Paramètres!O1656)","v":""},{"$f":"IF([2]Paramètres!P1656=\"\",\"\",[2]Paramètres!P1656)","v":""},{"$f":"IF([2]Paramètres!Q1656=\"\",\"\",[2]Paramètres!Q1656)","v":""}]
[null,null,null,null,null,null,null,null,null,{"$f":"IF([2]Paramètres!J1657=\"\",\"\",[2]Paramètres!J1657)","v":""},{"$f":"IF([2]Paramètres!K1657=\"\",\"\",[2]Paramètres!K1657)","v":""},{"$f":"IF([2]Paramètres!L1657=\"\",\"\",[2]Paramètres!L1657)","v":""},{"$f":"IF([2]Paramètres!M1657=\"\",\"\",[2]Paramètres!M1657)","v":""},{"$f":"IF([2]Paramètres!N1657=\"\",\"\",[2]Paramètres!N1657)","v":""},{"$f":"IF([2]Paramètres!O1657=\"\",\"\",[2]Paramètres!O1657)","v":""},{"$f":"IF([2]Paramètres!P1657=\"\",\"\",[2]Paramètres!P1657)","v":""},{"$f":"IF([2]Paramètres!Q1657=\"\",\"\",[2]Paramètres!Q1657)","v":""}]
[null,null,null,null,null,null,null,null,null,{"$f":"IF([2]Paramètres!J1658=\"\",\"\",[2]Paramètres!J1658)","v":""},{"$f":"IF([2]Paramètres!K1658=\"\",\"\",[2]Paramètres!K1658)","v":""},{"$f":"IF([2]Paramètres!L1658=\"\",\"\",[2]Paramètres!L1658)","v":""},{"$f":"IF([2]Paramètres!M1658=\"\",\"\",[2]Paramètres!M1658)","v":""},{"$f":"IF([2]Paramètres!N1658=\"\",\"\",[2]Paramètres!N1658)","v":""},{"$f":"IF([2]Paramètres!O1658=\"\",\"\",[2]Paramètres!O1658)","v":""},{"$f":"IF([2]Paramètres!P1658=\"\",\"\",[2]Paramètres!P1658)","v":""},{"$f":"IF([2]Paramètres!Q1658=\"\",\"\",[2]Paramètres!Q1658)","v":""}]
[null,null,null,null,null,null,null,null,null,{"$f":"IF([2]Paramètres!J1659=\"\",\"\",[2]Paramètres!J1659)","v":""},{"$f":"IF([2]Paramètres!K1659=\"\",\"\",[2]Paramètres!K1659)","v":""},{"$f":"IF([2]Paramètres!L1659=\"\",\"\",[2]Paramètres!L1659)","v":""},{"$f":"IF([2]Paramètres!M1659=\"\",\"\",[2]Paramètres!M1659)","v":""},{"$f":"IF([2]Paramètres!N1659=\"\",\"\",[2]Paramètres!N1659)","v":""},{"$f":"IF([2]Paramètres!O1659=\"\",\"\",[2]Paramètres!O1659)","v":""},{"$f":"IF([2]Paramètres!P1659=\"\",\"\",[2]Paramètres!P1659)","v":""},{"$f":"IF([2]Paramètres!Q1659=\"\",\"\",[2]Paramètres!Q1659)","v":""}]
[null,null,null,null,null,null,null,null,null,{"$f":"IF([2]Paramètres!J1660=\"\",\"\",[2]Paramètres!J1660)","v":""},{"$f":"IF([2]Paramètres!K1660=\"\",\"\",[2]Paramètres!K1660)","v":""},{"$f":"IF([2]Paramètres!L1660=\"\",\"\",[2]Paramètres!L1660)","v":""},{"$f":"IF([2]Paramètres!M1660=\"\",\"\",[2]Paramètres!M1660)","v":""},{"$f":"IF([2]Paramètres!N1660=\"\",\"\",[2]Paramètres!N1660)","v":""},{"$f":"IF([2]Paramètres!O1660=\"\",\"\",[2]Paramètres!O1660)","v":""},{"$f":"IF([2]Paramètres!P1660=\"\",\"\",[2]Paramètres!P1660)","v":""},{"$f":"IF([2]Paramètres!Q1660=\"\",\"\",[2]Paramètres!Q1660)","v":""}]
[null,null,null,null,null,null,null,null,null,{"$f":"IF([2]Paramètres!J1661=\"\",\"\",[2]Paramètres!J1661)","v":""},{"$f":"IF([2]Paramètres!K1661=\"\",\"\",[2]Paramètres!K1661)","v":""},{"$f":"IF([2]Paramètres!L1661=\"\",\"\",[2]Paramètres!L1661)","v":""},{"$f":"IF([2]Paramètres!M1661=\"\",\"\",[2]Paramètres!M1661)","v":""},{"$f":"IF([2]Paramètres!N1661=\"\",\"\",[2]Paramètres!N1661)","v":""},{"$f":"IF([2]Paramètres!O1661=\"\",\"\",[2]Paramètres!O1661)","v":""},{"$f":"IF([2]Paramètres!P1661=\"\",\"\",[2]Paramètres!P1661)","v":""},{"$f":"IF([2]Paramètres!Q1661=\"\",\"\",[2]Paramètres!Q1661)","v":""}]
[null,null,null,null,null,null,null,null,null,{"$f":"IF([2]Paramètres!J1662=\"\",\"\",[2]Paramètres!J1662)","v":""},{"$f":"IF([2]Paramètres!K1662=\"\",\"\",[2]Paramètres!K1662)","v":""},{"$f":"IF([2]Paramètres!L1662=\"\",\"\",[2]Paramètres!L1662)","v":""},{"$f":"IF([2]Paramètres!M1662=\"\",\"\",[2]Paramètres!M1662)","v":""},{"$f":"IF([2]Paramètres!N1662=\"\",\"\",[2]Paramètres!N1662)","v":""},{"$f":"IF([2]Paramètres!O1662=\"\",\"\",[2]Paramètres!O1662)","v":""},{"$f":"IF([2]Paramètres!P1662=\"\",\"\",[2]Paramètres!P1662)","v":""},{"$f":"IF([2]Paramètres!Q1662=\"\",\"\",[2]Paramètres!Q1662)","v":""}]
[null,null,null,null,null,null,null,null,null,{"$f":"IF([2]Paramètres!J1663=\"\",\"\",[2]Paramètres!J1663)","v":""},{"$f":"IF([2]Paramètres!K1663=\"\",\"\",[2]Paramètres!K1663)","v":""},{"$f":"IF([2]Paramètres!L1663=\"\",\"\",[2]Paramètres!L1663)","v":""},{"$f":"IF([2]Paramètres!M1663=\"\",\"\",[2]Paramètres!M1663)","v":""},{"$f":"IF([2]Paramètres!N1663=\"\",\"\",[2]Paramètres!N1663)","v":""},{"$f":"IF([2]Paramètres!O1663=\"\",\"\",[2]Paramètres!O1663)","v":""},{"$f":"IF([2]Paramètres!P1663=\"\",\"\",[2]Paramètres!P1663)","v":""},{"$f":"IF([2]Paramètres!Q1663=\"\",\"\",[2]Paramètres!Q1663)","v":""}]
[null,null,null,null,null,null,null,null,null,{"$f":"IF([2]Paramètres!J1664=\"\",\"\",[2]Paramètres!J1664)","v":""},{"$f":"IF([2]Paramètres!K1664=\"\",\"\",[2]Paramètres!K1664)","v":""},{"$f":"IF([2]Paramètres!L1664=\"\",\"\",[2]Paramètres!L1664)","v":""},{"$f":"IF([2]Paramètres!M1664=\"\",\"\",[2]Paramètres!M1664)","v":""},{"$f":"IF([2]Paramètres!N1664=\"\",\"\",[2]Paramètres!N1664)","v":""},{"$f":"IF([2]Paramètres!O1664=\"\",\"\",[2]Paramètres!O1664)","v":""},{"$f":"IF([2]Paramètres!P1664=\"\",\"\",[2]Paramètres!P1664)","v":""},{"$f":"IF([2]Paramètres!Q1664=\"\",\"\",[2]Paramètres!Q1664)","v":""}]
[null,null,null,null,null,null,null,null,null,{"$f":"IF([2]Paramètres!J1665=\"\",\"\",[2]Paramètres!J1665)","v":""},{"$f":"IF([2]Paramètres!K1665=\"\",\"\",[2]Paramètres!K1665)","v":""},{"$f":"IF([2]Paramètres!L1665=\"\",\"\",[2]Paramètres!L1665)","v":""},{"$f":"IF([2]Paramètres!M1665=\"\",\"\",[2]Paramètres!M1665)","v":""},{"$f":"IF([2]Paramètres!N1665=\"\",\"\",[2]Paramètres!N1665)","v":""},{"$f":"IF([2]Paramètres!O1665=\"\",\"\",[2]Paramètres!O1665)","v":""},{"$f":"IF([2]Paramètres!P1665=\"\",\"\",[2]Paramètres!P1665)","v":""},{"$f":"IF([2]Paramètres!Q1665=\"\",\"\",[2]Paramètres!Q1665)","v":""}]
[null,null,null,null,null,null,null,null,null,{"$f":"IF([2]Paramètres!J1666=\"\",\"\",[2]Paramètres!J1666)","v":""},{"$f":"IF([2]Paramètres!K1666=\"\",\"\",[2]Paramètres!K1666)","v":""},{"$f":"IF([2]Paramètres!L1666=\"\",\"\",[2]Paramètres!L1666)","v":""},{"$f":"IF([2]Paramètres!M1666=\"\",\"\",[2]Paramètres!M1666)","v":""},{"$f":"IF([2]Paramètres!N1666=\"\",\"\",[2]Paramètres!N1666)","v":""},{"$f":"IF([2]Paramètres!O1666=\"\",\"\",[2]Paramètres!O1666)","v":""},{"$f":"IF([2]Paramètres!P1666=\"\",\"\",[2]Paramètres!P1666)","v":""},{"$f":"IF([2]Paramètres!Q1666=\"\",\"\",[2]Paramètres!Q1666)","v":""}]
[null,null,null,null,null,null,null,null,null,{"$f":"IF([2]Paramètres!J1667=\"\",\"\",[2]Paramètres!J1667)","v":""},{"$f":"IF([2]Paramètres!K1667=\"\",\"\",[2]Paramètres!K1667)","v":""},{"$f":"IF([2]Paramètres!L1667=\"\",\"\",[2]Paramètres!L1667)","v":""},{"$f":"IF([2]Paramètres!M1667=\"\",\"\",[2]Paramètres!M1667)","v":""},{"$f":"IF([2]Paramètres!N1667=\"\",\"\",[2]Paramètres!N1667)","v":""},{"$f":"IF([2]Paramètres!O1667=\"\",\"\",[2]Paramètres!O1667)","v":""},{"$f":"IF([2]Paramètres!P1667=\"\",\"\",[2]Paramètres!P1667)","v":""},{"$f":"IF([2]Paramètres!Q1667=\"\",\"\",[2]Paramètres!Q1667)","v":""}]
[null,null,null,null,null,null,null,null,null,{"$f":"IF([2]Paramètres!J1668=\"\",\"\",[2]Paramètres!J1668)","v":""},{"$f":"IF([2]Paramètres!K1668=\"\",\"\",[2]Paramètres!K1668)","v":""},{"$f":"IF([2]Paramètres!L1668=\"\",\"\",[2]Paramètres!L1668)","v":""},{"$f":"IF([2]Paramètres!M1668=\"\",\"\",[2]Paramètres!M1668)","v":""},{"$f":"IF([2]Paramètres!N1668=\"\",\"\",[2]Paramètres!N1668)","v":""},{"$f":"IF([2]Paramètres!O1668=\"\",\"\",[2]Paramètres!O1668)","v":""},{"$f":"IF([2]Paramètres!P1668=\"\",\"\",[2]Paramètres!P1668)","v":""},{"$f":"IF([2]Paramètres!Q1668=\"\",\"\",[2]Paramètres!Q1668)","v":""}]
[null,null,null,null,null,null,null,null,null,{"$f":"IF([2]Paramètres!J1669=\"\",\"\",[2]Paramètres!J1669)","v":""},{"$f":"IF([2]Paramètres!K1669=\"\",\"\",[2]Paramètres!K1669)","v":""},{"$f":"IF([2]Paramètres!L1669=\"\",\"\",[2]Paramètres!L1669)","v":""},{"$f":"IF([2]Paramètres!M1669=\"\",\"\",[2]Paramètres!M1669)","v":""},{"$f":"IF([2]Paramètres!N1669=\"\",\"\",[2]Paramètres!N1669)","v":""},{"$f":"IF([2]Paramètres!O1669=\"\",\"\",[2]Paramètres!O1669)","v":""},{"$f":"IF([2]Paramètres!P1669=\"\",\"\",[2]Paramètres!P1669)","v":""},{"$f":"IF([2]Paramètres!Q1669=\"\",\"\",[2]Paramètres!Q1669)","v":""}]
[null,null,null,null,null,null,null,null,null,{"$f":"IF([2]Paramètres!J1670=\"\",\"\",[2]Paramètres!J1670)","v":""},{"$f":"IF([2]Paramètres!K1670=\"\",\"\",[2]Paramètres!K1670)","v":""},{"$f":"IF([2]Paramètres!L1670=\"\",\"\",[2]Paramètres!L1670)","v":""},{"$f":"IF([2]Paramètres!M1670=\"\",\"\",[2]Paramètres!M1670)","v":""},{"$f":"IF([2]Paramètres!N1670=\"\",\"\",[2]Paramètres!N1670)","v":""},{"$f":"IF([2]Paramètres!O1670=\"\",\"\",[2]Paramètres!O1670)","v":""},{"$f":"IF([2]Paramètres!P1670=\"\",\"\",[2]Paramètres!P1670)","v":""},{"$f":"IF([2]Paramètres!Q1670=\"\",\"\",[2]Paramètres!Q1670)","v":""}]
[null,null,null,null,null,null,null,null,null,{"$f":"IF([2]Paramètres!J1671=\"\",\"\",[2]Paramètres!J1671)","v":""},{"$f":"IF([2]Paramètres!K1671=\"\",\"\",[2]Paramètres!K1671)","v":""},{"$f":"IF([2]Paramètres!L1671=\"\",\"\",[2]Paramètres!L1671)","v":""},{"$f":"IF([2]Paramètres!M1671=\"\",\"\",[2]Paramètres!M1671)","v":""},{"$f":"IF([2]Paramètres!N1671=\"\",\"\",[2]Paramètres!N1671)","v":""},{"$f":"IF([2]Paramètres!O1671=\"\",\"\",[2]Paramètres!O1671)","v":""},{"$f":"IF([2]Paramètres!P1671=\"\",\"\",[2]Paramètres!P1671)","v":""},{"$f":"IF([2]Paramètres!Q1671=\"\",\"\",[2]Paramètres!Q1671)","v":""}]
[null,null,null,null,null,null,null,null,null,{"$f":"IF([2]Paramètres!J1672=\"\",\"\",[2]Paramètres!J1672)","v":""},{"$f":"IF([2]Paramètres!K1672=\"\",\"\",[2]Paramètres!K1672)","v":""},{"$f":"IF([2]Paramètres!L1672=\"\",\"\",[2]Paramètres!L1672)","v":""},{"$f":"IF([2]Paramètres!M1672=\"\",\"\",[2]Paramètres!M1672)","v":""},{"$f":"IF([2]Paramètres!N1672=\"\",\"\",[2]Paramètres!N1672)","v":""},{"$f":"IF([2]Paramètres!O1672=\"\",\"\",[2]Paramètres!O1672)","v":""},{"$f":"IF([2]Paramètres!P1672=\"\",\"\",[2]Paramètres!P1672)","v":""},{"$f":"IF([2]Paramètres!Q1672=\"\",\"\",[2]Paramètres!Q1672)","v":""}]
[null,null,null,null,null,null,null,null,null,{"$f":"IF([2]Paramètres!J1673=\"\",\"\",[2]Paramètres!J1673)","v":""},{"$f":"IF([2]Paramètres!K1673=\"\",\"\",[2]Paramètres!K1673)","v":""},{"$f":"IF([2]Paramètres!L1673=\"\",\"\",[2]Paramètres!L1673)","v":""},{"$f":"IF([2]Paramètres!M1673=\"\",\"\",[2]Paramètres!M1673)","v":""},{"$f":"IF([2]Paramètres!N1673=\"\",\"\",[2]Paramètres!N1673)","v":""},{"$f":"IF([2]Paramètres!O1673=\"\",\"\",[2]Paramètres!O1673)","v":""},{"$f":"IF([2]Paramètres!P1673=\"\",\"\",[2]Paramètres!P1673)","v":""},{"$f":"IF([2]Paramètres!Q1673=\"\",\"\",[2]Paramètres!Q1673)","v":""}]
[null,null,null,null,null,null,null,null,null,{"$f":"IF([2]Paramètres!J1674=\"\",\"\",[2]Paramètres!J1674)","v":""},{"$f":"IF([2]Paramètres!K1674=\"\",\"\",[2]Paramètres!K1674)","v":""},{"$f":"IF([2]Paramètres!L1674=\"\",\"\",[2]Paramètres!L1674)","v":""},{"$f":"IF([2]Paramètres!M1674=\"\",\"\",[2]Paramètres!M1674)","v":""},{"$f":"IF([2]Paramètres!N1674=\"\",\"\",[2]Paramètres!N1674)","v":""},{"$f":"IF([2]Paramètres!O1674=\"\",\"\",[2]Paramètres!O1674)","v":""},{"$f":"IF([2]Paramètres!P1674=\"\",\"\",[2]Paramètres!P1674)","v":""},{"$f":"IF([2]Paramètres!Q1674=\"\",\"\",[2]Paramètres!Q1674)","v":""}]
[null,null,null,null,null,null,null,null,null,{"$f":"IF([2]Paramètres!J1675=\"\",\"\",[2]Paramètres!J1675)","v":""},{"$f":"IF([2]Paramètres!K1675=\"\",\"\",[2]Paramètres!K1675)","v":""},{"$f":"IF([2]Paramètres!L1675=\"\",\"\",[2]Paramètres!L1675)","v":""},{"$f":"IF([2]Paramètres!M1675=\"\",\"\",[2]Paramètres!M1675)","v":""},{"$f":"IF([2]Paramètres!N1675=\"\",\"\",[2]Paramètres!N1675)","v":""},{"$f":"IF([2]Paramètres!O1675=\"\",\"\",[2]Paramètres!O1675)","v":""},{"$f":"IF([2]Paramètres!P1675=\"\",\"\",[2]Paramètres!P1675)","v":""},{"$f":"IF([2]Paramètres!Q1675=\"\",\"\",[2]Paramètres!Q1675)","v":""}]
[null,null,null,null,null,null,null,null,null,{"$f":"IF([2]Paramètres!J1676=\"\",\"\",[2]Paramètres!J1676)","v":""},{"$f":"IF([2]Paramètres!K1676=\"\",\"\",[2]Paramètres!K1676)","v":""},{"$f":"IF([2]Paramètres!L1676=\"\",\"\",[2]Paramètres!L1676)","v":""},{"$f":"IF([2]Paramètres!M1676=\"\",\"\",[2]Paramètres!M1676)","v":""},{"$f":"IF([2]Paramètres!N1676=\"\",\"\",[2]Paramètres!N1676)","v":""},{"$f":"IF([2]Paramètres!O1676=\"\",\"\",[2]Paramètres!O1676)","v":""},{"$f":"IF([2]Paramètres!P1676=\"\",\"\",[2]Paramètres!P1676)","v":""},{"$f":"IF([2]Paramètres!Q1676=\"\",\"\",[2]Paramètres!Q1676)","v":""}]
[null,null,null,null,null,null,null,null,null,{"$f":"IF([2]Paramètres!J1677=\"\",\"\",[2]Paramètres!J1677)","v":""},{"$f":"IF([2]Paramètres!K1677=\"\",\"\",[2]Paramètres!K1677)","v":""},{"$f":"IF([2]Paramètres!L1677=\"\",\"\",[2]Paramètres!L1677)","v":""},{"$f":"IF([2]Paramètres!M1677=\"\",\"\",[2]Paramètres!M1677)","v":""},{"$f":"IF([2]Paramètres!N1677=\"\",\"\",[2]Paramètres!N1677)","v":""},{"$f":"IF([2]Paramètres!O1677=\"\",\"\",[2]Paramètres!O1677)","v":""},{"$f":"IF([2]Paramètres!P1677=\"\",\"\",[2]Paramètres!P1677)","v":""},{"$f":"IF([2]Paramètres!Q1677=\"\",\"\",[2]Paramètres!Q1677)","v":""}]
[null,null,null,null,null,null,null,null,null,{"$f":"IF([2]Paramètres!J1678=\"\",\"\",[2]Paramètres!J1678)","v":""},{"$f":"IF([2]Paramètres!K1678=\"\",\"\",[2]Paramètres!K1678)","v":""},{"$f":"IF([2]Paramètres!L1678=\"\",\"\",[2]Paramètres!L1678)","v":""},{"$f":"IF([2]Paramètres!M1678=\"\",\"\",[2]Paramètres!M1678)","v":""},{"$f":"IF([2]Paramètres!N1678=\"\",\"\",[2]Paramètres!N1678)","v":""},{"$f":"IF([2]Paramètres!O1678=\"\",\"\",[2]Paramètres!O1678)","v":""},{"$f":"IF([2]Paramètres!P1678=\"\",\"\",[2]Paramètres!P1678)","v":""},{"$f":"IF([2]Paramètres!Q1678=\"\",\"\",[2]Paramètres!Q1678)","v":""}]
[null,null,null,null,null,null,null,null,null,{"$f":"IF([2]Paramètres!J1679=\"\",\"\",[2]Paramètres!J1679)","v":""},{"$f":"IF([2]Paramètres!K1679=\"\",\"\",[2]Paramètres!K1679)","v":""},{"$f":"IF([2]Paramètres!L1679=\"\",\"\",[2]Paramètres!L1679)","v":""},{"$f":"IF([2]Paramètres!M1679=\"\",\"\",[2]Paramètres!M1679)","v":""},{"$f":"IF([2]Paramètres!N1679=\"\",\"\",[2]Paramètres!N1679)","v":""},{"$f":"IF([2]Paramètres!O1679=\"\",\"\",[2]Paramètres!O1679)","v":""},{"$f":"IF([2]Paramètres!P1679=\"\",\"\",[2]Paramètres!P1679)","v":""},{"$f":"IF([2]Paramètres!Q1679=\"\",\"\",[2]Paramètres!Q1679)","v":""}]
[null,null,null,null,null,null,null,null,null,{"$f":"IF([2]Paramètres!J1680=\"\",\"\",[2]Paramètres!J1680)","v":""},{"$f":"IF([2]Paramètres!K1680=\"\",\"\",[2]Paramètres!K1680)","v":""},{"$f":"IF([2]Paramètres!L1680=\"\",\"\",[2]Paramètres!L1680)","v":""},{"$f":"IF([2]Paramètres!M1680=\"\",\"\",[2]Paramètres!M1680)","v":""},{"$f":"IF([2]Paramètres!N1680=\"\",\"\",[2]Paramètres!N1680)","v":""},{"$f":"IF([2]Paramètres!O1680=\"\",\"\",[2]Paramètres!O1680)","v":""},{"$f":"IF([2]Paramètres!P1680=\"\",\"\",[2]Paramètres!P1680)","v":""},{"$f":"IF([2]Paramètres!Q1680=\"\",\"\",[2]Paramètres!Q1680)","v":""}]
[null,null,null,null,null,null,null,null,null,{"$f":"IF([2]Paramètres!J1681=\"\",\"\",[2]Paramètres!J1681)","v":""},{"$f":"IF([2]Paramètres!K1681=\"\",\"\",[2]Paramètres!K1681)","v":""},{"$f":"IF([2]Paramètres!L1681=\"\",\"\",[2]Paramètres!L1681)","v":""},{"$f":"IF([2]Paramètres!M1681=\"\",\"\",[2]Paramètres!M1681)","v":""},{"$f":"IF([2]Paramètres!N1681=\"\",\"\",[2]Paramètres!N1681)","v":""},{"$f":"IF([2]Paramètres!O1681=\"\",\"\",[2]Paramètres!O1681)","v":""},{"$f":"IF([2]Paramètres!P1681=\"\",\"\",[2]Paramètres!P1681)","v":""},{"$f":"IF([2]Paramètres!Q1681=\"\",\"\",[2]Paramètres!Q1681)","v":""}]
[null,null,null,null,null,null,null,null,null,{"$f":"IF([2]Paramètres!J1682=\"\",\"\",[2]Paramètres!J1682)","v":""},{"$f":"IF([2]Paramètres!K1682=\"\",\"\",[2]Paramètres!K1682)","v":""},{"$f":"IF([2]Paramètres!L1682=\"\",\"\",[2]Paramètres!L1682)","v":""},{"$f":"IF([2]Paramètres!M1682=\"\",\"\",[2]Paramètres!M1682)","v":""},{"$f":"IF([2]Paramètres!N1682=\"\",\"\",[2]Paramètres!N1682)","v":""},{"$f":"IF([2]Paramètres!O1682=\"\",\"\",[2]Paramètres!O1682)","v":""},{"$f":"IF([2]Paramètres!P1682=\"\",\"\",[2]Paramètres!P1682)","v":""},{"$f":"IF([2]Paramètres!Q1682=\"\",\"\",[2]Paramètres!Q1682)","v":""}]
[null,null,null,null,null,null,null,null,null,{"$f":"IF([2]Paramètres!J1683=\"\",\"\",[2]Paramètres!J1683)","v":""},{"$f":"IF([2]Paramètres!K1683=\"\",\"\",[2]Paramètres!K1683)","v":""},{"$f":"IF([2]Paramètres!L1683=\"\",\"\",[2]Paramètres!L1683)","v":""},{"$f":"IF([2]Paramètres!M1683=\"\",\"\",[2]Paramètres!M1683)","v":""},{"$f":"IF([2]Paramètres!N1683=\"\",\"\",[2]Paramètres!N1683)","v":""},{"$f":"IF([2]Paramètres!O1683=\"\",\"\",[2]Paramètres!O1683)","v":""},{"$f":"IF([2]Paramètres!P1683=\"\",\"\",[2]Paramètres!P1683)","v":""},{"$f":"IF([2]Paramètres!Q1683=\"\",\"\",[2]Paramètres!Q1683)","v":""}]
[null,null,null,null,null,null,null,null,null,{"$f":"IF([2]Paramètres!J1684=\"\",\"\",[2]Paramètres!J1684)","v":""},{"$f":"IF([2]Paramètres!K1684=\"\",\"\",[2]Paramètres!K1684)","v":""},{"$f":"IF([2]Paramètres!L1684=\"\",\"\",[2]Paramètres!L1684)","v":""},{"$f":"IF([2]Paramètres!M1684=\"\",\"\",[2]Paramètres!M1684)","v":""},{"$f":"IF([2]Paramètres!N1684=\"\",\"\",[2]Paramètres!N1684)","v":""},{"$f":"IF([2]Paramètres!O1684=\"\",\"\",[2]Paramètres!O1684)","v":""},{"$f":"IF([2]Paramètres!P1684=\"\",\"\",[2]Paramètres!P1684)","v":""},{"$f":"IF([2]Paramètres!Q1684=\"\",\"\",[2]Paramètres!Q1684)","v":""}]
[null,null,null,null,null,null,null,null,null,{"$f":"IF([2]Paramètres!J1685=\"\",\"\",[2]Paramètres!J1685)","v":""},{"$f":"IF([2]Paramètres!K1685=\"\",\"\",[2]Paramètres!K1685)","v":""},{"$f":"IF([2]Paramètres!L1685=\"\",\"\",[2]Paramètres!L1685)","v":""},{"$f":"IF([2]Paramètres!M1685=\"\",\"\",[2]Paramètres!M1685)","v":""},{"$f":"IF([2]Paramètres!N1685=\"\",\"\",[2]Paramètres!N1685)","v":""},{"$f":"IF([2]Paramètres!O1685=\"\",\"\",[2]Paramètres!O1685)","v":""},{"$f":"IF([2]Paramètres!P1685=\"\",\"\",[2]Paramètres!P1685)","v":""},{"$f":"IF([2]Paramètres!Q1685=\"\",\"\",[2]Paramètres!Q1685)","v":""}]
[null,null,null,null,null,null,null,null,null,{"$f":"IF([2]Paramètres!J1686=\"\",\"\",[2]Paramètres!J1686)","v":""},{"$f":"IF([2]Paramètres!K1686=\"\",\"\",[2]Paramètres!K1686)","v":""},{"$f":"IF([2]Paramètres!L1686=\"\",\"\",[2]Paramètres!L1686)","v":""},{"$f":"IF([2]Paramètres!M1686=\"\",\"\",[2]Paramètres!M1686)","v":""},{"$f":"IF([2]Paramètres!N1686=\"\",\"\",[2]Paramètres!N1686)","v":""},{"$f":"IF([2]Paramètres!O1686=\"\",\"\",[2]Paramètres!O1686)","v":""},{"$f":"IF([2]Paramètres!P1686=\"\",\"\",[2]Paramètres!P1686)","v":""},{"$f":"IF([2]Paramètres!Q1686=\"\",\"\",[2]Paramètres!Q1686)","v":""}]
[null,null,null,null,null,null,null,null,null,{"$f":"IF([2]Paramètres!J1687=\"\",\"\",[2]Paramètres!J1687)","v":""},{"$f":"IF([2]Paramètres!K1687=\"\",\"\",[2]Paramètres!K1687)","v":""},{"$f":"IF([2]Paramètres!L1687=\"\",\"\",[2]Paramètres!L1687)","v":""},{"$f":"IF([2]Paramètres!M1687=\"\",\"\",[2]Paramètres!M1687)","v":""},{"$f":"IF([2]Paramètres!N1687=\"\",\"\",[2]Paramètres!N1687)","v":""},{"$f":"IF([2]Paramètres!O1687=\"\",\"\",[2]Paramètres!O1687)","v":""},{"$f":"IF([2]Paramètres!P1687=\"\",\"\",[2]Paramètres!P1687)","v":""},{"$f":"IF([2]Paramètres!Q1687=\"\",\"\",[2]Paramètres!Q1687)","v":""}]
[null,null,null,null,null,null,null,null,null,{"$f":"IF([2]Paramètres!J1688=\"\",\"\",[2]Paramètres!J1688)","v":""},{"$f":"IF([2]Paramètres!K1688=\"\",\"\",[2]Paramètres!K1688)","v":""},{"$f":"IF([2]Paramètres!L1688=\"\",\"\",[2]Paramètres!L1688)","v":""},{"$f":"IF([2]Paramètres!M1688=\"\",\"\",[2]Paramètres!M1688)","v":""},{"$f":"IF([2]Paramètres!N1688=\"\",\"\",[2]Paramètres!N1688)","v":""},{"$f":"IF([2]Paramètres!O1688=\"\",\"\",[2]Paramètres!O1688)","v":""},{"$f":"IF([2]Paramètres!P1688=\"\",\"\",[2]Paramètres!P1688)","v":""},{"$f":"IF([2]Paramètres!Q1688=\"\",\"\",[2]Paramètres!Q1688)","v":""}]
[null,null,null,null,null,null,null,null,null,{"$f":"IF([2]Paramètres!J1689=\"\",\"\",[2]Paramètres!J1689)","v":""},{"$f":"IF([2]Paramètres!K1689=\"\",\"\",[2]Paramètres!K1689)","v":""},{"$f":"IF([2]Paramètres!L1689=\"\",\"\",[2]Paramètres!L1689)","v":""},{"$f":"IF([2]Paramètres!M1689=\"\",\"\",[2]Paramètres!M1689)","v":""},{"$f":"IF([2]Paramètres!N1689=\"\",\"\",[2]Paramètres!N1689)","v":""},{"$f":"IF([2]Paramètres!O1689=\"\",\"\",[2]Paramètres!O1689)","v":""},{"$f":"IF([2]Paramètres!P1689=\"\",\"\",[2]Paramètres!P1689)","v":""},{"$f":"IF([2]Paramètres!Q1689=\"\",\"\",[2]Paramètres!Q1689)","v":""}]
[null,null,null,null,null,null,null,null,null,{"$f":"IF([2]Paramètres!J1690=\"\",\"\",[2]Paramètres!J1690)","v":""},{"$f":"IF([2]Paramètres!K1690=\"\",\"\",[2]Paramètres!K1690)","v":""},{"$f":"IF([2]Paramètres!L1690=\"\",\"\",[2]Paramètres!L1690)","v":""},{"$f":"IF([2]Paramètres!M1690=\"\",\"\",[2]Paramètres!M1690)","v":""},{"$f":"IF([2]Paramètres!N1690=\"\",\"\",[2]Paramètres!N1690)","v":""},{"$f":"IF([2]Paramètres!O1690=\"\",\"\",[2]Paramètres!O1690)","v":""},{"$f":"IF([2]Paramètres!P1690=\"\",\"\",[2]Paramètres!P1690)","v":""},{"$f":"IF([2]Paramètres!Q1690=\"\",\"\",[2]Paramètres!Q1690)","v":""}]
[null,null,null,null,null,null,null,null,null,{"$f":"IF([2]Paramètres!J1691=\"\",\"\",[2]Paramètres!J1691)","v":""},{"$f":"IF([2]Paramètres!K1691=\"\",\"\",[2]Paramètres!K1691)","v":""},{"$f":"IF([2]Paramètres!L1691=\"\",\"\",[2]Paramètres!L1691)","v":""},{"$f":"IF([2]Paramètres!M1691=\"\",\"\",[2]Paramètres!M1691)","v":""},{"$f":"IF([2]Paramètres!N1691=\"\",\"\",[2]Paramètres!N1691)","v":""},{"$f":"IF([2]Paramètres!O1691=\"\",\"\",[2]Paramètres!O1691)","v":""},{"$f":"IF([2]Paramètres!P1691=\"\",\"\",[2]Paramètres!P1691)","v":""},{"$f":"IF([2]Paramètres!Q1691=\"\",\"\",[2]Paramètres!Q1691)","v":""}]
[null,null,null,null,null,null,null,null,null,{"$f":"IF([2]Paramètres!J1692=\"\",\"\",[2]Paramètres!J1692)","v":""},{"$f":"IF([2]Paramètres!K1692=\"\",\"\",[2]Paramètres!K1692)","v":""},{"$f":"IF([2]Paramètres!L1692=\"\",\"\",[2]Paramètres!L1692)","v":""},{"$f":"IF([2]Paramètres!M1692=\"\",\"\",[2]Paramètres!M1692)","v":""},{"$f":"IF([2]Paramètres!N1692=\"\",\"\",[2]Paramètres!N1692)","v":""},{"$f":"IF([2]Paramètres!O1692=\"\",\"\",[2]Paramètres!O1692)","v":""},{"$f":"IF([2]Paramètres!P1692=\"\",\"\",[2]Paramètres!P1692)","v":""},{"$f":"IF([2]Paramètres!Q1692=\"\",\"\",[2]Paramètres!Q1692)","v":""}]
[null,null,null,null,null,null,null,null,null,{"$f":"IF([2]Paramètres!J1693=\"\",\"\",[2]Paramètres!J1693)","v":""},{"$f":"IF([2]Paramètres!K1693=\"\",\"\",[2]Paramètres!K1693)","v":""},{"$f":"IF([2]Paramètres!L1693=\"\",\"\",[2]Paramètres!L1693)","v":""},{"$f":"IF([2]Paramètres!M1693=\"\",\"\",[2]Paramètres!M1693)","v":""},{"$f":"IF([2]Paramètres!N1693=\"\",\"\",[2]Paramètres!N1693)","v":""},{"$f":"IF([2]Paramètres!O1693=\"\",\"\",[2]Paramètres!O1693)","v":""},{"$f":"IF([2]Paramètres!P1693=\"\",\"\",[2]Paramètres!P1693)","v":""},{"$f":"IF([2]Paramètres!Q1693=\"\",\"\",[2]Paramètres!Q1693)","v":""}]
[null,null,null,null,null,null,null,null,null,{"$f":"IF([2]Paramètres!J1694=\"\",\"\",[2]Paramètres!J1694)","v":""},{"$f":"IF([2]Paramètres!K1694=\"\",\"\",[2]Paramètres!K1694)","v":""},{"$f":"IF([2]Paramètres!L1694=\"\",\"\",[2]Paramètres!L1694)","v":""},{"$f":"IF([2]Paramètres!M1694=\"\",\"\",[2]Paramètres!M1694)","v":""},{"$f":"IF([2]Paramètres!N1694=\"\",\"\",[2]Paramètres!N1694)","v":""},{"$f":"IF([2]Paramètres!O1694=\"\",\"\",[2]Paramètres!O1694)","v":""},{"$f":"IF([2]Paramètres!P1694=\"\",\"\",[2]Paramètres!P1694)","v":""},{"$f":"IF([2]Paramètres!Q1694=\"\",\"\",[2]Paramètres!Q1694)","v":""}]
[null,null,null,null,null,null,null,null,null,{"$f":"IF([2]Paramètres!J1695=\"\",\"\",[2]Paramètres!J1695)","v":""},{"$f":"IF([2]Paramètres!K1695=\"\",\"\",[2]Paramètres!K1695)","v":""},{"$f":"IF([2]Paramètres!L1695=\"\",\"\",[2]Paramètres!L1695)","v":""},{"$f":"IF([2]Paramètres!M1695=\"\",\"\",[2]Paramètres!M1695)","v":""},{"$f":"IF([2]Paramètres!N1695=\"\",\"\",[2]Paramètres!N1695)","v":""},{"$f":"IF([2]Paramètres!O1695=\"\",\"\",[2]Paramètres!O1695)","v":""},{"$f":"IF([2]Paramètres!P1695=\"\",\"\",[2]Paramètres!P1695)","v":""},{"$f":"IF([2]Paramètres!Q1695=\"\",\"\",[2]Paramètres!Q1695)","v":""}]
[null,null,null,null,null,null,null,null,null,{"$f":"IF([2]Paramètres!J1696=\"\",\"\",[2]Paramètres!J1696)","v":""},{"$f":"IF([2]Paramètres!K1696=\"\",\"\",[2]Paramètres!K1696)","v":""},{"$f":"IF([2]Paramètres!L1696=\"\",\"\",[2]Paramètres!L1696)","v":""},{"$f":"IF([2]Paramètres!M1696=\"\",\"\",[2]Paramètres!M1696)","v":""},{"$f":"IF([2]Paramètres!N1696=\"\",\"\",[2]Paramètres!N1696)","v":""},{"$f":"IF([2]Paramètres!O1696=\"\",\"\",[2]Paramètres!O1696)","v":""},{"$f":"IF([2]Paramètres!P1696=\"\",\"\",[2]Paramètres!P1696)","v":""},{"$f":"IF([2]Paramètres!Q1696=\"\",\"\",[2]Paramètres!Q1696)","v":""}]
[null,null,null,null,null,null,null,null,null,{"$f":"IF([2]Paramètres!J1697=\"\",\"\",[2]Paramètres!J1697)","v":""},{"$f":"IF([2]Paramètres!K1697=\"\",\"\",[2]Paramètres!K1697)","v":""},{"$f":"IF([2]Paramètres!L1697=\"\",\"\",[2]Paramètres!L1697)","v":""},{"$f":"IF([2]Paramètres!M1697=\"\",\"\",[2]Paramètres!M1697)","v":""},{"$f":"IF([2]Paramètres!N1697=\"\",\"\",[2]Paramètres!N1697)","v":""},{"$f":"IF([2]Paramètres!O1697=\"\",\"\",[2]Paramètres!O1697)","v":""},{"$f":"IF([2]Paramètres!P1697=\"\",\"\",[2]Paramètres!P1697)","v":""},{"$f":"IF([2]Paramètres!Q1697=\"\",\"\",[2]Paramètres!Q1697)","v":""}]
[null,null,null,null,null,null,null,null,null,{"$f":"IF([2]Paramètres!J1698=\"\",\"\",[2]Paramètres!J1698)","v":""},{"$f":"IF([2]Paramètres!K1698=\"\",\"\",[2]Paramètres!K1698)","v":""},{"$f":"IF([2]Paramètres!L1698=\"\",\"\",[2]Paramètres!L1698)","v":""},{"$f":"IF([2]Paramètres!M1698=\"\",\"\",[2]Paramètres!M1698)","v":""},{"$f":"IF([2]Paramètres!N1698=\"\",\"\",[2]Paramètres!N1698)","v":""},{"$f":"IF([2]Paramètres!O1698=\"\",\"\",[2]Paramètres!O1698)","v":""},{"$f":"IF([2]Paramètres!P1698=\"\",\"\",[2]Paramètres!P1698)","v":""},{"$f":"IF([2]Paramètres!Q1698=\"\",\"\",[2]Paramètres!Q1698)","v":""}]
[null,null,null,null,null,null,null,null,null,{"$f":"IF([2]Paramètres!J1699=\"\",\"\",[2]Paramètres!J1699)","v":""},{"$f":"IF([2]Paramètres!K1699=\"\",\"\",[2]Paramètres!K1699)","v":""},{"$f":"IF([2]Paramètres!L1699=\"\",\"\",[2]Paramètres!L1699)","v":""},{"$f":"IF([2]Paramètres!M1699=\"\",\"\",[2]Paramètres!M1699)","v":""},{"$f":"IF([2]Paramètres!N1699=\"\",\"\",[2]Paramètres!N1699)","v":""},{"$f":"IF([2]Paramètres!O1699=\"\",\"\",[2]Paramètres!O1699)","v":""},{"$f":"IF([2]Paramètres!P1699=\"\",\"\",[2]Paramètres!P1699)","v":""},{"$f":"IF([2]Paramètres!Q1699=\"\",\"\",[2]Paramètres!Q1699)","v":""}]
[null,null,null,null,null,null,null,null,null,{"$f":"IF([2]Paramètres!J1700=\"\",\"\",[2]Paramètres!J1700)","v":""},{"$f":"IF([2]Paramètres!K1700=\"\",\"\",[2]Paramètres!K1700)","v":""},{"$f":"IF([2]Paramètres!L1700=\"\",\"\",[2]Paramètres!L1700)","v":""},{"$f":"IF([2]Paramètres!M1700=\"\",\"\",[2]Paramètres!M1700)","v":""},{"$f":"IF([2]Paramètres!N1700=\"\",\"\",[2]Paramètres!N1700)","v":""},{"$f":"IF([2]Paramètres!O1700=\"\",\"\",[2]Paramètres!O1700)","v":""},{"$f":"IF([2]Paramètres!P1700=\"\",\"\",[2]Paramètres!P1700)","v":""},{"$f":"IF([2]Paramètres!Q1700=\"\",\"\",[2]Paramètres!Q1700)","v":""}]